{"text_format":"1","workbook":"xlsx","n_sheets":14,"sheets":["目次","選択性","正確さの評価","相関分析","併行精度","室内精度1","室内精度2","室内精度3","検出限界と定量限界","直線性","許容誤差限界","報告書","ＯＰ設定","tes"],"not_rendered":{"charts":56,"images":7,"macros":1,"external_links":0,"defined_names":55,"comments":11,"pivot_tables":0},"unopened":[],"bounds":{"document_bytes":16777216,"sheet_cells":100000,"rows_first":2000,"rows_last":500,"rows_between":2000,"halvings":0,"cell_chars":16384,"cell_head_chars":4096},"cells_cut":0,"cells_raw":0,"read":"whole","date_system":"1900"}

{"sheet":"目次","index":0,"n_rows":68,"n_cols":2,"rows_kept":68,"cut":false,"hidden":false,"merged":[]}
[null,"ValidationｰSupport処理プログラム Ver6.3\n＜マクロ機能を有効にして下さい。＞ (2023.05.20)"]
[null,"アンダーラインのあるセルはクリックによって目的とするシートへ移動します．"]
[null,"特異性，選択性　（共存物質の影響試験）          [特異性・選択性シート]"]
[null,"真度，正確さ 評価法 （1から3濃度以上に対応）    [正確さの評価シート]"]
[null,"比較対照法との比較実験による方法　                       [相関分析シート]"]
[null,"併行精度　（同時再現性）                                         [併行精度シート]"]
[null,"室内再現精度 (日間変動と日内変動)と不確かさ         [室内精度シート]"]
[null,"検出限界　定量限界 測定                        [検出限界と定量限界シート]"]
[null,"直線性　　　　　　　　　　　　　         　　　　　　　　　　　　　　　[直線性シート]"]
[null,"許容限界の指針　　　　　　　　　　        　　　　　　　　　　  [許容限界シート]"]
[null,"報告書　検討結果のまとめ　　         　　　　　　　　　　　　　 [報告書シート]"]
[null,"バージョンアップ情報"]
[]
[]
[null,"バージョンアップ履歴"]
[null,"･Ver1188の変更点　20120818"]
[null,"書式辺境を許可し、書式の変更を可能にした。したがって、桁数変更の機能が不要になった。また、グラフの桁数表示も連動する様に変更を行った。"]
[null,"また、並べ替えについても許可とした。"]
[null,"・Ver1181からの変更点　2012.01"]
[null,"各種用語の解説をポップアップ形式からシート上に表記するように変更した。また、線形関係式の信頼区間計算を近年有用性が評価されているブートストラップ法を使用してできるようにした。"]
[null,"日内日間精密度シート名称を室内精度に改め、3濃度に対応するためシートを３つにした。"]
[null,"・Ver118からの変更点　2011.11"]
[null,"ランダマイズ２回測定シートに偏差図を追加。日内日差精密度シートのUCL・LCL計算バグの修正。正確さの評価で１濃度に対応。定量限界値の許容誤差限界に任意値を入力可能に。"]
[null,"・Ver8.82からの変更点　2011.09"]
[null,"日本臨床化学会クオリティマネジメント専門委員会　定量測定法に関するバリデーション指針に従い、「相関図」「検出限界と定量限界」を大幅に改造し、STSSV/EXCELに改名する。 新シートへの書き出しを削除。セルの選択制限強化。"]
[null,"回帰分析シートを大幅強化した。従来マクロ機能を使用してグラフ作成を行っていたが、データ入力時に即座に作画するようにした。ただし、従来可能であった信頼区間算出のためのブートストラップ計算ができなくなった。"]
[null,"・Ver8.8からの変更点　2010.02"]
[null,"回帰分析において「標準主軸回帰式」を追加"]
[null,"・Ver７.8 からの変更点"]
[null,"同時再現性シートで標本集団のヒストグラムを表示。"]
[null,"・Ver7.5からの変更点　200712"]
[null,"同時再現シートにて母標準偏差の推定"]
[null,"・Ver7.3からの変更点　200707"]
[null,"不確かさ算出のために日内日間精密度計算のできる日数を９０日まで拡大"]
[null,"・Ver7.1からの変更点　2006.6"]
[null,"日内日間精密度において３０日までの計算を６０日まで拡大"]
[null,"·Ver　5.8　からの変更点　2005.11"]
[null,"同時再現性に解説文を追加。ブートストラップにおけるバグの改善。"]
[null,"·Ver　5.6　からの変更点　2005.01"]
[null,"正確さの評価においてばらつきが全くない場合（Ｓｙｘ＝０）の不具合を修正"]
[null,"·Ver　5.5　からの変更点　2003.09"]
[null,"日内日間精密度の分散分析表の計算式についてコメント表示を行った。"]
[null,"·Ver　5.0　からの変更点　2003.07"]
[null,"相関図作成において、日常検査の性能試験法マニュアル（2002.9.12)に則り、標準化残差式を変更。なお従来通りのＳｙｘによるグラフ表示機能も残す。"]
[null,"·Ver　4.5　からの変更点　2003.05"]
[null,"正規分布型検定と反復切断法においてべき乗変換と階級数最適値の検索＆許容範囲の検索および信頼区間の算出プログラムの追加を行った。べき乗変換して正規化を行ったデータに対して、信頼区間が容易に求められる。また、日内日間精密度において管理限界値の計算の不具合を改善した。"]
[null,"Ver　4.2　からの変更点　2002.11"]
[null,"・ 同時再現性シートの追加　・ 解説の変更　・検出限界シートの2SD法への対応"]
[null,"Ver　4.1　からの変更点　2002.10"]
[null,"ブートストラップ法による回帰式の区間推定を古典的回帰式から線形回帰式へ変更した。"]
[null,"データ容量低減のため、変更を行った。"]
[null,"Ver　4.0　からの変更点　2002.10"]
[null,"ブートストラップ法のおける信頼区間を線形回帰式より算出するように変更"]
[null,"Ｖｅｒ　3.6　からの変更点　2002.0７"]
[null,"日内日間の精密度において管理図に使用する予備データの計算を行えるようにした．また、日差と日内の精密度比較グラフを追加した。"]
[null,"相関図において９５％等確率楕円の表示が行えるようになった。"]
[null,"各種検定におけるサンプル数の計算を行えるようにした。"]
[null,"分布型シートで分布型検定後のデータセルロック状態を修正した。"]
[null,"Ｖｅｒ　2.0　からの変更点　2000.08"]
[null,"・「精密さの評価」において，患者試料による評価を追加"]
[null,"   (多数の患者試料の二重測定値 ; ランダマイズ２回測定）"]
[null,"・「正確さの評価」において「１種類の濃度の血清標準物質による評価」の95％信頼区間を表示するように変更。"]
[null,"・比較対照法との比較実験による方法において，ブートストラップ法での傾き・切片の信頼区間を求めることが可能となった。"]
[null,"Ｖｅｒ　1.5　からの変更点"]
[null,"･「分布型検定」　および　「反復切断法」　を加えデータの分布について調査出来るようにした。"]
[null,"・「正確さの評価」における「比較対照法との比較実験による方法」において，外れ値検出のための「相対的な差の平均値」をグラフ上部に表示するようにした。"]
[null,"Ｖｅｒ　1.0　からの変更点"]
[null,"ＥＸＣＥＬ―Ｂｏｏｋの最初にシートへ［はじめに］を加え，ＳＴＳＳ／ＥＸＣＥＬの使用方法などの解説を表示するようにした。"]

{"sheet":"選択性","index":1,"n_rows":74,"n_cols":14,"rows_kept":74,"cut":false,"hidden":false,"merged":[]}
[null,"タイトル","溶血の影響",null,"解説",null,null,null,null,null,null,null,null,0]
[null,"系列","測定値","変化率(%)"]
[null,0,3.1,{"$f":"IF(COUNTA(C3)<>0,(C3-$C$14)/$C$14*100,\"\")","v":0}]
[null,50,3.1,{"$f":"IF(COUNTA(C4)<>0,(C4-$C$14)/$C$14*100,\"\")","v":0}]
[null,100,3.2,3.2258064516129057]
[null,150,3.35,8.064516129032258]
[null,200,3.45,11.290322580645164]
[null,250,3.5,12.90322580645161]
[null,300,3.6,16.129032258064516]
[null,350,3.65,17.741935483870961]
[null,400,3.7,19.35483870967742]
[null,450,3.75,20.967741935483865]
[null,500,3.77,21.612903225806448]
[null,"目標値",3.1]
[]
[null,"タイトル","Bi　C の影響"]
[null,"系列","測定値","変化率(%)"]
[null,0,3.2,{"$f":"IF(COUNTA(C18)<>0,(C18-$C$29)/$C$29*100,\"\")","v":0}]
[null,4.18,3.23,{"$f":"IF(COUNTA(C19)<>0,(C19-$C$29)/$C$29*100,\"\")","v":0.93749999999999389}]
[null,8.36,3.25,1.5624999999999944]
[null,12.54,3.4,6.249999999999992]
[null,16.72,3.6,12.499999999999996]
[null,20.9,3.65,14.062499999999991]
[null,null,null,""]
[null,null,null,""]
[null,null,null,""]
[null,null,null,""]
[null,null,null,""]
[null,"目標値",3.2]
[]
[null,"タイトル","RF の影響"]
[null,"系列","測定値","変化率(%)"]
[null,0,4,{"$f":"IF(COUNTA(C33)<>0,(C33-$C$44)/$C$44*100,\"\")","v":0}]
[null,94,4.0999999999999996,{"$f":"IF(COUNTA(C34)<>0,(C34-$C$44)/$C$44*100,\"\")","v":2.4999999999999911}]
[null,188,4.0999999999999996,2.4999999999999911]
[null,282,4.25,6.25]
[null,376,4.3,7.4999999999999956]
[null,470,4.5999999999999996,14.999999999999991]
[null,null,null,""]
[null,null,null,""]
[null,null,null,""]
[null,null,null,""]
[null,null,null,""]
[null,"目標値",4]
[]
[null,"タイトル","乳び の影響"]
[null,"系列","測定値","変化率(%)"]
[null,0,4,{"$f":"IF(COUNTA(C48)<>0,(C48-$C$59)/$C$59*100,\"\")","v":0}]
[null,468,4.0999999999999996,{"$f":"IF(COUNTA(C49)<>0,(C49-$C$59)/$C$59*100,\"\")","v":2.4999999999999911}]
[null,936,4.1100000000000003,2.750000000000008]
[null,1404,4.25,6.25]
[null,1872,4.3,7.4999999999999956]
[null,2340,4.5,12.5]
[null,null,null,""]
[null,null,null,""]
[null,null,null,""]
[null,null,null,""]
[null,null,null,""]
[null,"目標値",4]
[]
[null,"タイトル","アスコルビン酸の影響"]
[null,"系列","測定値","変化率(%)"]
[null,0,4,{"$f":"IF(COUNTA(C63)<>0,(C63-$C$74)/$C$74*100,\"\")","v":0}]
[null,10,4,{"$f":"IF(COUNTA(C64)<>0,(C64-$C$74)/$C$74*100,\"\")","v":0}]
[null,20,3.97,-0.74999999999999512]
[null,30,3.95,-1.2499999999999956]
[null,40,3.92,-2.0000000000000018]
[null,50,3.9,-2.5000000000000022]
[null,null,null,""]
[null,null,null,""]
[null,null,null,""]
[null,null,null,""]
[null,null,null,""]
[null,"目標値",4]

{"sheet":"正確さの評価","index":2,"n_rows":189,"n_cols":42,"rows_kept":189,"cut":false,"hidden":false,"merged":[[0,6,0,7],[0,1,0,3],[30,0,31,0],[34,9,34,10]]}
["タイトル","Ｎａ",null,null,"解説１","解説２","判定上の注意点",null,null,null,null,null,null,"偏差",null,null,null,null,null,null,null,"標準化残差",null,null,null,null,null,null,null,null,"行平均"]
["認証値→",127.7,141.30000000000001,156.5,null,null,null,null,null,null,null,null,null,{"$f":"IF(B2<>\"\",B2,0)","v":127.7},{"$f":"IF(C2<>\"\",C2,0)","v":141.30000000000001},156.5,0,0,0,0,0,{"$f":"IF(B2<>\"\",B2,0)","v":127.7},{"$f":"IF(C2<>\"\",C2,0)","v":141.30000000000001},156.5,0,0,0,0,0,null,{"$f":"IF(COUNTA(B2:I2)>0,AVERAGE(B2:I2),\"\")","v":141.83333333333334},{"$f":"IF(COUNTA(B2:I2)>0,$AE$28*((AE2-$AE$29)^2),\"\")","v":0.49877777777788612}]
["拡張不確かさ\n (包含係数k=2)",0.38,0.42,0.47,null,null,null,null,null,null,null,null,null,null,null,null,null,null,null,null,null,null,null,null,null,null,null,null,null,null,null,null,null,1,2,3,4,5,6,7,8]
[1,128,140.80000000000001,155.30000000000001,null,null,null,null,null,null,null,null,null,{"$f":"IF(B4<>\"\",B4-B$2,NA())","v":0.29999999999999716},{"$f":"IF(C4<>\"\",C4-C$2,NA())","v":-0.5},-1.1999999999999886,{"$error":"#N/A"},{"$error":"#N/A"},{"$error":"#N/A"},{"$error":"#N/A"},{"$error":"#N/A"},{"$f":"IF(B4<>\"\",(B4-B$2)/$K$40,NA())","v":1.5690780984429988},{"$f":"IF(C4<>\"\",(C4-C$2)/$K$40,NA())","v":-2.6151301640716893},-6.2763123937719953,{"$error":"#N/A"},{"$error":"#N/A"},{"$error":"#N/A"},{"$error":"#N/A"},{"$error":"#N/A"},null,141.36666666666667,{"$f":"IF(COUNTA(B4:I4)>0,$AE$28*((AE4-$AE$29)^2),\"\")","v":0.59211111111100234},null,{"$f":"IF(B4<>\"\",(B$2-$AE$30)*(B4-$AE$29),\"\")","v":192.35466666666656},{"$f":"IF(C4<>\"\",(C$2-$AE$30)*(C4-$AE$29),\"\")","v":0.43199999999998451},200.78666666666692,"","","","",""]
[2,128.1,141,155.19999999999999,null,null,null,null,null,null,null,null,null,{"$f":"IF(B5<>\"\",B5-B$2,NA())","v":0.39999999999999147},-0.30000000000001137,-1.3000000000000114,{"$error":"#N/A"},{"$error":"#N/A"},{"$error":"#N/A"},{"$error":"#N/A"},{"$error":"#N/A"},{"$f":"IF(B5<>\"\",(B5-B$2)/$K$40,NA())","v":2.0921041312573068},-1.5690780984430732,-6.799338426586452,{"$error":"#N/A"},{"$error":"#N/A"},{"$error":"#N/A"},{"$error":"#N/A"},{"$error":"#N/A"},null,141.43333333333334,0.3121111111110455,null,{"$f":"IF(B5<>\"\",(B$2-$AE$30)*(B5-$AE$29),\"\")","v":190.94133333333329},{"$f":"IF(C5<>\"\",(C$2-$AE$30)*(C5-$AE$29),\"\")","v":0.32533333333332431},{"$f":"IF(D5<>\"\",(D$2-$AE$30)*(D5-$AE$29),\"\")","v":199.31999999999991},{"$f":"IF(E5<>\"\",(E$2-$AE$30)*(E5-$AE$29),\"\")","v":""},{"$f":"IF(F5<>\"\",(F$2-$AE$30)*(F5-$AE$29),\"\")","v":""},{"$f":"IF(G5<>\"\",(G$2-$AE$30)*(G5-$AE$29),\"\")","v":""},{"$f":"IF(H5<>\"\",(H$2-$AE$30)*(H5-$AE$29),\"\")","v":""},{"$f":"IF(I5<>\"\",(I$2-$AE$30)*(I5-$AE$29),\"\")","v":""}]
[3,128.4,140.9,155.69999999999999,null,null,null,null,null,null,null,null,null,0.70000000000000284,-0.40000000000000568,-0.80000000000001137,{"$error":"#N/A"},{"$error":"#N/A"},{"$error":"#N/A"},{"$error":"#N/A"},{"$error":"#N/A"},3.6611822297003802,-2.0921041312573814,-4.1842082625147627,{"$error":"#N/A"},{"$error":"#N/A"},{"$error":"#N/A"},{"$error":"#N/A"},{"$error":"#N/A"},null,141.66666666666666,3.211111111111712E-2,null,186.70133333333314,0.37866666666665438,206.65333333333325,"","","","",""]
[4,128.19999999999999,141.30000000000001,155.6,null,null,null,null,null,null,null,null,null,0.49999999999998579,0,-0.90000000000000568,{"$error":"#N/A"},{"$error":"#N/A"},{"$error":"#N/A"},{"$error":"#N/A"},{"$error":"#N/A"},2.6151301640716151,0,-4.7072342953290711,{"$error":"#N/A"},{"$error":"#N/A"},{"$error":"#N/A"},{"$error":"#N/A"},{"$error":"#N/A"},null,141.70000000000002,8.100000000005729E-2,null,189.52800000000005,0.16533333333331879,205.18666666666667,"","","","",""]
[5,128.1,141.1,155.80000000000001,null,null,null,null,null,null,null,null,null,0.39999999999999147,-0.20000000000001705,-0.69999999999998863,{"$error":"#N/A"},{"$error":"#N/A"},{"$error":"#N/A"},{"$error":"#N/A"},{"$error":"#N/A"},2.0921041312573068,-1.0460520656287651,-3.6611822297003056,{"$error":"#N/A"},{"$error":"#N/A"},{"$error":"#N/A"},{"$error":"#N/A"},{"$error":"#N/A"},null,141.66666666666666,3.211111111111712E-2,null,190.94133333333329,0.27199999999999419,208.12000000000026,"","","","",""]
[6,128.30000000000001,140.69999999999999,155.69999999999999,null,null,null,null,null,null,null,null,null,0.60000000000000853,-0.60000000000002274,-0.80000000000001137,{"$error":"#N/A"},{"$error":"#N/A"},{"$error":"#N/A"},{"$error":"#N/A"},{"$error":"#N/A"},3.1381561968860718,-3.1381561968861464,-4.1842082625147627,{"$error":"#N/A"},{"$error":"#N/A"},{"$error":"#N/A"},{"$error":"#N/A"},{"$error":"#N/A"},null,141.56666666666666,1.8777777777768255E-2,null,188.11466666666638,0.48533333333332979,206.65333333333325,"","","","",""]
[7,128.19999999999999,140.9,155.6,null,null,null,null,null,null,null,null,null,0.49999999999998579,-0.40000000000000568,-0.90000000000000568,{"$error":"#N/A"},{"$error":"#N/A"},{"$error":"#N/A"},{"$error":"#N/A"},{"$error":"#N/A"},2.6151301640716151,-2.0921041312573814,-4.7072342953290711,{"$error":"#N/A"},{"$error":"#N/A"},{"$error":"#N/A"},{"$error":"#N/A"},{"$error":"#N/A"},null,141.56666666666669,1.8777777777743622E-2,null,189.52800000000005,0.37866666666665438,205.18666666666667,"","","","",""]
[8,128.30000000000001,141.1,156,null,null,null,null,null,null,null,null,null,0.60000000000000853,-0.20000000000001705,-0.5,{"$error":"#N/A"},{"$error":"#N/A"},{"$error":"#N/A"},{"$error":"#N/A"},{"$error":"#N/A"},3.1381561968860718,-1.0460520656287651,-2.6151301640716893,{"$error":"#N/A"},{"$error":"#N/A"},{"$error":"#N/A"},{"$error":"#N/A"},{"$error":"#N/A"},null,141.79999999999998,0.36099999999999133,null,188.11466666666638,0.27199999999999419,211.05333333333343,"","","","",""]
[9,128.30000000000001,141.19999999999999,155.80000000000001,null,null,null,null,null,null,null,null,null,0.60000000000000853,-0.10000000000002274,-0.69999999999998863,{"$error":"#N/A"},{"$error":"#N/A"},{"$error":"#N/A"},{"$error":"#N/A"},{"$error":"#N/A"},3.1381561968860718,-0.52302603281445681,-3.6611822297003056,{"$error":"#N/A"},{"$error":"#N/A"},{"$error":"#N/A"},{"$error":"#N/A"},{"$error":"#N/A"},null,141.76666666666668,0.24544444444453228,null,188.11466666666638,0.21866666666666407,208.12000000000026,"","","","",""]
[10,128.19999999999999,141.1,155.4,null,null,null,null,null,null,null,null,null,0.49999999999998579,-0.20000000000001705,-1.0999999999999943,{"$error":"#N/A"},{"$error":"#N/A"},{"$error":"#N/A"},{"$error":"#N/A"},{"$error":"#N/A"},2.6151301640716151,-1.0460520656287651,-5.753286360957687,{"$error":"#N/A"},{"$error":"#N/A"},{"$error":"#N/A"},{"$error":"#N/A"},{"$error":"#N/A"},null,141.56666666666663,1.8777777777792888E-2,null,189.52800000000005,0.27199999999999419,202.2533333333335,"","","","",""]
[11,null,null,null,null,null,null,null,null,null,null,null,null,{"$error":"#N/A"},{"$error":"#N/A"},{"$error":"#N/A"},{"$error":"#N/A"},{"$error":"#N/A"},{"$error":"#N/A"},{"$error":"#N/A"},{"$error":"#N/A"},{"$error":"#N/A"},{"$error":"#N/A"},{"$error":"#N/A"},{"$error":"#N/A"},{"$error":"#N/A"},{"$error":"#N/A"},{"$error":"#N/A"},{"$error":"#N/A"},null,"","",null,"","","","","","","",""]
[12,null,null,null,null,null,null,null,null,null,null,null,null,{"$error":"#N/A"},{"$error":"#N/A"},{"$error":"#N/A"},{"$error":"#N/A"},{"$error":"#N/A"},{"$error":"#N/A"},{"$error":"#N/A"},{"$error":"#N/A"},{"$error":"#N/A"},{"$error":"#N/A"},{"$error":"#N/A"},{"$error":"#N/A"},{"$error":"#N/A"},{"$error":"#N/A"},{"$error":"#N/A"},{"$error":"#N/A"},null,"","",null,"","","","","","","",""]
[13,null,null,null,null,null,null,null,null,null,null,null,null,{"$error":"#N/A"},{"$error":"#N/A"},{"$error":"#N/A"},{"$error":"#N/A"},{"$error":"#N/A"},{"$error":"#N/A"},{"$error":"#N/A"},{"$error":"#N/A"},{"$error":"#N/A"},{"$error":"#N/A"},{"$error":"#N/A"},{"$error":"#N/A"},{"$error":"#N/A"},{"$error":"#N/A"},{"$error":"#N/A"},{"$error":"#N/A"},null,"","",null,"","","","","","","",""]
[14,null,null,null,null,null,null,null,null,null,null,null,null,{"$error":"#N/A"},{"$error":"#N/A"},{"$error":"#N/A"},{"$error":"#N/A"},{"$error":"#N/A"},{"$error":"#N/A"},{"$error":"#N/A"},{"$error":"#N/A"},{"$error":"#N/A"},{"$error":"#N/A"},{"$error":"#N/A"},{"$error":"#N/A"},{"$error":"#N/A"},{"$error":"#N/A"},{"$error":"#N/A"},{"$error":"#N/A"},null,"","",null,"","","","","","","",""]
[15,null,null,null,null,null,null,null,null,null,null,null,null,{"$error":"#N/A"},{"$error":"#N/A"},{"$error":"#N/A"},{"$error":"#N/A"},{"$error":"#N/A"},{"$error":"#N/A"},{"$error":"#N/A"},{"$error":"#N/A"},{"$error":"#N/A"},{"$error":"#N/A"},{"$error":"#N/A"},{"$error":"#N/A"},{"$error":"#N/A"},{"$error":"#N/A"},{"$error":"#N/A"},{"$error":"#N/A"},null,"","",null,"","","","","","","",""]
[16,null,null,null,null,null,null,null,null,null,null,null,null,{"$error":"#N/A"},{"$error":"#N/A"},{"$error":"#N/A"},{"$error":"#N/A"},{"$error":"#N/A"},{"$error":"#N/A"},{"$error":"#N/A"},{"$error":"#N/A"},{"$error":"#N/A"},{"$error":"#N/A"},{"$error":"#N/A"},{"$error":"#N/A"},{"$error":"#N/A"},{"$error":"#N/A"},{"$error":"#N/A"},{"$error":"#N/A"},null,"","",null,"","","","","","","",""]
[17,null,null,null,null,null,null,null,null,null,null,null,null,{"$error":"#N/A"},{"$f":"IF(C20<>\"\",C20-C$2,NA())","v":{"$error":"#N/A"}},{"$error":"#N/A"},{"$error":"#N/A"},{"$error":"#N/A"},{"$error":"#N/A"},{"$error":"#N/A"},{"$error":"#N/A"},{"$error":"#N/A"},{"$f":"IF(C20<>\"\",(C20-C$2)/$K$40,NA())","v":{"$error":"#N/A"}},{"$error":"#N/A"},{"$error":"#N/A"},{"$error":"#N/A"},{"$error":"#N/A"},{"$error":"#N/A"},{"$error":"#N/A"},{"$f":"6/160","v":3.7499999999999999E-2},"","",null,"","","","","","","",""]
[18,null,null,null,null,null,null,null,null,null,null,null,null,{"$error":"#N/A"},{"$error":"#N/A"},{"$error":"#N/A"},{"$error":"#N/A"},{"$error":"#N/A"},{"$error":"#N/A"},{"$error":"#N/A"},{"$error":"#N/A"},{"$error":"#N/A"},{"$error":"#N/A"},{"$error":"#N/A"},{"$error":"#N/A"},{"$error":"#N/A"},{"$error":"#N/A"},{"$error":"#N/A"},{"$error":"#N/A"},null,"","",null,"","","","","","","",""]
[19,null,null,null,null,null,null,null,null,null,null,null,null,{"$error":"#N/A"},{"$error":"#N/A"},{"$error":"#N/A"},{"$error":"#N/A"},{"$error":"#N/A"},{"$error":"#N/A"},{"$error":"#N/A"},{"$error":"#N/A"},{"$error":"#N/A"},{"$error":"#N/A"},{"$error":"#N/A"},{"$error":"#N/A"},{"$error":"#N/A"},{"$error":"#N/A"},{"$error":"#N/A"},{"$error":"#N/A"},null,"","",null,"","","","","","","",""]
[20,null,null,null,null,null,null,null,null,null,null,null,null,{"$error":"#N/A"},{"$error":"#N/A"},{"$error":"#N/A"},{"$error":"#N/A"},{"$error":"#N/A"},{"$error":"#N/A"},{"$error":"#N/A"},{"$error":"#N/A"},{"$error":"#N/A"},{"$error":"#N/A"},{"$error":"#N/A"},{"$error":"#N/A"},{"$error":"#N/A"},{"$error":"#N/A"},{"$error":"#N/A"},{"$error":"#N/A"},null,{"$f":"IF(COUNTA(B23:I23)>0,AVERAGE(B23:I23),\"\")","v":""},"",null,{"$f":"IF(B23<>\"\",(B$2-$AE$30)*(B23-$AE$29),\"\")","v":""},"","","","","","",""]
["平　均",{"$f":"IF(B4<>\"\",AVERAGE(B4:B23),\"\")","v":128.21},{"$f":"IF(C4<>\"\",AVERAGE(C4:C23),\"\")","v":141.01},155.60999999999999,"","","","","",null,null,null,null,{"$f":"AVERAGE(N4:N23)","v":{"$error":"#N/A"}},{"$f":"AVERAGE(O4:O23)","v":{"$error":"#N/A"}},{"$error":"#N/A"},{"$error":"#N/A"},{"$error":"#N/A"},{"$error":"#N/A"},{"$error":"#N/A"},{"$error":"#N/A"},{"$f":"AVERAGE(V4:V23)","v":{"$error":"#N/A"}},{"$f":"AVERAGE(W4:W23)","v":{"$error":"#N/A"}},{"$error":"#N/A"},{"$error":"#N/A"},{"$error":"#N/A"},{"$error":"#N/A"},{"$error":"#N/A"},{"$error":"#N/A"}]
["S D",{"$f":"IF($B$27<>0,STDEV($B$4:$B$23),\"\")","v":0.11972189997379179},{"$f":"IF(C27<>0,STDEV(C4:C23),\"\")","v":0.18529256146249698},0.24698178070457041,"","","","","",null,null,null,null,{"$f":"STDEV(N4:N23)","v":{"$error":"#N/A"}},null,null,null,null,null,null,null,null,null,null,null,null,null,null,null,"計",{"$f":"SUM(AE4:AE23)","v":1416.1000000000001},{"$f":"SUM(AF4:AF23)","v":1.7122222222221677},null,{"$f":"IF(B24<>\"\",$AE$28*B24-$AE$29^2,\"\")","v":-18771.292099999999},{"$f":"IF(C24<>\"\",$AE$28*C24-$AE$29^2,\"\")","v":-18643.292099999999},-18497.292099999999,"","","","","",{"$f":"SUM(AH25:AO25)","v":-55911.876299999996}]
["C V",{"$f":"IF(B27<>0,B25/B24*100,\"\")","v":9.3379533557282415E-2},{"$f":"IF(C27<>0,C25/C24*100,\"\")","v":0.13140384473618677},0.15871845042386121,"","","","","",null,null,null,null,null,null,null,null,null,null,null,null,null,null,null,null,null,null,null,null,"全個数",{"$f":"COUNT(B4:I23)","v":30}]
["データ数",{"$f":"IF(B24<>\"\",COUNT(B4:B23),\"\")","v":10},{"$f":"COUNT(C4:C23)","v":10},10,0,0,{"$f":"COUNT(G4:G23)","v":0},0,0,null,null,null,null,null,null,null,null,null,null,null,null,null,null,null,null,null,null,null,null,"列数( n)",{"$f":"COUNT(B24:I24)","v":3},null,null,"20150627 新たに計算式を組み立てる"]
["許容誤差限界外数",{"$f":"COUNTIF(B4:B23,\"<\"&B31)+COUNTIF(B4:B23,\">\"&B32)","v":0},{"$f":"COUNTIF(C4:C23,\"<\"&C31)+COUNTIF(C4:C23,\">\"&C32)","v":0},0,0,0,0,0,0,null,null,null,null,"信頼区間の判定",null,null,null,null,null,null,null,null,null,null,null,null,null,null,null,"行数( q )",{"$f":"COUNT(AE4:AE23)","v":10}]
["平均値の信頼区間下限",{"$f":"IF(B27>0,B24-B33*B25/B27^0.5,\"\")","v":128.12435611205782},{"$f":"IF(C27>0,C24-C33*C25/C27^0.5,\"\")","v":140.8774496865328},155.43331987752404,"","","","","",null,null,null,null,{"$f":"IF(B3<>\"\",IF(B29<B31,B29,0),0)","v":0},{"$f":"IF(C3<>\"\",IF(C29<C31,C29,0),0)","v":0},0,0,0,0,0,0,null,null,null,null,null,null,null,"　","全平均　Ｙ",{"$f":"AVERAGE(B4:I23)","v":141.60999999999999},null,null,{"$f":"IF(B24<>\"\",(B24-$AE$29)^2,\"\")","v":179.55999999999938},{"$f":"IF(C24<>\"\",(C24-$AE$29)^2,\"\")","v":0.35999999999999316},196,"","","","","",{"$f":"SUM(AH29:AO29)","v":375.91999999999939}]
["平均値の信頼区間上限",{"$f":"IF(B27>0,B24+B33*B25/B27^0.5,\"\")","v":128.29564388794219},{"$f":"IF(C27>0,C24+C33*C25/C27^0.5,\"\")","v":141.14255031346718},155.78668012247593,"","","","","",null,null,null,null,{"$f":"IF(B3<>\"\",IF(B30>B32,B30,0),0)","v":0},{"$f":"IF(C3<>\"\",IF(C30>C32,C30,0),0)","v":0},0,0,0,0,0,0,null,null,null,null,null,null,null,null,"Ｘの平均",{"$f":"AVERAGE(B2:I2)","v":141.83333333333334},null,null,{"$f":"IF(B2<>\"\",B2^2,\"\")","v":16307.29},{"$f":"IF(C2<>\"\",C2^2,\"\")","v":19965.690000000002},24492.25,"","","","","",{"$f":"SUM(AH30:AO30)","v":60765.23}]
["平均値の\n95%信頼区間",{"$f":"IF(B$34<>\"\",B$24-2*((B$3/2)^2+B$25^2)^0.5,\"\")","v":127.7608526596613},{"$f":"IF(C$34<>\"\",C$24-2*((C$3/2)^2+C$25^2)^0.5,\"\")","v":140.44988096503212},{"$f":"IF(D$34<>\"\",D$24-2*((D$3/2)^2+D$25^2)^0.5,\"\")","v":154.92816424265075},"","","","","",null,null,null,null,null,null,null,null,null,null,null,null,null,null,null,null,null,null,null,null,"ＳＸＹ",{"$f":"SUM(AH4:AO23)","v":3950.3999999999996},{"$f":"SUM(AH4:AO23)","v":3950.3999999999996},null,"SB",{"$f":"AE31^2/AE32","v":3759.071531346352}]
[null,{"$f":"IF(B$34<>\"\",B$24+2*((B$3/2)^2+B$25^2)^0.5,\"\")","v":128.65914734033871},{"$f":"IF(C$34<>\"\",C$24+2*((C$3/2)^2+C$25^2)^0.5,\"\")","v":141.57011903496786},156.29183575734922,"","","","","",null,null,null,null,null,null,null,null,null,null,null,null,null,null,null,null,null,null,null,null,"ＳＸＸ",{"$f":"DEVSQ($B$2:$I$2)*$AE$28","v":4151.4666666666653},null,null,"SL",{"$f":"AE28*AP29-AI31","v":0.12846865364190307}]
["t0.05(n-1)",{"$f":"IF(B27<>0,TINV(0.05,B27-1),\"\")","v":2.2621571627982053},{"$f":"IF(C27<>0,TINV(0.05,C27-1),\"\")","v":2.2621571627982053},2.2621571627982053,"","","","","",null,null,null,null,null,null,{"$f":"COUNT(B4:I23)","v":30},null,null,null,null,null,null,null,null,null,null,null,null,null,"SYY",{"$f":"DEVSQ($B$4:$I$23)","v":3760.1869999999994},null,null,"SE",{"$f":"AE33-AP29*AE28","v":0.987000000005537}]
["バラツキの標準誤差",{"$f":"IF(B27<>0,2*((B25/B27^0.5)^2+(B3/2)^2)^0.5,\"\")","v":0.38747042897921108},{"$f":"IF(C27<>0,2*((C25/C27^0.5)^2+(C3/2)^2)^0.5,\"\")","v":0.43604281135380879},{"$f":"IF(D27<>0,2*((D25/D27^0.5)^2+(D3/2)^2)^0.5,\"\")","v":0.49527769988159187},"","","","","",null,null,null,null,null,null,{"$f":"SUM(B28:I28)","v":0},null,null,null,null,null,null,null,null,null,null,null,null,null,"ＳＲ",32775.197851983205,{"$f":"AP25-AE31^2/AE32","v":-59670.947831346348},null,"Syx",{"$f":"(AI33/(AE26-AE27))^0.5","v":0.19119507199653613}]
["Δm",{"$f":"IF(B27<>0,ABS(B24-B2),\"\")","v":0.51000000000000512},{"$f":"IF(C27<>0,ABS(C24-C2),\"\")","v":0.29000000000002046},0.89000000000001478,"","","","","","回帰の評価",null,null,null,null,null,null,null,null,null,null,null,null,null,null,null,null,null,null,null,"Sb",{"$f":"((AE33-K38*AE31)/(AE26-2))^0.5/AE32^0.5","v":3.0977680198123613E-3},{"$f":"(L40/AE32^0.5)","v":3.0977680198079412E-3},null,"F0",{"$f":"(AI32/(AE27-2))/(AI33/(AE26-AE27))","v":3.5143400692116762},"⇐直線性の評価"]
[null,null,null,null,null,null,null,null,"                                                                         ","直線性検定　F =",{"$f":"IF(AE27>2,AI35,\"\")","v":3.5143400692116762},null,null,null,null,null,null,null,null,null,null,null,null,null,null,null,null,null,null,"Tb",0.24862236791197659,null,null,"FP",{"$f":"FDIST(AI35,AE27-2,AE26-AE27)","v":7.1696948834126473E-2},"⇐Fの確率"]
[null,null,null,null,null,null,null,null,"                                                                         ","F の片側確率 ＝",{"$f":"IF(AE27>2,AI36,\"\")","v":7.1696948834126473E-2},null,null,null,null,null,null,null,null,null,null,null,null,null,null,null,null,null,null,"T確率",{"$f":"TDIST(AE36,$AE$27*$AE$28-$AE$27,2)","v":0.80553431632730077},null,null,"tb",{"$f":"(ABS(K38-1)*AE32^0.5)/AI34","v":16.321595342329925}]
[null,null,null,null,null,null,null,null,"                                                                         ","傾き b ＝",{"$f":"IF(ISERR(SLOPE(B24:I24,B2:I2)),\"\",SLOPE(B24:I24,B2:I2))","v":0.95156731757451118},null,null,null,null,null,null,null,null,null,null,null,null,null,null,null,null,null,null,"Ｔａ",0.22196022996771425,null,null,"tbP",{"$f":"_xlfn.T.DIST(AI37,AE26-AE27,FALSE)","v":1.2349671600940631E-15}]
[null,null,null,null,null,null,null,null,"                                                                         ","切片 a ＝",{"$f":"IF(ISERR(INTERCEPT(B24:I24,B2:I2)),\"\",INTERCEPT(B24:I24,B2:I2))","v":6.6460354573484892},null,null,null,null,null,null,null,null,null,null,null,null,null,null,null,null,null,null,"T確率",{"$f":"TDIST(AE38,$AE$27*$AE$28-$AE$27,2)","v":0.82601516840515921},null,null,"ta",{"$f":"(ABS(K39)/AI34)*((AE27*AE32)/(AP30))^0.5","v":15.736921977476232}]
[null,null,null,null,null,null,null,null,null,"Syx　＝",{"$f":"AI34","v":0.19119507199653613},{"$f":"(($AE$33-2*$K$38*$AE$31+$K$38^2*$AE$32)/(AE26-2))^0.5","v":0.19959500545277753},null,null,null,null,null,null,null,null,null,null,null,null,null,null,null,null,null,null,null,null,null,"taP",{"$f":"_xlfn.T.DIST(AI39,AE26-AE27,FALSE)","v":3.1120903600977824E-15}]
[null,null,null,null,null,null,null,null,null,"Tb　＝",{"$f":"AI37","v":16.321595342329925},"                                                                         "]
[null,null,null,null,null,null,null,null,null,"Ｔｂ 確率＝",{"$f":"AI38","v":1.2349671600940631E-15}]
[null,null,null,null,null,null,null,null,null,"Ta　＝",{"$f":"AI39","v":15.736921977476232},"                                                                         "]
[null,null,null,null,null,null,null,null,null,"Ｔａ 確率＝",{"$f":"AI40","v":3.1120903600977824E-15}]
[null,null,null,null,null,null,null,null,null,{"$f":"IF(AE27>2,IF(K37>0.05,\"F 確率より有意水準 0.05 以上から直線性あり！\",\"F 確率より有意水準 0.05 以下から直線性はない！\"),\"\")","v":"F 確率より有意水準 0.05 以上から直線性あり！"}]
[null,null,null,null,null,null,null,null,null,{"$f":"IF(K42>0.05,\"Ｔb 確率より有意水準 0.05 以上から比例系統誤差は認められない！\",\"Ｔb 確率より有意水準 0.05 以下から比例系統誤差が認められる！\")","v":"Ｔb 確率より有意水準 0.05 以下から比例系統誤差が認められる！"}]
[null,null,null,null,null,null,null,null,null,{"$f":"IF(K44>0.05,\"Ｔa 確率より有意水準 0.05 以上から一定系統誤差は認められない！\",\"Ｔa 確率より有意水準 0.05 以下から一定系統誤差が認められる！\")","v":"Ｔa 確率より有意水準 0.05 以下から一定系統誤差が認められる！"}]
[]
[]
[null,"測定値","認証値"]
["上限",{"$f":"B32","v":128.65914734033871}]
["下限",{"$f":"B31","v":127.7608526596613}]
["平均",{"$f":"B24","v":128.21},{"$f":"B2","v":127.7}]
[null,"測定値","認証値"]
["上限",{"$f":"C32","v":141.57011903496786}]
["下限",{"$f":"C31","v":140.44988096503212}]
["平均",{"$f":"C24","v":141.01},{"$f":"C2","v":141.30000000000001}]
[null,"測定値","認証値"]
["上限",{"$f":"D32","v":156.29183575734922}]
["下限",{"$f":"D31","v":154.92816424265075}]
["平均",{"$f":"D24","v":155.60999999999999},{"$f":"D2","v":156.5}]
[null,"測定値","認証値"]
["上限",{"$f":"E32","v":""}]
["下限",{"$f":"E31","v":""}]
["平均",{"$f":"E24","v":""},{"$f":"E2","v":0}]
[null,"測定値","認証値"]
["上限",{"$f":"F32","v":""}]
["下限",{"$f":"F31","v":""}]
["平均",{"$f":"F24","v":""},{"$f":"F2","v":0}]
[null,"測定値","認証値"]
["上限",{"$f":"G32","v":""}]
["下限",{"$f":"G31","v":""}]
["平均",{"$f":"G24","v":""},{"$f":"G2","v":0}]
[null,"測定値","認証値"]
["上限",{"$f":"H32","v":""}]
["下限",{"$f":"H31","v":""}]
["平均",{"$f":"H24","v":""},{"$f":"H2","v":0}]
[null,"測定値","認証値"]
["上限",{"$f":"I32","v":""}]
["下限",{"$f":"I31","v":""}]
["平均",{"$f":"I24","v":""},{"$f":"I2","v":0}]
[]
[]
[]
[]
[]
[]
[]
[]
[]
[null,10,60,110,160,436]
[null,1,2,3,5,5]
[null,12,60,112,160,436]
[null,11,62,111,158,436]
[null,10,68,110,160,436]
[null,10,61,111,160,434]
[null,12,61,110,161,435]
[null,13,60,110,162,434]
[null,11,58,109,157,437]
[null,9,59,108,159,437]
[null,11,60,112,160,437]
[null,10,63,109,162,435]
[]
[null,"Dimension"]
[null,127.7,141.30000000000001,156.5]
[null,0.4,0.5,0.5]
[null,127.21,141.06,154.82]
[null,128.06,139.94,155.36000000000001]
[null,127.13,140.26,154.12]
[null,128,140.16,154.66999999999999]
[null,127.18,141.19,155.66999999999999]
[null,127.09,141.83000000000001,155.16]
[null,128.57,139.97,154.08000000000001]
[null,126.67,143.02000000000001,157.31]
[null,127.24,143.86000000000001,155.85]
[null,128.54,142.47,154.28]
[]
[]
[null,3.49,4.4800000000000004,5.59]
[null,0.02,0.02,0.03]
[null,3.39,4.41,5.5]
[null,3.41,4.37,5.52]
[null,3.39,4.4000000000000004,5.48]
[null,3.41,4.38,5.5]
[null,3.39,4.42,5.54]
[null,3.38,4.4400000000000004,5.51]
[null,3.42,4.38,5.48]
[null,3.38,4.4800000000000004,5.59]
[null,3.4,4.49,5.53]
[null,3.43,4.45,5.49]
[]
[]
[]
[null,88,102,118.7]
[null,0.3,0.4,0.5]
[null,89.3,104,118.5]
[null,89.4,102.9,119.1]
[null,88.7,103.5,118.7]
[null,88.9,103.3,118.9]
[null,88.4,104.3,119.4]
[null,88.8,105.4,119]
[null,89.4,103.7,118.8]
[null,88.9,106.1,120.4]
[null,88.9,106,119.4]
[null,88.9,105.1,118.8]
[]
[null,"Na (EA07)"]
[null,127.7,141.30000000000001,156.5]
[null,0.4,0.5,0.5]
[null,127.7,140.69999999999999,155.30000000000001]
[null,127.9,140.5,154.80000000000001]
[null,127.7,140.80000000000001,155.69999999999999]
[null,128,140.80000000000001,156.1]
[null,128.1,140.6,155.80000000000001]
[null,128.30000000000001,141.6,155.69999999999999]
[null,128.9,141.19999999999999,155.6]
[null,128.30000000000001,141.30000000000001,156]
[null,128.30000000000001,141.19999999999999,155.6]
[null,128.19999999999999,141.4,156.19999999999999]
[]
[null,"K (EA07)"]
[null,3.49,4.4800000000000004,5.59]
[null,0.02,0.02,0.03]
[null,3.49,4.46,5.59]
[null,3.5,4.46,5.57]
[null,3.5,4.4800000000000004,5.59]
[null,3.5,4.4800000000000004,5.63]
[null,3.5,4.47,5.6]
[null,3.51,4.5,5.62]
[null,3.5,4.5,5.59]
[null,3.51,4.5,5.61]
[null,3.5,4.49,5.61]
[null,3.5,4.5,5.62]
[]
[]
[]
[null,"Cl (EA07)"]
[null,88,102,118.7]
[null,0.3,0.4,0.5]
[null,88.3,103.2,119.5]
[null,88.4,103.2,119.3]
[null,88.4,103.5,119.8]
[null,88.4,103.3,120]
[null,88.6,103.4,119.5]
[null,88.7,104.1,120]
[null,88.7,104.2,119.4]
[null,88.5,104.1,119.8]
[null,88.3,103.7,119.7]
[null,88.5,103.9,120.2]

{"sheet":"相関分析","index":3,"n_rows":1304,"n_cols":1588,"rows_kept":69,"cut":true,"hidden":false,"merged":[[9,50,9,51],[1,12,1,13],[1,14,1,15],[6,50,8,51],[44,18,45,18],[2,3,2,4],[2,5,2,6],[14,12,14,13],[42,18,43,18],[7,16,8,16],[7,17,8,18],[11,17,12,18],[11,16,12,16]],"bounds":{"rows_first":31,"rows_last":7,"rows_between":31,"halvings":6}}
[null,null,"解　説",null,null,null,null,null,null,null,null,null,null,null,null,null,null,null,null,null,null,null,null,null,null,null,null,null,null,null,null,null,null,null,null,null,null,null,"Spearmanの相関係数用",null,"Sｘｙ：=",{"$f":"COVAR(AN5:AN1304,AO5:AO1304)*$M$5","v":9321.0800000000017},{"$f":"COVAR(AP5:AP504,AQ5:AQ504)*O5","v":{"$error":"#DIV/0!"}},null,null,null,null,null,null,{"$f":"COUNT(BB1:BKL1)","v":501},{"$f":"SMALL(BB1:BIB1,11)","v":0.92183723034528253},{"$f":"LARGE(BB1:BIB1,12)","v":1.4269606214782062},"Deming b=",{"$f":"(BC9-$M$34*BB9+((BC9-$M$34*BB9)^2+4*$M$34*BB8^2)^0.5)/(2*BB8)","v":1.0099140832431655},null,null,{"$f":"(BF9-$M$34*BE9+((BF9-$M$34*BE9)^2+4*$M$34*BE8^2)^0.5)/(2*BE8)","v":1.3101968628807688},null,null,{"$f":"(BI9-$M$34*BH9+((BI9-$M$34*BH9)^2+4*$M$34*BH8^2)^0.5)/(2*BH8)","v":1.1505838982305756},null,null,{"$f":"(BL9-$M$34*BK9+((BL9-$M$34*BK9)^2+4*$M$34*BK8^2)^0.5)/(2*BK8)","v":1.1085284738578525},null,null,{"$f":"(BO9-$M$34*BN9+((BO9-$M$34*BN9)^2+4*$M$34*BN8^2)^0.5)/(2*BN8)","v":1.1951461746597991},null,null,{"$f":"(BR9-$M$34*BQ9+((BR9-$M$34*BQ9)^2+4*$M$34*BQ8^2)^0.5)/(2*BQ8)","v":1.0531830583710484},null,null,{"$f":"(BU9-$M$34*BT9+((BU9-$M$34*BT9)^2+4*$M$34*BT8^2)^0.5)/(2*BT8)","v":1.1291651429545608},null,null,{"$f":"(BX9-$M$34*BW9+((BX9-$M$34*BW9)^2+4*$M$34*BW8^2)^0.5)/(2*BW8)","v":1.1665657102845413},null,null,{"$f":"(CA9-$M$34*BZ9+((CA9-$M$34*BZ9)^2+4*$M$34*BZ8^2)^0.5)/(2*BZ8)","v":1.2135904386111778},null,null,{"$f":"(CD9-$M$34*CC9+((CD9-$M$34*CC9)^2+4*$M$34*CC8^2)^0.5)/(2*CC8)","v":1.0652311181433201},null,null,{"$f":"(CG9-$M$34*CF9+((CG9-$M$34*CF9)^2+4*$M$34*CF8^2)^0.5)/(2*CF8)","v":1.4453484031643724},null,null,{"$f":"(CJ9-$M$34*CI9+((CJ9-$M$34*CI9)^2+4*$M$34*CI8^2)^0.5)/(2*CI8)","v":1.456695663840714},null,null,{"$f":"(CM9-$M$34*CL9+((CM9-$M$34*CL9)^2+4*$M$34*CL8^2)^0.5)/(2*CL8)","v":1.1098048322571099},null,null,{"$f":"(CP9-$M$34*CO9+((CP9-$M$34*CO9)^2+4*$M$34*CO8^2)^0.5)/(2*CO8)","v":1.3492221887221261},null,null,{"$f":"(CS9-$M$34*CR9+((CS9-$M$34*CR9)^2+4*$M$34*CR8^2)^0.5)/(2*CR8)","v":1.1836132151683456},null,null,{"$f":"(CV9-$M$34*CU9+((CV9-$M$34*CU9)^2+4*$M$34*CU8^2)^0.5)/(2*CU8)","v":1.148120801788125},null,null,{"$f":"(CY9-$M$34*CX9+((CY9-$M$34*CX9)^2+4*$M$34*CX8^2)^0.5)/(2*CX8)","v":1.1723846354805192},null,null,{"$f":"(DB9-$M$34*DA9+((DB9-$M$34*DA9)^2+4*$M$34*DA8^2)^0.5)/(2*DA8)","v":0.99050962988081415},null,null,{"$f":"(DE9-$M$34*DD9+((DE9-$M$34*DD9)^2+4*$M$34*DD8^2)^0.5)/(2*DD8)","v":1.1527740287987247},null,null,{"$f":"(DH9-$M$34*DG9+((DH9-$M$34*DG9)^2+4*$M$34*DG8^2)^0.5)/(2*DG8)","v":1.2574844469750692},null,null,{"$f":"(DK9-$M$34*DJ9+((DK9-$M$34*DJ9)^2+4*$M$34*DJ8^2)^0.5)/(2*DJ8)","v":1.164437782008702},null,null,{"$f":"(DN9-$M$34*DM9+((DN9-$M$34*DM9)^2+4*$M$34*DM8^2)^0.5)/(2*DM8)","v":1.4681878788859664},null,null,{"$f":"(DQ9-$M$34*DP9+((DQ9-$M$34*DP9)^2+4*$M$34*DP8^2)^0.5)/(2*DP8)","v":1.126711714606913},null,null,{"$f":"(DT9-$M$34*DS9+((DT9-$M$34*DS9)^2+4*$M$34*DS8^2)^0.5)/(2*DS8)","v":1.1162900464226153},null,null,{"$f":"(DW9-$M$34*DV9+((DW9-$M$34*DV9)^2+4*$M$34*DV8^2)^0.5)/(2*DV8)","v":1.1447103647544561},null,null,{"$f":"(DZ9-$M$34*DY9+((DZ9-$M$34*DY9)^2+4*$M$34*DY8^2)^0.5)/(2*DY8)","v":0.97657115904144476},null,null,{"$f":"(EC9-$M$34*EB9+((EC9-$M$34*EB9)^2+4*$M$34*EB8^2)^0.5)/(2*EB8)","v":0.99807215008000549},null,null,{"$f":"(EF9-$M$34*EE9+((EF9-$M$34*EE9)^2+4*$M$34*EE8^2)^0.5)/(2*EE8)","v":1.1648269003772682},null,null,{"$f":"(EI9-$M$34*EH9+((EI9-$M$34*EH9)^2+4*$M$34*EH8^2)^0.5)/(2*EH8)","v":1.2062165391475463},null,null,{"$f":"(EL9-$M$34*EK9+((EL9-$M$34*EK9)^2+4*$M$34*EK8^2)^0.5)/(2*EK8)","v":0.9814348533945938},null,null,{"$f":"(EO9-$M$34*EN9+((EO9-$M$34*EN9)^2+4*$M$34*EN8^2)^0.5)/(2*EN8)","v":1.0343817036575831},null,null,{"$f":"(ER9-$M$34*EQ9+((ER9-$M$34*EQ9)^2+4*$M$34*EQ8^2)^0.5)/(2*EQ8)","v":1.3250285286478818},null,null,{"$f":"(EU9-$M$34*ET9+((EU9-$M$34*ET9)^2+4*$M$34*ET8^2)^0.5)/(2*ET8)","v":1.0073246343782309},null,null,{"$f":"(EX9-$M$34*EW9+((EX9-$M$34*EW9)^2+4*$M$34*EW8^2)^0.5)/(2*EW8)","v":1.0515825757971924},null,null,{"$f":"(FA9-$M$34*EZ9+((FA9-$M$34*EZ9)^2+4*$M$34*EZ8^2)^0.5)/(2*EZ8)","v":1.1720930231289686},null,null,{"$f":"(FD9-$M$34*FC9+((FD9-$M$34*FC9)^2+4*$M$34*FC8^2)^0.5)/(2*FC8)","v":1.1513444787640261},null,null,{"$f":"(FG9-$M$34*FF9+((FG9-$M$34*FF9)^2+4*$M$34*FF8^2)^0.5)/(2*FF8)","v":1.26133677228497},null,null,{"$f":"(FJ9-$M$34*FI9+((FJ9-$M$34*FI9)^2+4*$M$34*FI8^2)^0.5)/(2*FI8)","v":1.202431990295338},null,null,{"$f":"(FM9-$M$34*FL9+((FM9-$M$34*FL9)^2+4*$M$34*FL8^2)^0.5)/(2*FL8)","v":1.1459650458870325},null,null,{"$f":"(FP9-$M$34*FO9+((FP9-$M$34*FO9)^2+4*$M$34*FO8^2)^0.5)/(2*FO8)","v":0.91815498258650519},null,null,{"$f":"(FS9-$M$34*FR9+((FS9-$M$34*FR9)^2+4*$M$34*FR8^2)^0.5)/(2*FR8)","v":1.0496185356372612},null,null,{"$f":"(FV9-$M$34*FU9+((FV9-$M$34*FU9)^2+4*$M$34*FU8^2)^0.5)/(2*FU8)","v":1.0926103117177002},null,null,{"$f":"(FY9-$M$34*FX9+((FY9-$M$34*FX9)^2+4*$M$34*FX8^2)^0.5)/(2*FX8)","v":0.93660253140024929},null,null,{"$f":"(GB9-$M$34*GA9+((GB9-$M$34*GA9)^2+4*$M$34*GA8^2)^0.5)/(2*GA8)","v":1.0441191709262874},null,null,{"$f":"(GE9-$M$34*GD9+((GE9-$M$34*GD9)^2+4*$M$34*GD8^2)^0.5)/(2*GD8)","v":1.067407802221765},null,null,{"$f":"(GH9-$M$34*GG9+((GH9-$M$34*GG9)^2+4*$M$34*GG8^2)^0.5)/(2*GG8)","v":1.1203399197271244},null,null,{"$f":"(GK9-$M$34*GJ9+((GK9-$M$34*GJ9)^2+4*$M$34*GJ8^2)^0.5)/(2*GJ8)","v":1.1156010658433342},null,null,{"$f":"(GN9-$M$34*GM9+((GN9-$M$34*GM9)^2+4*$M$34*GM8^2)^0.5)/(2*GM8)","v":1.4269606214782062},null,null,{"$f":"(GQ9-$M$34*GP9+((GQ9-$M$34*GP9)^2+4*$M$34*GP8^2)^0.5)/(2*GP8)","v":1.1586845572987943},null,null,{"$f":"(GT9-$M$34*GS9+((GT9-$M$34*GS9)^2+4*$M$34*GS8^2)^0.5)/(2*GS8)","v":1.0751518090588348},null,null,{"$f":"(GW9-$M$34*GV9+((GW9-$M$34*GV9)^2+4*$M$34*GV8^2)^0.5)/(2*GV8)","v":1.113065287126775},null,null,{"$f":"(GZ9-$M$34*GY9+((GZ9-$M$34*GY9)^2+4*$M$34*GY8^2)^0.5)/(2*GY8)","v":1.2389719128816974},null,null,{"$f":"(HC9-$M$34*HB9+((HC9-$M$34*HB9)^2+4*$M$34*HB8^2)^0.5)/(2*HB8)","v":1.0451520546086479},null,null,{"$f":"(HF9-$M$34*HE9+((HF9-$M$34*HE9)^2+4*$M$34*HE8^2)^0.5)/(2*HE8)","v":1.2473393387557885},null,null,{"$f":"(HI9-$M$34*HH9+((HI9-$M$34*HH9)^2+4*$M$34*HH8^2)^0.5)/(2*HH8)","v":1.0732100593999778},null,null,{"$f":"(HL9-$M$34*HK9+((HL9-$M$34*HK9)^2+4*$M$34*HK8^2)^0.5)/(2*HK8)","v":1.3101988823729422},null,null,{"$f":"(HO9-$M$34*HN9+((HO9-$M$34*HN9)^2+4*$M$34*HN8^2)^0.5)/(2*HN8)","v":1.1616814986034187},null,null,{"$f":"(HR9-$M$34*HQ9+((HR9-$M$34*HQ9)^2+4*$M$34*HQ8^2)^0.5)/(2*HQ8)","v":1.0639826919295337},null,null,{"$f":"(HU9-$M$34*HT9+((HU9-$M$34*HT9)^2+4*$M$34*HT8^2)^0.5)/(2*HT8)","v":0.96619676658517528},null,null,{"$f":"(HX9-$M$34*HW9+((HX9-$M$34*HW9)^2+4*$M$34*HW8^2)^0.5)/(2*HW8)","v":1.1531251689933724},null,null,{"$f":"(IA9-$M$34*HZ9+((IA9-$M$34*HZ9)^2+4*$M$34*HZ8^2)^0.5)/(2*HZ8)","v":0.98235874872520168},null,null,{"$f":"(ID9-$M$34*IC9+((ID9-$M$34*IC9)^2+4*$M$34*IC8^2)^0.5)/(2*IC8)","v":1.2311876601905609},null,null,{"$f":"(IG9-$M$34*IF9+((IG9-$M$34*IF9)^2+4*$M$34*IF8^2)^0.5)/(2*IF8)","v":1.0550063664180214},null,null,{"$f":"(IJ9-$M$34*II9+((IJ9-$M$34*II9)^2+4*$M$34*II8^2)^0.5)/(2*II8)","v":1.1513952077325296},null,null,{"$f":"(IM9-$M$34*IL9+((IM9-$M$34*IL9)^2+4*$M$34*IL8^2)^0.5)/(2*IL8)","v":1.146321784406636},null,null,{"$f":"(IP9-$M$34*IO9+((IP9-$M$34*IO9)^2+4*$M$34*IO8^2)^0.5)/(2*IO8)","v":1.1508380353178544},null,null,{"$f":"(IS9-$M$34*IR9+((IS9-$M$34*IR9)^2+4*$M$34*IR8^2)^0.5)/(2*IR8)","v":1.3642511236032051},null,null,{"$f":"(IV9-$M$34*IU9+((IV9-$M$34*IU9)^2+4*$M$34*IU8^2)^0.5)/(2*IU8)","v":1.1610927336429733},null,null,{"$f":"(IY9-$M$34*IX9+((IY9-$M$34*IX9)^2+4*$M$34*IX8^2)^0.5)/(2*IX8)","v":1.2670080655501579},null,null,{"$f":"(JB9-$M$34*JA9+((JB9-$M$34*JA9)^2+4*$M$34*JA8^2)^0.5)/(2*JA8)","v":1.0588912233711876},null,null,{"$f":"(JE9-$M$34*JD9+((JE9-$M$34*JD9)^2+4*$M$34*JD8^2)^0.5)/(2*JD8)","v":0.92183723034528253},null,null,{"$f":"(JH9-$M$34*JG9+((JH9-$M$34*JG9)^2+4*$M$34*JG8^2)^0.5)/(2*JG8)","v":0.88588567201569435},null,null,{"$f":"(JK9-$M$34*JJ9+((JK9-$M$34*JJ9)^2+4*$M$34*JJ8^2)^0.5)/(2*JJ8)","v":1.0874862553913347},null,null,{"$f":"(JN9-$M$34*JM9+((JN9-$M$34*JM9)^2+4*$M$34*JM8^2)^0.5)/(2*JM8)","v":0.97843494187696101},null,null,{"$f":"(JQ9-$M$34*JP9+((JQ9-$M$34*JP9)^2+4*$M$34*JP8^2)^0.5)/(2*JP8)","v":1.0059905029128569},null,null,{"$f":"(JT9-$M$34*JS9+((JT9-$M$34*JS9)^2+4*$M$34*JS8^2)^0.5)/(2*JS8)","v":1.0917867419496918},null,null,{"$f":"(JW9-$M$34*JV9+((JW9-$M$34*JV9)^2+4*$M$34*JV8^2)^0.5)/(2*JV8)","v":1.0952515081554068},null,null,{"$f":"(JZ9-$M$34*JY9+((JZ9-$M$34*JY9)^2+4*$M$34*JY8^2)^0.5)/(2*JY8)","v":1.4848538914891412},null,null,{"$f":"(KC9-$M$34*KB9+((KC9-$M$34*KB9)^2+4*$M$34*KB8^2)^0.5)/(2*KB8)","v":1.1561374117476186},null,null,{"$f":"(KF9-$M$34*KE9+((KF9-$M$34*KE9)^2+4*$M$34*KE8^2)^0.5)/(2*KE8)","v":1.1264307974118968},null,null,{"$f":"(KI9-$M$34*KH9+((KI9-$M$34*KH9)^2+4*$M$34*KH8^2)^0.5)/(2*KH8)","v":1.3318935349161418},null,null,{"$f":"(KL9-$M$34*KK9+((KL9-$M$34*KK9)^2+4*$M$34*KK8^2)^0.5)/(2*KK8)","v":1.3764984520940868},null,null,{"$f":"(KO9-$M$34*KN9+((KO9-$M$34*KN9)^2+4*$M$34*KN8^2)^0.5)/(2*KN8)","v":1.0861467323245793},null,null,{"$f":"(KR9-$M$34*KQ9+((KR9-$M$34*KQ9)^2+4*$M$34*KQ8^2)^0.5)/(2*KQ8)","v":1.131522079743942},null,null,{"$f":"(KU9-$M$34*KT9+((KU9-$M$34*KT9)^2+4*$M$34*KT8^2)^0.5)/(2*KT8)","v":1.1183677691008456},null,null,{"$f":"(KX9-$M$34*KW9+((KX9-$M$34*KW9)^2+4*$M$34*KW8^2)^0.5)/(2*KW8)","v":1.0079788952674975},null,null,{"$f":"(LA9-$M$34*KZ9+((LA9-$M$34*KZ9)^2+4*$M$34*KZ8^2)^0.5)/(2*KZ8)","v":1.3447476648333214},null,null,{"$f":"(LD9-$M$34*LC9+((LD9-$M$34*LC9)^2+4*$M$34*LC8^2)^0.5)/(2*LC8)","v":1.1674830255332544},null,null,{"$f":"(LG9-$M$34*LF9+((LG9-$M$34*LF9)^2+4*$M$34*LF8^2)^0.5)/(2*LF8)","v":1.0709751217142292},null,null,{"$f":"(LJ9-$M$34*LI9+((LJ9-$M$34*LI9)^2+4*$M$34*LI8^2)^0.5)/(2*LI8)","v":1.2053460504288365},null,null,{"$f":"(LM9-$M$34*LL9+((LM9-$M$34*LL9)^2+4*$M$34*LL8^2)^0.5)/(2*LL8)","v":1.3977529999045297},null,null,{"$f":"(LP9-$M$34*LO9+((LP9-$M$34*LO9)^2+4*$M$34*LO8^2)^0.5)/(2*LO8)","v":1.3153731488844578},null,null,{"$f":"(LS9-$M$34*LR9+((LS9-$M$34*LR9)^2+4*$M$34*LR8^2)^0.5)/(2*LR8)","v":1.0531282582019763},null,null,{"$f":"(LV9-$M$34*LU9+((LV9-$M$34*LU9)^2+4*$M$34*LU8^2)^0.5)/(2*LU8)","v":1.162383559854858},null,null,{"$f":"(LY9-$M$34*LX9+((LY9-$M$34*LX9)^2+4*$M$34*LX8^2)^0.5)/(2*LX8)","v":1.2328200595023961},null,null,{"$f":"(MB9-$M$34*MA9+((MB9-$M$34*MA9)^2+4*$M$34*MA8^2)^0.5)/(2*MA8)","v":1.474225572539676},null,null,{"$f":"(ME9-$M$34*MD9+((ME9-$M$34*MD9)^2+4*$M$34*MD8^2)^0.5)/(2*MD8)","v":1.4141101508263205},null,null,{"$f":"(MH9-$M$34*MG9+((MH9-$M$34*MG9)^2+4*$M$34*MG8^2)^0.5)/(2*MG8)","v":1.0116923530194948},null,null,{"$f":"(MK9-$M$34*MJ9+((MK9-$M$34*MJ9)^2+4*$M$34*MJ8^2)^0.5)/(2*MJ8)","v":1.0253335615179058},null,null,{"$f":"(MN9-$M$34*MM9+((MN9-$M$34*MM9)^2+4*$M$34*MM8^2)^0.5)/(2*MM8)","v":1.3071190051541723},null,null,{"$f":"(MQ9-$M$34*MP9+((MQ9-$M$34*MP9)^2+4*$M$34*MP8^2)^0.5)/(2*MP8)","v":1.0859342342029352},null,null,{"$f":"(MT9-$M$34*MS9+((MT9-$M$34*MS9)^2+4*$M$34*MS8^2)^0.5)/(2*MS8)","v":1.1999815656636026},null,null,{"$f":"(MW9-$M$34*MV9+((MW9-$M$34*MV9)^2+4*$M$34*MV8^2)^0.5)/(2*MV8)","v":1.3698618172646191},null,null,{"$f":"(MZ9-$M$34*MY9+((MZ9-$M$34*MY9)^2+4*$M$34*MY8^2)^0.5)/(2*MY8)","v":1.077876269503907},null,null,{"$f":"(NC9-$M$34*NB9+((NC9-$M$34*NB9)^2+4*$M$34*NB8^2)^0.5)/(2*NB8)","v":1.2066889109580716},null,null,{"$f":"(NF9-$M$34*NE9+((NF9-$M$34*NE9)^2+4*$M$34*NE8^2)^0.5)/(2*NE8)","v":1.0411402964138954},null,null,{"$f":"(NI9-$M$34*NH9+((NI9-$M$34*NH9)^2+4*$M$34*NH8^2)^0.5)/(2*NH8)","v":1.0053049488161119},null,null,{"$f":"(NL9-$M$34*NK9+((NL9-$M$34*NK9)^2+4*$M$34*NK8^2)^0.5)/(2*NK8)","v":1.2291669876212286},null,null,{"$f":"(NO9-$M$34*NN9+((NO9-$M$34*NN9)^2+4*$M$34*NN8^2)^0.5)/(2*NN8)","v":0.97962569654422282},null,null,{"$f":"(NR9-$M$34*NQ9+((NR9-$M$34*NQ9)^2+4*$M$34*NQ8^2)^0.5)/(2*NQ8)","v":1.1368252715578062},null,null,{"$f":"(NU9-$M$34*NT9+((NU9-$M$34*NT9)^2+4*$M$34*NT8^2)^0.5)/(2*NT8)","v":1.0536824626293007},null,null,{"$f":"(NX9-$M$34*NW9+((NX9-$M$34*NW9)^2+4*$M$34*NW8^2)^0.5)/(2*NW8)","v":1.1096423093816867},null,null,{"$f":"(OA9-$M$34*NZ9+((OA9-$M$34*NZ9)^2+4*$M$34*NZ8^2)^0.5)/(2*NZ8)","v":1.1700731570488134},null,null,{"$f":"(OD9-$M$34*OC9+((OD9-$M$34*OC9)^2+4*$M$34*OC8^2)^0.5)/(2*OC8)","v":1.1898348198346134},null,null,{"$f":"(OG9-$M$34*OF9+((OG9-$M$34*OF9)^2+4*$M$34*OF8^2)^0.5)/(2*OF8)","v":1.0718008396379917},null,null,{"$f":"(OJ9-$M$34*OI9+((OJ9-$M$34*OI9)^2+4*$M$34*OI8^2)^0.5)/(2*OI8)","v":1.1229386310765872},null,null,{"$f":"(OM9-$M$34*OL9+((OM9-$M$34*OL9)^2+4*$M$34*OL8^2)^0.5)/(2*OL8)","v":0.98844650842923054},null,null,{"$f":"(OP9-$M$34*OO9+((OP9-$M$34*OO9)^2+4*$M$34*OO8^2)^0.5)/(2*OO8)","v":1.1227396764280693},null,null,{"$f":"(OS9-$M$34*OR9+((OS9-$M$34*OR9)^2+4*$M$34*OR8^2)^0.5)/(2*OR8)","v":1.2011539363999231},null,null,{"$f":"(OV9-$M$34*OU9+((OV9-$M$34*OU9)^2+4*$M$34*OU8^2)^0.5)/(2*OU8)","v":0.98014819572801182},null,null,{"$f":"(OY9-$M$34*OX9+((OY9-$M$34*OX9)^2+4*$M$34*OX8^2)^0.5)/(2*OX8)","v":1.0649915186706296},null,null,{"$f":"(PB9-$M$34*PA9+((PB9-$M$34*PA9)^2+4*$M$34*PA8^2)^0.5)/(2*PA8)","v":1.051924465644531},null,null,{"$f":"(PE9-$M$34*PD9+((PE9-$M$34*PD9)^2+4*$M$34*PD8^2)^0.5)/(2*PD8)","v":0.97336259963193772},null,null,{"$f":"(PH9-$M$34*PG9+((PH9-$M$34*PG9)^2+4*$M$34*PG8^2)^0.5)/(2*PG8)","v":1.1854001766125808},null,null,{"$f":"(PK9-$M$34*PJ9+((PK9-$M$34*PJ9)^2+4*$M$34*PJ8^2)^0.5)/(2*PJ8)","v":0.89049056124954773},null,null,{"$f":"(PN9-$M$34*PM9+((PN9-$M$34*PM9)^2+4*$M$34*PM8^2)^0.5)/(2*PM8)","v":1.1074882964138619},null,null,{"$f":"(PQ9-$M$34*PP9+((PQ9-$M$34*PP9)^2+4*$M$34*PP8^2)^0.5)/(2*PP8)","v":1.1378086053506433},null,null,{"$f":"(PT9-$M$34*PS9+((PT9-$M$34*PS9)^2+4*$M$34*PS8^2)^0.5)/(2*PS8)","v":1.3215376167089474},null,null,{"$f":"(PW9-$M$34*PV9+((PW9-$M$34*PV9)^2+4*$M$34*PV8^2)^0.5)/(2*PV8)","v":1.0868284873889302},null,null,{"$f":"(PZ9-$M$34*PY9+((PZ9-$M$34*PY9)^2+4*$M$34*PY8^2)^0.5)/(2*PY8)","v":1.152985862082613},null,null,{"$f":"(QC9-$M$34*QB9+((QC9-$M$34*QB9)^2+4*$M$34*QB8^2)^0.5)/(2*QB8)","v":1.1125486817701311},null,null,{"$f":"(QF9-$M$34*QE9+((QF9-$M$34*QE9)^2+4*$M$34*QE8^2)^0.5)/(2*QE8)","v":1.2418255214717691},null,null,{"$f":"(QI9-$M$34*QH9+((QI9-$M$34*QH9)^2+4*$M$34*QH8^2)^0.5)/(2*QH8)","v":1.0983792336714795},null,null,{"$f":"(QL9-$M$34*QK9+((QL9-$M$34*QK9)^2+4*$M$34*QK8^2)^0.5)/(2*QK8)","v":1.2882651838945283},null,null,{"$f":"(QO9-$M$34*QN9+((QO9-$M$34*QN9)^2+4*$M$34*QN8^2)^0.5)/(2*QN8)","v":1.2020459118967626},null,null,{"$f":"(QR9-$M$34*QQ9+((QR9-$M$34*QQ9)^2+4*$M$34*QQ8^2)^0.5)/(2*QQ8)","v":0.98189932169903049},null,null,{"$f":"(QU9-$M$34*QT9+((QU9-$M$34*QT9)^2+4*$M$34*QT8^2)^0.5)/(2*QT8)","v":1.1150328807378769},null,null,{"$f":"(QX9-$M$34*QW9+((QX9-$M$34*QW9)^2+4*$M$34*QW8^2)^0.5)/(2*QW8)","v":0.92628366967055087},null,null,{"$f":"(RA9-$M$34*QZ9+((RA9-$M$34*QZ9)^2+4*$M$34*QZ8^2)^0.5)/(2*QZ8)","v":1.1431376099947705},null,null,{"$f":"(RD9-$M$34*RC9+((RD9-$M$34*RC9)^2+4*$M$34*RC8^2)^0.5)/(2*RC8)","v":1.1242609735808651},null,null,{"$f":"(RG9-$M$34*RF9+((RG9-$M$34*RF9)^2+4*$M$34*RF8^2)^0.5)/(2*RF8)","v":1.0405436505237162},null,null,{"$f":"(RJ9-$M$34*RI9+((RJ9-$M$34*RI9)^2+4*$M$34*RI8^2)^0.5)/(2*RI8)","v":1.2915089512065112},null,null,{"$f":"(RM9-$M$34*RL9+((RM9-$M$34*RL9)^2+4*$M$34*RL8^2)^0.5)/(2*RL8)","v":1.1947662739978302},null,null,{"$f":"(RP9-$M$34*RO9+((RP9-$M$34*RO9)^2+4*$M$34*RO8^2)^0.5)/(2*RO8)","v":1.2871830003055849},null,null,{"$f":"(RS9-$M$34*RR9+((RS9-$M$34*RR9)^2+4*$M$34*RR8^2)^0.5)/(2*RR8)","v":0.91584929821834071},null,null,{"$f":"(RV9-$M$34*RU9+((RV9-$M$34*RU9)^2+4*$M$34*RU8^2)^0.5)/(2*RU8)","v":0.94426060668115019},null,null,{"$f":"(RY9-$M$34*RX9+((RY9-$M$34*RX9)^2+4*$M$34*RX8^2)^0.5)/(2*RX8)","v":1.1938732102910297},null,null,{"$f":"(SB9-$M$34*SA9+((SB9-$M$34*SA9)^2+4*$M$34*SA8^2)^0.5)/(2*SA8)","v":1.211724012681509},null,null,{"$f":"(SE9-$M$34*SD9+((SE9-$M$34*SD9)^2+4*$M$34*SD8^2)^0.5)/(2*SD8)","v":1.2194369619954981},null,null,{"$f":"(SH9-$M$34*SG9+((SH9-$M$34*SG9)^2+4*$M$34*SG8^2)^0.5)/(2*SG8)","v":0.93073590815969931},null,null,{"$f":"(SK9-$M$34*SJ9+((SK9-$M$34*SJ9)^2+4*$M$34*SJ8^2)^0.5)/(2*SJ8)","v":1.4001006290202793},null,null,{"$f":"(SN9-$M$34*SM9+((SN9-$M$34*SM9)^2+4*$M$34*SM8^2)^0.5)/(2*SM8)","v":0.96525370901048213},null,null,{"$f":"(SQ9-$M$34*SP9+((SQ9-$M$34*SP9)^2+4*$M$34*SP8^2)^0.5)/(2*SP8)","v":1.1155464338811718},null,null,{"$f":"(ST9-$M$34*SS9+((ST9-$M$34*SS9)^2+4*$M$34*SS8^2)^0.5)/(2*SS8)","v":0.96621492003204368},null,null,{"$f":"(SW9-$M$34*SV9+((SW9-$M$34*SV9)^2+4*$M$34*SV8^2)^0.5)/(2*SV8)","v":1.1265441817386932},null,null,{"$f":"(SZ9-$M$34*SY9+((SZ9-$M$34*SY9)^2+4*$M$34*SY8^2)^0.5)/(2*SY8)","v":1.1858221879628421},null,null,{"$f":"(TC9-$M$34*TB9+((TC9-$M$34*TB9)^2+4*$M$34*TB8^2)^0.5)/(2*TB8)","v":1.1215809770558278},null,null,{"$f":"(TF9-$M$34*TE9+((TF9-$M$34*TE9)^2+4*$M$34*TE8^2)^0.5)/(2*TE8)","v":1.1397090272691377},null,null,{"$f":"(TI9-$M$34*TH9+((TI9-$M$34*TH9)^2+4*$M$34*TH8^2)^0.5)/(2*TH8)","v":1.0692004455050588},null,null,{"$f":"(TL9-$M$34*TK9+((TL9-$M$34*TK9)^2+4*$M$34*TK8^2)^0.5)/(2*TK8)","v":1.106129559545594},null,null,{"$f":"(TO9-$M$34*TN9+((TO9-$M$34*TN9)^2+4*$M$34*TN8^2)^0.5)/(2*TN8)","v":0.98786488008548023},null,null,{"$f":"(TR9-$M$34*TQ9+((TR9-$M$34*TQ9)^2+4*$M$34*TQ8^2)^0.5)/(2*TQ8)","v":1.1428891055735968},null,null,{"$f":"(TU9-$M$34*TT9+((TU9-$M$34*TT9)^2+4*$M$34*TT8^2)^0.5)/(2*TT8)","v":0.9164017048570362},null,null,{"$f":"(TX9-$M$34*TW9+((TX9-$M$34*TW9)^2+4*$M$34*TW8^2)^0.5)/(2*TW8)","v":1.1782621660813908},null,null,{"$f":"(UA9-$M$34*TZ9+((UA9-$M$34*TZ9)^2+4*$M$34*TZ8^2)^0.5)/(2*TZ8)","v":1.0279744601324987},null,null,{"$f":"(UD9-$M$34*UC9+((UD9-$M$34*UC9)^2+4*$M$34*UC8^2)^0.5)/(2*UC8)","v":0.98693494390255465},null,null,{"$f":"(UG9-$M$34*UF9+((UG9-$M$34*UF9)^2+4*$M$34*UF8^2)^0.5)/(2*UF8)","v":1.3320467378788126},null,null,{"$f":"(UJ9-$M$34*UI9+((UJ9-$M$34*UI9)^2+4*$M$34*UI8^2)^0.5)/(2*UI8)","v":1.0872887802917248},null,null,{"$f":"(UM9-$M$34*UL9+((UM9-$M$34*UL9)^2+4*$M$34*UL8^2)^0.5)/(2*UL8)","v":1.1598102124016167},null,null,{"$f":"(UP9-$M$34*UO9+((UP9-$M$34*UO9)^2+4*$M$34*UO8^2)^0.5)/(2*UO8)","v":1.1844930943848022},null,null,{"$f":"(US9-$M$34*UR9+((US9-$M$34*UR9)^2+4*$M$34*UR8^2)^0.5)/(2*UR8)","v":1.1847576855539133},null,null,{"$f":"(UV9-$M$34*UU9+((UV9-$M$34*UU9)^2+4*$M$34*UU8^2)^0.5)/(2*UU8)","v":1.1053910837676666},null,null,{"$f":"(UY9-$M$34*UX9+((UY9-$M$34*UX9)^2+4*$M$34*UX8^2)^0.5)/(2*UX8)","v":1.1438794067263138},null,null,{"$f":"(VB9-$M$34*VA9+((VB9-$M$34*VA9)^2+4*$M$34*VA8^2)^0.5)/(2*VA8)","v":1.0407889686864702},null,null,{"$f":"(VE9-$M$34*VD9+((VE9-$M$34*VD9)^2+4*$M$34*VD8^2)^0.5)/(2*VD8)","v":1.1224080537690986},null,null,{"$f":"(VH9-$M$34*VG9+((VH9-$M$34*VG9)^2+4*$M$34*VG8^2)^0.5)/(2*VG8)","v":1.2078944220773935},null,null,{"$f":"(VK9-$M$34*VJ9+((VK9-$M$34*VJ9)^2+4*$M$34*VJ8^2)^0.5)/(2*VJ8)","v":1.0680887036252098},null,null,{"$f":"(VN9-$M$34*VM9+((VN9-$M$34*VM9)^2+4*$M$34*VM8^2)^0.5)/(2*VM8)","v":1.0895527341145779},null,null,{"$f":"(VQ9-$M$34*VP9+((VQ9-$M$34*VP9)^2+4*$M$34*VP8^2)^0.5)/(2*VP8)","v":1.2208142977026384},null,null,{"$f":"(VT9-$M$34*VS9+((VT9-$M$34*VS9)^2+4*$M$34*VS8^2)^0.5)/(2*VS8)","v":1.171802785487156},null,null,{"$f":"(VW9-$M$34*VV9+((VW9-$M$34*VV9)^2+4*$M$34*VV8^2)^0.5)/(2*VV8)","v":1.2736896694548134},null,null,{"$f":"(VZ9-$M$34*VY9+((VZ9-$M$34*VY9)^2+4*$M$34*VY8^2)^0.5)/(2*VY8)","v":1.3279075411997254},null,null,{"$f":"(WC9-$M$34*WB9+((WC9-$M$34*WB9)^2+4*$M$34*WB8^2)^0.5)/(2*WB8)","v":1.1213951368222326},null,null,{"$f":"(WF9-$M$34*WE9+((WF9-$M$34*WE9)^2+4*$M$34*WE8^2)^0.5)/(2*WE8)","v":1.193379220097426},null,null,{"$f":"(WI9-$M$34*WH9+((WI9-$M$34*WH9)^2+4*$M$34*WH8^2)^0.5)/(2*WH8)","v":1.3892833135807854},null,null,{"$f":"(WL9-$M$34*WK9+((WL9-$M$34*WK9)^2+4*$M$34*WK8^2)^0.5)/(2*WK8)","v":1.1225065555491265},null,null,{"$f":"(WO9-$M$34*WN9+((WO9-$M$34*WN9)^2+4*$M$34*WN8^2)^0.5)/(2*WN8)","v":1.2671263258097021},null,null,{"$f":"(WR9-$M$34*WQ9+((WR9-$M$34*WQ9)^2+4*$M$34*WQ8^2)^0.5)/(2*WQ8)","v":1.1918391998091191},null,null,{"$f":"(WU9-$M$34*WT9+((WU9-$M$34*WT9)^2+4*$M$34*WT8^2)^0.5)/(2*WT8)","v":1.167770696378059},null,null,{"$f":"(WX9-$M$34*WW9+((WX9-$M$34*WW9)^2+4*$M$34*WW8^2)^0.5)/(2*WW8)","v":1.2214603955121599},null,null,{"$f":"(XA9-$M$34*WZ9+((XA9-$M$34*WZ9)^2+4*$M$34*WZ8^2)^0.5)/(2*WZ8)","v":0.98616283941350025},null,null,{"$f":"(XD9-$M$34*XC9+((XD9-$M$34*XC9)^2+4*$M$34*XC8^2)^0.5)/(2*XC8)","v":1.0654989396884678},null,null,{"$f":"(XG9-$M$34*XF9+((XG9-$M$34*XF9)^2+4*$M$34*XF8^2)^0.5)/(2*XF8)","v":1.2202583841547698},null,null,{"$f":"(XJ9-$M$34*XI9+((XJ9-$M$34*XI9)^2+4*$M$34*XI8^2)^0.5)/(2*XI8)","v":1.1304475909086344},null,null,{"$f":"(XM9-$M$34*XL9+((XM9-$M$34*XL9)^2+4*$M$34*XL8^2)^0.5)/(2*XL8)","v":1.2088120543853191},null,null,{"$f":"(XP9-$M$34*XO9+((XP9-$M$34*XO9)^2+4*$M$34*XO8^2)^0.5)/(2*XO8)","v":1.2202289250514982},null,null,{"$f":"(XS9-$M$34*XR9+((XS9-$M$34*XR9)^2+4*$M$34*XR8^2)^0.5)/(2*XR8)","v":1.0730143491975639},null,null,{"$f":"(XV9-$M$34*XU9+((XV9-$M$34*XU9)^2+4*$M$34*XU8^2)^0.5)/(2*XU8)","v":1.2300006327791979},null,null,{"$f":"(XY9-$M$34*XX9+((XY9-$M$34*XX9)^2+4*$M$34*XX8^2)^0.5)/(2*XX8)","v":0.98869856730147487},null,null,{"$f":"(YB9-$M$34*YA9+((YB9-$M$34*YA9)^2+4*$M$34*YA8^2)^0.5)/(2*YA8)","v":1.2468586256792848},null,null,{"$f":"(YE9-$M$34*YD9+((YE9-$M$34*YD9)^2+4*$M$34*YD8^2)^0.5)/(2*YD8)","v":1.1552706698133577},null,null,{"$f":"(YH9-$M$34*YG9+((YH9-$M$34*YG9)^2+4*$M$34*YG8^2)^0.5)/(2*YG8)","v":1.0627037530750896},null,null,{"$f":"(YK9-$M$34*YJ9+((YK9-$M$34*YJ9)^2+4*$M$34*YJ8^2)^0.5)/(2*YJ8)","v":1.2479631151254751},null,null,{"$f":"(YN9-$M$34*YM9+((YN9-$M$34*YM9)^2+4*$M$34*YM8^2)^0.5)/(2*YM8)","v":1.2181872615585811},null,null,{"$f":"(YQ9-$M$34*YP9+((YQ9-$M$34*YP9)^2+4*$M$34*YP8^2)^0.5)/(2*YP8)","v":1.2127856168856204},null,null,{"$f":"(YT9-$M$34*YS9+((YT9-$M$34*YS9)^2+4*$M$34*YS8^2)^0.5)/(2*YS8)","v":1.0140732857360997},null,null,{"$f":"(YW9-$M$34*YV9+((YW9-$M$34*YV9)^2+4*$M$34*YV8^2)^0.5)/(2*YV8)","v":1.1606154478412041},null,null,{"$f":"(YZ9-$M$34*YY9+((YZ9-$M$34*YY9)^2+4*$M$34*YY8^2)^0.5)/(2*YY8)","v":1.0699105233023343},null,null,{"$f":"(ZC9-$M$34*ZB9+((ZC9-$M$34*ZB9)^2+4*$M$34*ZB8^2)^0.5)/(2*ZB8)","v":1.0158203878364518},null,null,{"$f":"(ZF9-$M$34*ZE9+((ZF9-$M$34*ZE9)^2+4*$M$34*ZE8^2)^0.5)/(2*ZE8)","v":1.0540471506929072},null,null,{"$f":"(ZI9-$M$34*ZH9+((ZI9-$M$34*ZH9)^2+4*$M$34*ZH8^2)^0.5)/(2*ZH8)","v":0.99799361813663545},null,null,{"$f":"(ZL9-$M$34*ZK9+((ZL9-$M$34*ZK9)^2+4*$M$34*ZK8^2)^0.5)/(2*ZK8)","v":1.0150739529901927},null,null,{"$f":"(ZO9-$M$34*ZN9+((ZO9-$M$34*ZN9)^2+4*$M$34*ZN8^2)^0.5)/(2*ZN8)","v":1.0906317343919745},null,null,{"$f":"(ZR9-$M$34*ZQ9+((ZR9-$M$34*ZQ9)^2+4*$M$34*ZQ8^2)^0.5)/(2*ZQ8)","v":1.2990013538533043},null,null,{"$f":"(ZU9-$M$34*ZT9+((ZU9-$M$34*ZT9)^2+4*$M$34*ZT8^2)^0.5)/(2*ZT8)","v":0.97568290393633006},null,null,{"$f":"(ZX9-$M$34*ZW9+((ZX9-$M$34*ZW9)^2+4*$M$34*ZW8^2)^0.5)/(2*ZW8)","v":1.0343694197862003},null,null,{"$f":"(AAA9-$M$34*ZZ9+((AAA9-$M$34*ZZ9)^2+4*$M$34*ZZ8^2)^0.5)/(2*ZZ8)","v":1.0750839132323033},null,null,{"$f":"(AAD9-$M$34*AAC9+((AAD9-$M$34*AAC9)^2+4*$M$34*AAC8^2)^0.5)/(2*AAC8)","v":1.0676652893537677},null,null,{"$f":"(AAG9-$M$34*AAF9+((AAG9-$M$34*AAF9)^2+4*$M$34*AAF8^2)^0.5)/(2*AAF8)","v":1.2102357960796508},null,null,{"$f":"(AAJ9-$M$34*AAI9+((AAJ9-$M$34*AAI9)^2+4*$M$34*AAI8^2)^0.5)/(2*AAI8)","v":1.1835184743252349},null,null,{"$f":"(AAM9-$M$34*AAL9+((AAM9-$M$34*AAL9)^2+4*$M$34*AAL8^2)^0.5)/(2*AAL8)","v":1.1100707803967229},null,null,{"$f":"(AAP9-$M$34*AAO9+((AAP9-$M$34*AAO9)^2+4*$M$34*AAO8^2)^0.5)/(2*AAO8)","v":1.2151966115573982},null,null,{"$f":"(AAS9-$M$34*AAR9+((AAS9-$M$34*AAR9)^2+4*$M$34*AAR8^2)^0.5)/(2*AAR8)","v":1.1475308951336085},null,null,{"$f":"(AAV9-$M$34*AAU9+((AAV9-$M$34*AAU9)^2+4*$M$34*AAU8^2)^0.5)/(2*AAU8)","v":1.1679521808078015},null,null,{"$f":"(AAY9-$M$34*AAX9+((AAY9-$M$34*AAX9)^2+4*$M$34*AAX8^2)^0.5)/(2*AAX8)","v":1.1100143934613813},null,null,{"$f":"(ABB9-$M$34*ABA9+((ABB9-$M$34*ABA9)^2+4*$M$34*ABA8^2)^0.5)/(2*ABA8)","v":1.1099111703093802},null,null,{"$f":"(ABE9-$M$34*ABD9+((ABE9-$M$34*ABD9)^2+4*$M$34*ABD8^2)^0.5)/(2*ABD8)","v":1.1175977452345862},null,null,{"$f":"(ABH9-$M$34*ABG9+((ABH9-$M$34*ABG9)^2+4*$M$34*ABG8^2)^0.5)/(2*ABG8)","v":1.0482386680617137},null,null,{"$f":"(ABK9-$M$34*ABJ9+((ABK9-$M$34*ABJ9)^2+4*$M$34*ABJ8^2)^0.5)/(2*ABJ8)","v":1.108146680980288},null,null,{"$f":"(ABN9-$M$34*ABM9+((ABN9-$M$34*ABM9)^2+4*$M$34*ABM8^2)^0.5)/(2*ABM8)","v":1.1108128944057913},null,null,{"$f":"(ABQ9-$M$34*ABP9+((ABQ9-$M$34*ABP9)^2+4*$M$34*ABP8^2)^0.5)/(2*ABP8)","v":1.0932129965215245},null,null,{"$f":"(ABT9-$M$34*ABS9+((ABT9-$M$34*ABS9)^2+4*$M$34*ABS8^2)^0.5)/(2*ABS8)","v":0.87533038530861162},null,null,{"$f":"(ABW9-$M$34*ABV9+((ABW9-$M$34*ABV9)^2+4*$M$34*ABV8^2)^0.5)/(2*ABV8)","v":1.0701914238747032},null,null,{"$f":"(ABZ9-$M$34*ABY9+((ABZ9-$M$34*ABY9)^2+4*$M$34*ABY8^2)^0.5)/(2*ABY8)","v":1.3001109370197304},null,null,{"$f":"(ACC9-$M$34*ACB9+((ACC9-$M$34*ACB9)^2+4*$M$34*ACB8^2)^0.5)/(2*ACB8)","v":1.2125780022199517},null,null,{"$f":"(ACF9-$M$34*ACE9+((ACF9-$M$34*ACE9)^2+4*$M$34*ACE8^2)^0.5)/(2*ACE8)","v":1.2096977027461586},null,null,{"$f":"(ACI9-$M$34*ACH9+((ACI9-$M$34*ACH9)^2+4*$M$34*ACH8^2)^0.5)/(2*ACH8)","v":1.1501790249042707},null,null,{"$f":"(ACL9-$M$34*ACK9+((ACL9-$M$34*ACK9)^2+4*$M$34*ACK8^2)^0.5)/(2*ACK8)","v":1.1962012244379683},null,null,{"$f":"(ACO9-$M$34*ACN9+((ACO9-$M$34*ACN9)^2+4*$M$34*ACN8^2)^0.5)/(2*ACN8)","v":1.1814520342432322},null,null,{"$f":"(ACR9-$M$34*ACQ9+((ACR9-$M$34*ACQ9)^2+4*$M$34*ACQ8^2)^0.5)/(2*ACQ8)","v":1.0502087832409928},null,null,{"$f":"(ACU9-$M$34*ACT9+((ACU9-$M$34*ACT9)^2+4*$M$34*ACT8^2)^0.5)/(2*ACT8)","v":1.2704027122217574},null,null,{"$f":"(ACX9-$M$34*ACW9+((ACX9-$M$34*ACW9)^2+4*$M$34*ACW8^2)^0.5)/(2*ACW8)","v":1.0780600298108154},null,null,{"$f":"(ADA9-$M$34*ACZ9+((ADA9-$M$34*ACZ9)^2+4*$M$34*ACZ8^2)^0.5)/(2*ACZ8)","v":1.0083060017438796},null,null,{"$f":"(ADD9-$M$34*ADC9+((ADD9-$M$34*ADC9)^2+4*$M$34*ADC8^2)^0.5)/(2*ADC8)","v":1.1752833813325503},null,null,{"$f":"(ADG9-$M$34*ADF9+((ADG9-$M$34*ADF9)^2+4*$M$34*ADF8^2)^0.5)/(2*ADF8)","v":1.0046209538279782},null,null,{"$f":"(ADJ9-$M$34*ADI9+((ADJ9-$M$34*ADI9)^2+4*$M$34*ADI8^2)^0.5)/(2*ADI8)","v":1.1242870279457147},null,null,{"$f":"(ADM9-$M$34*ADL9+((ADM9-$M$34*ADL9)^2+4*$M$34*ADL8^2)^0.5)/(2*ADL8)","v":1.4210058709334743},null,null,{"$f":"(ADP9-$M$34*ADO9+((ADP9-$M$34*ADO9)^2+4*$M$34*ADO8^2)^0.5)/(2*ADO8)","v":1.1063367214395263},null,null,{"$f":"(ADS9-$M$34*ADR9+((ADS9-$M$34*ADR9)^2+4*$M$34*ADR8^2)^0.5)/(2*ADR8)","v":1.1028038025364504},null,null,{"$f":"(ADV9-$M$34*ADU9+((ADV9-$M$34*ADU9)^2+4*$M$34*ADU8^2)^0.5)/(2*ADU8)","v":1.0356664536291418},null,null,{"$f":"(ADY9-$M$34*ADX9+((ADY9-$M$34*ADX9)^2+4*$M$34*ADX8^2)^0.5)/(2*ADX8)","v":1.1179860909974382},null,null,{"$f":"(AEB9-$M$34*AEA9+((AEB9-$M$34*AEA9)^2+4*$M$34*AEA8^2)^0.5)/(2*AEA8)","v":1.3391621420391593},null,null,{"$f":"(AEE9-$M$34*AED9+((AEE9-$M$34*AED9)^2+4*$M$34*AED8^2)^0.5)/(2*AED8)","v":1.1244225973543314},null,null,{"$f":"(AEH9-$M$34*AEG9+((AEH9-$M$34*AEG9)^2+4*$M$34*AEG8^2)^0.5)/(2*AEG8)","v":0.97685232899697538},null,null,{"$f":"(AEK9-$M$34*AEJ9+((AEK9-$M$34*AEJ9)^2+4*$M$34*AEJ8^2)^0.5)/(2*AEJ8)","v":1.0829749636379913},null,null,{"$f":"(AEN9-$M$34*AEM9+((AEN9-$M$34*AEM9)^2+4*$M$34*AEM8^2)^0.5)/(2*AEM8)","v":1.3113855687493978},null,null,{"$f":"(AEQ9-$M$34*AEP9+((AEQ9-$M$34*AEP9)^2+4*$M$34*AEP8^2)^0.5)/(2*AEP8)","v":1.1659775378464292},null,null,{"$f":"(AET9-$M$34*AES9+((AET9-$M$34*AES9)^2+4*$M$34*AES8^2)^0.5)/(2*AES8)","v":1.1488700479945333},null,null,{"$f":"(AEW9-$M$34*AEV9+((AEW9-$M$34*AEV9)^2+4*$M$34*AEV8^2)^0.5)/(2*AEV8)","v":1.0755675251025467},null,null,{"$f":"(AEZ9-$M$34*AEY9+((AEZ9-$M$34*AEY9)^2+4*$M$34*AEY8^2)^0.5)/(2*AEY8)","v":1.3474683434864936},null,null,{"$f":"(AFC9-$M$34*AFB9+((AFC9-$M$34*AFB9)^2+4*$M$34*AFB8^2)^0.5)/(2*AFB8)","v":1.1636584934150231},null,null,{"$f":"(AFF9-$M$34*AFE9+((AFF9-$M$34*AFE9)^2+4*$M$34*AFE8^2)^0.5)/(2*AFE8)","v":1.2279848653698913},null,null,{"$f":"(AFI9-$M$34*AFH9+((AFI9-$M$34*AFH9)^2+4*$M$34*AFH8^2)^0.5)/(2*AFH8)","v":1.1064012266977465},null,null,{"$f":"(AFL9-$M$34*AFK9+((AFL9-$M$34*AFK9)^2+4*$M$34*AFK8^2)^0.5)/(2*AFK8)","v":1.0185537704047574},null,null,{"$f":"(AFO9-$M$34*AFN9+((AFO9-$M$34*AFN9)^2+4*$M$34*AFN8^2)^0.5)/(2*AFN8)","v":0.97968721739128506},null,null,{"$f":"(AFR9-$M$34*AFQ9+((AFR9-$M$34*AFQ9)^2+4*$M$34*AFQ8^2)^0.5)/(2*AFQ8)","v":1.4110390151837979},null,null,{"$f":"(AFU9-$M$34*AFT9+((AFU9-$M$34*AFT9)^2+4*$M$34*AFT8^2)^0.5)/(2*AFT8)","v":1.0140364226580283},null,null,{"$f":"(AFX9-$M$34*AFW9+((AFX9-$M$34*AFW9)^2+4*$M$34*AFW8^2)^0.5)/(2*AFW8)","v":1.0646065333920807},null,null,{"$f":"(AGA9-$M$34*AFZ9+((AGA9-$M$34*AFZ9)^2+4*$M$34*AFZ8^2)^0.5)/(2*AFZ8)","v":1.1811609364547242},null,null,{"$f":"(AGD9-$M$34*AGC9+((AGD9-$M$34*AGC9)^2+4*$M$34*AGC8^2)^0.5)/(2*AGC8)","v":1.0418919127478372},null,null,{"$f":"(AGG9-$M$34*AGF9+((AGG9-$M$34*AGF9)^2+4*$M$34*AGF8^2)^0.5)/(2*AGF8)","v":0.99025813817721453},null,null,{"$f":"(AGJ9-$M$34*AGI9+((AGJ9-$M$34*AGI9)^2+4*$M$34*AGI8^2)^0.5)/(2*AGI8)","v":1.242512473359926},null,null,{"$f":"(AGM9-$M$34*AGL9+((AGM9-$M$34*AGL9)^2+4*$M$34*AGL8^2)^0.5)/(2*AGL8)","v":0.91816127348974053},null,null,{"$f":"(AGP9-$M$34*AGO9+((AGP9-$M$34*AGO9)^2+4*$M$34*AGO8^2)^0.5)/(2*AGO8)","v":1.2499231160278337},null,null,{"$f":"(AGS9-$M$34*AGR9+((AGS9-$M$34*AGR9)^2+4*$M$34*AGR8^2)^0.5)/(2*AGR8)","v":0.9764036769518083},null,null,{"$f":"(AGV9-$M$34*AGU9+((AGV9-$M$34*AGU9)^2+4*$M$34*AGU8^2)^0.5)/(2*AGU8)","v":0.98273010992564047},null,null,{"$f":"(AGY9-$M$34*AGX9+((AGY9-$M$34*AGX9)^2+4*$M$34*AGX8^2)^0.5)/(2*AGX8)","v":1.0413039306709988},null,null,{"$f":"(AHB9-$M$34*AHA9+((AHB9-$M$34*AHA9)^2+4*$M$34*AHA8^2)^0.5)/(2*AHA8)","v":1.3795575860335376},null,null,{"$f":"(AHE9-$M$34*AHD9+((AHE9-$M$34*AHD9)^2+4*$M$34*AHD8^2)^0.5)/(2*AHD8)","v":1.1272264092153716},null,null,{"$f":"(AHH9-$M$34*AHG9+((AHH9-$M$34*AHG9)^2+4*$M$34*AHG8^2)^0.5)/(2*AHG8)","v":1.0366758967782779},null,null,{"$f":"(AHK9-$M$34*AHJ9+((AHK9-$M$34*AHJ9)^2+4*$M$34*AHJ8^2)^0.5)/(2*AHJ8)","v":1.0491203293549467},null,null,{"$f":"(AHN9-$M$34*AHM9+((AHN9-$M$34*AHM9)^2+4*$M$34*AHM8^2)^0.5)/(2*AHM8)","v":1.1354632014880448},null,null,{"$f":"(AHQ9-$M$34*AHP9+((AHQ9-$M$34*AHP9)^2+4*$M$34*AHP8^2)^0.5)/(2*AHP8)","v":1.0877993970044075},null,null,{"$f":"(AHT9-$M$34*AHS9+((AHT9-$M$34*AHS9)^2+4*$M$34*AHS8^2)^0.5)/(2*AHS8)","v":1.2357368352960205},null,null,{"$f":"(AHW9-$M$34*AHV9+((AHW9-$M$34*AHV9)^2+4*$M$34*AHV8^2)^0.5)/(2*AHV8)","v":1.0333526024120685},null,null,{"$f":"(AHZ9-$M$34*AHY9+((AHZ9-$M$34*AHY9)^2+4*$M$34*AHY8^2)^0.5)/(2*AHY8)","v":1.0628654158698183},null,null,{"$f":"(AIC9-$M$34*AIB9+((AIC9-$M$34*AIB9)^2+4*$M$34*AIB8^2)^0.5)/(2*AIB8)","v":1.4231221890238428},null,null,{"$f":"(AIF9-$M$34*AIE9+((AIF9-$M$34*AIE9)^2+4*$M$34*AIE8^2)^0.5)/(2*AIE8)","v":1.3011040721136333},null,null,{"$f":"(AII9-$M$34*AIH9+((AII9-$M$34*AIH9)^2+4*$M$34*AIH8^2)^0.5)/(2*AIH8)","v":1.0418928988166425},null,null,{"$f":"(AIL9-$M$34*AIK9+((AIL9-$M$34*AIK9)^2+4*$M$34*AIK8^2)^0.5)/(2*AIK8)","v":0.99969057289157692},null,null,{"$f":"(AIO9-$M$34*AIN9+((AIO9-$M$34*AIN9)^2+4*$M$34*AIN8^2)^0.5)/(2*AIN8)","v":1.2298779654735783},null,null,{"$f":"(AIR9-$M$34*AIQ9+((AIR9-$M$34*AIQ9)^2+4*$M$34*AIQ8^2)^0.5)/(2*AIQ8)","v":1.1791313598460202},null,null,{"$f":"(AIU9-$M$34*AIT9+((AIU9-$M$34*AIT9)^2+4*$M$34*AIT8^2)^0.5)/(2*AIT8)","v":1.014427745015485},null,null,{"$f":"(AIX9-$M$34*AIW9+((AIX9-$M$34*AIW9)^2+4*$M$34*AIW8^2)^0.5)/(2*AIW8)","v":1.0034956143821379},null,null,{"$f":"(AJA9-$M$34*AIZ9+((AJA9-$M$34*AIZ9)^2+4*$M$34*AIZ8^2)^0.5)/(2*AIZ8)","v":1.0755980058243848},null,null,{"$f":"(AJD9-$M$34*AJC9+((AJD9-$M$34*AJC9)^2+4*$M$34*AJC8^2)^0.5)/(2*AJC8)","v":1.0841168904895431},null,null,{"$f":"(AJG9-$M$34*AJF9+((AJG9-$M$34*AJF9)^2+4*$M$34*AJF8^2)^0.5)/(2*AJF8)","v":1.2706584349951751},null,null,{"$f":"(AJJ9-$M$34*AJI9+((AJJ9-$M$34*AJI9)^2+4*$M$34*AJI8^2)^0.5)/(2*AJI8)","v":1.015471791159599},null,null,{"$f":"(AJM9-$M$34*AJL9+((AJM9-$M$34*AJL9)^2+4*$M$34*AJL8^2)^0.5)/(2*AJL8)","v":1.130270642147591},null,null,{"$f":"(AJP9-$M$34*AJO9+((AJP9-$M$34*AJO9)^2+4*$M$34*AJO8^2)^0.5)/(2*AJO8)","v":1.2058127480189536},null,null,{"$f":"(AJS9-$M$34*AJR9+((AJS9-$M$34*AJR9)^2+4*$M$34*AJR8^2)^0.5)/(2*AJR8)","v":1.0844906787787643},null,null,{"$f":"(AJV9-$M$34*AJU9+((AJV9-$M$34*AJU9)^2+4*$M$34*AJU8^2)^0.5)/(2*AJU8)","v":1.1176850802947371},null,null,{"$f":"(AJY9-$M$34*AJX9+((AJY9-$M$34*AJX9)^2+4*$M$34*AJX8^2)^0.5)/(2*AJX8)","v":1.1145536542478642},null,null,{"$f":"(AKB9-$M$34*AKA9+((AKB9-$M$34*AKA9)^2+4*$M$34*AKA8^2)^0.5)/(2*AKA8)","v":1.1269656803463264},null,null,{"$f":"(AKE9-$M$34*AKD9+((AKE9-$M$34*AKD9)^2+4*$M$34*AKD8^2)^0.5)/(2*AKD8)","v":1.04812844781217},null,null,{"$f":"(AKH9-$M$34*AKG9+((AKH9-$M$34*AKG9)^2+4*$M$34*AKG8^2)^0.5)/(2*AKG8)","v":1.0987346429086946},null,null,{"$f":"(AKK9-$M$34*AKJ9+((AKK9-$M$34*AKJ9)^2+4*$M$34*AKJ8^2)^0.5)/(2*AKJ8)","v":1.0672716916366334},null,null,{"$f":"(AKN9-$M$34*AKM9+((AKN9-$M$34*AKM9)^2+4*$M$34*AKM8^2)^0.5)/(2*AKM8)","v":1.0088756417845566},null,null,{"$f":"(AKQ9-$M$34*AKP9+((AKQ9-$M$34*AKP9)^2+4*$M$34*AKP8^2)^0.5)/(2*AKP8)","v":1.268852968427852},null,null,{"$f":"(AKT9-$M$34*AKS9+((AKT9-$M$34*AKS9)^2+4*$M$34*AKS8^2)^0.5)/(2*AKS8)","v":1.2788144562233308},null,null,{"$f":"(AKW9-$M$34*AKV9+((AKW9-$M$34*AKV9)^2+4*$M$34*AKV8^2)^0.5)/(2*AKV8)","v":1.13580399729308},null,null,{"$f":"(AKZ9-$M$34*AKY9+((AKZ9-$M$34*AKY9)^2+4*$M$34*AKY8^2)^0.5)/(2*AKY8)","v":1.1091379531755978},null,null,{"$f":"(ALC9-$M$34*ALB9+((ALC9-$M$34*ALB9)^2+4*$M$34*ALB8^2)^0.5)/(2*ALB8)","v":1.0804287139263955},null,null,{"$f":"(ALF9-$M$34*ALE9+((ALF9-$M$34*ALE9)^2+4*$M$34*ALE8^2)^0.5)/(2*ALE8)","v":0.93891732394661043},null,null,{"$f":"(ALI9-$M$34*ALH9+((ALI9-$M$34*ALH9)^2+4*$M$34*ALH8^2)^0.5)/(2*ALH8)","v":1.4531244575601012},null,null,{"$f":"(ALL9-$M$34*ALK9+((ALL9-$M$34*ALK9)^2+4*$M$34*ALK8^2)^0.5)/(2*ALK8)","v":1.1023004513885444},null,null,{"$f":"(ALO9-$M$34*ALN9+((ALO9-$M$34*ALN9)^2+4*$M$34*ALN8^2)^0.5)/(2*ALN8)","v":1.0236387225335966},null,null,{"$f":"(ALR9-$M$34*ALQ9+((ALR9-$M$34*ALQ9)^2+4*$M$34*ALQ8^2)^0.5)/(2*ALQ8)","v":1.1473682710079827},null,null,{"$f":"(ALU9-$M$34*ALT9+((ALU9-$M$34*ALT9)^2+4*$M$34*ALT8^2)^0.5)/(2*ALT8)","v":0.95886490570069727},null,null,{"$f":"(ALX9-$M$34*ALW9+((ALX9-$M$34*ALW9)^2+4*$M$34*ALW8^2)^0.5)/(2*ALW8)","v":1.4578922728486123},null,null,{"$f":"(AMA9-$M$34*ALZ9+((AMA9-$M$34*ALZ9)^2+4*$M$34*ALZ8^2)^0.5)/(2*ALZ8)","v":1.1286076914409151},null,null,{"$f":"(AMD9-$M$34*AMC9+((AMD9-$M$34*AMC9)^2+4*$M$34*AMC8^2)^0.5)/(2*AMC8)","v":1.2138466631159854},null,null,{"$f":"(AMG9-$M$34*AMF9+((AMG9-$M$34*AMF9)^2+4*$M$34*AMF8^2)^0.5)/(2*AMF8)","v":1.1571580999303546},null,null,{"$f":"(AMJ9-$M$34*AMI9+((AMJ9-$M$34*AMI9)^2+4*$M$34*AMI8^2)^0.5)/(2*AMI8)","v":1.2837702606158703},null,null,{"$f":"(AMM9-$M$34*AML9+((AMM9-$M$34*AML9)^2+4*$M$34*AML8^2)^0.5)/(2*AML8)","v":1.1568378008418156},null,null,{"$f":"(AMP9-$M$34*AMO9+((AMP9-$M$34*AMO9)^2+4*$M$34*AMO8^2)^0.5)/(2*AMO8)","v":1.2571571684926142},null,null,{"$f":"(AMS9-$M$34*AMR9+((AMS9-$M$34*AMR9)^2+4*$M$34*AMR8^2)^0.5)/(2*AMR8)","v":1.2403867014572565},null,null,{"$f":"(AMV9-$M$34*AMU9+((AMV9-$M$34*AMU9)^2+4*$M$34*AMU8^2)^0.5)/(2*AMU8)","v":1.0223609111440177},null,null,{"$f":"(AMY9-$M$34*AMX9+((AMY9-$M$34*AMX9)^2+4*$M$34*AMX8^2)^0.5)/(2*AMX8)","v":1.0627056093276388},null,null,{"$f":"(ANB9-$M$34*ANA9+((ANB9-$M$34*ANA9)^2+4*$M$34*ANA8^2)^0.5)/(2*ANA8)","v":1.060290215536696},null,null,{"$f":"(ANE9-$M$34*AND9+((ANE9-$M$34*AND9)^2+4*$M$34*AND8^2)^0.5)/(2*AND8)","v":1.3611696959193966},null,null,{"$f":"(ANH9-$M$34*ANG9+((ANH9-$M$34*ANG9)^2+4*$M$34*ANG8^2)^0.5)/(2*ANG8)","v":1.1557145037518757},null,null,{"$f":"(ANK9-$M$34*ANJ9+((ANK9-$M$34*ANJ9)^2+4*$M$34*ANJ8^2)^0.5)/(2*ANJ8)","v":1.1142277963749248},null,null,{"$f":"(ANN9-$M$34*ANM9+((ANN9-$M$34*ANM9)^2+4*$M$34*ANM8^2)^0.5)/(2*ANM8)","v":1.204115812559114},null,null,{"$f":"(ANQ9-$M$34*ANP9+((ANQ9-$M$34*ANP9)^2+4*$M$34*ANP8^2)^0.5)/(2*ANP8)","v":1.4630172419549752},null,null,{"$f":"(ANT9-$M$34*ANS9+((ANT9-$M$34*ANS9)^2+4*$M$34*ANS8^2)^0.5)/(2*ANS8)","v":1.0084056821345917},null,null,{"$f":"(ANW9-$M$34*ANV9+((ANW9-$M$34*ANV9)^2+4*$M$34*ANV8^2)^0.5)/(2*ANV8)","v":1.2925607818466278},null,null,{"$f":"(ANZ9-$M$34*ANY9+((ANZ9-$M$34*ANY9)^2+4*$M$34*ANY8^2)^0.5)/(2*ANY8)","v":1.2211927563875078},null,null,{"$f":"(AOC9-$M$34*AOB9+((AOC9-$M$34*AOB9)^2+4*$M$34*AOB8^2)^0.5)/(2*AOB8)","v":1.1240144794338087},null,null,{"$f":"(AOF9-$M$34*AOE9+((AOF9-$M$34*AOE9)^2+4*$M$34*AOE8^2)^0.5)/(2*AOE8)","v":0.9970718240650549},null,null,{"$f":"(AOI9-$M$34*AOH9+((AOI9-$M$34*AOH9)^2+4*$M$34*AOH8^2)^0.5)/(2*AOH8)","v":1.2754929449135461},null,null,{"$f":"(AOL9-$M$34*AOK9+((AOL9-$M$34*AOK9)^2+4*$M$34*AOK8^2)^0.5)/(2*AOK8)","v":1.0792079065114908},null,null,{"$f":"(AOO9-$M$34*AON9+((AOO9-$M$34*AON9)^2+4*$M$34*AON8^2)^0.5)/(2*AON8)","v":1.1344510943882993},null,null,{"$f":"(AOR9-$M$34*AOQ9+((AOR9-$M$34*AOQ9)^2+4*$M$34*AOQ8^2)^0.5)/(2*AOQ8)","v":1.0355569793645594},null,null,{"$f":"(AOU9-$M$34*AOT9+((AOU9-$M$34*AOT9)^2+4*$M$34*AOT8^2)^0.5)/(2*AOT8)","v":1.0904156167820789},null,null,{"$f":"(AOX9-$M$34*AOW9+((AOX9-$M$34*AOW9)^2+4*$M$34*AOW8^2)^0.5)/(2*AOW8)","v":1.0070493704295893},null,null,{"$f":"(APA9-$M$34*AOZ9+((APA9-$M$34*AOZ9)^2+4*$M$34*AOZ8^2)^0.5)/(2*AOZ8)","v":1.0320317063726916},null,null,{"$f":"(APD9-$M$34*APC9+((APD9-$M$34*APC9)^2+4*$M$34*APC8^2)^0.5)/(2*APC8)","v":1.0551385700190259},null,null,{"$f":"(APG9-$M$34*APF9+((APG9-$M$34*APF9)^2+4*$M$34*APF8^2)^0.5)/(2*APF8)","v":1.1166069022340139},null,null,{"$f":"(APJ9-$M$34*API9+((APJ9-$M$34*API9)^2+4*$M$34*API8^2)^0.5)/(2*API8)","v":1.0353248373222079},null,null,{"$f":"(APM9-$M$34*APL9+((APM9-$M$34*APL9)^2+4*$M$34*APL8^2)^0.5)/(2*APL8)","v":1.0771600824841645},null,null,{"$f":"(APP9-$M$34*APO9+((APP9-$M$34*APO9)^2+4*$M$34*APO8^2)^0.5)/(2*APO8)","v":1.118689232382047},null,null,{"$f":"(APS9-$M$34*APR9+((APS9-$M$34*APR9)^2+4*$M$34*APR8^2)^0.5)/(2*APR8)","v":1.1850688885078335},null,null,{"$f":"(APV9-$M$34*APU9+((APV9-$M$34*APU9)^2+4*$M$34*APU8^2)^0.5)/(2*APU8)","v":1.0522083788121326},null,null,{"$f":"(APY9-$M$34*APX9+((APY9-$M$34*APX9)^2+4*$M$34*APX8^2)^0.5)/(2*APX8)","v":1.2808290448546096},null,null,{"$f":"(AQB9-$M$34*AQA9+((AQB9-$M$34*AQA9)^2+4*$M$34*AQA8^2)^0.5)/(2*AQA8)","v":1.1677461831422586},null,null,{"$f":"(AQE9-$M$34*AQD9+((AQE9-$M$34*AQD9)^2+4*$M$34*AQD8^2)^0.5)/(2*AQD8)","v":1.1663723998252393},null,null,{"$f":"(AQH9-$M$34*AQG9+((AQH9-$M$34*AQG9)^2+4*$M$34*AQG8^2)^0.5)/(2*AQG8)","v":1.2980329737295651},null,null,{"$f":"(AQK9-$M$34*AQJ9+((AQK9-$M$34*AQJ9)^2+4*$M$34*AQJ8^2)^0.5)/(2*AQJ8)","v":1.3169249614484542},null,null,{"$f":"(AQN9-$M$34*AQM9+((AQN9-$M$34*AQM9)^2+4*$M$34*AQM8^2)^0.5)/(2*AQM8)","v":1.1401600747054912},null,null,{"$f":"(AQQ9-$M$34*AQP9+((AQQ9-$M$34*AQP9)^2+4*$M$34*AQP8^2)^0.5)/(2*AQP8)","v":1.0517398563784581},null,null,{"$f":"(AQT9-$M$34*AQS9+((AQT9-$M$34*AQS9)^2+4*$M$34*AQS8^2)^0.5)/(2*AQS8)","v":1.2643474041944469},null,null,{"$f":"(AQW9-$M$34*AQV9+((AQW9-$M$34*AQV9)^2+4*$M$34*AQV8^2)^0.5)/(2*AQV8)","v":1.047751180619902},null,null,{"$f":"(AQZ9-$M$34*AQY9+((AQZ9-$M$34*AQY9)^2+4*$M$34*AQY8^2)^0.5)/(2*AQY8)","v":1.2858926081084425},null,null,{"$f":"(ARC9-$M$34*ARB9+((ARC9-$M$34*ARB9)^2+4*$M$34*ARB8^2)^0.5)/(2*ARB8)","v":1.0130089768303576},null,null,{"$f":"(ARF9-$M$34*ARE9+((ARF9-$M$34*ARE9)^2+4*$M$34*ARE8^2)^0.5)/(2*ARE8)","v":1.1379956245785319},null,null,{"$f":"(ARI9-$M$34*ARH9+((ARI9-$M$34*ARH9)^2+4*$M$34*ARH8^2)^0.5)/(2*ARH8)","v":1.2350859905314309},null,null,{"$f":"(ARL9-$M$34*ARK9+((ARL9-$M$34*ARK9)^2+4*$M$34*ARK8^2)^0.5)/(2*ARK8)","v":1.2320115051837084},null,null,{"$f":"(ARO9-$M$34*ARN9+((ARO9-$M$34*ARN9)^2+4*$M$34*ARN8^2)^0.5)/(2*ARN8)","v":1.0496609326314763},null,null,{"$f":"(ARR9-$M$34*ARQ9+((ARR9-$M$34*ARQ9)^2+4*$M$34*ARQ8^2)^0.5)/(2*ARQ8)","v":0.97013896707509573},null,null,{"$f":"(ARU9-$M$34*ART9+((ARU9-$M$34*ART9)^2+4*$M$34*ART8^2)^0.5)/(2*ART8)","v":0.94330706786863605},null,null,{"$f":"(ARX9-$M$34*ARW9+((ARX9-$M$34*ARW9)^2+4*$M$34*ARW8^2)^0.5)/(2*ARW8)","v":1.0452321363899308},null,null,{"$f":"(ASA9-$M$34*ARZ9+((ASA9-$M$34*ARZ9)^2+4*$M$34*ARZ8^2)^0.5)/(2*ARZ8)","v":1.0665873810091067},null,null,{"$f":"(ASD9-$M$34*ASC9+((ASD9-$M$34*ASC9)^2+4*$M$34*ASC8^2)^0.5)/(2*ASC8)","v":1.0301101549835934},null,null,{"$f":"(ASG9-$M$34*ASF9+((ASG9-$M$34*ASF9)^2+4*$M$34*ASF8^2)^0.5)/(2*ASF8)","v":1.1819460426998887},null,null,{"$f":"(ASJ9-$M$34*ASI9+((ASJ9-$M$34*ASI9)^2+4*$M$34*ASI8^2)^0.5)/(2*ASI8)","v":1.081971551511842},null,null,{"$f":"(ASM9-$M$34*ASL9+((ASM9-$M$34*ASL9)^2+4*$M$34*ASL8^2)^0.5)/(2*ASL8)","v":1.0819359730765679},null,null,{"$f":"(ASP9-$M$34*ASO9+((ASP9-$M$34*ASO9)^2+4*$M$34*ASO8^2)^0.5)/(2*ASO8)","v":1.0532951270849056},null,null,{"$f":"(ASS9-$M$34*ASR9+((ASS9-$M$34*ASR9)^2+4*$M$34*ASR8^2)^0.5)/(2*ASR8)","v":1.1130235899238325},null,null,{"$f":"(ASV9-$M$34*ASU9+((ASV9-$M$34*ASU9)^2+4*$M$34*ASU8^2)^0.5)/(2*ASU8)","v":0.96427687397692119},null,null,{"$f":"(ASY9-$M$34*ASX9+((ASY9-$M$34*ASX9)^2+4*$M$34*ASX8^2)^0.5)/(2*ASX8)","v":1.3404829850773248},null,null,{"$f":"(ATB9-$M$34*ATA9+((ATB9-$M$34*ATA9)^2+4*$M$34*ATA8^2)^0.5)/(2*ATA8)","v":1.1501506150159944},null,null,{"$f":"(ATE9-$M$34*ATD9+((ATE9-$M$34*ATD9)^2+4*$M$34*ATD8^2)^0.5)/(2*ATD8)","v":1.3608937820559928},null,null,{"$f":"(ATH9-$M$34*ATG9+((ATH9-$M$34*ATG9)^2+4*$M$34*ATG8^2)^0.5)/(2*ATG8)","v":1.3080588592760047},null,null,{"$f":"(ATK9-$M$34*ATJ9+((ATK9-$M$34*ATJ9)^2+4*$M$34*ATJ8^2)^0.5)/(2*ATJ8)","v":1.1404521686821303},null,null,{"$f":"(ATN9-$M$34*ATM9+((ATN9-$M$34*ATM9)^2+4*$M$34*ATM8^2)^0.5)/(2*ATM8)","v":1.298022405602494},null,null,{"$f":"(ATQ9-$M$34*ATP9+((ATQ9-$M$34*ATP9)^2+4*$M$34*ATP8^2)^0.5)/(2*ATP8)","v":0.98423918156210843},null,null,{"$f":"(ATT9-$M$34*ATS9+((ATT9-$M$34*ATS9)^2+4*$M$34*ATS8^2)^0.5)/(2*ATS8)","v":1.301846328569652},null,null,{"$f":"(ATW9-$M$34*ATV9+((ATW9-$M$34*ATV9)^2+4*$M$34*ATV8^2)^0.5)/(2*ATV8)","v":0.89005173386324832},null,null,{"$f":"(ATZ9-$M$34*ATY9+((ATZ9-$M$34*ATY9)^2+4*$M$34*ATY8^2)^0.5)/(2*ATY8)","v":0.92082332075848561},null,null,{"$f":"(AUC9-$M$34*AUB9+((AUC9-$M$34*AUB9)^2+4*$M$34*AUB8^2)^0.5)/(2*AUB8)","v":1.0577422697076952},null,null,{"$f":"(AUF9-$M$34*AUE9+((AUF9-$M$34*AUE9)^2+4*$M$34*AUE8^2)^0.5)/(2*AUE8)","v":1.21055040451964},null,null,{"$f":"(AUI9-$M$34*AUH9+((AUI9-$M$34*AUH9)^2+4*$M$34*AUH8^2)^0.5)/(2*AUH8)","v":1.2500506702123702},null,null,{"$f":"(AUL9-$M$34*AUK9+((AUL9-$M$34*AUK9)^2+4*$M$34*AUK8^2)^0.5)/(2*AUK8)","v":1.0161655468623112},null,null,{"$f":"(AUO9-$M$34*AUN9+((AUO9-$M$34*AUN9)^2+4*$M$34*AUN8^2)^0.5)/(2*AUN8)","v":1.0821818517045378},null,null,{"$f":"(AUR9-$M$34*AUQ9+((AUR9-$M$34*AUQ9)^2+4*$M$34*AUQ8^2)^0.5)/(2*AUQ8)","v":1.2419528651946892},null,null,{"$f":"(AUU9-$M$34*AUT9+((AUU9-$M$34*AUT9)^2+4*$M$34*AUT8^2)^0.5)/(2*AUT8)","v":0.98591634194928945},null,null,{"$f":"(AUX9-$M$34*AUW9+((AUX9-$M$34*AUW9)^2+4*$M$34*AUW8^2)^0.5)/(2*AUW8)","v":1.1240195938071627},null,null,{"$f":"(AVA9-$M$34*AUZ9+((AVA9-$M$34*AUZ9)^2+4*$M$34*AUZ8^2)^0.5)/(2*AUZ8)","v":1.1296689159503759},null,null,{"$f":"(AVD9-$M$34*AVC9+((AVD9-$M$34*AVC9)^2+4*$M$34*AVC8^2)^0.5)/(2*AVC8)","v":1.1403628491270026},null,null,{"$f":"(AVG9-$M$34*AVF9+((AVG9-$M$34*AVF9)^2+4*$M$34*AVF8^2)^0.5)/(2*AVF8)","v":0.95420870152596227},null,null,{"$f":"(AVJ9-$M$34*AVI9+((AVJ9-$M$34*AVI9)^2+4*$M$34*AVI8^2)^0.5)/(2*AVI8)","v":1.1790658095813367},null,null,{"$f":"(AVM9-$M$34*AVL9+((AVM9-$M$34*AVL9)^2+4*$M$34*AVL8^2)^0.5)/(2*AVL8)","v":1.1218501465400104},null,null,{"$f":"(AVP9-$M$34*AVO9+((AVP9-$M$34*AVO9)^2+4*$M$34*AVO8^2)^0.5)/(2*AVO8)","v":0.9968206662647684},null,null,{"$f":"(AVS9-$M$34*AVR9+((AVS9-$M$34*AVR9)^2+4*$M$34*AVR8^2)^0.5)/(2*AVR8)","v":1.1361532078977044},null,null,{"$f":"(AVV9-$M$34*AVU9+((AVV9-$M$34*AVU9)^2+4*$M$34*AVU8^2)^0.5)/(2*AVU8)","v":1.0109362664802768},null,null,{"$f":"(AVY9-$M$34*AVX9+((AVY9-$M$34*AVX9)^2+4*$M$34*AVX8^2)^0.5)/(2*AVX8)","v":1.2696095664435143},null,null,{"$f":"(AWB9-$M$34*AWA9+((AWB9-$M$34*AWA9)^2+4*$M$34*AWA8^2)^0.5)/(2*AWA8)","v":1.0676339709873972},null,null,{"$f":"(AWE9-$M$34*AWD9+((AWE9-$M$34*AWD9)^2+4*$M$34*AWD8^2)^0.5)/(2*AWD8)","v":1.0855189860663692},null,null,{"$f":"(AWH9-$M$34*AWG9+((AWH9-$M$34*AWG9)^2+4*$M$34*AWG8^2)^0.5)/(2*AWG8)","v":1.439121784898715},null,null,{"$f":"(AWK9-$M$34*AWJ9+((AWK9-$M$34*AWJ9)^2+4*$M$34*AWJ8^2)^0.5)/(2*AWJ8)","v":1.1508929522075328},null,null,{"$f":"(AWN9-$M$34*AWM9+((AWN9-$M$34*AWM9)^2+4*$M$34*AWM8^2)^0.5)/(2*AWM8)","v":1.1950197720424949},null,null,{"$f":"(AWQ9-$M$34*AWP9+((AWQ9-$M$34*AWP9)^2+4*$M$34*AWP8^2)^0.5)/(2*AWP8)","v":1.1674785077810039},null,null,{"$f":"(AWT9-$M$34*AWS9+((AWT9-$M$34*AWS9)^2+4*$M$34*AWS8^2)^0.5)/(2*AWS8)","v":1.1209692568811824},null,null,{"$f":"(AWW9-$M$34*AWV9+((AWW9-$M$34*AWV9)^2+4*$M$34*AWV8^2)^0.5)/(2*AWV8)","v":1.2490204693280562},null,null,{"$f":"(AWZ9-$M$34*AWY9+((AWZ9-$M$34*AWY9)^2+4*$M$34*AWY8^2)^0.5)/(2*AWY8)","v":1.0358956006895295},null,null,{"$f":"(AXC9-$M$34*AXB9+((AXC9-$M$34*AXB9)^2+4*$M$34*AXB8^2)^0.5)/(2*AXB8)","v":1.1254366652228174},null,null,{"$f":"(AXF9-$M$34*AXE9+((AXF9-$M$34*AXE9)^2+4*$M$34*AXE8^2)^0.5)/(2*AXE8)","v":1.1824097251812364},null,null,{"$f":"(AXI9-$M$34*AXH9+((AXI9-$M$34*AXH9)^2+4*$M$34*AXH8^2)^0.5)/(2*AXH8)","v":1.0215018689147979},null,null,{"$f":"(AXL9-$M$34*AXK9+((AXL9-$M$34*AXK9)^2+4*$M$34*AXK8^2)^0.5)/(2*AXK8)","v":1.1820522494934604},null,null,{"$f":"(AXO9-$M$34*AXN9+((AXO9-$M$34*AXN9)^2+4*$M$34*AXN8^2)^0.5)/(2*AXN8)","v":1.1672400941429777},null,null,{"$f":"(AXR9-$M$34*AXQ9+((AXR9-$M$34*AXQ9)^2+4*$M$34*AXQ8^2)^0.5)/(2*AXQ8)","v":1.1105017202972269},null,null,{"$f":"(AXU9-$M$34*AXT9+((AXU9-$M$34*AXT9)^2+4*$M$34*AXT8^2)^0.5)/(2*AXT8)","v":1.317387709011844},null,null,{"$f":"(AXX9-$M$34*AXW9+((AXX9-$M$34*AXW9)^2+4*$M$34*AXW8^2)^0.5)/(2*AXW8)","v":1.0478456839102446},null,null,{"$f":"(AYA9-$M$34*AXZ9+((AYA9-$M$34*AXZ9)^2+4*$M$34*AXZ8^2)^0.5)/(2*AXZ8)","v":0.9590261334874044},null,null,{"$f":"(AYD9-$M$34*AYC9+((AYD9-$M$34*AYC9)^2+4*$M$34*AYC8^2)^0.5)/(2*AYC8)","v":1.2045406971452208},null,null,{"$f":"(AYG9-$M$34*AYF9+((AYG9-$M$34*AYF9)^2+4*$M$34*AYF8^2)^0.5)/(2*AYF8)","v":1.162069257105151},null,null,{"$f":"(AYJ9-$M$34*AYI9+((AYJ9-$M$34*AYI9)^2+4*$M$34*AYI8^2)^0.5)/(2*AYI8)","v":1.0523355913442642},null,null,{"$f":"(AYM9-$M$34*AYL9+((AYM9-$M$34*AYL9)^2+4*$M$34*AYL8^2)^0.5)/(2*AYL8)","v":0.92094890989719858},null,null,{"$f":"(AYP9-$M$34*AYO9+((AYP9-$M$34*AYO9)^2+4*$M$34*AYO8^2)^0.5)/(2*AYO8)","v":1.1955468819876411},null,null,{"$f":"(AYS9-$M$34*AYR9+((AYS9-$M$34*AYR9)^2+4*$M$34*AYR8^2)^0.5)/(2*AYR8)","v":1.0634278059833191},null,null,{"$f":"(AYV9-$M$34*AYU9+((AYV9-$M$34*AYU9)^2+4*$M$34*AYU8^2)^0.5)/(2*AYU8)","v":1.1206485316532537},null,null,{"$f":"(AYY9-$M$34*AYX9+((AYY9-$M$34*AYX9)^2+4*$M$34*AYX8^2)^0.5)/(2*AYX8)","v":0.97485193575038676},null,null,{"$f":"(AZB9-$M$34*AZA9+((AZB9-$M$34*AZA9)^2+4*$M$34*AZA8^2)^0.5)/(2*AZA8)","v":1.1670863187196003},null,null,{"$f":"(AZE9-$M$34*AZD9+((AZE9-$M$34*AZD9)^2+4*$M$34*AZD8^2)^0.5)/(2*AZD8)","v":1.0788535109914852},null,null,{"$f":"(AZH9-$M$34*AZG9+((AZH9-$M$34*AZG9)^2+4*$M$34*AZG8^2)^0.5)/(2*AZG8)","v":1.0698338628609207},null,null,{"$f":"(AZK9-$M$34*AZJ9+((AZK9-$M$34*AZJ9)^2+4*$M$34*AZJ8^2)^0.5)/(2*AZJ8)","v":1.321050945293412},null,null,{"$f":"(AZN9-$M$34*AZM9+((AZN9-$M$34*AZM9)^2+4*$M$34*AZM8^2)^0.5)/(2*AZM8)","v":1.0732094450386402},null,null,{"$f":"(AZQ9-$M$34*AZP9+((AZQ9-$M$34*AZP9)^2+4*$M$34*AZP8^2)^0.5)/(2*AZP8)","v":1.2399396942120442},null,null,{"$f":"(AZT9-$M$34*AZS9+((AZT9-$M$34*AZS9)^2+4*$M$34*AZS8^2)^0.5)/(2*AZS8)","v":1.0618835783857039},null,null,{"$f":"(AZW9-$M$34*AZV9+((AZW9-$M$34*AZV9)^2+4*$M$34*AZV8^2)^0.5)/(2*AZV8)","v":1.1131185726231465},null,null,{"$f":"(AZZ9-$M$34*AZY9+((AZZ9-$M$34*AZY9)^2+4*$M$34*AZY8^2)^0.5)/(2*AZY8)","v":1.1142404215767099},null,null,{"$f":"(BAC9-$M$34*BAB9+((BAC9-$M$34*BAB9)^2+4*$M$34*BAB8^2)^0.5)/(2*BAB8)","v":1.0853754456849267},null,null,{"$f":"(BAF9-$M$34*BAE9+((BAF9-$M$34*BAE9)^2+4*$M$34*BAE8^2)^0.5)/(2*BAE8)","v":1.0523830547788828},null,null,{"$f":"(BAI9-$M$34*BAH9+((BAI9-$M$34*BAH9)^2+4*$M$34*BAH8^2)^0.5)/(2*BAH8)","v":1.1416032870989501},null,null,{"$f":"(BAL9-$M$34*BAK9+((BAL9-$M$34*BAK9)^2+4*$M$34*BAK8^2)^0.5)/(2*BAK8)","v":1.2015202081957084},null,null,{"$f":"(BAO9-$M$34*BAN9+((BAO9-$M$34*BAN9)^2+4*$M$34*BAN8^2)^0.5)/(2*BAN8)","v":1.3044320045142626},null,null,{"$f":"(BAR9-$M$34*BAQ9+((BAR9-$M$34*BAQ9)^2+4*$M$34*BAQ8^2)^0.5)/(2*BAQ8)","v":1.1397859941617785},null,null,{"$f":"(BAU9-$M$34*BAT9+((BAU9-$M$34*BAT9)^2+4*$M$34*BAT8^2)^0.5)/(2*BAT8)","v":1.3105886062410752},null,null,{"$f":"(BAX9-$M$34*BAW9+((BAX9-$M$34*BAW9)^2+4*$M$34*BAW8^2)^0.5)/(2*BAW8)","v":1.1094154165901307},null,null,{"$f":"(BBA9-$M$34*BAZ9+((BBA9-$M$34*BAZ9)^2+4*$M$34*BAZ8^2)^0.5)/(2*BAZ8)","v":1.0062314953585576},null,null,{"$f":"(BBD9-$M$34*BBC9+((BBD9-$M$34*BBC9)^2+4*$M$34*BBC8^2)^0.5)/(2*BBC8)","v":1.0384485859486619},null,null,{"$f":"(BBG9-$M$34*BBF9+((BBG9-$M$34*BBF9)^2+4*$M$34*BBF8^2)^0.5)/(2*BBF8)","v":1.0493834106640889},null,null,{"$f":"(BBJ9-$M$34*BBI9+((BBJ9-$M$34*BBI9)^2+4*$M$34*BBI8^2)^0.5)/(2*BBI8)","v":1.2201396674922074},null,null,{"$f":"(BBM9-$M$34*BBL9+((BBM9-$M$34*BBL9)^2+4*$M$34*BBL8^2)^0.5)/(2*BBL8)","v":1.2485954143130942},null,null,{"$f":"(BBP9-$M$34*BBO9+((BBP9-$M$34*BBO9)^2+4*$M$34*BBO8^2)^0.5)/(2*BBO8)","v":1.3591036963475038},null,null,{"$f":"(BBS9-$M$34*BBR9+((BBS9-$M$34*BBR9)^2+4*$M$34*BBR8^2)^0.5)/(2*BBR8)","v":1.3398429168767956},null,null,{"$f":"(BBV9-$M$34*BBU9+((BBV9-$M$34*BBU9)^2+4*$M$34*BBU8^2)^0.5)/(2*BBU8)","v":1.2574471060650092},null,null,{"$f":"(BBY9-$M$34*BBX9+((BBY9-$M$34*BBX9)^2+4*$M$34*BBX8^2)^0.5)/(2*BBX8)","v":1.1139997071577865},null,null,{"$f":"(BCB9-$M$34*BCA9+((BCB9-$M$34*BCA9)^2+4*$M$34*BCA8^2)^0.5)/(2*BCA8)","v":1.0447663075909637},null,null,{"$f":"(BCE9-$M$34*BCD9+((BCE9-$M$34*BCD9)^2+4*$M$34*BCD8^2)^0.5)/(2*BCD8)","v":1.3451202881662252},null,null,{"$f":"(BCH9-$M$34*BCG9+((BCH9-$M$34*BCG9)^2+4*$M$34*BCG8^2)^0.5)/(2*BCG8)","v":0.96411915098168266},null,null,{"$f":"(BCK9-$M$34*BCJ9+((BCK9-$M$34*BCJ9)^2+4*$M$34*BCJ8^2)^0.5)/(2*BCJ8)","v":0.97415320417506468},null,null,{"$f":"(BCN9-$M$34*BCM9+((BCN9-$M$34*BCM9)^2+4*$M$34*BCM8^2)^0.5)/(2*BCM8)","v":1.4635817275336263},null,null,{"$f":"(BCQ9-$M$34*BCP9+((BCQ9-$M$34*BCP9)^2+4*$M$34*BCP8^2)^0.5)/(2*BCP8)","v":0.98892128634823451},null,null,{"$f":"(BCT9-$M$34*BCS9+((BCT9-$M$34*BCS9)^2+4*$M$34*BCS8^2)^0.5)/(2*BCS8)","v":1.0193975763288008},null,null,{"$f":"(BCW9-$M$34*BCV9+((BCW9-$M$34*BCV9)^2+4*$M$34*BCV8^2)^0.5)/(2*BCV8)","v":1.0158149534509819},null,null,{"$f":"(BCZ9-$M$34*BCY9+((BCZ9-$M$34*BCY9)^2+4*$M$34*BCY8^2)^0.5)/(2*BCY8)","v":1.3724290024232066},null,null,{"$f":"(BDC9-$M$34*BDB9+((BDC9-$M$34*BDB9)^2+4*$M$34*BDB8^2)^0.5)/(2*BDB8)","v":1.224045452143939},null,null,{"$f":"(BDF9-$M$34*BDE9+((BDF9-$M$34*BDE9)^2+4*$M$34*BDE8^2)^0.5)/(2*BDE8)","v":1.0998379947416548},null,null,{"$f":"(BDI9-$M$34*BDH9+((BDI9-$M$34*BDH9)^2+4*$M$34*BDH8^2)^0.5)/(2*BDH8)","v":1.0000052699940678},null,null,{"$f":"(BDL9-$M$34*BDK9+((BDL9-$M$34*BDK9)^2+4*$M$34*BDK8^2)^0.5)/(2*BDK8)","v":1.2994315836135304},null,null,{"$f":"(BDO9-$M$34*BDN9+((BDO9-$M$34*BDN9)^2+4*$M$34*BDN8^2)^0.5)/(2*BDN8)","v":1.0976841565564888},null,null,{"$f":"(BDR9-$M$34*BDQ9+((BDR9-$M$34*BDQ9)^2+4*$M$34*BDQ8^2)^0.5)/(2*BDQ8)","v":1.2120525467894867},null,null,{"$f":"(BDU9-$M$34*BDT9+((BDU9-$M$34*BDT9)^2+4*$M$34*BDT8^2)^0.5)/(2*BDT8)","v":1.0577110849945954},null,null,{"$f":"(BDX9-$M$34*BDW9+((BDX9-$M$34*BDW9)^2+4*$M$34*BDW8^2)^0.5)/(2*BDW8)","v":1.0443426231227542},null,null,{"$f":"(BEA9-$M$34*BDZ9+((BEA9-$M$34*BDZ9)^2+4*$M$34*BDZ8^2)^0.5)/(2*BDZ8)","v":1.0364216537437481},null,null,{"$f":"(BED9-$M$34*BEC9+((BED9-$M$34*BEC9)^2+4*$M$34*BEC8^2)^0.5)/(2*BEC8)","v":1.3589191653933415},null,null,{"$f":"(BEG9-$M$34*BEF9+((BEG9-$M$34*BEF9)^2+4*$M$34*BEF8^2)^0.5)/(2*BEF8)","v":0.96399418464090736},null,null,{"$f":"(BEJ9-$M$34*BEI9+((BEJ9-$M$34*BEI9)^2+4*$M$34*BEI8^2)^0.5)/(2*BEI8)","v":1.2598528785608369},null,null,{"$f":"(BEM9-$M$34*BEL9+((BEM9-$M$34*BEL9)^2+4*$M$34*BEL8^2)^0.5)/(2*BEL8)","v":0.963378926504601},null,null,{"$f":"(BEP9-$M$34*BEO9+((BEP9-$M$34*BEO9)^2+4*$M$34*BEO8^2)^0.5)/(2*BEO8)","v":1.1544420054211069},null,null,{"$f":"(BES9-$M$34*BER9+((BES9-$M$34*BER9)^2+4*$M$34*BER8^2)^0.5)/(2*BER8)","v":1.0002693256964645},null,null,{"$f":"(BEV9-$M$34*BEU9+((BEV9-$M$34*BEU9)^2+4*$M$34*BEU8^2)^0.5)/(2*BEU8)","v":1.0599212002465406},null,null,{"$f":"(BEY9-$M$34*BEX9+((BEY9-$M$34*BEX9)^2+4*$M$34*BEX8^2)^0.5)/(2*BEX8)","v":1.0377603849551758},null,null,{"$f":"(BFB9-$M$34*BFA9+((BFB9-$M$34*BFA9)^2+4*$M$34*BFA8^2)^0.5)/(2*BFA8)","v":1.1857457156424407},null,null,{"$f":"(BFE9-$M$34*BFD9+((BFE9-$M$34*BFD9)^2+4*$M$34*BFD8^2)^0.5)/(2*BFD8)","v":1.3990767195506584},null,null,{"$f":"(BFH9-$M$34*BFG9+((BFH9-$M$34*BFG9)^2+4*$M$34*BFG8^2)^0.5)/(2*BFG8)","v":1.2895332258229624},null,null,{"$f":"(BFK9-$M$34*BFJ9+((BFK9-$M$34*BFJ9)^2+4*$M$34*BFJ8^2)^0.5)/(2*BFJ8)","v":1.1876606421685045},null,null,{"$f":"(BFN9-$M$34*BFM9+((BFN9-$M$34*BFM9)^2+4*$M$34*BFM8^2)^0.5)/(2*BFM8)","v":1.2291843451681024},null,null,{"$f":"(BFQ9-$M$34*BFP9+((BFQ9-$M$34*BFP9)^2+4*$M$34*BFP8^2)^0.5)/(2*BFP8)","v":1.1722293680340357},null,null,{"$f":"(BFT9-$M$34*BFS9+((BFT9-$M$34*BFS9)^2+4*$M$34*BFS8^2)^0.5)/(2*BFS8)","v":1.3036876743039836},null,null,{"$f":"(BFW9-$M$34*BFV9+((BFW9-$M$34*BFV9)^2+4*$M$34*BFV8^2)^0.5)/(2*BFV8)","v":1.1019015194822257},null,null,{"$f":"(BFZ9-$M$34*BFY9+((BFZ9-$M$34*BFY9)^2+4*$M$34*BFY8^2)^0.5)/(2*BFY8)","v":0.98067705111580716},null,null,{"$f":"(BGC9-$M$34*BGB9+((BGC9-$M$34*BGB9)^2+4*$M$34*BGB8^2)^0.5)/(2*BGB8)","v":1.3547644209096539},null,null,{"$f":"(BGF9-$M$34*BGE9+((BGF9-$M$34*BGE9)^2+4*$M$34*BGE8^2)^0.5)/(2*BGE8)","v":1.2384585095243457},null,null,{"$f":"(BGI9-$M$34*BGH9+((BGI9-$M$34*BGH9)^2+4*$M$34*BGH8^2)^0.5)/(2*BGH8)","v":1.0807852885632545},null,null,{"$f":"(BGL9-$M$34*BGK9+((BGL9-$M$34*BGK9)^2+4*$M$34*BGK8^2)^0.5)/(2*BGK8)","v":1.2140048631910489},null,null,{"$f":"(BGO9-$M$34*BGN9+((BGO9-$M$34*BGN9)^2+4*$M$34*BGN8^2)^0.5)/(2*BGN8)","v":1.0693419219981595},null,null,{"$f":"(BGR9-$M$34*BGQ9+((BGR9-$M$34*BGQ9)^2+4*$M$34*BGQ8^2)^0.5)/(2*BGQ8)","v":1.4400375804151244},null,null,{"$f":"(BGU9-$M$34*BGT9+((BGU9-$M$34*BGT9)^2+4*$M$34*BGT8^2)^0.5)/(2*BGT8)","v":1.2070222003748083}]
[null,null,null,"データ入力の最大は500まで",null,null,null,null,null,null,null,null,"群1(1回目）",null,"群２(2回目）",null,null,null,null,null,null,null,null,null,null,null,null,null,null,"等確率楕円用データ",null,null,null,null,"等確率楕円用データ",null,null,null,null,null,"Sｘｘ：=",{"$f":"DEVSQ(AN5:AN1304)","v":10367.52},{"$f":"DEVSQ(AP5:AP504)","v":{"$error":"#NUM!"}},null,null,null,null,null,null,null,-0.16437850799470466,0.69428312298333061,"Deming a=",{"$f":"BC7-BB1*BB7","v":0.57292873733165939},null,null,{"$f":"BF7-BE1*BE7","v":-3.6010936017717654E-2},null,null,{"$f":"BI7-BH1*BH7","v":0.46674922766062021},null,null,{"$f":"BL7-BK1*BK7","v":0.38997989600541638},null,null,{"$f":"BO7-BN1*BN7","v":0.11147978084628773},null,null,{"$f":"BR7-BQ1*BQ7","v":0.41525022596405181},null,null,{"$f":"BU7-BT1*BT7","v":0.30468520228823603},null,null,{"$f":"BX7-BW1*BW7","v":0.30184399138432072},null,null,{"$f":"CA7-BZ1*BZ7","v":0.25483610160792347},null,null,{"$f":"CD7-CC1*CC7","v":0.3706939524264885},null,null,{"$f":"CG7-CF1*CF7","v":-0.21316110869616267},null,null,{"$f":"CJ7-CI1*CI7","v":0.13666404732129633},null,null,{"$f":"CM7-CL1*CL7","v":0.41556423893890848},null,null,{"$f":"CP7-CO1*CO7","v":7.0834401573030448E-2},null,null,{"$f":"CS7-CR1*CR7","v":0.31449130180064122},null,null,{"$f":"CV7-CU1*CU7","v":0.4643215652059367},null,null,{"$f":"CY7-CX1*CX7","v":0.23963952297803814},null,null,{"$f":"DB7-DA1*DA7","v":0.57043250245386323},null,null,{"$f":"DE7-DD1*DD7","v":0.24959390995303732},null,null,{"$f":"DH7-DG1*DG7","v":0.14629242057798519},null,null,{"$f":"DK7-DJ1*DJ7","v":0.45344075348087909},null,null,{"$f":"DN7-DM1*DM7","v":-0.27611290331269567},null,null,{"$f":"DQ7-DP1*DP7","v":0.35756264968716733},null,null,{"$f":"DT7-DS1*DS7","v":0.36280689178073589},null,null,{"$f":"DW7-DV1*DV7","v":0.2730522681785521},null,null,{"$f":"DZ7-DY1*DY7","v":0.46481421064213091},null,null,{"$f":"EC7-EB1*EB7","v":0.56947046693297532},null,null,{"$f":"EF7-EE1*EE7","v":0.33140224125473194},null,null,{"$f":"EI7-EH1*EH7","v":0.17145993082293565},null,null,{"$f":"EL7-EK1*EK7","v":0.43598945347947771},null,null,{"$f":"EO7-EN1*EN7","v":0.73228672695104757},null,null,{"$f":"ER7-EQ1*EQ7","v":2.1845909320559187E-2},null,null,{"$f":"EU7-ET1*ET7","v":0.43925665575627626},null,null,{"$f":"EX7-EW1*EW7","v":0.38210639974826321},null,null,{"$f":"FA7-EZ1*EZ7","v":0.24816372127314601},null,null,{"$f":"FD7-FC1*FC7","v":0.33972793907430887},null,null,{"$f":"FG7-FF1*FF7","v":0.10959333679087679},null,null,{"$f":"FJ7-FI1*FI7","v":0.26805305109810318},null,null,{"$f":"FM7-FL1*FL7","v":0.25500571966989183},null,null,{"$f":"FP7-FO1*FO7","v":0.74859853606264037},null,null,{"$f":"FS7-FR1*FR7","v":0.48244608232285824},null,null,{"$f":"FV7-FU1*FU7","v":0.43651385931691022},null,null,{"$f":"FY7-FX1*FX7","v":0.7286458821738937},null,null,{"$f":"GB7-GA1*GA7","v":0.7227608706127211},null,null,{"$f":"GE7-GD1*GD7","v":0.57585218916132597},null,null,{"$f":"GH7-GG1*GG7","v":0.39736368694347179},null,null,{"$f":"GK7-GJ1*GJ7","v":0.26997934345824293},null,null,{"$f":"GN7-GM1*GM7","v":-3.2874692729373933E-2},null,null,{"$f":"GQ7-GP1*GP7","v":0.26409014119176355},null,null,{"$f":"GT7-GS1*GS7","v":0.52735590115328979},null,null,{"$f":"GW7-GV1*GV7","v":0.48867346059073791},null,null,{"$f":"GZ7-GY1*GY7","v":0.1784115574627827},null,null,{"$f":"HC7-HB1*HB7","v":0.50369999965848722},null,null,{"$f":"HF7-HE1*HE7","v":0.12858345845711217},null,null,{"$f":"HI7-HH1*HH7","v":0.40510323310921814},null,null,{"$f":"HL7-HK1*HK7","v":0.25925776612696749},null,null,{"$f":"HO7-HN1*HN7","v":0.40530877544084332},null,null,{"$f":"HR7-HQ1*HQ7","v":0.32144571208267969},null,null,{"$f":"HU7-HT1*HT7","v":0.66873521484115184},null,null,{"$f":"HX7-HW1*HW7","v":0.21189457035125026},null,null,{"$f":"IA7-HZ1*HZ7","v":0.74479106251130434},null,null,{"$f":"ID7-IC1*IC7","v":-2.5306411075882718E-2},null,null,{"$f":"IG7-IF1*IF7","v":0.465601338283125},null,null,{"$f":"IJ7-II1*II7","v":0.30459323938938709},null,null,{"$f":"IM7-IL1*IL7","v":0.18977743739585851},null,null,{"$f":"IP7-IO1*IO7","v":0.53081442053482686},null,null,{"$f":"IS7-IR1*IR7","v":-0.11904888136668834},null,null,{"$f":"IV7-IU1*IU7","v":0.29807637404248499},null,null,{"$f":"IY7-IX1*IX7","v":0.21547427985808421},null,null,{"$f":"JB7-JA1*JA7","v":0.58864284119953947},null,null,{"$f":"JE7-JD1*JD7","v":0.64645011400250585},null,null,{"$f":"JH7-JG1*JG7","v":0.6834839135764379},null,null,{"$f":"JK7-JJ1*JJ7","v":0.50680656919444722},null,null,{"$f":"JN7-JM1*JM7","v":0.40569022479384431},null,null,{"$f":"JQ7-JP1*JP7","v":0.52107133555200269},null,null,{"$f":"JT7-JS1*JS7","v":0.27948086823754492},null,null,{"$f":"JW7-JV1*JV7","v":0.30036400241251826},null,null,{"$f":"JZ7-JY1*JY7","v":-0.15223102150841239},null,null,{"$f":"KC7-KB1*KB7","v":0.1840729517562254},null,null,{"$f":"KF7-KE1*KE7","v":0.41308252690515923},null,null,{"$f":"KI7-KH1*KH7","v":-0.12012617835908923},null,null,{"$f":"KL7-KK1*KK7","v":-4.2761743232347715E-2},null,null,{"$f":"KO7-KN1*KN7","v":0.45856913713793501},null,null,{"$f":"KR7-KQ1*KQ7","v":0.28653663270170915},null,null,{"$f":"KU7-KT1*KT7","v":0.52278993258093998},null,null,{"$f":"KX7-KW1*KW7","v":0.63260219867162437},null,null,{"$f":"LA7-KZ1*KZ7","v":-8.4423435050236861E-2},null,null,{"$f":"LD7-LC1*LC7","v":0.27839156802484322},null,null,{"$f":"LG7-LF1*LF7","v":0.455637563153517},null,null,{"$f":"LJ7-LI1*LI7","v":0.28916462986115166},null,null,{"$f":"LM7-LL1*LL7","v":2.7340196638790282E-2},null,null,{"$f":"LP7-LO1*LO7","v":-9.1394696649621743E-2},null,null,{"$f":"LS7-LR1*LR7","v":0.26758292073246714},null,null,{"$f":"LV7-LU1*LU7","v":0.21012019022209172},null,null,{"$f":"LY7-LX1*LX7","v":0.17073550904242207},null,null,{"$f":"MB7-MA1*MA7","v":-0.11030432104077814},null,null,{"$f":"ME7-MD1*MD7","v":-0.28852692005836689},null,null,{"$f":"MH7-MG1*MG7","v":0.4865641827252527},null,null,{"$f":"MK7-MJ1*MJ7","v":0.53944738253254654},null,null,{"$f":"MN7-MM1*MM7","v":0.15299467607635719},null,null,{"$f":"MQ7-MP1*MP7","v":0.45021997396047864},null,null,{"$f":"MT7-MS1*MS7","v":0.21656867402182112},null,null,{"$f":"MW7-MV1*MV7","v":-0.17345181444271285},null,null,{"$f":"MZ7-MY1*MY7","v":0.62987853768422042},null,null,{"$f":"NC7-NB1*NB7","v":0.38609926995975563},null,null,{"$f":"NF7-NE1*NE7","v":0.55229043262835464},null,null,{"$f":"NI7-NH1*NH7","v":0.6692776717491995},null,null,{"$f":"NL7-NK1*NK7","v":0.10063249166208932},null,null,{"$f":"NO7-NN1*NN7","v":0.48737068030790587},null,null,{"$f":"NR7-NQ1*NQ7","v":0.17295350265716536},null,null,{"$f":"NU7-NT1*NT7","v":0.42191574507566276},null,null,{"$f":"NX7-NW1*NW7","v":0.3179506813007098},null,null,{"$f":"OA7-NZ1*NZ7","v":0.23499641183257802},null,null,{"$f":"OD7-OC1*OC7","v":0.17330219986075779},null,null,{"$f":"OG7-OF1*OF7","v":0.51860178187935535},null,null,{"$f":"OJ7-OI1*OI7","v":0.30032691485667984},null,null,{"$f":"OM7-OL1*OL7","v":0.43459321526954442},null,null,{"$f":"OP7-OO1*OO7","v":0.27160964472411875},null,null,{"$f":"OS7-OR1*OR7","v":0.22555439283779055},null,null,{"$f":"OV7-OU1*OU7","v":0.49246778775555589},null,null,{"$f":"OY7-OX1*OX7","v":0.47507790398376626},null,null,{"$f":"PB7-PA1*PA7","v":0.42546320185891462},null,null,{"$f":"PE7-PD1*PD7","v":0.6508937148748446},null,null,{"$f":"PH7-PG1*PG7","v":0.37608794893146591},null,null,{"$f":"PK7-PJ1*PJ7","v":0.7741935531942814},null,null,{"$f":"PN7-PM1*PM7","v":0.34930191151170931},null,null,{"$f":"PQ7-PP1*PP7","v":0.17125944596991527},null,null,{"$f":"PT7-PS1*PS7","v":9.6077996670074661E-2},null,null,{"$f":"PW7-PV1*PV7","v":0.57578735715822837},null,null,{"$f":"PZ7-PY1*PY7","v":0.13879181237536153},null,null,{"$f":"QC7-QB1*QB7","v":0.40654868574298719},null,null,{"$f":"QF7-QE1*QE7","v":0.17717311043095929},null,null,{"$f":"QI7-QH1*QH7","v":0.46802750169402119},null,null,{"$f":"QL7-QK1*QK7","v":6.0492143086755323E-2},null,null,{"$f":"QO7-QN1*QN7","v":0.12076450176651177},null,null,{"$f":"QR7-QQ1*QQ7","v":0.60936317736190793},null,null,{"$f":"QU7-QT1*QT7","v":0.43438124850494253},null,null,{"$f":"QX7-QW1*QW7","v":0.67001080040420802},null,null,{"$f":"RA7-QZ1*QZ7","v":0.38084699830044233},null,null,{"$f":"RD7-RC1*RC7","v":0.4263499100253445},null,null,{"$f":"RG7-RF1*RF7","v":0.69428312298333061},null,null,{"$f":"RJ7-RI1*RI7","v":0.17293427161910424},null,null,{"$f":"RM7-RL1*RL7","v":0.12437432641042889},null,null,{"$f":"RP7-RO1*RO7","v":0.1720729306958706},null,null,{"$f":"RS7-RR1*RR7","v":0.66293235080799207},null,null,{"$f":"RV7-RU1*RU7","v":0.5691079656706064},null,null,{"$f":"RY7-RX1*RX7","v":0.22716808757219775},null,null,{"$f":"SB7-SA1*SA7","v":0.15375037247016632},null,null,{"$f":"SE7-SD1*SD7","v":0.22298916583745898},null,null,{"$f":"SH7-SG1*SG7","v":0.77416543001388183},null,null,{"$f":"SK7-SJ1*SJ7","v":0.11199974824964531},null,null,{"$f":"SN7-SM1*SM7","v":0.78816731829829578},null,null,{"$f":"SQ7-SP1*SP7","v":0.48606579835729713},null,null,{"$f":"ST7-SS1*SS7","v":0.57107621395187902},null,null,{"$f":"SW7-SV1*SV7","v":0.40650239082653616},null,null,{"$f":"SZ7-SY1*SY7","v":0.22548522574416685},null,null,{"$f":"TC7-TB1*TB7","v":0.24334167299283793},null,null,{"$f":"TF7-TE1*TE7","v":0.37704035451660323},null,null,{"$f":"TI7-TH1*TH7","v":0.35810910136546159},null,null,{"$f":"TL7-TK1*TK7","v":0.39004732360168948},null,null,{"$f":"TO7-TN1*TN7","v":0.64996947946003703},null,null,{"$f":"TR7-TQ1*TQ7","v":0.43189118936804283},null,null,{"$f":"TU7-TT1*TT7","v":0.63791431111142272},null,null,{"$f":"TX7-TW1*TW7","v":0.23166539705572564},null,null,{"$f":"UA7-TZ1*TZ7","v":0.593493612957952},null,null,{"$f":"UD7-UC1*UC7","v":0.64548819634216059},null,null,{"$f":"UG7-UF1*UF7","v":-6.3941568351881362E-2},null,null,{"$f":"UJ7-UI1*UI7","v":0.39098345049981154},null,null,{"$f":"UM7-UL1*UL7","v":0.20957478711654698},null,null,{"$f":"UP7-UO1*UO7","v":0.32435264871663927},null,null,{"$f":"US7-UR1*UR7","v":0.20883148673106344},null,null,{"$f":"UV7-UU1*UU7","v":0.2866478752092787},null,null,{"$f":"UY7-UX1*UX7","v":0.32955254780419629},null,null,{"$f":"VB7-VA1*VA7","v":0.37219287901355003},null,null,{"$f":"VE7-VD1*VD7","v":0.41454587844241164},null,null,{"$f":"VH7-VG1*VG7","v":0.31739011202704548},null,null,{"$f":"VK7-VJ1*VJ7","v":0.52779446002855313},null,null,{"$f":"VN7-VM1*VM7","v":0.33659863275011848},null,null,{"$f":"VQ7-VP1*VP7","v":0.21776022737665857},null,null,{"$f":"VT7-VS1*VS7","v":0.30300813444833929},null,null,{"$f":"VW7-VV1*VV7","v":2.5470524201114397E-2},null,null,{"$f":"VZ7-VY1*VY7","v":-2.8740727013820688E-2},null,null,{"$f":"WC7-WB1*WB7","v":0.336266951864721},null,null,{"$f":"WF7-WE1*WE7","v":0.34752402450108644},null,null,{"$f":"WI7-WH1*WH7","v":-0.14608279245166678},null,null,{"$f":"WL7-WK1*WK7","v":0.51677898244234122},null,null,{"$f":"WO7-WN1*WN7","v":9.6030046585477979E-2},null,null,{"$f":"WR7-WQ1*WQ7","v":0.34855132425894508},null,null,{"$f":"WU7-WT1*WT7","v":0.28193522188512699},null,null,{"$f":"WX7-WW1*WW7","v":0.10422888743559877},null,null,{"$f":"XA7-WZ1*WZ7","v":0.41241525304128812},null,null,{"$f":"XD7-XC1*XC7","v":0.45122736413875497},null,null,{"$f":"XG7-XF1*XF7","v":0.19946525455181252},null,null,{"$f":"XJ7-XI1*XI7","v":0.33788596811036609},null,null,{"$f":"XM7-XL1*XL7","v":0.18079090265378728},null,null,{"$f":"XP7-XO1*XO7","v":0.55701544918649848},null,null,{"$f":"XS7-XR1*XR7","v":0.24967714237299665},null,null,{"$f":"XV7-XU1*XU7","v":0.45363060687331647},null,null,{"$f":"XY7-XX1*XX7","v":0.63481847792459289},null,null,{"$f":"YB7-YA1*YA7","v":0.14965364938550074},null,null,{"$f":"YE7-YD1*YD7","v":0.31545750631088154},null,null,{"$f":"YH7-YG1*YG7","v":0.47380223224218376},null,null,{"$f":"YK7-YJ1*YJ7","v":0.14567988350915106},null,null,{"$f":"YN7-YM1*YM7","v":7.8807538027217738E-2},null,null,{"$f":"YQ7-YP1*YP7","v":0.21065082628675924},null,null,{"$f":"YT7-YS1*YS7","v":0.55518008928299434},null,null,{"$f":"YW7-YV1*YV7","v":0.17171947209771377},null,null,{"$f":"YZ7-YY1*YY7","v":0.41080780767225678},null,null,{"$f":"ZC7-ZB1*ZB7","v":0.54202371778833225},null,null,{"$f":"ZF7-ZE1*ZE7","v":0.3530450820777693},null,null,{"$f":"ZI7-ZH1*ZH7","v":0.50441170498472099},null,null,{"$f":"ZL7-ZK1*ZK7","v":0.5205114189393325},null,null,{"$f":"ZO7-ZN1*ZN7","v":0.25568297545708862},null,null,{"$f":"ZR7-ZQ1*ZQ7","v":4.5739184769654884E-2},null,null,{"$f":"ZU7-ZT1*ZT7","v":0.41946729612123157},null,null,{"$f":"ZX7-ZW1*ZW7","v":0.5919086614312592},null,null,{"$f":"AAA7-ZZ1*ZZ7","v":0.38304667455219255},null,null,{"$f":"AAD7-AAC1*AAC7","v":0.60096167330766948},null,null,{"$f":"AAG7-AAF1*AAF7","v":0.18970092794668547},null,null,{"$f":"AAJ7-AAI1*AAI7","v":0.25700882492587818},null,null,{"$f":"AAM7-AAL1*AAL7","v":0.2661102809495679},null,null,{"$f":"AAP7-AAO1*AAO7","v":0.2893833918333244},null,null,{"$f":"AAS7-AAR1*AAR7","v":0.39354016897941246},null,null,{"$f":"AAV7-AAU1*AAU7","v":0.22640134568041326},null,null,{"$f":"AAY7-AAX1*AAX7","v":0.5122904402054429},null,null,{"$f":"ABB7-ABA1*ABA7","v":0.29989032072651911},null,null,{"$f":"ABE7-ABD1*ABD7","v":0.41994692187401883},null,null,{"$f":"ABH7-ABG1*ABG7","v":0.68552018127527425},null,null,{"$f":"ABK7-ABJ1*ABJ7","v":0.54566724742235362},null,null,{"$f":"ABN7-ABM1*ABM7","v":0.3372047282683388},null,null,{"$f":"ABQ7-ABP1*ABP7","v":0.33200506822772402},null,null,{"$f":"ABT7-ABS1*ABS7","v":0.74276637685920033},null,null,{"$f":"ABW7-ABV1*ABV7","v":0.4739274571786849},null,null,{"$f":"ABZ7-ABY1*ABY7","v":0.18797668903901199},null,null,{"$f":"ACC7-ACB1*ACB7","v":0.28283025191514621},null,null,{"$f":"ACF7-ACE1*ACE7","v":0.12063534647681129},null,null,{"$f":"ACI7-ACH1*ACH7","v":0.43529232575042442},null,null,{"$f":"ACL7-ACK1*ACK7","v":0.32341061301761886},null,null,{"$f":"ACO7-ACN1*ACN7","v":0.16478844145921245},null,null,{"$f":"ACR7-ACQ1*ACQ7","v":0.5551650973365776},null,null,{"$f":"ACU7-ACT1*ACT7","v":0.17351378241850668},null,null,{"$f":"ACX7-ACW1*ACW7","v":0.2901339884838543},null,null,{"$f":"ADA7-ACZ1*ACZ7","v":0.63376557450970772},null,null,{"$f":"ADD7-ADC1*ADC7","v":0.31410838238660377},null,null,{"$f":"ADG7-ADF1*ADF7","v":0.50447903791608484},null,null,{"$f":"ADJ7-ADI1*ADI7","v":0.28078852037739166},null,null,{"$f":"ADM7-ADL1*ADL7","v":-8.9247997867850426E-2},null,null,{"$f":"ADP7-ADO1*ADO7","v":0.3333562909520551},null,null,{"$f":"ADS7-ADR1*ADR7","v":0.4319680563671815},null,null,{"$f":"ADV7-ADU1*ADU7","v":0.56921855680895428},null,null,{"$f":"ADY7-ADX1*ADX7","v":0.40497350736644622},null,null,{"$f":"AEB7-AEA1*AEA7","v":-6.8673283333767987E-2},null,null,{"$f":"AEE7-AED1*AED7","v":0.36070712104015001},null,null,{"$f":"AEH7-AEG1*AEG7","v":0.6531931006129188},null,null,{"$f":"AEK7-AEJ1*AEJ7","v":0.33429687085456283},null,null,{"$f":"AEN7-AEM1*AEM7","v":2.1845549568972E-2},null,null,{"$f":"AEQ7-AEP1*AEP7","v":0.31914050475152234},null,null,{"$f":"AET7-AES1*AES7","v":0.44449047455531554},null,null,{"$f":"AEW7-AEV1*AEV7","v":0.61760137217475464},null,null,{"$f":"AEZ7-AEY1*AEY7","v":-8.2579644068703217E-4},null,null,{"$f":"AFC7-AFB1*AFB7","v":0.41478278744222896},null,null,{"$f":"AFF7-AFE1*AFE7","v":1.4561981702245319E-2},null,null,{"$f":"AFI7-AFH1*AFH7","v":0.34083863609151699},null,null,{"$f":"AFL7-AFK1*AFK7","v":0.50888465696195162},null,null,{"$f":"AFO7-AFN1*AFN7","v":0.50878569544352636},null,null,{"$f":"AFR7-AFQ1*AFQ7","v":-0.11377182295906962},null,null,{"$f":"AFU7-AFT1*AFT7","v":0.6402779130673788},null,null,{"$f":"AFX7-AFW1*AFW7","v":0.50631120547673225},null,null,{"$f":"AGA7-AFZ1*AFZ7","v":0.28147026969929723},null,null,{"$f":"AGD7-AGC1*AGC7","v":0.46512372270923308},null,null,{"$f":"AGG7-AGF1*AGF7","v":0.60633974146716163},null,null,{"$f":"AGJ7-AGI1*AGI7","v":0.22623437397764024},null,null,{"$f":"AGM7-AGL1*AGL7","v":0.81116703308072635},null,null,{"$f":"AGP7-AGO1*AGO7","v":0.2513076789856159},null,null,{"$f":"AGS7-AGR1*AGR7","v":0.61619296089629394},null,null,{"$f":"AGV7-AGU1*AGU7","v":0.56237964879275282},null,null,{"$f":"AGY7-AGX1*AGX7","v":0.41551924135088392},null,null,{"$f":"AHB7-AHA1*AHA7","v":-3.7051677970095565E-2},null,null,{"$f":"AHE7-AHD1*AHD7","v":0.29055636948730079},null,null,{"$f":"AHH7-AHG1*AHG7","v":0.46053837913395279},null,null,{"$f":"AHK7-AHJ1*AHJ7","v":0.4656503775088594},null,null,{"$f":"AHN7-AHM1*AHM7","v":0.30103591808523866},null,null,{"$f":"AHQ7-AHP1*AHP7","v":0.35561737482995071},null,null,{"$f":"AHT7-AHS1*AHS7","v":5.3063447793117113E-2},null,null,{"$f":"AHW7-AHV1*AHV7","v":0.46051037826844166},null,null,{"$f":"AHZ7-AHY1*AHY7","v":0.4114692238054074},null,null,{"$f":"AIC7-AIB1*AIB7","v":-0.22721404302666981},null,null,{"$f":"AIF7-AIE1*AIE7","v":2.8072666853903527E-2},null,null,{"$f":"AII7-AIH1*AIH7","v":0.54631956811095295},null,null,{"$f":"AIL7-AIK1*AIK7","v":0.55908378570707962},null,null,{"$f":"AIO7-AIN1*AIN7","v":0.18004848415552877},null,null,{"$f":"AIR7-AIQ1*AIQ7","v":0.44462321111490022},null,null,{"$f":"AIU7-AIT1*AIT7","v":0.66950794145455106},null,null,{"$f":"AIX7-AIW1*AIW7","v":0.59756867982496642},null,null,{"$f":"AJA7-AIZ1*AIZ7","v":0.28209949000481549},null,null,{"$f":"AJD7-AJC1*AJC7","v":0.38850975576979296},null,null,{"$f":"AJG7-AJF1*AJF7","v":0.19689589579203792},null,null,{"$f":"AJJ7-AJI1*AJI7","v":0.45336083746091127},null,null,{"$f":"AJM7-AJL1*AJL7","v":0.19137801299194868},null,null,{"$f":"AJP7-AJO1*AJO7","v":0.27996119255290974},null,null,{"$f":"AJS7-AJR1*AJR7","v":0.45659459464027519},null,null,{"$f":"AJV7-AJU1*AJU7","v":0.24562383288076672},null,null,{"$f":"AJY7-AJX1*AJX7","v":0.52242899343848448},null,null,{"$f":"AKB7-AKA1*AKA7","v":0.29192732811912014},null,null,{"$f":"AKE7-AKD1*AKD7","v":0.33568311600127076},null,null,{"$f":"AKH7-AKG1*AKG7","v":0.43208373855226045},null,null,{"$f":"AKK7-AKJ1*AKJ7","v":0.38405185502182437},null,null,{"$f":"AKN7-AKM1*AKM7","v":0.46284757049904446},null,null,{"$f":"AKQ7-AKP1*AKP7","v":5.9805856857684692E-2},null,null,{"$f":"AKT7-AKS1*AKS7","v":0.21113290222614678},null,null,{"$f":"AKW7-AKV1*AKV7","v":0.304680008582769},null,null,{"$f":"AKZ7-AKY1*AKY7","v":0.52603287805079324},null,null,{"$f":"ALC7-ALB1*ALB7","v":0.39028530790919014},null,null,{"$f":"ALF7-ALE1*ALE7","v":0.56071342224569465},null,null,{"$f":"ALI7-ALH1*ALH7","v":-0.14431440548661989},null,null,{"$f":"ALL7-ALK1*ALK7","v":0.27969756524407297},null,null,{"$f":"ALO7-ALN1*ALN7","v":0.50139850025581056},null,null,{"$f":"ALR7-ALQ1*ALQ7","v":0.38205722507922513},null,null,{"$f":"ALU7-ALT1*ALT7","v":0.51010517243704223},null,null,{"$f":"ALX7-ALW1*ALW7","v":-0.19318405931846705},null,null,{"$f":"AMA7-ALZ1*ALZ7","v":0.2798612359336996},null,null,{"$f":"AMD7-AMC1*AMC7","v":7.665231784360671E-2},null,null,{"$f":"AMG7-AMF1*AMF7","v":0.3433186962095558},null,null,{"$f":"AMJ7-AMI1*AMI7","v":0.15516033999886458},null,null,{"$f":"AMM7-AML1*AML7","v":0.24502460735079667},null,null,{"$f":"AMP7-AMO1*AMO7","v":0.24738071188520161},null,null,{"$f":"AMS7-AMR1*AMR7","v":5.8352342783011935E-2},null,null,{"$f":"AMV7-AMU1*AMU7","v":0.63304800109049308},null,null,{"$f":"AMY7-AMX1*AMX7","v":0.42154197000206706},null,null,{"$f":"ANB7-ANA1*ANA7","v":0.52667965351661428},null,null,{"$f":"ANE7-AND1*AND7","v":2.3575776772511325E-2},null,null,{"$f":"ANH7-ANG1*ANG7","v":0.27312920870015045},null,null,{"$f":"ANK7-ANJ1*ANJ7","v":0.3677406826053069},null,null,{"$f":"ANN7-ANM1*ANM7","v":0.14578206603485855},null,null,{"$f":"ANQ7-ANP1*ANP7","v":-0.29415001855746548},null,null,{"$f":"ANT7-ANS1*ANS7","v":0.48682498200689883},null,null,{"$f":"ANW7-ANV1*ANV7","v":0.11707672931782565},null,null,{"$f":"ANZ7-ANY1*ANY7","v":0.19773542541696365},null,null,{"$f":"AOC7-AOB1*AOB7","v":0.44369957769694457},null,null,{"$f":"AOF7-AOE1*AOE7","v":0.63254794235657652},null,null,{"$f":"AOI7-AOH1*AOH7","v":5.9394095844096384E-3},null,null,{"$f":"AOL7-AOK1*AOK7","v":0.47495647207048952},null,null,{"$f":"AOO7-AON1*AON7","v":0.36975812449452805},null,null,{"$f":"AOR7-AOQ1*AOQ7","v":0.602517177588338},null,null,{"$f":"AOU7-AOT1*AOT7","v":0.35684615433567179},null,null,{"$f":"AOX7-AOW1*AOW7","v":0.67045753814220754},null,null,{"$f":"APA7-AOZ1*AOZ7","v":0.54667461639233172},null,null,{"$f":"APD7-APC1*APC7","v":0.50722268564480144},null,null,{"$f":"APG7-APF1*APF7","v":0.2901372267474156},null,null,{"$f":"APJ7-API1*API7","v":0.42830022361075271},null,null,{"$f":"APM7-APL1*APL7","v":0.65411702113941006},null,null,{"$f":"APP7-APO1*APO7","v":0.32932687224371771},null,null,{"$f":"APS7-APR1*APR7","v":0.40037267465908366},null,null,{"$f":"APV7-APU1*APU7","v":0.41147259759245758},null,null,{"$f":"APY7-APX1*APX7","v":0.22383019168822482},null,null,{"$f":"AQB7-AQA1*AQA7","v":0.18926640092898062},null,null,{"$f":"AQE7-AQD1*AQD7","v":0.37909274067120258},null,null,{"$f":"AQH7-AQG1*AQG7","v":-5.3752969802806749E-2},null,null,{"$f":"AQK7-AQJ1*AQJ7","v":-7.4491686812661495E-2},null,null,{"$f":"AQN7-AQM1*AQM7","v":0.33955154591091885},null,null,{"$f":"AQQ7-AQP1*AQP7","v":0.63886281923296062},null,null,{"$f":"AQT7-AQS1*AQS7","v":0.22686796502254447},null,null,{"$f":"AQW7-AQV1*AQV7","v":0.50266646987924402},null,null,{"$f":"AQZ7-AQY1*AQY7","v":6.3575850715313909E-2},null,null,{"$f":"ARC7-ARB1*ARB7","v":0.44965947529946293},null,null,{"$f":"ARF7-ARE1*ARE7","v":0.3882213650656321},null,null,{"$f":"ARI7-ARH1*ARH7","v":0.41864095339603269},null,null,{"$f":"ARL7-ARK1*ARK7","v":0.36673746676401109},null,null,{"$f":"ARO7-ARN1*ARN7","v":0.48487938365712235},null,null,{"$f":"ARR7-ARQ1*ARQ7","v":0.48860315056525527},null,null,{"$f":"ARU7-ART1*ART7","v":0.51021044588086406},null,null,{"$f":"ARX7-ARW1*ARW7","v":0.44322380120972404},null,null,{"$f":"ASA7-ARZ1*ARZ7","v":0.39658196058409967},null,null,{"$f":"ASD7-ASC1*ASC7","v":0.56983291065788677},null,null,{"$f":"ASG7-ASF1*ASF7","v":0.25684551849075232},null,null,{"$f":"ASJ7-ASI1*ASI7","v":0.36757070443643203},null,null,{"$f":"ASM7-ASL1*ASL7","v":0.38232355812626651},null,null,{"$f":"ASP7-ASO1*ASO7","v":0.46292401605818601},null,null,{"$f":"ASS7-ASR1*ASR7","v":0.37135005211437555},null,null,{"$f":"ASV7-ASU1*ASU7","v":0.52171446462560933},null,null,{"$f":"ASY7-ASX1*ASX7","v":2.326663593423417E-2},null,null,{"$f":"ATB7-ATA1*ATA7","v":0.34200776753828332},null,null,{"$f":"ATE7-ATD1*ATD7","v":0.1372097701562196},null,null,{"$f":"ATH7-ATG1*ATG7","v":1.5297057383382384E-2},null,null,{"$f":"ATK7-ATJ1*ATJ7","v":0.14120157032021696},null,null,{"$f":"ATN7-ATM1*ATM7","v":0.15691397701188903},null,null,{"$f":"ATQ7-ATP1*ATP7","v":0.46243608913350354},null,null,{"$f":"ATT7-ATS1*ATS7","v":9.2284999472802554E-2},null,null,{"$f":"ATW7-ATV1*ATV7","v":0.62382993266576303},null,null,{"$f":"ATZ7-ATY1*ATY7","v":0.52722117573448601},null,null,{"$f":"AUC7-AUB1*AUB7","v":0.34953315422412246},null,null,{"$f":"AUF7-AUE1*AUE7","v":0.29694205696845755},null,null,{"$f":"AUI7-AUH1*AUH7","v":0.15568358012005845},null,null,{"$f":"AUL7-AUK1*AUK7","v":0.43455322168595645},null,null,{"$f":"AUO7-AUN1*AUN7","v":0.38973563041979142},null,null,{"$f":"AUR7-AUQ1*AUQ7","v":0.18468586400246956},null,null,{"$f":"AUU7-AUT1*AUT7","v":0.64129922025990238},null,null,{"$f":"AUX7-AUW1*AUW7","v":0.4120835635360276},null,null,{"$f":"AVA7-AUZ1*AUZ7","v":0.29592355069903631},null,null,{"$f":"AVD7-AVC1*AVC7","v":0.40459668215882383},null,null,{"$f":"AVG7-AVF1*AVF7","v":0.60424864321295679},null,null,{"$f":"AVJ7-AVI1*AVI7","v":0.21776749954690411},null,null,{"$f":"AVM7-AVL1*AVL7","v":0.45693023850913272},null,null,{"$f":"AVP7-AVO1*AVO7","v":0.6027314639612289},null,null,{"$f":"AVS7-AVR1*AVR7","v":0.18536319154494452},null,null,{"$f":"AVV7-AVU1*AVU7","v":0.60755365304421671},null,null,{"$f":"AVY7-AVX1*AVX7","v":0.30653739209004272},null,null,{"$f":"AWB7-AWA1*AWA7","v":0.4889974016628198},null,null,{"$f":"AWE7-AWD1*AWD7","v":0.3824251371774734},null,null,{"$f":"AWH7-AWG1*AWG7","v":-0.16437850799470466},null,null,{"$f":"AWK7-AWJ1*AWJ7","v":0.35431032069700397},null,null,{"$f":"AWN7-AWM1*AWM7","v":8.2069840886548562E-2},null,null,{"$f":"AWQ7-AWP1*AWP7","v":0.45181447587255796},null,null,{"$f":"AWT7-AWS1*AWS7","v":0.46608809691446007},null,null,{"$f":"AWW7-AWV1*AWV7","v":0.19585683866815806},null,null,{"$f":"AWZ7-AWY1*AWY7","v":0.50206650453413237},null,null,{"$f":"AXC7-AXB1*AXB7","v":0.25444028175198596},null,null,{"$f":"AXF7-AXE1*AXE7","v":0.46475423545976691},null,null,{"$f":"AXI7-AXH1*AXH7","v":0.46453576603881608},null,null,{"$f":"AXL7-AXK1*AXK7","v":0.18089497278964961},null,null,{"$f":"AXO7-AXN1*AXN7","v":0.1959638795862757},null,null,{"$f":"AXR7-AXQ1*AXQ7","v":0.32065538960343165},null,null,{"$f":"AXU7-AXT1*AXT7","v":0.15181443050617993},null,null,{"$f":"AXX7-AXW1*AXW7","v":0.42804891627961927},null,null,{"$f":"AYA7-AXZ1*AXZ7","v":0.33547991621711093},null,null,{"$f":"AYD7-AYC1*AYC7","v":0.15099339198510675},null,null,{"$f":"AYG7-AYF1*AYF7","v":0.31314011417727361},null,null,{"$f":"AYJ7-AYI1*AYI7","v":0.43703559967243955},null,null,{"$f":"AYM7-AYL1*AYL7","v":0.63633992883031576},null,null,{"$f":"AYP7-AYO1*AYO7","v":0.3806338577489119},null,null,{"$f":"AYS7-AYR1*AYR7","v":0.55151604708509305},null,null,{"$f":"AYV7-AYU1*AYU7","v":0.41992097319387334},null,null,{"$f":"AYY7-AYX1*AYX7","v":0.50319621078869092},null,null,{"$f":"AZB7-AZA1*AZA7","v":0.30819452664150182},null,null,{"$f":"AZE7-AZD1*AZD7","v":0.43442900049849653},null,null,{"$f":"AZH7-AZG1*AZG7","v":0.39780012905307638},null,null,{"$f":"AZK7-AZJ1*AZJ7","v":0.14721044516549009},null,null,{"$f":"AZN7-AZM1*AZM7","v":0.27129320506614318},null,null,{"$f":"AZQ7-AZP1*AZP7","v":-2.4789997983753143E-2},null,null,{"$f":"AZT7-AZS1*AZS7","v":0.56417428736783037},null,null,{"$f":"AZW7-AZV1*AZV7","v":0.36388432522831815},null,null,{"$f":"AZZ7-AZY1*AZY7","v":0.33050138154567366},null,null,{"$f":"BAC7-BAB1*BAB7","v":0.39294668257875065},null,null,{"$f":"BAF7-BAE1*BAE7","v":0.54723238933011098},null,null,{"$f":"BAI7-BAH1*BAH7","v":0.36784092986792283},null,null,{"$f":"BAL7-BAK1*BAK7","v":0.3151758977592416},null,null,{"$f":"BAO7-BAN1*BAN7","v":-8.1459353775797716E-2},null,null,{"$f":"BAR7-BAQ1*BAQ7","v":0.30097795220306178},null,null,{"$f":"BAU7-BAT1*BAT7","v":0.15633801560693783},null,null,{"$f":"BAX7-BAW1*BAW7","v":0.35082653864454327},null,null,{"$f":"BBA7-BAZ1*BAZ7","v":0.53386416591855212},null,null,{"$f":"BBD7-BBC1*BBC7","v":0.44744089477920124},null,null,{"$f":"BBG7-BBF1*BBF7","v":0.39889692136897636},null,null,{"$f":"BBJ7-BBI1*BBI7","v":0.31802650862648063},null,null,{"$f":"BBM7-BBL1*BBL7","v":0.11720053770299055},null,null,{"$f":"BBP7-BBO1*BBO7","v":8.8684352184273507E-2},null,null,{"$f":"BBS7-BBR1*BBR7","v":9.0594786791457604E-2},null,null,{"$f":"BBV7-BBU1*BBU7","v":9.5818356548879713E-2},null,null,{"$f":"BBY7-BBX1*BBX7","v":0.51576765035521888},null,null,{"$f":"BCB7-BCA1*BCA7","v":0.56688764945789893},null,null,{"$f":"BCE7-BCD1*BCD7","v":-0.19345165930319164},null,null,{"$f":"BCH7-BCG1*BCG7","v":0.7678064554955677},null,null,{"$f":"BCK7-BCJ1*BCJ7","v":0.4352392720064322},null,null,{"$f":"BCN7-BCM1*BCM7","v":-0.35504362216195906},null,null,{"$f":"BCQ7-BCP1*BCP7","v":0.45926564685684612},null,null,{"$f":"BCT7-BCS1*BCS7","v":0.68941859471508238},null,null,{"$f":"BCW7-BCV1*BCV7","v":0.46917456922777578},null,null,{"$f":"BCZ7-BCY1*BCY7","v":7.4303451506590346E-2},null,null,{"$f":"BDC7-BDB1*BDB7","v":0.18057573362713697},null,null,{"$f":"BDF7-BDE1*BDE7","v":0.53620144903017941},null,null,{"$f":"BDI7-BDH1*BDH7","v":0.55378621580351428},null,null,{"$f":"BDL7-BDK1*BDK7","v":4.4169234418941272E-2},null,null,{"$f":"BDO7-BDN1*BDN7","v":0.44557278242461296},null,null,{"$f":"BDR7-BDQ1*BDQ7","v":7.3806563374698264E-2},null,null,{"$f":"BDU7-BDT1*BDT7","v":0.40670437284245464},null,null,{"$f":"BDX7-BDW1*BDW7","v":0.46836697298806218},null,null,{"$f":"BEA7-BDZ1*BDZ7","v":0.43028770073031097},null,null,{"$f":"BED7-BEC1*BEC7","v":-0.20928213147418706},null,null,{"$f":"BEG7-BEF1*BEF7","v":0.68209077682745445},null,null,{"$f":"BEJ7-BEI1*BEI7","v":-4.366782798233082E-2},null,null,{"$f":"BEM7-BEL1*BEL7","v":0.62036684278074317},null,null,{"$f":"BEP7-BEO1*BEO7","v":0.17171812877784109},null,null,{"$f":"BES7-BER1*BER7","v":0.39483403771925474},null,null,{"$f":"BEV7-BEU1*BEU7","v":0.48274537397241568},null,null,{"$f":"BEY7-BEX1*BEX7","v":0.48710033557924248},null,null,{"$f":"BFB7-BFA1*BFA7","v":0.36305239221826024},null,null,{"$f":"BFE7-BFD1*BFD7","v":-5.0055122686263331E-2},null,null,{"$f":"BFH7-BFG1*BFG7","v":0.1034481218962866},null,null,{"$f":"BFK7-BFJ1*BFJ7","v":0.30752911547922857},null,null,{"$f":"BFN7-BFM1*BFM7","v":9.5796402631588951E-2},null,null,{"$f":"BFQ7-BFP1*BFP7","v":0.3757600847477276},null,null,{"$f":"BFT7-BFS1*BFS7","v":0.19960511853813756},null,null,{"$f":"BFW7-BFV1*BFV7","v":0.52395883102207907},null,null,{"$f":"BFZ7-BFY1*BFY7","v":0.4876955690277911},null,null,{"$f":"BGC7-BGB1*BGB7","v":0.30675706131280878},null,null,{"$f":"BGF7-BGE1*BGE7","v":0.24576292000533284},null,null,{"$f":"BGI7-BGH1*BGH7","v":0.46954500309932889},null,null,{"$f":"BGL7-BGK1*BGK7","v":0.20593549064414418},null,null,{"$f":"BGO7-BGN1*BGN7","v":0.43977751742933302},null,null,{"$f":"BGR7-BGQ1*BGQ7","v":2.4063487718636534E-2},null,null,{"$f":"BGU7-BGT1*BGT7","v":0.33661859654800086}]
[null,null,null,"群1(1回目）",null,"群２(2回目）",null,null,null,null,"基本統計項目",null,"X1","Y1","X2","Y2",null,"X","Y",null,"階級数",null,null,null,null,null,null,null,null,"X1","Y1上側","Y1下側","HH",null,"X2","Y2上側","Y2下側","HH",null,null,"Sｙｙ：=",{"$f":"DEVSQ(AO5:AO1304)","v":10542.319999999998},{"$f":"DEVSQ(AQ5:AQ504)","v":{"$error":"#NUM!"}},null,"偏差図",null,null,null,null,null,0.93077372155445315,1.3365091602242065,"標準主軸b=",{"$f":"(BC9/BB9)^0.5","v":1.0089983436361758},null,null,{"$f":"(BF9/BE9)^0.5","v":1.2730871633707197},null,null,{"$f":"(BI9/BH9)^0.5","v":1.1239148569676189},null,null,{"$f":"(BL9/BK9)^0.5","v":1.0969093260567786},null,null,{"$f":"(BO9/BN9)^0.5","v":1.1611447056958581},null,null,{"$f":"(BR9/BQ9)^0.5","v":1.0453567104076862},null,null,{"$f":"(BU9/BT9)^0.5","v":1.1129653773375332},null,null,{"$f":"(BX9/BW9)^0.5","v":1.1411768906620638},null,null,{"$f":"(CA9/BZ9)^0.5","v":1.1641592089382022},null,null,{"$f":"(CD9/CC9)^0.5","v":1.0564709811501449},null,null,{"$f":"(CG9/CF9)^0.5","v":1.3491183817823524},null,null,{"$f":"(CJ9/CI9)^0.5","v":1.3522102436656249},null,null,{"$f":"(CM9/CL9)^0.5","v":1.0997312776241501},null,null,{"$f":"(CP9/CO9)^0.5","v":1.3006067892847581},null,null,{"$f":"(CS9/CR9)^0.5","v":1.1425954439161383},null,null,{"$f":"(CV9/CU9)^0.5","v":1.1284414997174725},null,null,{"$f":"(CY9/CX9)^0.5","v":1.152757210649664},null,null,{"$f":"(DB9/DA9)^0.5","v":0.99125944500560581},null,null,{"$f":"(DE9/DD9)^0.5","v":1.1343190395773715},null,null,{"$f":"(DH9/DG9)^0.5","v":1.2077787866897487},null,null,{"$f":"(DK9/DJ9)^0.5","v":1.1414125889752209},null,null,{"$f":"(DN9/DM9)^0.5","v":1.3933878130449617},null,null,{"$f":"(DQ9/DP9)^0.5","v":1.1059364757688606},null,null,{"$f":"(DT9/DS9)^0.5","v":1.0958213108447272},null,null,{"$f":"(DW9/DV9)^0.5","v":1.1262738207553569},null,null,{"$f":"(DZ9/DY9)^0.5","v":0.97824382905816387},null,null,{"$f":"(EC9/EB9)^0.5","v":0.99842257056261996},null,null,{"$f":"(EF9/EE9)^0.5","v":1.125779430708606},null,null,{"$f":"(EI9/EH9)^0.5","v":1.175771515812051},null,null,{"$f":"(EL9/EK9)^0.5","v":0.98350387927531058},null,null,{"$f":"(EO9/EN9)^0.5","v":1.0289355282426778},null,null,{"$f":"(ER9/EQ9)^0.5","v":1.2602200884079613},null,null,{"$f":"(EU9/ET9)^0.5","v":1.0060588375710784},null,null,{"$f":"(EX9/EW9)^0.5","v":1.0417003577970525},null,null,{"$f":"(FA9/EZ9)^0.5","v":1.146095042082597},null,null,{"$f":"(FD9/FC9)^0.5","v":1.1310348947668731},null,null,{"$f":"(FG9/FF9)^0.5","v":1.2252339246449946},null,null,{"$f":"(FJ9/FI9)^0.5","v":1.1605394703916732},null,null,{"$f":"(FM9/FL9)^0.5","v":1.1218626002710164},null,null,{"$f":"(FP9/FO9)^0.5","v":0.92698889049029676},null,null,{"$f":"(FS9/FR9)^0.5","v":1.0440428056559126},null,null,{"$f":"(FV9/FU9)^0.5","v":1.0792811847599018},null,null,{"$f":"(FY9/FX9)^0.5","v":0.94543250116093536},null,null,{"$f":"(GB9/GA9)^0.5","v":1.0379125719993429},null,null,{"$f":"(GE9/GD9)^0.5","v":1.0561726674361132},null,null,{"$f":"(GH9/GG9)^0.5","v":1.10175330426977},null,null,{"$f":"(GK9/GJ9)^0.5","v":1.1004897989779563},null,null,{"$f":"(GN9/GM9)^0.5","v":1.3584317543634206},null,null,{"$f":"(GQ9/GP9)^0.5","v":1.1373542816950164},null,null,{"$f":"(GT9/GS9)^0.5","v":1.0630367309916877},null,null,{"$f":"(GW9/GV9)^0.5","v":1.0967367015699263},null,null,{"$f":"(GZ9/GY9)^0.5","v":1.2019392907309054},null,null,{"$f":"(HC9/HB9)^0.5","v":1.0409252189932907},null,null,{"$f":"(HF9/HE9)^0.5","v":1.2106570439623798},null,null,{"$f":"(HI9/HH9)^0.5","v":1.0593895301839902},null,null,{"$f":"(HL9/HK9)^0.5","v":1.2404459622926427},null,null,{"$f":"(HO9/HN9)^0.5","v":1.1263073839377296},null,null,{"$f":"(HR9/HQ9)^0.5","v":1.0563231079438842},null,null,{"$f":"(HU9/HT9)^0.5","v":0.96967046977228033},null,null,{"$f":"(HX9/HW9)^0.5","v":1.1235207657345321},null,null,{"$f":"(IA9/HZ9)^0.5","v":0.98517200279629724},null,null,{"$f":"(ID9/IC9)^0.5","v":1.1813132313921531},null,null,{"$f":"(IG9/IF9)^0.5","v":1.0468689766714325},null,null,{"$f":"(IJ9/II9)^0.5","v":1.1306911272324189},null,null,{"$f":"(IM9/IL9)^0.5","v":1.1227294471891964},null,null,{"$f":"(IP9/IO9)^0.5","v":1.1200641542741379},null,null,{"$f":"(IS9/IR9)^0.5","v":1.3096879899325877},null,null,{"$f":"(IV9/IU9)^0.5","v":1.1372561390028189},null,null,{"$f":"(IY9/IX9)^0.5","v":1.2229557188202977},null,null,{"$f":"(JB9/JA9)^0.5","v":1.0484400206796638},null,null,{"$f":"(JE9/JD9)^0.5","v":0.929243382254623},null,null,{"$f":"(JH9/JG9)^0.5","v":0.90058730306419754},null,null,{"$f":"(JK9/JJ9)^0.5","v":1.071901917010821},null,null,{"$f":"(JN9/JM9)^0.5","v":0.98083438338910534},null,null,{"$f":"(JQ9/JP9)^0.5","v":1.0052779667843279},null,null,{"$f":"(JT9/JS9)^0.5","v":1.0833264525292825},null,null,{"$f":"(JW9/JV9)^0.5","v":1.0822640652134086},null,null,{"$f":"(JZ9/JY9)^0.5","v":1.3863868681377503},null,null,{"$f":"(KC9/KB9)^0.5","v":1.1343933633609404},null,null,{"$f":"(KF9/KE9)^0.5","v":1.1121583737983394},null,null,{"$f":"(KI9/KH9)^0.5","v":1.2840611509602236},null,null,{"$f":"(KL9/KK9)^0.5","v":1.326100269556818},null,null,{"$f":"(KO9/KN9)^0.5","v":1.0757300628553939},null,null,{"$f":"(KR9/KQ9)^0.5","v":1.1121445237653704},null,null,{"$f":"(KU9/KT9)^0.5","v":1.1016373048957688},null,null,{"$f":"(KX9/KW9)^0.5","v":1.0068158193764785},null,null,{"$f":"(LA9/KZ9)^0.5","v":1.2588282183238693},null,null,{"$f":"(LD9/LC9)^0.5","v":1.1379705730558138},null,null,{"$f":"(LG9/LF9)^0.5","v":1.0608572217259737},null,null,{"$f":"(LJ9/LI9)^0.5","v":1.1707293913959249},null,null,{"$f":"(LM9/LL9)^0.5","v":1.3350501681071492},null,null,{"$f":"(LP9/LO9)^0.5","v":1.2417779220179075},null,null,{"$f":"(LS9/LR9)^0.5","v":1.0466452362449257},null,null,{"$f":"(LV9/LU9)^0.5","v":1.1321891187998043},null,null,{"$f":"(LY9/LX9)^0.5","v":1.1963052927937867},null,null,{"$f":"(MB9/MA9)^0.5","v":1.4052341748233514},null,null,{"$f":"(ME9/MD9)^0.5","v":1.3011844582122376},null,null,{"$f":"(MH9/MG9)^0.5","v":1.0105868820358366},null,null,{"$f":"(MK9/MJ9)^0.5","v":1.0215182741090842},null,null,{"$f":"(MN9/MM9)^0.5","v":1.2594168619701636},null,null,{"$f":"(MQ9/MP9)^0.5","v":1.0725856208456666},null,null,{"$f":"(MT9/MS9)^0.5","v":1.1614057501066328},null,null,{"$f":"(MW9/MV9)^0.5","v":1.2949283393503102},null,null,{"$f":"(MZ9/MY9)^0.5","v":1.0685657037181402},null,null,{"$f":"(NC9/NB9)^0.5","v":1.1611175865065066},null,null,{"$f":"(NF9/NE9)^0.5","v":1.0379119840733189},null,null,{"$f":"(NI9/NH9)^0.5","v":1.0044952792673911},null,null,{"$f":"(NL9/NK9)^0.5","v":1.1796701803642549},null,null,{"$f":"(NO9/NN9)^0.5","v":0.98194265200583875},null,null,{"$f":"(NR9/NQ9)^0.5","v":1.12233870334619},null,null,{"$f":"(NU9/NT9)^0.5","v":1.0452464010615121},null,null,{"$f":"(NX9/NW9)^0.5","v":1.0937093282691137},null,null,{"$f":"(OA9/NZ9)^0.5","v":1.1383938003141356},null,null,{"$f":"(OD9/OC9)^0.5","v":1.1437121844793863},null,null,{"$f":"(OG9/OF9)^0.5","v":1.0632938438422173},null,null,{"$f":"(OJ9/OI9)^0.5","v":1.1137042858419461},null,null,{"$f":"(OM9/OL9)^0.5","v":0.99032621737709758},null,null,{"$f":"(OP9/OO9)^0.5","v":1.0998916701550141},null,null,{"$f":"(OS9/OR9)^0.5","v":1.173203745269555},null,null,{"$f":"(OV9/OU9)^0.5","v":0.98241747232430754},null,null,{"$f":"(OY9/OX9)^0.5","v":1.0564811595262136},null,null,{"$f":"(PB9/PA9)^0.5","v":1.0468633851216949},null,null,{"$f":"(PE9/PD9)^0.5","v":0.97582129361882097},null,null,{"$f":"(PH9/PG9)^0.5","v":1.152837031140111},null,null,{"$f":"(PK9/PJ9)^0.5","v":0.89920131159716465},null,null,{"$f":"(PN9/PM9)^0.5","v":1.0917157621830438},null,null,{"$f":"(PQ9/PP9)^0.5","v":1.1116803978962315},null,null,{"$f":"(PT9/PS9)^0.5","v":1.271909955936676},null,null,{"$f":"(PW9/PV9)^0.5","v":1.0711394509995613},null,null,{"$f":"(PZ9/PY9)^0.5","v":1.1237933969633787},null,null,{"$f":"(QC9/QB9)^0.5","v":1.0944722509759153},null,null,{"$f":"(QF9/QE9)^0.5","v":1.2010266846507054},null,null,{"$f":"(QI9/QH9)^0.5","v":1.0822927775281312},null,null,{"$f":"(QL9/QK9)^0.5","v":1.2453026163175707},null,null,{"$f":"(QO9/QN9)^0.5","v":1.1672963506247152},null,null,{"$f":"(QR9/QQ9)^0.5","v":0.9843390430142499},null,null,{"$f":"(QU9/QT9)^0.5","v":1.1022964918613378},null,null,{"$f":"(QX9/QW9)^0.5","v":0.93077372155445315},null,null,{"$f":"(RA9/QZ9)^0.5","v":1.1246773200744977},null,null,{"$f":"(RD9/RC9)^0.5","v":1.0981302499223007},null,null,{"$f":"(RG9/RF9)^0.5","v":1.0336984333139032},null,null,{"$f":"(RJ9/RI9)^0.5","v":1.2584987361124467},null,null,{"$f":"(RM9/RL9)^0.5","v":1.1623186029119721},null,null,{"$f":"(RP9/RO9)^0.5","v":1.2063891527362611},null,null,{"$f":"(RS9/RR9)^0.5","v":0.9238450959532124},null,null,{"$f":"(RV9/RU9)^0.5","v":0.95051614520995908},null,null,{"$f":"(RY9/RX9)^0.5","v":1.1509505197450185},null,null,{"$f":"(SB9/SA9)^0.5","v":1.1736736962921852},null,null,{"$f":"(SE9/SD9)^0.5","v":1.1841050864125047},null,null,{"$f":"(SH9/SG9)^0.5","v":0.94186864747342791},null,null,{"$f":"(SK9/SJ9)^0.5","v":1.3296989732667923},null,null,{"$f":"(SN9/SM9)^0.5","v":0.97029369918591091},null,null,{"$f":"(SQ9/SP9)^0.5","v":1.0947153911716381},null,null,{"$f":"(ST9/SS9)^0.5","v":0.96935738956439543},null,null,{"$f":"(SW9/SV9)^0.5","v":1.1007124851017618},null,null,{"$f":"(SZ9/SY9)^0.5","v":1.1448142355091073},null,null,{"$f":"(TC9/TB9)^0.5","v":1.1027161429190238},null,null,{"$f":"(TF9/TE9)^0.5","v":1.1204878928843716},null,null,{"$f":"(TI9/TH9)^0.5","v":1.0619821659103614},null,null,{"$f":"(TL9/TK9)^0.5","v":1.0868632158727207},null,null,{"$f":"(TO9/TN9)^0.5","v":0.98958456764137392},null,null,{"$f":"(TR9/TQ9)^0.5","v":1.1215975268653433},null,null,{"$f":"(TU9/TT9)^0.5","v":0.92734477575813767},null,null,{"$f":"(TX9/TW9)^0.5","v":1.1430396105052405},null,null,{"$f":"(UA9/TZ9)^0.5","v":1.023209577211821},null,null,{"$f":"(UD9/UC9)^0.5","v":0.98885661363371657},null,null,{"$f":"(UG9/UF9)^0.5","v":1.267868110074579},null,null,{"$f":"(UJ9/UI9)^0.5","v":1.0763499640508654},null,null,{"$f":"(UM9/UL9)^0.5","v":1.1289141643033396},null,null,{"$f":"(UP9/UO9)^0.5","v":1.1583968154517428},null,null,{"$f":"(US9/UR9)^0.5","v":1.1639242992754719},null,null,{"$f":"(UV9/UU9)^0.5","v":1.0889793420655562},null,null,{"$f":"(UY9/UX9)^0.5","v":1.1132535964843415},null,null,{"$f":"(VB9/VA9)^0.5","v":1.0350976969364341},null,null,{"$f":"(VE9/VD9)^0.5","v":1.1040931854140292},null,null,{"$f":"(VH9/VG9)^0.5","v":1.1611170536754418},null,null,{"$f":"(VK9/VJ9)^0.5","v":1.0582987139154298},null,null,{"$f":"(VN9/VM9)^0.5","v":1.0754534679153542},null,null,{"$f":"(VQ9/VP9)^0.5","v":1.191233183022284},null,null,{"$f":"(VT9/VS9)^0.5","v":1.1380185128380764},null,null,{"$f":"(VW9/VV9)^0.5","v":1.2269184128515294},null,null,{"$f":"(VZ9/VY9)^0.5","v":1.2543915324891801},null,null,{"$f":"(WC9/WB9)^0.5","v":1.1071990409259274},null,null,{"$f":"(WF9/WE9)^0.5","v":1.1657173952233764},null,null,{"$f":"(WI9/WH9)^0.5","v":1.2939771169567715},null,null,{"$f":"(WL9/WK9)^0.5","v":1.0934587376557054},null,null,{"$f":"(WO9/WN9)^0.5","v":1.2302183372325017},null,null,{"$f":"(WR9/WQ9)^0.5","v":1.1586486678610184},null,null,{"$f":"(WU9/WT9)^0.5","v":1.1445544936751118},null,null,{"$f":"(WX9/WW9)^0.5","v":1.1787890128186795},null,null,{"$f":"(XA9/WZ9)^0.5","v":0.98721533819881713},null,null,{"$f":"(XD9/XC9)^0.5","v":1.0512854417770812},null,null,{"$f":"(XG9/XF9)^0.5","v":1.1799744410482012},null,null,{"$f":"(XJ9/XI9)^0.5","v":1.1035553633479076},null,null,{"$f":"(XM9/XL9)^0.5","v":1.1734628816987756},null,null,{"$f":"(XP9/XO9)^0.5","v":1.1749055027280033},null,null,{"$f":"(XS9/XR9)^0.5","v":1.064524640393969},null,null,{"$f":"(XV9/XU9)^0.5","v":1.1974274818050226},null,null,{"$f":"(XY9/XX9)^0.5","v":0.99076420882809535},null,null,{"$f":"(YB9/YA9)^0.5","v":1.2073735184094079},null,null,{"$f":"(YE9/YD9)^0.5","v":1.125060457009573},null,null,{"$f":"(YH9/YG9)^0.5","v":1.0549276807308041},null,null,{"$f":"(YK9/YJ9)^0.5","v":1.1908204100935234},null,null,{"$f":"(YN9/YM9)^0.5","v":1.1760487087578977},null,null,{"$f":"(YQ9/YP9)^0.5","v":1.1816797740493692},null,null,{"$f":"(YT9/YS9)^0.5","v":1.0119352992111825},null,null,{"$f":"(YW9/YV9)^0.5","v":1.1391829241872831},null,null,{"$f":"(YZ9/YY9)^0.5","v":1.0626206236936862},null,null,{"$f":"(ZC9/ZB9)^0.5","v":1.0144839148152138},null,null,{"$f":"(ZF9/ZE9)^0.5","v":1.0471117143429531},null,null,{"$f":"(ZI9/ZH9)^0.5","v":0.9982790877594595},null,null,{"$f":"(ZL9/ZK9)^0.5","v":1.0127896750469327},null,null,{"$f":"(ZO9/ZN9)^0.5","v":1.0796950929700055},null,null,{"$f":"(ZR9/ZQ9)^0.5","v":1.236378510772608},null,null,{"$f":"(ZU9/ZT9)^0.5","v":0.97716087149029884},null,null,{"$f":"(ZX9/ZW9)^0.5","v":1.0279525855001084},null,null,{"$f":"(AAA9/ZZ9)^0.5","v":1.0652050733398224},null,null,{"$f":"(AAD9/AAC9)^0.5","v":1.0590988922490392},null,null,{"$f":"(AAG9/AAF9)^0.5","v":1.1676333070862288},null,null,{"$f":"(AAJ9/AAI9)^0.5","v":1.1347044401207604},null,null,{"$f":"(AAM9/AAL9)^0.5","v":1.0948181595782627},null,null,{"$f":"(AAP9/AAO9)^0.5","v":1.1801231954307609},null,null,{"$f":"(AAS9/AAR9)^0.5","v":1.1261084697579904},null,null,{"$f":"(AAV9/AAU9)^0.5","v":1.1448418742712205},null,null,{"$f":"(AAY9/AAX9)^0.5","v":1.0921412025549135},null,null,{"$f":"(ABB9/ABA9)^0.5","v":1.0938310323165252},null,null,{"$f":"(ABE9/ABD9)^0.5","v":1.1000893319187146},null,null,{"$f":"(ABH9/ABG9)^0.5","v":1.0372289159443975},null,null,{"$f":"(ABK9/ABJ9)^0.5","v":1.0815733247930182},null,null,{"$f":"(ABN9/ABM9)^0.5","v":1.0966702809892723},null,null,{"$f":"(ABQ9/ABP9)^0.5","v":1.0793553421001902},null,null,{"$f":"(ABT9/ABS9)^0.5","v":0.88739206672535709},null,null,{"$f":"(ABW9/ABV9)^0.5","v":1.0568762115347279},null,null,{"$f":"(ABZ9/ABY9)^0.5","v":1.240099625419713},null,null,{"$f":"(ACC9/ACB9)^0.5","v":1.1836553117973332},null,null,{"$f":"(ACF9/ACE9)^0.5","v":1.1723000485758694},null,null,{"$f":"(ACI9/ACH9)^0.5","v":1.1266153709982032},null,null,{"$f":"(ACL9/ACK9)^0.5","v":1.1729497470852093},null,null,{"$f":"(ACO9/ACN9)^0.5","v":1.151107442474421},null,null,{"$f":"(ACR9/ACQ9)^0.5","v":1.0451932005722353},null,null,{"$f":"(ACU9/ACT9)^0.5","v":1.2011797828834063},null,null,{"$f":"(ACX9/ACW9)^0.5","v":1.0687800759730899},null,null,{"$f":"(ADA9/ACZ9)^0.5","v":1.0073377560145143},null,null,{"$f":"(ADD9/ADC9)^0.5","v":1.1534616094912242},null,null,{"$f":"(ADG9/ADF9)^0.5","v":1.0039162662462666},null,null,{"$f":"(ADJ9/ADI9)^0.5","v":1.1081927847011561},null,null,{"$f":"(ADM9/ADL9)^0.5","v":1.3301510263980429},null,null,{"$f":"(ADP9/ADO9)^0.5","v":1.0869192546317334},null,null,{"$f":"(ADS9/ADR9)^0.5","v":1.086871066469304},null,null,{"$f":"(ADV9/ADU9)^0.5","v":1.0283945878276448},null,null,{"$f":"(ADY9/ADX9)^0.5","v":1.1048786396780728},null,null,{"$f":"(AEB9/AEA9)^0.5","v":1.26634335914632},null,null,{"$f":"(AEE9/AED9)^0.5","v":1.106008448978949},null,null,{"$f":"(AEH9/AEG9)^0.5","v":0.97994232272364012},null,null,{"$f":"(AEK9/AEJ9)^0.5","v":1.0728557766478761},null,null,{"$f":"(AEN9/AEM9)^0.5","v":1.2474130107081425},null,null,{"$f":"(AEQ9/AEP9)^0.5","v":1.1395255439000498},null,null,{"$f":"(AET9/AES9)^0.5","v":1.1259339989476211},null,null,{"$f":"(AEW9/AEV9)^0.5","v":1.0604424152551584},null,null,{"$f":"(AEZ9/AEY9)^0.5","v":1.2884313821325208},null,null,{"$f":"(AFC9/AFB9)^0.5","v":1.1384371982560142},null,null,{"$f":"(AFF9/AFE9)^0.5","v":1.2051478000677163},null,null,{"$f":"(AFI9/AFH9)^0.5","v":1.0882609741703262},null,null,{"$f":"(AFL9/AFK9)^0.5","v":1.0163500517886102},null,null,{"$f":"(AFO9/AFN9)^0.5","v":0.98048011833796311},null,null,{"$f":"(AFR9/AFQ9)^0.5","v":1.3196550085584413},null,null,{"$f":"(AFU9/AFT9)^0.5","v":1.0117445643927148},null,null,{"$f":"(AFX9/AFW9)^0.5","v":1.0543357258769406},null,null,{"$f":"(AGA9/AFZ9)^0.5","v":1.1580651756484035},null,null,{"$f":"(AGD9/AGC9)^0.5","v":1.0348117902207969},null,null,{"$f":"(AGG9/AGF9)^0.5","v":0.99147857216527191},null,null,{"$f":"(AGJ9/AGI9)^0.5","v":1.1931879345839538},null,null,{"$f":"(AGM9/AGL9)^0.5","v":0.9270142276201967},null,null,{"$f":"(AGP9/AGO9)^0.5","v":1.201117102143384},null,null,{"$f":"(AGS9/AGR9)^0.5","v":0.97814688475183953},null,null,{"$f":"(AGV9/AGU9)^0.5","v":0.98474019020596426},null,null,{"$f":"(AGY9/AGX9)^0.5","v":1.0370339775141293},null,null,{"$f":"(AHB9/AHA9)^0.5","v":1.3041785101002112},null,null,{"$f":"(AHE9/AHD9)^0.5","v":1.1060718763921902},null,null,{"$f":"(AHH9/AHG9)^0.5","v":1.0307947664067252},null,null,{"$f":"(AHK9/AHJ9)^0.5","v":1.0438929021016874},null,null,{"$f":"(AHN9/AHM9)^0.5","v":1.1164419868284352},null,null,{"$f":"(AHQ9/AHP9)^0.5","v":1.0759378102666766},null,null,{"$f":"(AHT9/AHS9)^0.5","v":1.2045306406005611},null,null,{"$f":"(AHW9/AHV9)^0.5","v":1.0289652747645965},null,null,{"$f":"(AHZ9/AHY9)^0.5","v":1.054919705473766},null,null,{"$f":"(AIC9/AIB9)^0.5","v":1.3417908735197419},null,null,{"$f":"(AIF9/AIE9)^0.5","v":1.2482405053334171},null,null,{"$f":"(AII9/AIH9)^0.5","v":1.0359855457476763},null,null,{"$f":"(AIL9/AIK9)^0.5","v":0.99972695267256551},null,null,{"$f":"(AIO9/AIN9)^0.5","v":1.1962811132174822},null,null,{"$f":"(AIR9/AIQ9)^0.5","v":1.1555982419542861},null,null,{"$f":"(AIU9/AIT9)^0.5","v":1.0130602737518526},null,null,{"$f":"(AIX9/AIW9)^0.5","v":1.0030874301124866},null,null,{"$f":"(AJA9/AIZ9)^0.5","v":1.0661202499621252},null,null,{"$f":"(AJD9/AJC9)^0.5","v":1.0671662390016388},null,null,{"$f":"(AJG9/AJF9)^0.5","v":1.2405544817984764},null,null,{"$f":"(AJJ9/AJI9)^0.5","v":1.0137708891159165},null,null,{"$f":"(AJM9/AJL9)^0.5","v":1.1032502274211249},null,null,{"$f":"(AJP9/AJO9)^0.5","v":1.1675174380361977},null,null,{"$f":"(AJS9/AJR9)^0.5","v":1.076377294750376},null,null,{"$f":"(AJV9/AJU9)^0.5","v":1.1060165582347994},null,null,{"$f":"(AJY9/AJX9)^0.5","v":1.0950130717043991},null,null,{"$f":"(AKB9/AKA9)^0.5","v":1.1095008854996795},null,null,{"$f":"(AKE9/AKD9)^0.5","v":1.0418188157601613},null,null,{"$f":"(AKH9/AKG9)^0.5","v":1.0865391055240678},null,null,{"$f":"(AKK9/AKJ9)^0.5","v":1.058058391796695},null,null,{"$f":"(AKN9/AKM9)^0.5","v":1.0076251676015782},null,null,{"$f":"(AKQ9/AKP9)^0.5","v":1.2274407272799488},null,null,{"$f":"(AKT9/AKS9)^0.5","v":1.2240675332076998},null,null,{"$f":"(AKW9/AKV9)^0.5","v":1.1146455147596963},null,null,{"$f":"(AKZ9/AKY9)^0.5","v":1.0906463684073919},null,null,{"$f":"(ALC9/ALB9)^0.5","v":1.0654168872573522},null,null,{"$f":"(ALF9/ALE9)^0.5","v":0.94229485140746339},null,null,{"$f":"(ALI9/ALH9)^0.5","v":1.3848874680749017},null,null,{"$f":"(ALL9/ALK9)^0.5","v":1.082835862831568},null,null,{"$f":"(ALO9/ALN9)^0.5","v":1.0213940179018381},null,null,{"$f":"(ALR9/ALQ9)^0.5","v":1.1185779956892186},null,null,{"$f":"(ALU9/ALT9)^0.5","v":0.96130315104407671},null,null,{"$f":"(ALX9/ALW9)^0.5","v":1.3365091602242065},null,null,{"$f":"(AMA9/ALZ9)^0.5","v":1.1062169451691446},null,null,{"$f":"(AMD9/AMC9)^0.5","v":1.189449451761722},null,null,{"$f":"(AMG9/AMF9)^0.5","v":1.1372061219747225},null,null,{"$f":"(AMJ9/AMI9)^0.5","v":1.2517042422229951},null,null,{"$f":"(AMM9/AML9)^0.5","v":1.1348467410333136},null,null,{"$f":"(AMP9/AMO9)^0.5","v":1.2070665092065838},null,null,{"$f":"(AMS9/AMR9)^0.5","v":1.2098515508989605},null,null,{"$f":"(AMV9/AMU9)^0.5","v":1.0189734583945387},null,null,{"$f":"(AMY9/AMX9)^0.5","v":1.0534864013823149},null,null,{"$f":"(ANB9/ANA9)^0.5","v":1.0533505297746353},null,null,{"$f":"(ANE9/AND9)^0.5","v":1.3141962072501108},null,null,{"$f":"(ANH9/ANG9)^0.5","v":1.1301066433812297},null,null,{"$f":"(ANK9/ANJ9)^0.5","v":1.099775138607612},null,null,{"$f":"(ANN9/ANM9)^0.5","v":1.1708478991413851},null,null,{"$f":"(ANQ9/ANP9)^0.5","v":1.3917968273103298},null,null,{"$f":"(ANT9/ANS9)^0.5","v":1.0066788901039925},null,null,{"$f":"(ANW9/ANV9)^0.5","v":1.2220142192814041},null,null,{"$f":"(ANZ9/ANY9)^0.5","v":1.1798397153858102},null,null,{"$f":"(AOC9/AOB9)^0.5","v":1.1038364182483991},null,null,{"$f":"(AOF9/AOE9)^0.5","v":0.9974494813082303},null,null,{"$f":"(AOI9/AOH9)^0.5","v":1.2317161978516271},null,null,{"$f":"(AOL9/AOK9)^0.5","v":1.0700900182240727},null,null,{"$f":"(AOO9/AON9)^0.5","v":1.1121406767124049},null,null,{"$f":"(AOR9/AOQ9)^0.5","v":1.0313875643698194},null,null,{"$f":"(AOU9/AOT9)^0.5","v":1.0817334511028749},null,null,{"$f":"(AOX9/AOW9)^0.5","v":1.0059845265360745},null,null,{"$f":"(APA9/AOZ9)^0.5","v":1.0274390058130374},null,null,{"$f":"(APD9/APC9)^0.5","v":1.0492149919541665},null,null,{"$f":"(APG9/APF9)^0.5","v":1.1002922052615758},null,null,{"$f":"(APJ9/API9)^0.5","v":1.0297620372942664},null,null,{"$f":"(APM9/APL9)^0.5","v":1.0680622491588581},null,null,{"$f":"(APP9/APO9)^0.5","v":1.0993402048664955},null,null,{"$f":"(APS9/APR9)^0.5","v":1.168050128015909},null,null,{"$f":"(APV9/APU9)^0.5","v":1.0448189806916068},null,null,{"$f":"(APY9/APX9)^0.5","v":1.2339637947793554},null,null,{"$f":"(AQB9/AQA9)^0.5","v":1.1518197335293843},null,null,{"$f":"(AQE9/AQD9)^0.5","v":1.1337452037144307},null,null,{"$f":"(AQH9/AQG9)^0.5","v":1.2422504141180588},null,null,{"$f":"(AQK9/AQJ9)^0.5","v":1.2647850401473471},null,null,{"$f":"(AQN9/AQM9)^0.5","v":1.1241911305595045},null,null,{"$f":"(AQQ9/AQP9)^0.5","v":1.0427011107306314},null,null,{"$f":"(AQT9/AQS9)^0.5","v":1.2419477871171876},null,null,{"$f":"(AQW9/AQV9)^0.5","v":1.0403203036317858},null,null,{"$f":"(AQZ9/AQY9)^0.5","v":1.2493331991581698},null,null,{"$f":"(ARC9/ARB9)^0.5","v":1.0113277633715101},null,null,{"$f":"(ARF9/ARE9)^0.5","v":1.1132347409954064},null,null,{"$f":"(ARI9/ARH9)^0.5","v":1.199215914593021},null,null,{"$f":"(ARL9/ARK9)^0.5","v":1.1906303087702523},null,null,{"$f":"(ARO9/ARN9)^0.5","v":1.0425521133044795},null,null,{"$f":"(ARR9/ARQ9)^0.5","v":0.9738629714476561},null,null,{"$f":"(ARU9/ART9)^0.5","v":0.94996300176276038},null,null,{"$f":"(ARX9/ARW9)^0.5","v":1.0407664273914075},null,null,{"$f":"(ASA9/ARZ9)^0.5","v":1.0543408943760197},null,null,{"$f":"(ASD9/ASC9)^0.5","v":1.02620094528447},null,null,{"$f":"(ASG9/ASF9)^0.5","v":1.1461042089796452},null,null,{"$f":"(ASJ9/ASI9)^0.5","v":1.0700201136445679},null,null,{"$f":"(ASM9/ASL9)^0.5","v":1.0676374116526886},null,null,{"$f":"(ASP9/ASO9)^0.5","v":1.0464025018778931},null,null,{"$f":"(ASS9/ASR9)^0.5","v":1.0965798103031819},null,null,{"$f":"(ASV9/ASU9)^0.5","v":0.96682415427390467},null,null,{"$f":"(ASY9/ASX9)^0.5","v":1.2583565288287211},null,null,{"$f":"(ATB9/ATA9)^0.5","v":1.1298137187801365},null,null,{"$f":"(ATE9/ATD9)^0.5","v":1.2960421185563402},null,null,{"$f":"(ATH9/ATG9)^0.5","v":1.2299631538412563},null,null,{"$f":"(ATK9/ATJ9)^0.5","v":1.1172223543523458},null,null,{"$f":"(ATN9/ATM9)^0.5","v":1.2352114286347518},null,null,{"$f":"(ATQ9/ATP9)^0.5","v":0.98545256107897716},null,null,{"$f":"(ATT9/ATS9)^0.5","v":1.2720818943189984},null,null,{"$f":"(ATW9/ATV9)^0.5","v":0.89684820062316661},null,null,{"$f":"(ATZ9/ATY9)^0.5","v":0.92593421799615205},null,null,{"$f":"(AUC9/AUB9)^0.5","v":1.0491823189831961},null,null,{"$f":"(AUF9/AUE9)^0.5","v":1.1653197906246249},null,null,{"$f":"(AUI9/AUH9)^0.5","v":1.1987007693992731},null,null,{"$f":"(AUL9/AUK9)^0.5","v":1.0144935435980851},null,null,{"$f":"(AUO9/AUN9)^0.5","v":1.073108458024326},null,null,{"$f":"(AUR9/AUQ9)^0.5","v":1.2024478482518106},null,null,{"$f":"(AUU9/AUT9)^0.5","v":0.98738445543441633},null,null,{"$f":"(AUX9/AUW9)^0.5","v":1.1062027444432072},null,null,{"$f":"(AVA9/AUZ9)^0.5","v":1.104212266642409},null,null,{"$f":"(AVD9/AVC9)^0.5","v":1.1194861547294546},null,null,{"$f":"(AVG9/AVF9)^0.5","v":0.96191191807337839},null,null,{"$f":"(AVJ9/AVI9)^0.5","v":1.1438126705419349},null,null,{"$f":"(AVM9/AVL9)^0.5","v":1.1018366628106349},null,null,{"$f":"(AVP9/AVO9)^0.5","v":0.99729180791861649},null,null,{"$f":"(AVS9/AVR9)^0.5","v":1.1177987193844725},null,null,{"$f":"(AVV9/AVU9)^0.5","v":1.0093264849308257},null,null,{"$f":"(AVY9/AVX9)^0.5","v":1.218430873116239},null,null,{"$f":"(AWB9/AWA9)^0.5","v":1.0611420268869716},null,null,{"$f":"(AWE9/AWD9)^0.5","v":1.0737075683906583},null,null,{"$f":"(AWH9/AWG9)^0.5","v":1.3316928046845231},null,null,{"$f":"(AWK9/AWJ9)^0.5","v":1.1335441870453729},null,null,{"$f":"(AWN9/AWM9)^0.5","v":1.1518155420542149},null,null,{"$f":"(AWQ9/AWP9)^0.5","v":1.1415729217952972},null,null,{"$f":"(AWT9/AWS9)^0.5","v":1.1025304845677291},null,null,{"$f":"(AWW9/AWV9)^0.5","v":1.2040657343628285},null,null,{"$f":"(AWZ9/AWY9)^0.5","v":1.0316007767750386},null,null,{"$f":"(AXC9/AXB9)^0.5","v":1.1055594905602972},null,null,{"$f":"(AXF9/AXE9)^0.5","v":1.1493222557994465},null,null,{"$f":"(AXI9/AXH9)^0.5","v":1.0185244542646512},null,null,{"$f":"(AXL9/AXK9)^0.5","v":1.1534762076836496},null,null,{"$f":"(AXO9/AXN9)^0.5","v":1.1446326032434881},null,null,{"$f":"(AXR9/AXQ9)^0.5","v":1.0992207782220578},null,null,{"$f":"(AXU9/AXT9)^0.5","v":1.2511191211155246},null,null,{"$f":"(AXX9/AXW9)^0.5","v":1.0411154694355196},null,null,{"$f":"(AYA9/AXZ9)^0.5","v":0.96312903325322086},null,null,{"$f":"(AYD9/AYC9)^0.5","v":1.1643227489286017},null,null,{"$f":"(AYG9/AYF9)^0.5","v":1.1263614042692789},null,null,{"$f":"(AYJ9/AYI9)^0.5","v":1.043378011588491},null,null,{"$f":"(AYM9/AYL9)^0.5","v":0.9318399946474154},null,null,{"$f":"(AYP9/AYO9)^0.5","v":1.1543948958957775},null,null,{"$f":"(AYS9/AYR9)^0.5","v":1.0496833153499698},null,null,{"$f":"(AYV9/AYU9)^0.5","v":1.1026734075304081},null,null,{"$f":"(AYY9/AYX9)^0.5","v":0.97721771123276757},null,null,{"$f":"(AZB9/AZA9)^0.5","v":1.135378928052988},null,null,{"$f":"(AZE9/AZD9)^0.5","v":1.0690810887745894},null,null,{"$f":"(AZH9/AZG9)^0.5","v":1.0606727480665703},null,null,{"$f":"(AZK9/AZJ9)^0.5","v":1.2305245604886696},null,null,{"$f":"(AZN9/AZM9)^0.5","v":1.0643499473677536},null,null,{"$f":"(AZQ9/AZP9)^0.5","v":1.2043014465864763},null,null,{"$f":"(AZT9/AZS9)^0.5","v":1.0546244887005045},null,null,{"$f":"(AZW9/AZV9)^0.5","v":1.095532006598396},null,null,{"$f":"(AZZ9/AZY9)^0.5","v":1.1083580430276132},null,null,{"$f":"(BAC9/BAB9)^0.5","v":1.0749900137598316},null,null,{"$f":"(BAF9/BAE9)^0.5","v":1.0422587874989744},null,null,{"$f":"(BAI9/BAH9)^0.5","v":1.1107069615973646},null,null,{"$f":"(BAL9/BAK9)^0.5","v":1.1580241404761442},null,null,{"$f":"(BAO9/BAN9)^0.5","v":1.2598175952422936},null,null,{"$f":"(BAR9/BAQ9)^0.5","v":1.1220859224480799},null,null,{"$f":"(BAU9/BAT9)^0.5","v":1.2633394569057703},null,null,{"$f":"(BAX9/BAW9)^0.5","v":1.0873856777741628},null,null,{"$f":"(BBA9/BAZ9)^0.5","v":1.005683145222251},null,null,{"$f":"(BBD9/BBC9)^0.5","v":1.0317101049920629},null,null,{"$f":"(BBG9/BBF9)^0.5","v":1.0411239568807316},null,null,{"$f":"(BBJ9/BBI9)^0.5","v":1.1880269589684944},null,null,{"$f":"(BBM9/BBL9)^0.5","v":1.1872672938363082},null,null,{"$f":"(BBP9/BBO9)^0.5","v":1.2837954318272413},null,null,{"$f":"(BBS9/BBR9)^0.5","v":1.2795689314404293},null,null,{"$f":"(BBV9/BBU9)^0.5","v":1.2133199582681826},null,null,{"$f":"(BBY9/BBX9)^0.5","v":1.0913127351281078},null,null,{"$f":"(BCB9/BCA9)^0.5","v":1.0378628604187001},null,null,{"$f":"(BCE9/BCD9)^0.5","v":1.2647406981264213},null,null,{"$f":"(BCH9/BCG9)^0.5","v":0.96968274391266862},null,null,{"$f":"(BCK9/BCJ9)^0.5","v":0.97694190551344284},null,null,{"$f":"(BCN9/BCM9)^0.5","v":1.363411846354744},null,null,{"$f":"(BCQ9/BCP9)^0.5","v":0.99046088326245429},null,null,{"$f":"(BCT9/BCS9)^0.5","v":1.0165736037601885},null,null,{"$f":"(BCW9/BCV9)^0.5","v":1.0143086312299936},null,null,{"$f":"(BCZ9/BCY9)^0.5","v":1.2799910346201289},null,null,{"$f":"(BDC9/BDB9)^0.5","v":1.1857762890509582},null,null,{"$f":"(BDF9/BDE9)^0.5","v":1.0830142811838002},null,null,{"$f":"(BDI9/BDH9)^0.5","v":1.0000045506594559},null,null,{"$f":"(BDL9/BDK9)^0.5","v":1.2462552197518453},null,null,{"$f":"(BDO9/BDN9)^0.5","v":1.074052512592401},null,null,{"$f":"(BDR9/BDQ9)^0.5","v":1.1766434950791556},null,null,{"$f":"(BDU9/BDT9)^0.5","v":1.0479440799257769},null,null,{"$f":"(BDX9/BDW9)^0.5","v":1.0378245747411927},null,null,{"$f":"(BEA9/BDZ9)^0.5","v":1.0306139914453907},null,null,{"$f":"(BED9/BEC9)^0.5","v":1.2727481605230644},null,null,{"$f":"(BEG9/BEF9)^0.5","v":0.96799135309568063},null,null,{"$f":"(BEJ9/BEI9)^0.5","v":1.2119904576368177},null,null,{"$f":"(BEM9/BEL9)^0.5","v":0.96830542625654803},null,null,{"$f":"(BEP9/BEO9)^0.5","v":1.1218827295032074},null,null,{"$f":"(BES9/BER9)^0.5","v":1.0002277741075594},null,null,{"$f":"(BEV9/BEU9)^0.5","v":1.0513355593018237},null,null,{"$f":"(BEY9/BEX9)^0.5","v":1.032851356196469},null,null,{"$f":"(BFB9/BFA9)^0.5","v":1.1529413537668169},null,null,{"$f":"(BFE9/BFD9)^0.5","v":1.3042491592668266},null,null,{"$f":"(BFH9/BFG9)^0.5","v":1.2446135105228369},null,null,{"$f":"(BFK9/BFJ9)^0.5","v":1.159851624840271},null,null,{"$f":"(BFN9/BFM9)^0.5","v":1.1886403844805145},null,null,{"$f":"(BFQ9/BFP9)^0.5","v":1.1391603806220971},null,null,{"$f":"(BFT9/BFS9)^0.5","v":1.2130029291029059},null,null,{"$f":"(BFW9/BFV9)^0.5","v":1.0872034430910269},null,null,{"$f":"(BFZ9/BFY9)^0.5","v":0.98319375624123551},null,null,{"$f":"(BGC9/BGB9)^0.5","v":1.2963798629262118},null,null,{"$f":"(BGF9/BGE9)^0.5","v":1.1905841796327026},null,null,{"$f":"(BGI9/BGH9)^0.5","v":1.0679436062728285},null,null,{"$f":"(BGL9/BGK9)^0.5","v":1.1861477741903759},null,null,{"$f":"(BGO9/BGN9)^0.5","v":1.0617044807877039},null,null,{"$f":"(BGR9/BGQ9)^0.5","v":1.3662002242194775},null,null,{"$f":"(BGU9/BGT9)^0.5","v":1.1789119943300614}]
[null,null,"No.","X1","Y1","X2","Y2",null,null,null,"合　　計：=SUM(セル範囲) ",null,{"$f":"SUM(D5:D1304)","v":124.88000000000001},{"$f":"SUM(E5:E1304)","v":158.54},{"$f":"SUM(F5:F1304)","v":0},{"$f":"SUM(G5:G1304)","v":0},"偏差平方和",{"$f":"SUM(H5:H504)","v":0},{"$f":"SUM(I5:I504)","v":0},null,11,null,null,null,null,null,null,"CHIINV(0.05,2)^0.5",2.448,{"$f":"AC5","v":-1.6103136433555028},{"$f":"(Y1SD/X1SD*(相関係数1*AD4+AG4))+切片1","v":-0.68927464167462471},{"$f":"(Y1SD/X1SD*(相関係数1*AD4-AG4))+切片1","v":-0.68927464167462471},{"$f":"IF((1-相関係数1^2)*((X1SD*t1_0.05)^2-(AD4-X1m)^2)>0,SQRT((1-相関係数1^2)*((X1SD*t1_0.05)^2-(AD4-X1m)^2)),0)","v":0},2.448,{"$f":"AH5","v":{"$error":"#DIV/0!"}},{"$f":"(Y2SD/X2SD*(相関係数2*AI4+AL4))+切片2","v":{"$error":"#DIV/0!"}},{"$f":"(Y2SD/X2SD*(相関係数2*AI4-AL4))+切片2","v":{"$error":"#DIV/0!"}},{"$f":"IF((1-相関係数2^2)*((X2SD*t1_0.05)^2-(AI4-X2m)^2)>0,SQRT((1-相関係数2^2)*((X2SD*t1_0.05)^2-(AI4-X2m)^2)),0)","v":{"$error":"#DIV/0!"}},null,null,"rs=",{"$f":"AP1/SQRT(AP2*AP3)","v":0.89158077890705134},{"$f":"AQ1/SQRT(AQ2*AQ3)","v":{"$error":"#DIV/0!"}},null,"(X1+Y1)/2","Y1-X1",null,null,null,null,1.3192492346247864E-2,0.70685633894526578,"標準主軸a=",{"$f":"BC7-BB3*BB7","v":0.57528145552993726},null,null,{"$f":"BF7-BE3*BE7","v":5.4648059885332501E-2},null,null,{"$f":"BI7-BH3*BH7","v":0.53940636367741934},null,null,{"$f":"BL7-BK3*BK7","v":0.41638324746857691},null,null,{"$f":"BO7-BN3*BN7","v":0.19806112141606702},null,null,{"$f":"BR7-BQ3*BQ7","v":0.43619822892278703},null,null,{"$f":"BU7-BT3*BT7","v":0.342275138425987},null,null,{"$f":"BX7-BW3*BW7","v":0.36320369064792413},null,null,{"$f":"CA7-BZ3*BZ7","v":0.39350058708655444},null,null,{"$f":"CD7-CC3*CC7","v":0.39120143312751132},null,null,{"$f":"CG7-CF3*CF7","v":5.0693337939824445E-3},null,null,{"$f":"CJ7-CI3*CI7","v":0.33587594942712151},null,null,{"$f":"CM7-CL3*CL7","v":0.4380806482545001},null,null,{"$f":"CP7-CO3*CO7","v":0.16986397022694888},null,null,{"$f":"CS7-CR3*CR7","v":0.42665849906692754},null,null,{"$f":"CV7-CU3*CU7","v":0.50915888704371115},null,null,{"$f":"CY7-CX3*CX7","v":0.28481400396873457},null,null,{"$f":"DB7-DA3*DA7","v":0.56847053619833332},null,null,{"$f":"DE7-DD3*DD7","v":0.30165912554431928},null,null,{"$f":"DH7-DG3*DG7","v":0.26588423922446625},null,null,{"$f":"DK7-DJ3*DJ7","v":0.50826834313220415},null,null,{"$f":"DN7-DM3*DM7","v":-6.0763513756443732E-2},null,null,{"$f":"DQ7-DP3*DP7","v":0.41475688220832563},null,null,{"$f":"DT7-DS3*DS7","v":0.41934153944686248},null,null,{"$f":"DW7-DV3*DV7","v":0.32227415334734699},null,null,{"$f":"DZ7-DY3*DY7","v":0.46031539736516303},null,null,{"$f":"EC7-EB3*EB7","v":0.5684761137715082},null,null,{"$f":"EF7-EE3*EE7","v":0.43544812893384943},null,null,{"$f":"EI7-EH3*EH7","v":0.2544226194121606},null,null,{"$f":"EL7-EK3*EK7","v":0.43119841715008977},null,null,{"$f":"EO7-EN3*EN7","v":0.74662432834832737},null,null,{"$f":"ER7-EQ3*EQ7","v":0.17879898989359866},null,null,{"$f":"EU7-ET3*ET7","v":0.44218469693058138},null,null,{"$f":"EX7-EW3*EW7","v":0.40710643484501707},null,null,{"$f":"FA7-EZ3*EZ7","v":0.31844666323390669},null,null,{"$f":"FD7-FC3*FC7","v":0.38235775588433274},null,null,{"$f":"FG7-FF3*FF7","v":0.20754036243813001},null,null,{"$f":"FJ7-FI3*FI7","v":0.35740141754863952},null,null,{"$f":"FM7-FL3*FL7","v":0.31190677328018301},null,null,{"$f":"FP7-FO3*FO7","v":0.72573814918920876},null,null,{"$f":"FS7-FR3*FR7","v":0.49495913554700088},null,null,{"$f":"FV7-FU3*FU7","v":0.47066574840818154},null,null,{"$f":"FY7-FX3*FX7","v":0.70507339490076637},null,null,{"$f":"GB7-GA3*GA7","v":0.73838163879205476},null,null,{"$f":"GE7-GD3*GD7","v":0.60841160977014486},null,null,{"$f":"GH7-GG3*GG7","v":0.44527998159253146},null,null,{"$f":"GK7-GJ3*GJ7","v":0.30310626268052454},null,null,{"$f":"GN7-GM3*GM7","v":9.6439279516226772E-2},null,null,{"$f":"GQ7-GP3*GP7","v":0.31367876591542609},null,null,{"$f":"GT7-GS3*GS7","v":0.55641270438953505},null,null,{"$f":"GW7-GV3*GV7","v":0.52742445983425146},null,null,{"$f":"GZ7-GY3*GY7","v":0.26643069379078499},null,null,{"$f":"HC7-HB3*HB7","v":0.51462467898993935},null,null,{"$f":"HF7-HE3*HE7","v":0.2165916201254583},null,null,{"$f":"HI7-HH3*HH7","v":0.44253751854364198},null,null,{"$f":"HL7-HK3*HK7","v":0.43189624332570897},null,null,{"$f":"HO7-HN3*HN7","v":0.52032417186486501},null,null,{"$f":"HR7-HQ3*HQ7","v":0.34025918226823171},null,null,{"$f":"HU7-HT3*HT7","v":0.6593082791319862},null,null,{"$f":"HX7-HW3*HW7","v":0.28716080519652554},null,null,{"$f":"IA7-HZ3*HZ7","v":0.73704223549787873},null,null,{"$f":"ID7-IC3*IC7","v":0.10657155355286729},null,null,{"$f":"IG7-IF3*IF7","v":0.48817608491811182},null,null,{"$f":"IJ7-II3*II7","v":0.35677994469796603},null,null,{"$f":"IM7-IL3*IL7","v":0.24460131062174462},null,null,{"$f":"IP7-IO3*IO7","v":0.60005565288318907},null,null,{"$f":"IS7-IR3*IR7","v":1.1160580824872923E-2},null,null,{"$f":"IV7-IU3*IU7","v":0.36254959522517449},null,null,{"$f":"IY7-IX3*IX7","v":0.31771977661808926},null,null,{"$f":"JB7-JA3*JA7","v":0.61472277239596762},null,null,{"$f":"JE7-JD3*JD7","v":0.62436793146961644},null,null,{"$f":"JH7-JG3*JG7","v":0.65391893353789809},null,null,{"$f":"JK7-JJ3*JJ7","v":0.55393984219247283},null,null,{"$f":"JN7-JM3*JM7","v":0.39938257294671908},null,null,{"$f":"JQ7-JP3*JP7","v":0.52294217041106794},null,null,{"$f":"JT7-JS3*JS7","v":0.29938285307011592},null,null,{"$f":"JW7-JV3*JV7","v":0.3352197017802534},null,null,{"$f":"JZ7-JY3*JY7","v":8.1608465546470388E-2},null,null,{"$f":"KC7-KB3*KB7","v":0.23316666420366738},null,null,{"$f":"KF7-KE3*KE7","v":0.44542669329820317},null,null,{"$f":"KI7-KH3*KH7","v":-1.5794182474440532E-2},null,null,{"$f":"KL7-KK3*KK7","v":7.9554645785603562E-2},null,null,{"$f":"KO7-KN3*KN7","v":0.48546497770737185},null,null,{"$f":"KR7-KQ3*KQ7","v":0.34206108160270832},null,null,{"$f":"KU7-KT3*KT7","v":0.56590099274458172},null,null,{"$f":"KX7-KW3*KW7","v":0.63572133559615907},null,null,{"$f":"LA7-KZ3*KZ7","v":0.13504919911350788},null,null,{"$f":"LD7-LC3*LC7","v":0.34979399554876345},null,null,{"$f":"LG7-LF3*LF7","v":0.48197648040294361},null,null,{"$f":"LJ7-LI3*LI7","v":0.37383005452384666},null,null,{"$f":"LM7-LL3*LL7","v":0.18417251953039848},null,null,{"$f":"LP7-LO3*LO7","v":0.11050644873607229},null,null,{"$f":"LS7-LR3*LR7","v":0.28415611806347174},null,null,{"$f":"LV7-LU3*LU7","v":0.27629432723834713},null,null,{"$f":"LY7-LX3*LX7","v":0.26337347218216411},null,null,{"$f":"MB7-MA3*MA7","v":5.1894454990300876E-2},null,null,{"$f":"ME7-MD3*MD7","v":-9.9618215179471115E-3},null,null,{"$f":"MH7-MG3*MG7","v":0.48961196622719827},null,null,{"$f":"MK7-MJ3*MJ7","v":0.54977155026081759},null,null,{"$f":"MN7-MM3*MM7","v":0.26519965727378247},null,null,{"$f":"MQ7-MP3*MP7","v":0.48715558712004103},null,null,{"$f":"MT7-MS3*MS7","v":0.31842425741844416},null,null,{"$f":"MW7-MV3*MV7","v":1.3192492346247864E-2},null,null,{"$f":"MZ7-MY3*MY7","v":0.65270432076460638},null,null,{"$f":"NC7-NB3*NB7","v":0.50778382051032445},null,null,{"$f":"NF7-NE3*NE7","v":0.56025597049749321},null,null,{"$f":"NI7-NH3*NH7","v":0.67121942126094147},null,null,{"$f":"NL7-NK3*NK7","v":0.23043291901277696},null,null,{"$f":"NO7-NN3*NN7","v":0.48173352766979471},null,null,{"$f":"NR7-NQ3*NQ7","v":0.20722003110492215},null,null,{"$f":"NU7-NT3*NT7","v":0.44405534505416711},null,null,{"$f":"NX7-NW3*NW7","v":0.35646706984224386},null,null,{"$f":"OA7-NZ3*NZ7","v":0.307567482240378},null,null,{"$f":"OD7-OC3*OC7","v":0.29845135863363126},null,null,{"$f":"OG7-OF3*OF7","v":0.53945412997395747},null,null,{"$f":"OJ7-OI3*OI7","v":0.32071819600381435},null,null,{"$f":"OM7-OL3*OL7","v":0.42889995280824467},null,null,{"$f":"OP7-OO3*OO7","v":0.322501293896722},null,null,{"$f":"OS7-OR3*OR7","v":0.29447956416527843},null,null,{"$f":"OV7-OU3*OU7","v":0.48658446125199983},null,null,{"$f":"OY7-OX3*OX7","v":0.49505001482388167},null,null,{"$f":"PB7-PA3*PA7","v":0.43902487322790629},null,null,{"$f":"PE7-PD3*PD7","v":0.64398085086132362},null,null,{"$f":"PH7-PG3*PG7","v":0.45925422246815373},null,null,{"$f":"PK7-PJ3*PJ7","v":0.74950380240899594},null,null,{"$f":"PN7-PM3*PM7","v":0.39096032892214616},null,null,{"$f":"PQ7-PP3*PP7","v":0.23840371348626288},null,null,{"$f":"PT7-PS3*PS7","v":0.21336801013926099},null,null,{"$f":"PW7-PV3*PV7","v":0.61579439995111906},null,null,{"$f":"PZ7-PY3*PY7","v":0.22099779415112542},null,null,{"$f":"QC7-QB3*QB7","v":0.44324022496908633},null,null,{"$f":"QF7-QE3*QE7","v":0.27611028972203888},null,null,{"$f":"QI7-QH3*QH7","v":0.50383273577788579},null,null,{"$f":"QL7-QK3*QK7","v":0.16817352246164186},null,null,{"$f":"QO7-QN3*QN7","v":0.20697121337020707},null,null,{"$f":"QR7-QQ3*QQ7","v":0.60289840382083959},null,null,{"$f":"QU7-QT3*QT7","v":0.46294896875501923},null,null,{"$f":"QX7-QW3*QW7","v":0.66084929854029384},null,null,{"$f":"RA7-QZ3*QZ7","v":0.42476772007875541},null,null,{"$f":"RD7-RC3*RC7","v":0.49264355594712228},null,null,{"$f":"RG7-RF3*RF7","v":0.71358389742811923},null,null,{"$f":"RJ7-RI3*RI7","v":0.2585957797882017},null,null,{"$f":"RM7-RL3*RL7","v":0.20257970326156371},null,null,{"$f":"RP7-RO3*RO7","v":0.35823811426510632},null,null,{"$f":"RS7-RR3*RR7","v":0.64207291367725849},null,null,{"$f":"RV7-RU3*RU7","v":0.5529574162969273},null,null,{"$f":"RY7-RX3*RX7","v":0.33539335951491012},null,null,{"$f":"SB7-SA3*SA7","v":0.24595389914477561},null,null,{"$f":"SE7-SD3*SD7","v":0.30037303973933138},null,null,{"$f":"SH7-SG3*SG7","v":0.74356820928402989},null,null,{"$f":"SK7-SJ3*SJ7","v":0.25209904319908416},null,null,{"$f":"SN7-SM3*SM7","v":0.77494339207600582},null,null,{"$f":"SQ7-SP3*SP7","v":0.54295120978849187},null,null,{"$f":"ST7-SS3*SS7","v":0.56321878313318674},null,null,{"$f":"SW7-SV3*SV7","v":0.47421243405126079},null,null,{"$f":"SZ7-SY3*SY7","v":0.3201397815978777},null,null,{"$f":"TC7-TB3*TB7","v":0.29529919917242387},null,null,{"$f":"TF7-TE3*TE7","v":0.42700377123636413},null,null,{"$f":"TI7-TH3*TH7","v":0.37785398336879661},null,null,{"$f":"TL7-TK3*TK7","v":0.44540723551132366},null,null,{"$f":"TO7-TN3*TN7","v":0.64490052842028467},null,null,{"$f":"TR7-TQ3*TQ7","v":0.4853415685572422},null,null,{"$f":"TU7-TT3*TT7","v":0.60910120542882273},null,null,{"$f":"TX7-TW3*TW7","v":0.32127862295256726},null,null,{"$f":"UA7-TZ3*TZ7","v":0.60737657583563864},null,null,{"$f":"UD7-UC3*UC7","v":0.64088618166997424},null,null,{"$f":"UG7-UF3*UF7","v":9.8597224425120533E-2},null,null,{"$f":"UJ7-UI3*UI7","v":0.42158807057848824},null,null,{"$f":"UM7-UL3*UL7","v":0.28621552402913331},null,null,{"$f":"UP7-UO3*UO7","v":0.38122165976756239},null,null,{"$f":"US7-UR3*UR7","v":0.25332326646730285},null,null,{"$f":"UV7-UU3*UU7","v":0.32912146273433995},null,null,{"$f":"UY7-UX3*UX7","v":0.40201933999875106},null,null,{"$f":"VB7-VA3*VA7","v":0.38684448900684298},null,null,{"$f":"VE7-VD3*VD7","v":0.46521579323354612},null,null,{"$f":"VH7-VG3*VG7","v":0.41225461514620321},null,null,{"$f":"VK7-VJ3*VJ7","v":0.55445260200828406},null,null,{"$f":"VN7-VM3*VM7","v":0.37551824716645532},null,null,{"$f":"VQ7-VP3*VP7","v":0.28415799738818182},null,null,{"$f":"VT7-VS3*VS7","v":0.39307024847625538},null,null,{"$f":"VW7-VV3*VV7","v":0.16077041530309444},null,null,{"$f":"VZ7-VY3*VY7","v":0.12652508338285084},null,null,{"$f":"WC7-WB3*WB7","v":0.37197297226310777},null,null,{"$f":"WF7-WE3*WE7","v":0.41422221663739478},null,null,{"$f":"WI7-WH3*WH7","v":8.333828406165944E-2},null,null,{"$f":"WL7-WK3*WK7","v":0.60769284288517023},null,null,{"$f":"WO7-WN3*WN7","v":0.1803352740935189},null,null,{"$f":"WR7-WQ3*WQ7","v":0.42139790377863662},null,null,{"$f":"WU7-WT3*WT7","v":0.34568227126687923},null,null,{"$f":"WX7-WW3*WW7","v":0.20915781747886708},null,null,{"$f":"XA7-WZ3*WZ7","v":0.40984315650973091},null,null,{"$f":"XD7-XC3*XC7","v":0.48694019899090524},null,null,{"$f":"XG7-XF3*XF7","v":0.30154476638385797},null,null,{"$f":"XJ7-XI3*XI7","v":0.41299058124196408},null,null,{"$f":"XM7-XL3*XL7","v":0.26330294153871758},null,null,{"$f":"XP7-XO3*XO7","v":0.65690827198748103},null,null,{"$f":"XS7-XR3*XR7","v":0.27266727381313149},null,null,{"$f":"XV7-XU3*XU7","v":0.52534365605806066},null,null,{"$f":"XY7-XX3*XX7","v":0.62856412851029164},null,null,{"$f":"YB7-YA3*YA7","v":0.26093847571492201},null,null,{"$f":"YE7-YD3*YD7","v":0.40591896753053414},null,null,{"$f":"YH7-YG3*YG7","v":0.49089092882598528},null,null,{"$f":"YK7-YJ3*YJ7","v":0.28678807931505279},null,null,{"$f":"YN7-YM3*YM7","v":0.18935381744453039},null,null,{"$f":"YQ7-YP3*YP7","v":0.2783558038041436},null,null,{"$f":"YT7-YS3*YS7","v":0.5610471519046718},null,null,{"$f":"YW7-YV3*YV7","v":0.22550653345959404},null,null,{"$f":"YZ7-YY3*YY7","v":0.429367892075875},null,null,{"$f":"ZC7-ZB3*ZB7","v":0.5453670386982612},null,null,{"$f":"ZF7-ZE3*ZE7","v":0.37118402230743897},null,null,{"$f":"ZI7-ZH3*ZH7","v":0.50372709173526431},null,null,{"$f":"ZL7-ZK3*ZK7","v":0.5267379037570703},null,null,{"$f":"ZO7-ZN3*ZN7","v":0.28333080497182594},null,null,{"$f":"ZR7-ZQ3*ZQ7","v":0.20371156872501928},null,null,{"$f":"ZU7-ZT3*ZT7","v":0.41609605213062872},null,null,{"$f":"ZX7-ZW3*ZW7","v":0.60977441145059652},null,null,{"$f":"AAA7-ZZ3*ZZ7","v":0.40874944018444959},null,null,{"$f":"AAD7-AAC3*AAC7","v":0.62256441352637371},null,null,{"$f":"AAG7-AAF3*AAF7","v":0.29866105379626129},null,null,{"$f":"AAJ7-AAI3*AAI7","v":0.39090572074875185},null,null,{"$f":"AAM7-AAL3*AAL7","v":0.30095946899558568},null,null,{"$f":"AAP7-AAO3*AAO7","v":0.37583234790225983},null,null,{"$f":"AAS7-AAR3*AAR7","v":0.44750754298566964},null,null,{"$f":"AAV7-AAU3*AAU7","v":0.27731335098050103},null,null,{"$f":"AAY7-AAX3*AAX7","v":0.55396357212296321},null,null,{"$f":"ABB7-ABA3*ABA7","v":0.33832506655704098},null,null,{"$f":"ABE7-ABD3*ABD7","v":0.46375647367299289},null,null,{"$f":"ABH7-ABG3*ABG7","v":0.71333742097488573},null,null,{"$f":"ABK7-ABJ3*ABJ7","v":0.62595067113533354},null,null,{"$f":"ABN7-ABM3*ABM7","v":0.3711526575133508},null,null,{"$f":"ABQ7-ABP3*ABP7","v":0.37036028413509303},null,null,{"$f":"ABT7-ABS3*ABS7","v":0.70685633894526578},null,null,{"$f":"ABW7-ABV3*ABV7","v":0.50804902032110588},null,null,{"$f":"ABZ7-ABY3*ABY7","v":0.34123357660313625},null,null,{"$f":"ACC7-ACB3*ACB7","v":0.35689547754938777},null,null,{"$f":"ACF7-ACE3*ACE7","v":0.221997948339963},null,null,{"$f":"ACI7-ACH3*ACH7","v":0.49816486710259378},null,null,{"$f":"ACL7-ACK3*ACK7","v":0.37709362392966872},null,null,{"$f":"ACO7-ACN3*ACN7","v":0.24218535722474233},null,null,{"$f":"ACR7-ACQ3*ACQ7","v":0.56801502013393401},null,null,{"$f":"ACU7-ACT3*ACT7","v":0.34853703695759375},null,null,{"$f":"ACX7-ACW3*ACW7","v":0.31239659774055761},null,null,{"$f":"ADA7-ACZ3*ACZ7","v":0.63614765265309225},null,null,{"$f":"ADD7-ADC3*ADC7","v":0.35697070663733665},null,null,{"$f":"ADG7-ADF3*ADF7","v":0.50623596499480827},null,null,{"$f":"ADJ7-ADI3*ADI7","v":0.32341895188357839},null,null,{"$f":"ADM7-ADL3*ADL7","v":0.12427905775932047},null,null,{"$f":"ADP7-ADO3*ADO7","v":0.38288636528537356},null,null,{"$f":"ADS7-ADR3*ADR7","v":0.47363216118276918},null,null,{"$f":"ADV7-ADU3*ADU7","v":0.59050039926361508},null,null,{"$f":"ADY7-ADX3*ADX7","v":0.43692685219279515},null,null,{"$f":"AEB7-AEA3*AEA7","v":7.9658577418945331E-2},null,null,{"$f":"AEE7-AED3*AED7","v":0.40079840488303242},null,null,{"$f":"AEH7-AEG3*AEG7","v":0.64449044228113994},null,null,{"$f":"AEK7-AEJ3*AEJ7","v":0.35679789504578263},null,null,{"$f":"AEN7-AEM3*AEM7","v":0.17801535825928472},null,null,{"$f":"AEQ7-AEP3*AEP7","v":0.3885082136765079},null,null,{"$f":"AET7-AES3*AES7","v":0.50539485919448612},null,null,{"$f":"AEW7-AEV3*AEV7","v":0.65967337772625001},null,null,{"$f":"AEZ7-AEY3*AEY7","v":0.14128797693059614},null,null,{"$f":"AFC7-AFB3*AFB7","v":0.47584354302218967},null,null,{"$f":"AFF7-AFE3*AFE7","v":5.9802208065854234E-2},null,null,{"$f":"AFI7-AFH3*AFH7","v":0.38703460317784577},null,null,{"$f":"AFL7-AFK3*AFK7","v":0.51331677584274704},null,null,{"$f":"AFO7-AFN3*AFN7","v":0.50683452479394075},null,null,{"$f":"AFR7-AFQ3*AFQ7","v":0.11348192471686724},null,null,{"$f":"AFU7-AFT3*AFT7","v":0.64506560498361898},null,null,{"$f":"AFX7-AFW3*AFW7","v":0.53252436041687279},null,null,{"$f":"AGA7-AFZ3*AFZ7","v":0.33696938291688605},null,null,{"$f":"AGD7-AGC3*AGC7","v":0.48585715351741809},null,null,{"$f":"AGG7-AGF3*AGF7","v":0.60376657844674142},null,null,{"$f":"AGJ7-AGI3*AGI7","v":0.349318828039201},null,null,{"$f":"AGM7-AGL3*AGL7","v":0.78698253298714649},null,null,{"$f":"AGP7-AGO3*AGO7","v":0.38314248369029125},null,null,{"$f":"AGS7-AGR3*AGR7","v":0.61251444379666786},null,null,{"$f":"AGV7-AGU3*AGU7","v":0.55749354564734155},null,null,{"$f":"AGY7-AGX3*AGX7","v":0.42555533925078981},null,null,{"$f":"AHB7-AHA3*AHA7","v":0.12588773256738284},null,null,{"$f":"AHE7-AHD3*AHD7","v":0.34370501775226181},null,null,{"$f":"AHH7-AHG3*AHG7","v":0.47388972130345186},null,null,{"$f":"AHK7-AHJ3*AHJ7","v":0.47718103654409871},null,null,{"$f":"AHN7-AHM3*AHM7","v":0.34596402711123631},null,null,{"$f":"AHQ7-AHP3*AHP7","v":0.38266179259197752},null,null,{"$f":"AHT7-AHS3*AHS7","v":0.12737163860194478},null,null,{"$f":"AHW7-AHV3*AHV7","v":0.47180862442621185},null,null,{"$f":"AHZ7-AHY3*AHY7","v":0.43279551050841158},null,null,{"$f":"AIC7-AIB3*AIB7","v":-2.2307926745637641E-2},null,null,{"$f":"AIF7-AIE3*AIE7","v":0.17493822808270032},null,null,{"$f":"AII7-AIH3*AIH7","v":0.55995255752351314},null,null,{"$f":"AIL7-AIK3*AIK7","v":0.55897987777662017},null,null,{"$f":"AIO7-AIN3*AIN7","v":0.25726748938093991},null,null,{"$f":"AIR7-AIQ3*AIQ7","v":0.50008606336213957},null,null,{"$f":"AIU7-AIT3*AIT7","v":0.67281503395851994},null,null,{"$f":"AIX7-AIW3*AIW7","v":0.59859991656381339},null,null,{"$f":"AJA7-AIZ3*AIZ7","v":0.30096780637540199},null,null,{"$f":"AJD7-AJC3*AJC7","v":0.43048295898414146},null,null,{"$f":"AJG7-AJF3*AJF7","v":0.26575567833416613},null,null,{"$f":"AJJ7-AJI3*AJI7","v":0.45736680195419233},null,null,{"$f":"AJM7-AJL3*AJL7","v":0.26505727986807637},null,null,{"$f":"AJP7-AJO3*AJO7","v":0.36217356402389012},null,null,{"$f":"AJS7-AJR3*AJR7","v":0.47626143752508865},null,null,{"$f":"AJV7-AJU3*AJU7","v":0.27441474421145706},null,null,{"$f":"AJY7-AJX3*AJX7","v":0.57032296125251758},null,null,{"$f":"AKB7-AKA3*AKA7","v":0.33433185000677845},null,null,{"$f":"AKE7-AKD3*AKD7","v":0.35399997784825166},null,null,{"$f":"AKH7-AKG3*AKG7","v":0.45351617595200366},null,null,{"$f":"AKK7-AKJ3*AKJ7","v":0.40864215229461953},null,null,{"$f":"AKN7-AKM3*AKM7","v":0.46582770057191825},null,null,{"$f":"AKQ7-AKP3*AKP7","v":0.17006180768986257},null,null,{"$f":"AKT7-AKS3*AKS7","v":0.34435406469238306},null,null,{"$f":"AKW7-AKV3*AKV7","v":0.35926043012588593},null,null,{"$f":"AKZ7-AKY3*AKY7","v":0.57028324040111},null,null,{"$f":"ALC7-ALB3*ALB7","v":0.42707629270968139},null,null,{"$f":"ALF7-ALE3*ALE7","v":0.55174946436459082},null,null,{"$f":"ALI7-ALH3*ALH7","v":9.0959942740056476E-3},null,null,{"$f":"ALL7-ALK3*ALK7","v":0.33725435360705225},null,null,{"$f":"ALO7-ALN3*ALN7","v":0.50732407154272652},null,null,{"$f":"ALR7-ALQ3*ALQ7","v":0.45554152380283863},null,null,{"$f":"ALU7-ALT3*ALT7","v":0.50458644792683716},null,null,{"$f":"ALX7-ALW3*ALW7","v":0.12539805807554849},null,null,{"$f":"AMA7-ALZ3*ALZ7","v":0.33378710925463162},null,null,{"$f":"AMD7-AMC3*AMC7","v":0.13512755401750498},null,null,{"$f":"AMG7-AMF3*AMF7","v":0.38616357367147991},null,null,{"$f":"AMJ7-AMI3*AMI7","v":0.23415176970787321},null,null,{"$f":"AMM7-AML3*AML7","v":0.2943769437730368},null,null,{"$f":"AMP7-AMO3*AMO7","v":0.37489149416372047},null,null,{"$f":"AMS7-AMR3*AMR7","v":0.136656682874706},null,null,{"$f":"AMV7-AMU3*AMU7","v":0.64294817049612085},null,null,{"$f":"AMY7-AMX3*AMX7","v":0.44992606742413033},null,null,{"$f":"ANB7-ANA3*ANA7","v":0.54227867917257422},null,null,{"$f":"ANE7-AND3*AND7","v":0.12317836214686517},null,null,{"$f":"ANH7-ANG3*ANG7","v":0.33250871532760451},null,null,{"$f":"ANK7-ANJ3*ANJ7","v":0.40284618832210972},null,null,{"$f":"ANN7-ANM3*ANM7","v":0.23871930895862636},null,null,{"$f":"ANQ7-ANP3*ANP7","v":-0.13132590659687748},null,null,{"$f":"ANT7-ANS3*ANS7","v":0.49199672413854323},null,null,{"$f":"ANW7-ANV3*ANV7","v":0.29380997785622442},null,null,{"$f":"ANZ7-ANY3*ANY7","v":0.303152597538491},null,null,{"$f":"AOC7-AOB3*AOB7","v":0.49334164382528911},null,null,{"$f":"AOF7-AOE3*AOE7","v":0.63149707331171667},null,null,{"$f":"AOI7-AOH3*AOH7","v":0.10589923382559574},null,null,{"$f":"AOL7-AOK3*AOK7","v":0.49821438151403541},null,null,{"$f":"AOO7-AON3*AON7","v":0.4267478554058326},null,null,{"$f":"AOR7-AOQ3*AOQ7","v":0.61338517471362719},null,null,{"$f":"AOU7-AOT3*AOT7","v":0.37397259435446939},null,null,{"$f":"AOX7-AOW3*AOW7","v":0.6732282619531329},null,null,{"$f":"APA7-AOZ3*AOZ7","v":0.55996956597241887},null,null,{"$f":"APD7-APC3*APC7","v":0.52253987380491518},null,null,{"$f":"APG7-APF3*APF7","v":0.33214757145144391},null,null,{"$f":"APJ7-API3*API7","v":0.44381153520866512},null,null,{"$f":"APM7-APL3*APL7","v":0.67560974258711415},null,null,{"$f":"APP7-APO3*APO7","v":0.37808255177740424},null,null,{"$f":"APS7-APR3*APR7","v":0.43973366392480706},null,null,{"$f":"APV7-APU3*APU7","v":0.42946578201593777},null,null,{"$f":"APY7-APX3*APX7","v":0.33156402856121892},null,null,{"$f":"AQB7-AQA3*AQA7","v":0.23057961122477666},null,null,{"$f":"AQE7-AQD3*AQD7","v":0.4595970843550119},null,null,{"$f":"AQH7-AQG3*AQG7","v":7.9165713239490287E-2},null,null,{"$f":"AQK7-AQJ3*AQJ7","v":7.8591122127388946E-2},null,null,{"$f":"AQN7-AQM3*AQM7","v":0.3818947982084171},null,null,{"$f":"AQQ7-AQP3*AQP7","v":0.6622261689834632},null,null,{"$f":"AQT7-AQS3*AQS7","v":0.27117888752477892},null,null,{"$f":"AQW7-AQV3*AQV7","v":0.52142348957264684},null,null,{"$f":"AQZ7-AQY3*AQY7","v":0.1622496954721},null,null,{"$f":"ARC7-ARB3*ARB7","v":0.45425255046903423},null,null,{"$f":"ARF7-ARE3*ARE7","v":0.44348270504645182},null,null,{"$f":"ARI7-ARH3*ARH7","v":0.49666554257726192},null,null,{"$f":"ARL7-ARK3*ARK7","v":0.47080289950457033},null,null,{"$f":"ARO7-ARN3*ARN7","v":0.50436465743242076},null,null,{"$f":"ARR7-ARQ3*ARQ7","v":0.47989791794395842},null,null,{"$f":"ARU7-ART3*ART7","v":0.49168298829317969},null,null,{"$f":"ARX7-ARW3*ARW7","v":0.45392363997018625},null,null,{"$f":"ASA7-ARZ3*ARZ7","v":0.42468764740703424},null,null,{"$f":"ASD7-ASC3*ASC7","v":0.57909851948674929},null,null,{"$f":"ASG7-ASF3*ASF7","v":0.35111670954173668},null,null,{"$f":"ASJ7-ASI3*ASI7","v":0.39408138391361947},null,null,{"$f":"ASM7-ASL3*ASL7","v":0.41786692211374588},null,null,{"$f":"ASP7-ASO3*ASO7","v":0.48000531984620443},null,null,{"$f":"ASS7-ASR3*ASR7","v":0.40770067134378607},null,null,{"$f":"ASV7-ASU3*ASU7","v":0.51548840212372227},null,null,{"$f":"ASY7-ASX3*ASX7","v":0.20782120841609641},null,null,{"$f":"ATB7-ATA3*ATA7","v":0.39631948262576566},null,null,{"$f":"ATE7-ATD3*ATD7","v":0.2810377894657492},null,null,{"$f":"ATH7-ATG3*ATG7","v":0.22406249715155191},null,null,{"$f":"ATK7-ATJ3*ATJ7","v":0.19475558427610196},null,null,{"$f":"ATN7-ATM3*ATM7","v":0.29266106043457363},null,null,{"$f":"ATQ7-ATP3*ATP7","v":0.45990813424805932},null,null,{"$f":"ATT7-ATS3*ATS7","v":0.16313625876305826},null,null,{"$f":"ATW7-ATV3*ATV7","v":0.60569152217689304},null,null,{"$f":"ATZ7-ATY3*ATY7","v":0.51513594812630004},null,null,{"$f":"AUC7-AUB3*AUB7","v":0.37284703601736791},null,null,{"$f":"AUF7-AUE3*AUE7","v":0.40573977563152708},null,null,{"$f":"AUI7-AUH3*AUH7","v":0.27366511222823009},null,null,{"$f":"AUL7-AUK3*AUK7","v":0.43846771572816268},null,null,{"$f":"AUO7-AUN3*AUN7","v":0.41102907070851247},null,null,{"$f":"AUR7-AUQ3*AUQ7","v":0.28280052408180278},null,null,{"$f":"AUU7-AUT3*AUT7","v":0.63751530456333638},null,null,{"$f":"AUX7-AUW3*AUW7","v":0.45539988770967588},null,null,{"$f":"AVA7-AUZ3*AUZ7","v":0.35986047110092567},null,null,{"$f":"AVD7-AVC3*AVC7","v":0.45933119953031509},null,null,{"$f":"AVG7-AVF3*AVF7","v":0.58109277427142381},null,null,{"$f":"AVJ7-AVI3*AVI7","v":0.29699540422405546},null,null,{"$f":"AVM7-AVL3*AVL7","v":0.50493458058241281},null,null,{"$f":"AVP7-AVO3*AVO7","v":0.60152647206734722},null,null,{"$f":"AVS7-AVR3*AVR7","v":0.23290131679421533},null,null,{"$f":"AVV7-AVU3*AVU7","v":0.61150534479180951},null,null,{"$f":"AVY7-AVX3*AVX7","v":0.41892580263673951},null,null,{"$f":"AWB7-AWA3*AWA7","v":0.50404832486524631},null,null,{"$f":"AWE7-AWD3*AWD7","v":0.41021031611781567},null,null,{"$f":"AWH7-AWG3*AWG7","v":8.0946311222423795E-2},null,null,{"$f":"AWK7-AWJ3*AWJ7","v":0.39354975774077738},null,null,{"$f":"AWN7-AWM3*AWM7","v":0.19822873363303817},null,null,{"$f":"AWQ7-AWP3*AWP7","v":0.5204901843206664},null,null,{"$f":"AWT7-AWS3*AWS7","v":0.51280825820228815},null,null,{"$f":"AWW7-AWV3*AWV7","v":0.29943254802804287},null,null,{"$f":"AWZ7-AWY3*AWY7","v":0.51368829804674476},null,null,{"$f":"AXC7-AXB3*AXB7","v":0.30609310783001087},null,null,{"$f":"AXF7-AXE3*AXE7","v":0.54968976936282177},null,null,{"$f":"AXI7-AXH3*AXH7","v":0.4720775573476379},null,null,{"$f":"AXL7-AXK3*AXK7","v":0.2536495752374277},null,null,{"$f":"AXO7-AXN3*AXN7","v":0.24601234293956598},null,null,{"$f":"AXR7-AXQ3*AXQ7","v":0.35088831436488466},null,null,{"$f":"AXU7-AXT3*AXT7","v":0.28957357102504888},null,null,{"$f":"AXX7-AXW3*AXW7","v":0.44469677480429892},null,null,{"$f":"AYA7-AXZ3*AXZ7","v":0.32563870083882351},null,null,{"$f":"AYD7-AYC3*AYC7","v":0.24883561640649798},null,null,{"$f":"AYG7-AYF3*AYF7","v":0.38361313253415075},null,null,{"$f":"AYJ7-AYI3*AYI7","v":0.46136796932102175},null,null,{"$f":"AYM7-AYL3*AYL7","v":0.60727815828283704},null,null,{"$f":"AYP7-AYO3*AYO7","v":0.48222988101250497},null,null,{"$f":"AYS7-AYR3*AYR7","v":0.58109144202993424},null,null,{"$f":"AYV7-AYU3*AYU7","v":0.46978396751064677},null,null,{"$f":"AYY7-AYX3*AYX7","v":0.4970253220204488},null,null,{"$f":"AZB7-AZA3*AZA7","v":0.38668300149763413},null,null,{"$f":"AZE7-AZD3*AZD7","v":0.45772450057913261},null,null,{"$f":"AZH7-AZG3*AZG7","v":0.42151825525564979},null,null,{"$f":"AZK7-AZJ3*AZJ7","v":0.36889145627534337},null,null,{"$f":"AZN7-AZM3*AZM7","v":0.29350042192798753},null,null,{"$f":"AZQ7-AZP3*AZP7","v":7.5674222072723119E-2},null,null,{"$f":"AZT7-AZS3*AZS7","v":0.5821245643413917},null,null,{"$f":"AZW7-AZV3*AZV7","v":0.4088953823120649},null,null,{"$f":"AZZ7-AZY3*AZY7","v":0.34292614151707568},null,null,{"$f":"BAC7-BAB3*BAB7","v":0.41898503750134886},null,null,{"$f":"BAF7-BAE3*BAE7","v":0.57470965072778268},null,null,{"$f":"BAI7-BAH3*BAH7","v":0.4568532436379904},null,null,{"$f":"BAL7-BAK3*BAK7","v":0.42344630952678042},null,null,{"$f":"BAO7-BAN3*BAN7","v":4.6780304235549686E-2},null,null,{"$f":"BAR7-BAQ3*BAQ7","v":0.34646359649292435},null,null,{"$f":"BAU7-BAT3*BAT7","v":0.25924666285923204},null,null,{"$f":"BAX7-BAW3*BAW7","v":0.41641788299520588},null,null,{"$f":"BBA7-BAZ3*BAZ7","v":0.53528406376150439},null,null,{"$f":"BBD7-BBC3*BBC7","v":0.46471431686334697},null,null,{"$f":"BBG7-BBF3*BBF7","v":0.42082411927303376},null,null,{"$f":"BBJ7-BBI3*BBI7","v":0.38182803792139364},null,null,{"$f":"BBM7-BBL3*BBL7","v":0.2896920093559987},null,null,{"$f":"BBP7-BBO3*BBO7","v":0.26650222636951737},null,null,{"$f":"BBS7-BBR3*BBR7","v":0.222124677810696},null,null,{"$f":"BBV7-BBU3*BBU7","v":0.21332895113182904},null,null,{"$f":"BBY7-BBX3*BBX7","v":0.58164607973500004},null,null,{"$f":"BCB7-BCA3*BCA7","v":0.5865514283833746},null,null,{"$f":"BCE7-BCD3*BCD7","v":3.2849038494872307E-2},null,null,{"$f":"BCH7-BCG3*BCG7","v":0.75208262915401525},null,null,{"$f":"BCK7-BCJ3*BCJ7","v":0.4282435358289769},null,null,{"$f":"BCN7-BCM3*BCM7","v":-0.11834219293626003},null,null,{"$f":"BCQ7-BCP3*BCP7","v":0.45530980654545017},null,null,{"$f":"BCT7-BCS3*BCS7","v":0.69756857954809748},null,null,{"$f":"BCW7-BCV3*BCV7","v":0.47329164912218102},null,null,{"$f":"BCZ7-BCY3*BCY7","v":0.28386032451616749},null,null,{"$f":"BDC7-BDB3*BDB7","v":0.28183593917116401},null,null,{"$f":"BDF7-BDE3*BDE7","v":0.57789061122654317},null,null,{"$f":"BDI7-BDH3*BDH7","v":0.55378809729512524},null,null,{"$f":"BDL7-BDK3*BDK7","v":0.17974769172069394},null,null,{"$f":"BDO7-BDN3*BDN7","v":0.51162322730423826},null,null,{"$f":"BDR7-BDQ3*BDQ7","v":0.17720099436886549},null,null,{"$f":"BDU7-BDT3*BDT7","v":0.43643904307396619},null,null,{"$f":"BDX7-BDW3*BDW7","v":0.4855993892992343},null,null,{"$f":"BEA7-BDZ3*BDZ7","v":0.44334913323931691},null,null,{"$f":"BED7-BEC3*BEC7","v":6.7658119365718861E-3},null,null,{"$f":"BEG7-BEF3*BEF7","v":0.67193397178387571},null,null,{"$f":"BEJ7-BEI3*BEI7","v":8.7819814780134564E-2},null,null,{"$f":"BEM7-BEL3*BEL7","v":0.60777963591451867},null,null,{"$f":"BEP7-BEO3*BEO7","v":0.25353307730433849},null,null,{"$f":"BES7-BER3*BER7","v":0.39495221043810114},null,null,{"$f":"BEV7-BEU3*BEU7","v":0.5059935725225202},null,null,{"$f":"BEY7-BEX3*BEX7","v":0.49873571554312912},null,null,{"$f":"BFB7-BFA3*BFA7","v":0.45449127051037364},null,null,{"$f":"BFE7-BFD3*BFD7","v":0.18667239880629438},null,null,{"$f":"BFH7-BFG3*BFG7","v":0.21008752601878466},null,null,{"$f":"BFK7-BFJ3*BFJ7","v":0.37822519933106369},null,null,{"$f":"BFN7-BFM3*BFM7","v":0.19960515957608926},null,null,{"$f":"BFQ7-BFP3*BFP7","v":0.45763889757968768},null,null,{"$f":"BFT7-BFS3*BFS7","v":0.40457077964161314},null,null,{"$f":"BFW7-BFV3*BFV7","v":0.55751453942318596},null,null,{"$f":"BFZ7-BFY3*BFY7","v":0.48067597509194648},null,null,{"$f":"BGC7-BGB3*BGB7","v":0.43019369380140171},null,null,{"$f":"BGF7-BGE3*BGE7","v":0.3648646779097624},null,null,{"$f":"BGI7-BGH3*BGH7","v":0.50799043154040646},null,null,{"$f":"BGL7-BGK3*BGK7","v":0.26613465997459862},null,null,{"$f":"BGO7-BGN3*BGN7","v":0.4602443323851122},null,null,{"$f":"BGR7-BGQ3*BGQ7","v":0.18225263963219041},null,null,{"$f":"BGU7-BGT3*BGT7","v":0.40651743489886849}]
[null,null,1,0.22,0.51,null,null,{"$f":"IF(ISERROR(DEVSQ(D5,F5)),\"\",DEVSQ(D5,F5))","v":0},{"$f":"IF(ISERROR(DEVSQ(E5,G5)),\"\",DEVSQ(E5,G5))","v":0},null,"データ数：=COUNT(セル範囲)",null,{"$f":"COUNT(D5:D1304)","v":50},{"$f":"COUNT(E5:E1304)","v":50},{"$f":"COUNT(F5:F1304)","v":0},{"$f":"COUNT(G5:G1304)","v":0},"分　散",{"$f":"R4/M5","v":0},{"$f":"S4/N5","v":0},null,"データ区間","X累積","X","データ区間","Y累積","Y",null,"X開始点",{"$f":"X1m-(X1SD*t1_0.05)","v":-1.6103136433555028},{"$f":"AD4+$AC$7","v":-1.5555414614440961},-0.24920038299135228,{"$f":"(Y1SD/X1SD*(相関係数1*AD5-AG5))+切片1","v":-1.0264135765799074},{"$f":"IF((1-相関係数1^2)*((X1SD*t1_0.05)^2-(AD5-X1m)^2)>0,SQRT((1-相関係数1^2)*((X1SD*t1_0.05)^2-(AD5-X1m)^2)),0)","v":0.35170998386784846},{"$f":"X2m-(X2SD*t1_0.05)","v":{"$error":"#DIV/0!"}},{"$f":"AI4+$AH$7","v":{"$error":"#DIV/0!"}},{"$error":"#DIV/0!"},{"$error":"#DIV/0!"},{"$error":"#DIV/0!"},null,{"$f":"IF(D5<>\"\",RANK(D5,D$5:D$1304),\"\")","v":49},{"$f":"IF(E5<>\"\",RANK(E5,E$5:E$1304),\"\")","v":50},{"$f":"IF(F5<>\"\",RANK(F5,F$5:F$504),\"\")","v":""},{"$f":"IF(G5<>\"\",RANK(G5,G$5:G$504),\"\")","v":""},null,{"$f":"IF(D5<>\"\",(D5+E5)/2,\"\")","v":0.36499999999999999},{"$f":"IF(D5<>\"\",(E5-D5),\"\")","v":0.29000000000000004},null,{"$f":"IF(D5<>\"\",(D5+E5)/2,\"\")","v":0.36499999999999999},{"$f":"IF(D5<>\"\",(E5-D5),\"\")","v":0.29000000000000004},null,0.9565217391304357,1.3659942363112392,"Passing b",1.1086956521739129,null,null,0.98954691142191131,null,null,1.2868852459016396,null,null,1.1587763012181618,null,null,1.0392156862745099,null,null,1.0666666666666667,null,null,1.0116883116883115,null,null,1.1666666666666663,null,null,1.2054794520547945,null,null,1.1578947368421053,null,null,1.0191326530612246,null,null,1.3377483443708607,null,null,1.3695652173913047,null,null,1.0817610062893082,null,null,1.2164502164502169,null,null,1.1016989520482694,null,null,1.1547619047619049,null,null,1.1370716510903427,null,null,1.004149377593361,null,null,1.0930319383633709,null,null,1.1394422310756971,null,null,1.1242236024844718,null,null,1.510416666666667,null,null,1.032640949554896,null,null,1.0368304946193212,null,null,1.1627906976744193,null,null,0.98374413145539896,null,null,1.032640949554896,null,null,1.0697674418604648,null,null,1.1824817518248174,null,null,0.98792365478686228,null,null,1.0508474576271183,null,null,1.3267045454545452,null,null,1.009090909090909,null,null,1.0459770114942528,null,null,1.1746031746031744,null,null,1.1896117900790801,null,null,1.2314814814814812,null,null,1.2176165803108809,null,null,1.0802469135802468,null,null,0.98951048951048926,null,null,1.024390243902439,null,null,1.0697674418604648,null,null,0.96288963469106892,null,null,1.1578947368421053,null,null,1.0395808113176197,null,null,1.2741439859525898,null,null,1.1578947368421053,null,null,1.347209122867187,null,null,1.0824742268041234,null,null,1.0889830508474574,null,null,1.144927536231884,null,null,1.2490421455938696,null,null,1.0722031070795532,null,null,1.2192192192192191,null,null,1.0152729384436703,null,null,1.3461538461538463,null,null,1.0843373493975905,null,null,1.086021505376344,null,null,1.0069686411149825,null,null,1.0889830508474574,null,null,1.0082644628099173,null,null,1.0964912280701755,null,null,1.096385542168675,null,null,1.096685082872928,null,null,1.0603448275862071,null,null,1.2820512820512819,null,null,1.2970297029702971,null,null,1.0666666666666664,null,null,1.1824817518248174,null,null,1.1388888888888888,null,null,0.92348284960422156,null,null,0.93220338983050843,null,null,1.0320685062735109,null,null,0.92830188679245274,null,null,1.0066666666666668,null,null,1.0644466073414907,null,null,1.048951048951049,null,null,1.3965003723008189,null,null,1.1627906976744187,null,null,1.1529109188683657,null,null,1.1386138613861385,null,null,1.3569321533923304,null,null,1.1627906976744187,null,null,1.048951048951049,null,null,1.0970149253731345,null,null,1.0648148148148147,null,null,1.1975261735900034,null,null,1.1161290322580648,null,null,1.0330174397480925,null,null,1.1201550387596899,null,null,1.2250000000000001,null,null,1.2451923076923075,null,null,1.0314960629921257,null,null,1.0078124999999998,null,null,1.216326530612245,null,null,1.3659942363112392,null,null,1.1944444444444444,null,null,1.013192612137203,null,null,1.024390243902439,null,null,1.2275449101796405,null,null,1.1269703845235246,null,null,1.1923076923076923,null,null,1.2888888888888892,null,null,1.2250000000000001,null,null,1.1394422310756971,null,null,1.0622489959839356,null,null,1.0365853658536588,null,null,1.0700636942675161,null,null,0.97247689115261293,null,null,1.096385542168675,null,null,1.0719424460431648,null,null,1.0906801007556675,null,null,1.1201550387596899,null,null,1.1469230769230769,null,null,1.1176470588235292,null,null,1.0945121951219512,null,null,0.9565217391304357,null,null,1.1063829787234043,null,null,1.1632653061224489,null,null,1.0043478260869565,null,null,1.0817610062893082,null,null,1.0498992532890836,null,null,0.99264705882352922,null,null,1.2287581699346406,null,null,0.91521739130434776,null,null,1.0714285714285714,null,null,1.0978723404255319,null,null,1.2583425009167586,null,null,1.1276595744680848,null,null,1.1274509803921569,null,null,1.0568181818181817,null,null,1.25,null,null,1.2019082294426475,null,null,1.3018867924528303,null,null,1.2176165803108809,null,null,1.0700636942675161,null,null,1.2287581699346406,null,null,1.024390243902439,null,null,1.1547619047619049,null,null,1.1086956521739129,null,null,1.0685483870967742,null,null,1.2012195121951219,null,null,1.1007751937984498,null,null,1.300554086176303,null,null,1.00705574912892,null,null,0.98951048951048926,null,null,1.1632653061224489,null,null,1.1273584905660377,null,null,1.2574257425742574,null,null,0.9565217391304357,null,null,1.393939393939394,null,null,1.00705574912892,null,null,1.1578947368421053,null,null,1.0355987055016183,null,null,1.0714285714285714,null,null,1.0931677018633539,null,null,1.1032745591939546,null,null,1.0813559322033897,null,null,1.0628571428571429,null,null,1.0522088353413654,null,null,0.98415492957746464,null,null,1.0522088353413654,null,null,0.93793103448275839,null,null,1.2012195121951219,null,null,1.0889830508474574,null,null,1,null,null,1.2983193277310925,null,null,1.0666666666666667,null,null,1.0759493670886076,null,null,1.2735426008968609,null,null,1.1694260485651213,null,null,1.1273584905660377,null,null,1.014363354037267,null,null,1.0700636942675161,null,null,1.0522088353413654,null,null,1.2164502164502169,null,null,1.0462046204620461,null,null,1.0945121951219512,null,null,1.2298850574712643,null,null,1.2375160126455826,null,null,1.1746031746031744,null,null,1.2735426008968609,null,null,1.0522088353413654,null,null,1.3457943925233646,null,null,1.2012195121951219,null,null,1.1265822784810116,null,null,1.1923076923076927,null,null,1.0759493670886076,null,null,1.2193362193362196,null,null,1.1640508221225709,null,null,0.99264705882352922,null,null,1.0545135085797734,null,null,1.226027397260274,null,null,1.042534838412231,null,null,1.216326530612245,null,null,1.3461538461538463,null,null,1.0890804597701149,null,null,1.4090909090909092,null,null,0.97337278106508862,null,null,1.2222222222222221,null,null,1.2093023255813939,null,null,1.108888888888889,null,null,1.1578947368421053,null,null,1.1578947368421053,null,null,1.0897435897435899,null,null,0.99999999999999989,null,null,1.0843373493975905,null,null,1.0178571428571428,null,null,1.078855186688958,null,null,1.0142857142857142,null,null,1.0178571428571428,null,null,1.0394265232974911,null,null,1.0099009900990099,null,null,1.2983870967741939,null,null,1.0568181818181817,null,null,1.0204081632653061,null,null,1.083405788100857,null,null,1.1790393013100438,null,null,1.0260655459330956,null,null,1.096385542168675,null,null,1.1003875968992247,null,null,1.2037169247244655,null,null,1.1469387755102041,null,null,1.1627906976744187,null,null,1.2142857142857126,null,null,1.0459770114942528,null,null,1.1276595744680848,null,null,1.0348360655737705,null,null,1.0813559322033897,null,null,1.1007751937984498,null,null,1.064457831325301,null,null,0.87096774193548365,null,null,1.0817610062893082,null,null,1.2983870967741939,null,null,1.2280701754385965,null,null,1.2018975768657891,null,null,1.0890804597701149,null,null,1.2281515400571406,null,null,1.0970149253731345,null,null,1.0759493670886076,null,null,1.2093023255813939,null,null,1.0603448275862071,null,null,1.0685483870967742,null,null,1.139165559982293,null,null,0.99219129800680594,null,null,1.1399999999999999,null,null,1.4166666666666665,null,null,1.0964383851194253,null,null,1.096385542168675,null,null,1.0459770114942528,null,null,1.1281421194726218,null,null,1.139165559982293,null,null,1.1003794179617572,null,null,0.95999999999999963,null,null,1.0326086956521738,null,null,1.2451923076923075,null,null,1.3076923076923077,null,null,1.1694352159468442,null,null,1.1394422310756971,null,null,1.226027397260274,null,null,1.1632653061224489,null,null,1.1627906976744187,null,null,1.0983425414364638,null,null,1.0898802802628911,null,null,1.0568181818181817,null,null,1.4230235783633842,null,null,1.1358695652173914,null,null,1.1032745591939546,null,null,1.0974842767295598,null,null,1.0897435897435899,null,null,1.0676075268817204,null,null,1.1790393013100438,null,null,1.013192612137203,null,null,1.2054794520547945,null,null,1.1273584905660377,null,null,1.0334261838440111,null,null,1.0622489959839356,null,null,1.2306832694763727,null,null,1.0899999999999999,null,null,1.0284237726098189,null,null,1.0284237726098189,null,null,1.1500619160193628,null,null,1.0796460176991147,null,null,1.1147655470568676,null,null,1.0700636942675161,null,null,1.048951048951049,null,null,1.2592592592592595,null,null,1.2275449101796405,null,null,1.0931677018633539,null,null,1.048951048951049,null,null,1.25,null,null,1.2532026672054959,null,null,1.0082644628099173,null,null,1.0397350993377483,null,null,1.0365853658536588,null,null,1.0568181818181817,null,null,1.1666666666666663,null,null,1.0392156862745099,null,null,1.1358695652173914,null,null,1.1803278688524592,null,null,1.1370716510903427,null,null,1.1481481481481481,null,null,1.2043440041022635,null,null,1.1377782682726871,null,null,1.0178571428571428,null,null,1.2489795918367343,null,null,1.0813559322033897,null,null,1.0458100825106118,null,null,1.3513513513513513,null,null,1.1201550387596899,null,null,1.1386138613861385,null,null,1.2020202020202022,null,null,1.0355987055016183,null,null,0.97938144329896903,null,null,1.3453109893651307,null,null,1.02510460251046,null,null,1.0078124999999998,null,null,1.1388888888888888,null,null,1.0326086956521738,null,null,1.5209580838323353,null,null,1.1721854304635762,null,null,1.1627906976744187,null,null,1.1370716510903427,null,null,1.2164502164502169,null,null,1.1086956521739129,null,null,1.3221153846153846,null,null,1.1147655470568676,null,null,1.0612969117850715,null,null,1.0355987055016183,null,null,1.0364491746553972,null,null,1.363636363636364,null,null,1.1016949152542375,null,null,1.2032085561497325,null,null,1.1399999999999999,null,null,1.3152096659559347,null,null,0.97717576051892197,null,null,1.1694352159468442,null,null,1.1632653061224489,null,null,1.0889830508474574,null,null,1.032640949554896,null,null,1.0931677018633539,null,null,1.0170586527293843,null,null,1.0906801007556675,null,null,1.0068826868495744,null,null,1.0906801007556675,null,null,1.0508474576271183,null,null,1.0314960629921257,null,null,1.096685082872928,null,null,1.1519756838905775,null,null,1.0078124999999998,null,null,1.2054794520547945,null,null,1.0899999999999999,null,null,1.2162162162162162,null,null,1.0043478260869565,null,null,1.3004281162883313,null,null,1.119341563786008,null,null,1.1549352103663413,null,null,1.2212389380530977,null,null,1.3545454545454545,null,null,1.0648148148148147,null,null,1.0843373493975905,null,null,1.1134020618556704,null,null,1.0857286388257905,null,null,1.2527056277056279,null,null,1.004149377593361,null,null,1.1944444444444444,null,null,1.2314814814814812,null,null,1.1632653061224489,null,null,1.0043478260869565,null,null,0.96192384769539074,null,null,0.96250000000000002,null,null,1.0394265232974911,null,null,1.0365853658536588,null,null,1.0510204081632653,null,null,1.0824742268041234,null,null,1.0777976923938613,null,null,1.1032745591939546,null,null,1.0274725274725276,null,null,1.144927536231884,null,null,0.97637795275590566,null,null,1.2314814814814812,null,null,1.1122955974842768,null,null,1.3448275862068966,null,null,1.2490421455938696,null,null,1.024390243902439,null,null,1.2888888888888892,null,null,1.0484122345606854,null,null,1.2340425531914894,null,null,0.99476439790575943,null,null,0.96153846153846145,null,null,1.0724637681159419,null,null,1.2162162162162162,null,null,1.2451923076923075,null,null,1.0380622837370239,null,null,1.1161290322580648,null,null,1.1975261735900034,null,null,1.0000000000000002,null,null,1.119341563786008,null,null,1.1063829787234043,null,null,1.1694352159468442,null,null,0.93220338983050843,null,null,1.0742065676022747,null,null,1.0843373493975905,null,null,0.97797356828193815,null,null,1.119341563786008,null,null,1.0392156862745099,null,null,1.2868852459016396,null,null,1.1086956521739129,null,null,1.0897435897435899,null,null,1.2872340425531916,null,null,1.1388888888888888,null,null,1.0964912280701755,null,null,1.0951284379865076,null,null,1.0945121951219512,null,null,1.0897435897435899,null,null,1.0697674418604648,null,null,1.0365853658536588,null,null,1.2250000000000001,null,null,1.0889830508474574,null,null,1.1547619047619049,null,null,1.1190397835307884,null,null,1.0714285714285714,null,null,1.2574257425742574,null,null,0.97717576051892197,null,null,0.93478260869565211,null,null,1.1274509803921569,null,null,1.1605800214822772,null,null,1.004149377593361,null,null,0.93117408906882593,null,null,1.1179245283018868,null,null,1.0961179544606199,null,null,1.0906801007556675,null,null,1.0348360655737705,null,null,1.1519756838905775,null,null,1.0697674418604648,null,null,1.0334261838440111,null,null,1.2212389380530977,null,null,1,null,null,1.1761641465432933,null,null,1.0875022781119008,null,null,1.089031755308786,null,null,1.0945121951219512,null,null,1.0972496010513471,null,null,1.0355987055016183,null,null,1.0551948051948052,null,null,1.2000000000000004,null,null,1.2176165803108809,null,null,1.0842478660902337,null,null,1.2000000000000004,null,null,1.0466311005730093,null,null,1.0326086956521738,null,null,1.0250156347717323,null,null,1.0256410256410255,null,null,1.2983532122526431,null,null,1.2574257425742574,null,null,1.2912963461711107,null,null,1.2842548076923075,null,null,1.2164502164502169,null,null,1.0796460176991147,null,null,1.0824742268041234,null,null,1.2983870967741939,null,null,1.0264900662251659,null,null,1.0341311247088907,null,null,1.392156862745098,null,null,0.98958333333333337,null,null,1.004149377593361,null,null,0.97590361445783136,null,null,1.3076923076923077,null,null,1.1923076923076927,null,null,1.1317645698427381,null,null,1.0628571428571429,null,null,1.2854080660527152,null,null,1.0755372945638431,null,null,1.1632653061224489,null,null,1.0305323610823574,null,null,1.037407195888064,null,null,1.0348360655737705,null,null,1.2093023255813939,null,null,1.0078124999999998,null,null,1.1265822784810116,null,null,1.0047619047619052,null,null,1.0699155680639905,null,null,0.97076023391812893,null,null,1.0719424460431648,null,null,1.048951048951049,null,null,1.1370716510903427,null,null,1.3659942363112392,null,null,1.2735426008968609,null,null,1.2280701754385965,null,null,1.2490108687153021,null,null,1.1394444444444445,null,null,1.1632653061224489,null,null,1.1578947368421053,null,null,0.97867750579045354,null,null,1.2835820895522387,null,null,1.1803278688524592,null,null,1.0985803679835624,null,null,1.1484516100612308,null,null,1.0622489959839356,null,null,1.4571428571428573,null,null,1.2032085561497325]
[null,null,2,0.22,0.56000000000000005,null,null,0,0,null,"平　　均：=AVERAGE(セル範囲) ",null,{"$f":"AVERAGE(D5:D1304)","v":2.4976000000000003},{"$f":"AVERAGE(E5:E1304)","v":3.1707999999999998},{"$f":"AVERAGE(F5:F1304)","v":{"$error":"#DIV/0!"}},{"$f":"AVERAGE(G5:G1304)","v":{"$error":"#DIV/0!"}},"精密度SD",{"$f":"R5^0.5","v":0},{"$f":"S5^0.5","v":0},null,{"$f":"CEILING(((_MAX1-_MIN1)/階級数)+_MIN1,0.01)","v":0.85},{"$f":"FREQUENCY($D$5:$D$1304,U6)","v":8},{"$f":"V6","v":8},{"$f":"CEILING(((_MAX2-_MIN2)/階級数)+_MIN2,0.1)","v":1.1000000000000001},{"$f":"FREQUENCY($E$5:$E$1304,X6)","v":7},{"$f":"Y6","v":7},null,"X終了点",{"$f":"X1m+(X1SD*t1_0.05)","v":6.6055136433555033},{"$f":"AD5+$AC$7","v":-1.5007692795326895},-3.8613906768538708E-2,-1.1340647290247312,0.49572111513550643,{"$f":"X2m+(X2SD*t1_0.05)","v":{"$error":"#DIV/0!"}},{"$f":"AI5+$AH$7","v":{"$error":"#DIV/0!"}},{"$error":"#DIV/0!"},{"$error":"#DIV/0!"},{"$error":"#DIV/0!"},null,{"$f":"IF(D6<>\"\",RANK(D6,$D$5:$D$1304),\"\")","v":49},{"$f":"IF(E6<>\"\",RANK(E6,$E$5:$E$1304),\"\")","v":49},"","",null,{"$f":"IF(D6<>\"\",(D6+E6)/2,\"\")","v":0.39},{"$f":"IF(D6<>\"\",(E6-D6),\"\")","v":0.34000000000000008},null,{"$f":"IF(D6<>\"\",(D6+E6)/2,\"\")","v":0.39},{"$f":"IF(D6<>\"\",(E6-D6),\"\")","v":0.34000000000000008},null,9.5564516129031052E-2,0.59213793103448298,"Passing a",0.34195652173913071,null,null,0.53867642773892799,null,null,0.10803278688524576,null,null,0.37581949058693231,null,null,0.52509803921568554,null,null,0.37333333333333352,null,null,0.5602597402597409,null,null,0.3350000000000003,null,null,0.33554794520547948,null,null,0.37684210526315787,null,null,0.50051020408163183,null,null,8.4635761589404002E-2,null,null,0.20043478260869543,null,null,0.47443396226415091,null,null,0.30162337662337579,null,null,0.36779136233724974,null,null,0.38047619047619041,null,null,0.23915887850467277,null,null,0.57842323651452254,null,null,0.37905848012761778,null,null,0.31872509960159379,null,null,0.30596273291925491,null,null,-7.4479166666667318E-2,null,null,0.41955489614243324,null,null,0.4521203569948824,null,null,0.25418604651162774,null,null,0.40479284037558694,null,null,0.4439169139465875,null,null,0.40767441860465137,null,null,0.25631386861313876,null,null,0.43386443046820405,null,null,0.54949152542372903,null,null,0.16528409090909113,null,null,0.40440909090909094,null,null,0.40298850574712652,null,null,0.24349206349206365,null,null,0.40339863407620324,null,null,0.28907407407407421,null,null,0.29212435233160627,null,null,0.36376543209876466,null,null,0.51363636363636389,null,null,0.43378048780487788,null,null,0.40767441860465148,null,null,0.55791196851534375,null,null,0.49315789473684202,null,null,0.44854494528709443,null,null,0.16417251975417058,null,null,0.37684210526315787,null,null,0.22168395781531314,null,null,0.48278350515463941,null,null,0.34966101694915275,null,null,0.31159420289855078,null,null,0.23521072796934869,null,null,0.40613596079658087,null,null,0.24177177177177184,null,null,0.57014518002322845,null,null,0.26961538461538437,null,null,0.37710843373493941,null,null,0.31172043010752692,null,null,0.576829268292683,null,null,0.32716101694915256,null,null,0.61702479338842975,null,null,0.3134210526315786,null,null,0.34048192771084285,null,null,0.3130662983425414,null,null,0.37413793103448262,null,null,0.32371794871794873,null,null,0.2038613861386136,null,null,0.37533333333333396,null,null,0.36021897810219006,null,null,0.40944444444444428,null,null,0.59947229551451198,null,null,0.60576271186440678,null,null,0.45831094184443577,null,null,0.54377358490566108,null,null,0.51503333333333301,null,null,0.409377085650723,null,null,0.34545454545454546,null,null,7.4549516008935335E-2,null,null,0.39418604651162781,null,null,0.30121580547112448,null,null,0.26386138613861387,null,null,0.1259882005899704,null,null,0.377906976744186,null,null,0.3723776223776224,null,null,0.4638805970149249,null,null,0.40925925925925932,null,null,0.21506754474839584,null,null,0.31445161290322576,null,null,0.50755116870534112,null,null,0.27538759689922465,null,null,0.35799999999999998,null,null,0.24108173076923106,null,null,0.38346456692913478,null,null,0.57343750000000071,null,null,0.30906122448979545,null,null,0.13544668587896269,null,null,0.24722222222222223,null,null,0.572849604221636,null,null,0.51707317073170733,null,null,0.29604790419161708,null,null,0.38936947695247209,null,null,0.27269230769230773,null,null,0.22644444444444439,null,null,0.29899999999999993,null,null,0.3970517928286853,null,null,0.50907630522088354,null,null,0.6317073170731704,null,null,0.4038216560509551,null,null,0.43880739483116388,null,null,0.35759036144578271,null,null,0.39856115107913848,null,null,0.32005037783375323,null,null,0.28065891472868221,null,null,0.22113076923076891,null,null,0.36970588235294133,null,null,0.35996951219512197,null,null,0.43869565217391121,null,null,0.28436170212765954,null,null,0.37775510204081636,null,null,0.45460869565217399,null,null,0.38238993710691827,null,null,0.43034253881711582,null,null,0.51838235294117685,null,null,0.2926143790849669,null,null,0.56513043478260871,null,null,0.40714285714285714,null,null,0.31089361702127638,null,null,0.16415474880821379,null,null,0.54914893617021288,null,null,0.24313725490196081,null,null,0.44090909090909136,null,null,0.22250000000000014,null,null,0.36111129171204315,null,null,0.15424528301886775,null,null,0.1901554404145076,null,null,0.40824840764331194,null,null,0.2926143790849669,null,null,0.51707317073170733,null,null,0.38047619047619041,null,null,0.39521739130434785,null,null,0.44663306451612872,null,null,0.37054878048780493,null,null,0.31782945736434076,null,null,0.21135726003548871,null,null,0.57576655052264791,null,null,0.60076923076923128,null,null,0.25755102040816324,null,null,0.32320754716981137,null,null,0.26935643564356426,null,null,0.59652173913043438,null,null,0.25333333333333335,null,null,0.57731881533101037,null,null,0.49315789473684202,null,null,0.43478964401294484,null,null,0.40714285714285714,null,null,0.45192546583850945,null,null,0.2841435768261964,null,null,0.43479661016949173,null,null,0.40988571428571424,null,null,0.49943775100401622,null,null,0.52059859154929589,null,null,0.43212851405622499,null,null,0.59213793103448298,null,null,0.32750000000000001,null,null,0.35084745762711922,null,null,0.57999999999999996,null,null,0.10277310924369742,null,null,0.40866666666666668,null,null,0.37379746835442995,null,null,0.14439461883408078,null,null,0.30272626931567337,null,null,0.41226415094339641,null,null,0.37692934782608711,null,null,0.36178343949044534,null,null,0.45381526104417702,null,null,0.30861471861471768,null,null,0.55227722772277232,null,null,0.33536585365853666,null,null,0.23942528735632185,null,null,0.19122918356074248,null,null,0.23730158730158746,null,null,0.20085201793722007,null,null,0.48124497991967807,null,null,0.22355140186915867,null,null,0.14743902439024381,null,null,0.53189873417721556,null,null,0.33846153846153781,null,null,0.38734177215189902,null,null,0.24174603174603171,null,null,0.28673393124065782,null,null,0.50345588235294136,null,null,0.39024027929901428,null,null,0.27404109589041115,null,null,0.48090245244575325,null,null,0.30877551020408123,null,null,0.34576923076923072,null,null,0.3495402298850574,null,null,0.25000000000000006,null,null,0.61156804733727832,null,null,0.30222222222222239,null,null,0.31360465116279312,null,null,0.32497777777777759,null,null,0.3794736842105263,null,null,0.3052631578947369,null,null,0.34871794871794859,null,null,0.57000000000000017,null,null,0.31325301204819267,null,null,0.49196428571428574,null,null,0.48748825730435441,null,null,0.42542857142857143,null,null,0.43589285714285719,null,null,0.46594982078853064,null,null,0.45980198019801966,null,null,0.11846774193548359,null,null,0.32750000000000012,null,null,0.49387755102040742,null,null,0.36646379331760048,null,null,0.37270742358078601,null,null,0.46611479028697578,null,null,0.42367469879518049,null,null,0.31791472868217063,null,null,0.36481058408817102,null,null,0.30897959183673462,null,null,0.377906976744186,null,null,0.31142857142857339,null,null,0.32988505747126462,null,null,0.3119148936170214,null,null,0.5590983606557377,null,null,0.46562711864406814,null,null,0.36899224806201536,null,null,0.41951807228915738,null,null,0.64322580645161298,null,null,0.46515723270440268,null,null,0.2079838709677414,null,null,0.29350877192982439,null,null,0.20964700468642139,null,null,0.45666666666666678,null,null,0.35699150718171502,null,null,0.33402985074626834,null,null,0.38734177215189902,null,null,0.33441860465116857,null,null,0.3267241379310345,null,null,0.41183467741935453,null,null,0.38546702080566625,null,null,0.51015131259115232,null,null,0.31800000000000006,null,null,0.10000000000000053,null,null,0.31351775523145164,null,null,0.31361445783132469,null,null,0.4277586206896552,null,null,0.38899452176876104,null,null,0.28743470562195661,null,null,0.31791652804841347,null,null,0.5096000000000005,null,null,0.48913043478260887,null,null,0.23605769230769236,null,null,0.14423076923076927,null,null,0.39571428571428546,null,null,0.46019920318725172,null,null,0.29027397260273979,null,null,0.3777551020408163,null,null,0.19209302325581357,null,null,0.33805524861878489,null,null,0.40123831031587487,null,null,0.40681818181818263,null,null,4.5409153952843173E-2,null,null,0.49847826086956515,null,null,0.38134760705289678,null,null,0.3391194968553457,null,null,0.32397435897435756,null,null,0.41211021505376344,null,null,0.40936681222707416,null,null,0.60985488126649057,null,null,0.33554794520547948,null,null,0.45530660377358501,null,null,0.42883008356545949,null,null,0.37944779116465865,null,null,0.29011174968071529,null,null,0.34840000000000004,null,null,0.51519379844961299,null,null,0.52702842377261017,null,null,0.30491950917482824,null,null,0.3442477876106198,null,null,0.3176907216494842,null,null,0.36178343949044534,null,null,0.43496503496503502,null,null,0.1540740740740737,null,null,0.23637724550898265,null,null,0.34180124223602526,null,null,0.34545454545454546,null,null,0.22750000000000004,null,null,0.42807839967670247,null,null,0.56694214876033056,null,null,0.43281456953642383,null,null,0.4097560975609742,null,null,0.45284090909090913,null,null,0.37000000000000044,null,null,0.41441176470588226,null,null,0.2195652173913043,null,null,0.36393442622950789,null,null,0.40640186915887844,null,null,0.30740740740740735,null,null,0.32435279466705724,null,null,0.28915494734186797,null,null,0.50714285714285712,null,null,0.3513469387755106,null,null,0.34125423728813609,null,null,0.40616754900558005,null,null,7.0270270270270219E-2,null,null,0.2701162790697671,null,null,0.46198019801980239,null,null,0.32565656565656553,null,null,0.41860841423948214,null,null,0.52773195876288637,null,null,0.21276990009667962,null,null,0.41799163179916388,null,null,0.42750000000000005,null,null,0.30944444444444452,null,null,0.41956521739130437,null,null,-4.4311377245509043E-2,null,null,0.37490066225165564,null,null,0.25418604651162791,null,null,0.36680685358255438,null,null,0.30891774891774837,null,null,0.36250000000000027,null,null,0.23697115384615383,null,null,0.28556335217825057,null,null,0.51031401467940696,null,null,0.51870550161812279,null,null,0.45261607294798356,null,null,0.13818181818181796,null,null,0.30389830508474525,null,null,0.27029411764705885,null,null,0.26090000000000013,null,null,9.0227434257284855E-2,null,null,0.43730375663394494,null,null,0.26622923588039843,null,null,0.29591836734693888,null,null,0.32716101694915278,null,null,0.48902077151335366,null,null,0.31950310559006212,null,null,0.43884727061556328,null,null,0.34755667506297239,null,null,0.57659886471144706,null,null,0.33580604534005032,null,null,0.3969491525423734,null,null,0.45905511811023647,null,null,0.31589779005524865,null,null,0.271550151975684,null,null,0.43890625000000016,null,null,0.35849315068493182,null,null,0.38300000000000023,null,null,0.29513513513513523,null,null,0.5773913043478256,null,null,0.21150338510553568,null,null,0.26767489711934178,null,null,0.38042073268277077,null,null,0.29132743362831803,null,null,3.9090909090909065E-2,null,null,0.46212962962962989,null,null,0.48036144578313222,null,null,0.39371134020618548,null,null,0.47855276952647219,null,null,0.17148268398268374,null,null,0.45485477178423239,null,null,0.33722222222222209,null,null,0.28907407407407426,null,null,0.40897959183673516,null,null,0.55495652173913057,null,null,0.42464929859719447,null,null,0.55368749999999989,null,null,0.41111111111111098,null,null,0.51756097560975589,null,null,0.44540816326530619,null,null,0.39278350515463956,null,null,0.46975467682312111,null,null,0.32460957178841321,null,null,0.4259340659340658,null,null,0.26920289855072466,null,null,0.58740157480314892,null,null,0.25435185185185372,null,null,0.31529496855345918,null,null,0.14172413793103433,null,null,0.23521072796934867,null,null,0.4221951219512195,null,null,0.22644444444444439,null,null,0.40140561075394543,null,null,0.28851063829787238,null,null,0.50680628272251282,null,null,0.44230769230769235,null,null,0.36376811594202907,null,null,0.30918918918918914,null,null,0.24610576923076977,null,null,0.41782006920415232,null,null,0.34903225806451577,null,null,0.29654424181019934,null,null,0.48999999999999932,null,null,0.39181069958847742,null,null,0.34489361702127652,null,null,0.36345514950166091,null,null,0.61033898305084722,null,null,0.34769767015226583,null,null,0.42626506024096367,null,null,0.5855506607929517,null,null,0.27362139917695527,null,null,0.45784313725490178,null,null,0.30131147540983561,null,null,0.3586956521739133,null,null,0.34871794871794837,null,null,0.12861702127659558,null,null,0.40944444444444428,null,null,0.29570175438596369,null,null,0.39955889984431758,null,null,0.31920731707317079,null,null,0.31429487179487176,null,null,0.40767441860465148,null,null,0.41463414634146312,null,null,0.38299999999999979,null,null,0.32042372881355941,null,null,0.26809523809523794,null,null,0.26668860611379275,null,null,0.40071428571428491,null,null,0.42554455445544548,null,null,0.52967151132540136,null,null,0.44934782608695656,null,null,0.32313725490196077,null,null,0.3786143931256713,null,null,0.58460580912863058,null,null,0.59781376518218621,null,null,0.43669811320754692,null,null,0.33086972751026433,null,null,0.46346347607052896,null,null,0.41782786885245882,null,null,0.38136778115501518,null,null,0.40767441860465148,null,null,0.42618384401114184,null,null,0.29132743362831853,null,null,0.5,null,null,0.15896449259008505,null,null,0.3862470384545289,null,null,0.34960062341710518,null,null,0.31920731707317079,null,null,0.31860508776870367,null,null,0.50032362459546897,null,null,0.45709415584415547,null,null,0.29599999999999999,null,null,0.2671243523316062,null,null,0.35553264604811008,null,null,0.3299999999999994,null,null,0.43937956925508792,null,null,0.43032608695652175,null,null,0.44422138836772973,null,null,0.44307692307692292,null,null,0.27436229330441858,null,null,0.16069306930693106,null,null,0.22591480384235568,null,null,0.22046875000000021,null,null,0.26738095238095233,null,null,0.40048672566371707,null,null,0.40360824742268048,null,null,9.5564516129031052E-2,null,null,0.50993377483443592,null,null,0.41767740536097553,null,null,8.0196078431371998E-2,null,null,0.4909895833333332,null,null,0.57842323651452265,null,null,0.51060240963855408,null,null,9.8461538461538822E-2,null,null,0.33692307692307644,null,null,0.40715309898242391,null,null,0.43662857142857003,null,null,0.21896951413147003,null,null,0.36633375474083452,null,null,0.21632653061224483,null,null,0.43412577921928586,null,null,0.51660765276984577,null,null,0.41885245901639345,null,null,0.12534883720930373,null,null,0.52039062500000033,null,null,0.33215189873417794,null,null,0.4611428571428568,null,null,0.36228706858243243,null,null,0.39941520467836167,null,null,0.39856115107913848,null,null,0.53849650349650335,null,null,0.2652647975077882,null,null,0.25948126801152743,null,null,0.27982062780269068,null,null,0.25473684210526326,null,null,0.23521760888263354,null,null,0.46019444444444479,null,null,0.34091836734693881,null,null,0.38473684210526304,null,null,0.52771924247241042,null,null,0.36335820895522364,null,null,0.37229508196721306,null,null,0.32397496964602546,null,null,0.25734064578652927,null,null,0.30130522088353429,null,null,2.9714285714285582E-2,null,null,0.32310160427807544]
[null,null,3,0.46,0.7,null,null,0,0,null,"分　　散：=VER（セル範囲)",null,{"$f":"VAR(D5:D1304)","v":2.8159165714285717},{"$f":"VAR(E5:E1304)","v":3.4377217959183675},{"$f":"VAR(F5:F1304)","v":{"$error":"#DIV/0!"}},{"$f":"VAR(G5:G1304)","v":{"$error":"#DIV/0!"}},"CV",{"$f":"R6/X1m","v":0},{"$f":"S6/X1m","v":0},null,{"$f":"U6+CEILING((_MAX1-_MIN1)/階級数,0.01)","v":1.48},17,{"$f":"V7-V6","v":9},{"$f":"X6+CEILING((_MAX2-_MIN2)/階級数,0.01)","v":1.6800000000000002},12,{"$f":"Y7-Y6","v":5},null,"serp",{"$f":"(AC6-AC5)/150","v":5.477218191140671E-2},-1.4459970976212828,0.13368209409046261,-1.2034254061057421,0.6050772956545335,{"$f":"(AH6-AH5)/150","v":{"$error":"#DIV/0!"}},{"$error":"#DIV/0!"},{"$error":"#DIV/0!"},{"$error":"#DIV/0!"},{"$error":"#DIV/0!"},null,44,48,"","",null,{"$f":"IF(D7<>\"\",(D7+E7)/2,\"\")","v":0.57999999999999996},0.23999999999999994,null,0.57999999999999996,0.23999999999999994,null,"↑\nrank\nブートストラップ用に使用",null,"平均X・Y=",{"$f":"AVERAGE(BB11:BB511)","v":2.569199999999999},{"$f":"AVERAGE(BC11:BC511)","v":3.1675999999999993},null,{"$f":"AVERAGE(BE11:BE511)","v":2.4429999999999996},{"$f":"AVERAGE(BF11:BF511)","v":3.1648000000000001},null,{"$f":"AVERAGE(BH11:BH511)","v":2.7244000000000002},{"$f":"AVERAGE(BI11:BI511)","v":3.6014000000000004},null,{"$f":"AVERAGE(BK11:BK511)","v":2.2723999999999998},{"$f":"AVERAGE(BL11:BL511)","v":2.9090000000000003},null,{"$f":"AVERAGE(BN11:BN511)","v":2.5464000000000002},{"$f":"AVERAGE(BO11:BO511)","v":3.1548000000000003},null,{"$f":"AVERAGE(BQ11:BQ511)","v":2.6766000000000001},{"$f":"AVERAGE(BR11:BR511)","v":3.2342},null,{"$f":"AVERAGE(BT11:BT511)","v":2.3203999999999998},{"$f":"AVERAGE(BU11:BU511)","v":2.924799999999999},null,{"$f":"AVERAGE(BW11:BW511)","v":2.4167999999999998},{"$f":"AVERAGE(BX11:BX511)","v":3.1212},null,{"$f":"AVERAGE(BZ11:BZ511)","v":2.8051999999999997},{"$f":"AVERAGE(CA11:CA511)","v":3.6591999999999989},null,{"$f":"AVERAGE(CC11:CC511)","v":2.3409999999999993},{"$f":"AVERAGE(CD11:CD511)","v":2.8643999999999998},null,{"$f":"AVERAGE(CF11:CF511)","v":2.2677999999999998},{"$f":"AVERAGE(CG11:CG511)","v":3.0646000000000009},null,{"$f":"AVERAGE(CI11:CI511)","v":1.9065999999999994},{"$f":"AVERAGE(CJ11:CJ511)","v":2.914000000000001},null,{"$f":"AVERAGE(CL11:CL511)","v":2.2351999999999994},{"$f":"AVERAGE(CM11:CM511)","v":2.8961999999999999},null,{"$f":"AVERAGE(CO11:CO511)","v":2.0369999999999995},{"$f":"AVERAGE(CP11:CP511)","v":2.8192000000000004},null,{"$f":"AVERAGE(CR11:CR511)","v":2.7346000000000008},{"$f":"AVERAGE(CS11:CS511)","v":3.5512000000000001},null,{"$f":"AVERAGE(CU11:CU511)","v":2.2783999999999986},{"$f":"AVERAGE(CV11:CV511)","v":3.0801999999999992},null,{"$f":"AVERAGE(CX11:CX511)","v":2.3015999999999992},{"$f":"AVERAGE(CY11:CY511)","v":2.9380000000000002},null,{"$f":"AVERAGE(DA11:DA511)","v":2.6165999999999996},{"$f":"AVERAGE(DB11:DB511)","v":3.1622000000000012},null,{"$f":"AVERAGE(DD11:DD511)","v":2.8212000000000006},{"$f":"AVERAGE(DE11:DE511)","v":3.5018000000000002},null,{"$f":"AVERAGE(DG11:DG511)","v":2.4059999999999993},{"$f":"AVERAGE(DH11:DH511)","v":3.1718000000000006},null,{"$f":"AVERAGE(DJ11:DJ511)","v":2.3811999999999993},{"$f":"AVERAGE(DK11:DK511)","v":3.2261999999999995},null,{"$f":"AVERAGE(DM11:DM511)","v":2.8789999999999996},{"$f":"AVERAGE(DN11:DN511)","v":3.9508000000000005},null,{"$f":"AVERAGE(DP11:DP511)","v":2.7530000000000006},{"$f":"AVERAGE(DQ11:DQ511)","v":3.4593999999999996},null,{"$f":"AVERAGE(DS11:DS511)","v":2.7620000000000005},{"$f":"AVERAGE(DT11:DT511)","v":3.4459999999999997},null,{"$f":"AVERAGE(DV11:DV511)","v":2.6698000000000008},{"$f":"AVERAGE(DW11:DW511)","v":3.3291999999999997},null,{"$f":"AVERAGE(DY11:DY511)","v":2.6895999999999991},{"$f":"AVERAGE(DZ11:DZ511)","v":3.0913999999999997},null,{"$f":"AVERAGE(EB11:EB511)","v":2.8376000000000006},{"$f":"AVERAGE(EC11:EC511)","v":3.4015999999999993},null,{"$f":"AVERAGE(EE11:EE511)","v":2.6645999999999996},{"$f":"AVERAGE(EF11:EF511)","v":3.4352000000000005},null,{"$f":"AVERAGE(EH11:EH511)","v":2.7250000000000001},{"$f":"AVERAGE(EI11:EI511)","v":3.4583999999999997},null,{"$f":"AVERAGE(EK11:EK511)","v":2.3156000000000008},{"$f":"AVERAGE(EL11:EL511)","v":2.7085999999999997},null,{"$f":"AVERAGE(EN11:EN511)","v":2.6326000000000001},{"$f":"AVERAGE(EO11:EO511)","v":3.4554000000000009},null,{"$f":"AVERAGE(EQ11:EQ511)","v":2.4217999999999993},{"$f":"AVERAGE(ER11:ER511)","v":3.2307999999999986},null,{"$f":"AVERAGE(ET11:ET511)","v":2.3132000000000001},{"$f":"AVERAGE(EU11:EU511)","v":2.7694000000000001},null,{"$f":"AVERAGE(EW11:EW511)","v":2.5297999999999998},{"$f":"AVERAGE(EX11:EX511)","v":3.0424000000000002},null,{"$f":"AVERAGE(EZ11:EZ511)","v":2.7034000000000007},{"$f":"AVERAGE(FA11:FA511)","v":3.4168000000000003},null,{"$f":"AVERAGE(FC11:FC511)","v":2.0989999999999998},{"$f":"AVERAGE(FD11:FD511)","v":2.7563999999999993},null,{"$f":"AVERAGE(FF11:FF511)","v":2.7130000000000005},{"$f":"AVERAGE(FG11:FG511)","v":3.531600000000001},null,{"$f":"AVERAGE(FI11:FI511)","v":2.1327999999999996},{"$f":"AVERAGE(FJ11:FJ511)","v":2.8325999999999993},null,{"$f":"AVERAGE(FL11:FL511)","v":2.3608000000000007},{"$f":"AVERAGE(FM11:FM511)","v":2.960399999999999},null,{"$f":"AVERAGE(FO11:FO511)","v":2.5878000000000001},{"$f":"AVERAGE(FP11:FP511)","v":3.1245999999999987},null,{"$f":"AVERAGE(FR11:FR511)","v":2.2442000000000002},{"$f":"AVERAGE(FS11:FS511)","v":2.8380000000000001},null,{"$f":"AVERAGE(FU11:FU511)","v":2.5621999999999989},{"$f":"AVERAGE(FV11:FV511)","v":3.2360000000000007},null,{"$f":"AVERAGE(FX11:FX511)","v":2.6696},{"$f":"AVERAGE(FY11:FY511)","v":3.2289999999999992},null,{"$f":"AVERAGE(GA11:GA511)","v":2.5168000000000004},{"$f":"AVERAGE(GB11:GB511)","v":3.3506000000000014},null,{"$f":"AVERAGE(GD11:GD511)","v":2.8979999999999988},{"$f":"AVERAGE(GE11:GE511)","v":3.6691999999999996},null,{"$f":"AVERAGE(GG11:GG511)","v":2.5780000000000012},{"$f":"AVERAGE(GH11:GH511)","v":3.2856000000000001},null,{"$f":"AVERAGE(GJ11:GJ511)","v":2.1921999999999993},{"$f":"AVERAGE(GK11:GK511)","v":2.7155999999999993},null,{"$f":"AVERAGE(GM11:GM511)","v":1.8869999999999996},{"$f":"AVERAGE(GN11:GN511)","v":2.6598000000000006},null,{"$f":"AVERAGE(GP11:GP511)","v":2.3248000000000002},{"$f":"AVERAGE(GQ11:GQ511)","v":2.9578000000000007},null,{"$f":"AVERAGE(GS11:GS511)","v":2.3983999999999996},{"$f":"AVERAGE(GT11:GT511)","v":3.1059999999999985},null,{"$f":"AVERAGE(GV11:GV511)","v":2.3732000000000002},{"$f":"AVERAGE(GW11:GW511)","v":3.1302000000000008},null,{"$f":"AVERAGE(GY11:GY511)","v":2.3767999999999998},{"$f":"AVERAGE(GZ11:GZ511)","v":3.1232000000000006},null,{"$f":"AVERAGE(HB11:HB511)","v":2.5846},{"$f":"AVERAGE(HC11:HC511)","v":3.2049999999999987},null,{"$f":"AVERAGE(HE11:HE511)","v":2.3991999999999996},{"$f":"AVERAGE(HF11:HF511)","v":3.1211999999999995},null,{"$f":"AVERAGE(HH11:HH511)","v":2.7086000000000001},{"$f":"AVERAGE(HI11:HI511)","v":3.3119999999999981},null,{"$f":"AVERAGE(HK11:HK511)","v":2.4750000000000001},{"$f":"AVERAGE(HL11:HL511)","v":3.5019999999999998},null,{"$f":"AVERAGE(HN11:HN511)","v":3.2514000000000012},{"$f":"AVERAGE(HO11:HO511)","v":4.1824000000000003},null,{"$f":"AVERAGE(HQ11:HQ511)","v":2.4562000000000008},{"$f":"AVERAGE(HR11:HR511)","v":2.934800000000001},null,{"$f":"AVERAGE(HT11:HT511)","v":2.7138000000000004},{"$f":"AVERAGE(HU11:HU511)","v":3.2908000000000008},null,{"$f":"AVERAGE(HW11:HW511)","v":2.5423999999999998},{"$f":"AVERAGE(HX11:HX511)","v":3.1435999999999997},null,{"$f":"AVERAGE(HZ11:HZ511)","v":2.7544000000000013},{"$f":"AVERAGE(IA11:IA511)","v":3.450600000000001},null,{"$f":"AVERAGE(IC11:IC511)","v":2.6442000000000005},{"$f":"AVERAGE(ID11:ID511)","v":3.2301999999999991},null,{"$f":"AVERAGE(IF11:IF511)","v":2.7741999999999991},{"$f":"AVERAGE(IG11:IG511)","v":3.392399999999999},null,{"$f":"AVERAGE(II11:II511)","v":2.5205999999999995},{"$f":"AVERAGE(IJ11:IJ511)","v":3.2068000000000008},null,{"$f":"AVERAGE(IL11:IL511)","v":2.3238000000000003},{"$f":"AVERAGE(IM11:IM511)","v":2.8535999999999997},null,{"$f":"AVERAGE(IO11:IO511)","v":2.2499999999999996},{"$f":"AVERAGE(IP11:IP511)","v":3.1201999999999988},null,{"$f":"AVERAGE(IR11:IR511)","v":2.3863999999999996},{"$f":"AVERAGE(IS11:IS511)","v":3.1365999999999996},null,{"$f":"AVERAGE(IU11:IU511)","v":2.7048000000000001},{"$f":"AVERAGE(IV11:IV511)","v":3.4385999999999992},null,{"$f":"AVERAGE(IX11:IX511)","v":2.3209999999999997},{"$f":"AVERAGE(IY11:IY511)","v":3.1562000000000001},null,{"$f":"AVERAGE(JA11:JA511)","v":2.4953999999999996},{"$f":"AVERAGE(JB11:JB511)","v":3.2310000000000003},null,{"$f":"AVERAGE(JD11:JD511)","v":2.9815999999999998},{"$f":"AVERAGE(JE11:JE511)","v":3.395},null,{"$f":"AVERAGE(JG11:JG511)","v":2.0110000000000001},{"$f":"AVERAGE(JH11:JH511)","v":2.4649999999999994},null,{"$f":"AVERAGE(JJ11:JJ511)","v":3.0244000000000004},{"$f":"AVERAGE(JK11:JK511)","v":3.7958000000000003},null,{"$f":"AVERAGE(JM11:JM511)","v":2.6288},{"$f":"AVERAGE(JN11:JN511)","v":2.9777999999999993},null,{"$f":"AVERAGE(JP11:JP511)","v":2.6255999999999999},{"$f":"AVERAGE(JQ11:JQ511)","v":3.1623999999999994},null,{"$f":"AVERAGE(JS11:JS511)","v":2.3524000000000003},{"$f":"AVERAGE(JT11:JT511)","v":2.8478000000000003},null,{"$f":"AVERAGE(JV11:JV511)","v":2.6838000000000006},{"$f":"AVERAGE(JW11:JW511)","v":3.2397999999999998},null,{"$f":"AVERAGE(JY11:JY511)","v":2.3747999999999996},{"$f":"AVERAGE(JZ11:JZ511)","v":3.3739999999999992},null,{"$f":"AVERAGE(KB11:KB511)","v":2.2578},{"$f":"AVERAGE(KC11:KC511)","v":2.7943999999999987},null,{"$f":"AVERAGE(KE11:KE511)","v":2.2661999999999995},{"$f":"AVERAGE(KF11:KF511)","v":2.9657999999999993},null,{"$f":"AVERAGE(KH11:KH511)","v":2.1812},{"$f":"AVERAGE(KI11:KI511)","v":2.7849999999999993},null,{"$f":"AVERAGE(KK11:KK511)","v":2.4269999999999996},{"$f":"AVERAGE(KL11:KL511)","v":3.2980000000000005},null,{"$f":"AVERAGE(KN11:KN511)","v":2.5820000000000012},{"$f":"AVERAGE(KO11:KO511)","v":3.2629999999999999},null,{"$f":"AVERAGE(KQ11:KQ511)","v":2.8653999999999993},{"$f":"AVERAGE(KR11:KR511)","v":3.5287999999999999},null,{"$f":"AVERAGE(KT11:KT511)","v":2.5768000000000013},{"$f":"AVERAGE(KU11:KU511)","v":3.4046000000000003},null,{"$f":"AVERAGE(KW11:KW511)","v":2.6818000000000008},{"$f":"AVERAGE(KX11:KX511)","v":3.3357999999999999},null,{"$f":"AVERAGE(KZ11:KZ511)","v":2.5544000000000007},{"$f":"AVERAGE(LA11:LA511)","v":3.3506000000000005},null,{"$f":"AVERAGE(LC11:LC511)","v":2.4194000000000004},{"$f":"AVERAGE(LD11:LD511)","v":3.1029999999999998},null,{"$f":"AVERAGE(LF11:LF511)","v":2.6032000000000006},{"$f":"AVERAGE(LG11:LG511)","v":3.2435999999999989},null,{"$f":"AVERAGE(LI11:LI511)","v":2.4457999999999998},{"$f":"AVERAGE(LJ11:LJ511)","v":3.2371999999999996},null,{"$f":"AVERAGE(LL11:LL511)","v":2.5011999999999994},{"$f":"AVERAGE(LM11:LM511)","v":3.5233999999999992},null,{"$f":"AVERAGE(LO11:LO511)","v":2.7434000000000003},{"$f":"AVERAGE(LP11:LP511)","v":3.5171999999999999},null,{"$f":"AVERAGE(LR11:LR511)","v":2.5564},{"$f":"AVERAGE(LS11:LS511)","v":2.9597999999999995},null,{"$f":"AVERAGE(LU11:LU511)","v":2.1916000000000007},{"$f":"AVERAGE(LV11:LV511)","v":2.7575999999999992},null,{"$f":"AVERAGE(LX11:LX511)","v":2.5369999999999995},{"$f":"AVERAGE(LY11:LY511)","v":3.2984000000000004},null,{"$f":"AVERAGE(MA11:MA511)","v":2.3510000000000004},{"$f":"AVERAGE(MB11:MB511)","v":3.3556000000000008},null,{"$f":"AVERAGE(MD11:MD511)","v":2.4667999999999997},{"$f":"AVERAGE(ME11:ME511)","v":3.1998000000000002},null,{"$f":"AVERAGE(MG11:MG511)","v":2.7570000000000006},{"$f":"AVERAGE(MH11:MH511)","v":3.2758000000000003},null,{"$f":"AVERAGE(MJ11:MJ511)","v":2.7059999999999995},{"$f":"AVERAGE(MK11:MK511)","v":3.3139999999999992},null,{"$f":"AVERAGE(MM11:MM511)","v":2.3521999999999998},{"$f":"AVERAGE(MN11:MN511)","v":3.2276000000000011},null,{"$f":"AVERAGE(MP11:MP511)","v":2.7669999999999999},{"$f":"AVERAGE(MQ11:MQ511)","v":3.4550000000000001},null,{"$f":"AVERAGE(MS11:MS511)","v":2.640400000000001},{"$f":"AVERAGE(MT11:MT511)","v":3.3849999999999985},null,{"$f":"AVERAGE(MV11:MV511)","v":2.4908000000000006},{"$f":"AVERAGE(MW11:MW511)","v":3.2386000000000013},null,{"$f":"AVERAGE(MY11:MY511)","v":2.4515999999999996},{"$f":"AVERAGE(MZ11:MZ511)","v":3.2723999999999984},null,{"$f":"AVERAGE(NB11:NB511)","v":2.6702000000000004},{"$f":"AVERAGE(NC11:NC511)","v":3.6081999999999987},null,{"$f":"AVERAGE(NE11:NE511)","v":2.4673999999999996},{"$f":"AVERAGE(NF11:NF511)","v":3.1211999999999995},null,{"$f":"AVERAGE(NH11:NH511)","v":2.3982000000000006},{"$f":"AVERAGE(NI11:NI511)","v":3.0801999999999996},null,{"$f":"AVERAGE(NK11:NK511)","v":2.6224000000000003},{"$f":"AVERAGE(NL11:NL511)","v":3.3239999999999994},null,{"$f":"AVERAGE(NN11:NN511)","v":2.4330000000000003},{"$f":"AVERAGE(NO11:NO511)","v":2.8708000000000005},null,{"$f":"AVERAGE(NQ11:NQ511)","v":2.3653999999999993},{"$f":"AVERAGE(NR11:NR511)","v":2.8619999999999992},null,{"$f":"AVERAGE(NT11:NT511)","v":2.6243999999999996},{"$f":"AVERAGE(NU11:NU511)","v":3.1871999999999989},null,{"$f":"AVERAGE(NW11:NW511)","v":2.4174000000000002},{"$f":"AVERAGE(NX11:NX511)","v":3.0003999999999995},null,{"$f":"AVERAGE(NZ11:NZ511)","v":2.2907999999999995},{"$f":"AVERAGE(OA11:OA511)","v":2.9153999999999991},null,{"$f":"AVERAGE(OC11:OC511)","v":2.7134000000000005},{"$f":"AVERAGE(OD11:OD511)","v":3.4017999999999984},null,{"$f":"AVERAGE(OF11:OF511)","v":2.4511999999999996},{"$f":"AVERAGE(OG11:OG511)","v":3.1457999999999999},null,{"$f":"AVERAGE(OI11:OI511)","v":2.2081999999999997},{"$f":"AVERAGE(OJ11:OJ511)","v":2.7799999999999994},null,{"$f":"AVERAGE(OL11:OL511)","v":3.0288000000000004},{"$f":"AVERAGE(OM11:OM511)","v":3.4283999999999981},null,{"$f":"AVERAGE(OO11:OO511)","v":2.2273999999999998},{"$f":"AVERAGE(OP11:OP511)","v":2.7724000000000002},null,{"$f":"AVERAGE(OR11:OR511)","v":2.4659999999999997},{"$f":"AVERAGE(OS11:OS511)","v":3.1876000000000007},null,{"$f":"AVERAGE(OU11:OU511)","v":2.5926},{"$f":"AVERAGE(OV11:OV511)","v":3.0335999999999994},null,{"$f":"AVERAGE(OX11:OX511)","v":2.3468000000000004},{"$f":"AVERAGE(OY11:OY511)","v":2.9744000000000002},null,{"$f":"AVERAGE(PA11:PA511)","v":2.6795999999999998},{"$f":"AVERAGE(PB11:PB511)","v":3.2441999999999998},null,{"$f":"AVERAGE(PD11:PD511)","v":2.811599999999999},{"$f":"AVERAGE(PE11:PE511)","v":3.3875999999999995},null,{"$f":"AVERAGE(PG11:PG511)","v":2.5540000000000003},{"$f":"AVERAGE(PH11:PH511)","v":3.4035999999999977},null,{"$f":"AVERAGE(PJ11:PJ511)","v":2.8344},{"$f":"AVERAGE(PK11:PK511)","v":3.2981999999999996},null,{"$f":"AVERAGE(PM11:PM511)","v":2.6411999999999991},{"$f":"AVERAGE(PN11:PN511)","v":3.2744000000000004},null,{"$f":"AVERAGE(PP11:PP511)","v":2.5698000000000003},{"$f":"AVERAGE(PQ11:PQ511)","v":3.0951999999999988},null,{"$f":"AVERAGE(PS11:PS511)","v":2.3633999999999999},{"$f":"AVERAGE(PT11:PT511)","v":3.2194000000000011},null,{"$f":"AVERAGE(PV11:PV511)","v":2.5499999999999998},{"$f":"AVERAGE(PW11:PW511)","v":3.3472000000000004},null,{"$f":"AVERAGE(PY11:PY511)","v":2.8160000000000003},{"$f":"AVERAGE(PZ11:PZ511)","v":3.3856000000000002},null,{"$f":"AVERAGE(QB11:QB511)","v":2.0297999999999998},{"$f":"AVERAGE(QC11:QC511)","v":2.6647999999999992},null,{"$f":"AVERAGE(QE11:QE511)","v":2.4249999999999998},{"$f":"AVERAGE(QF11:QF511)","v":3.1885999999999992},null,{"$f":"AVERAGE(QH11:QH511)","v":2.2258},{"$f":"AVERAGE(QI11:QI511)","v":2.9128000000000003},null,{"$f":"AVERAGE(QK11:QK511)","v":2.5063999999999997},{"$f":"AVERAGE(QL11:QL511)","v":3.2894000000000005},null,{"$f":"AVERAGE(QN11:QN511)","v":2.4807999999999995},{"$f":"AVERAGE(QO11:QO511)","v":3.1027999999999998},null,{"$f":"AVERAGE(QQ11:QQ511)","v":2.6498000000000004},{"$f":"AVERAGE(QR11:QR511)","v":3.2111999999999994},null,{"$f":"AVERAGE(QT11:QT511)","v":2.2429999999999994},{"$f":"AVERAGE(QU11:QU511)","v":2.9353999999999996},null,{"$f":"AVERAGE(QW11:QW511)","v":2.0403999999999995},{"$f":"AVERAGE(QX11:QX511)","v":2.5599999999999996},null,{"$f":"AVERAGE(QZ11:QZ511)","v":2.3791999999999995},{"$f":"AVERAGE(RA11:RA511)","v":3.1006},null,{"$f":"AVERAGE(RC11:RC511)","v":2.5370000000000004},{"$f":"AVERAGE(RD11:RD511)","v":3.2785999999999995},null,{"$f":"AVERAGE(RF11:RF511)","v":2.8195999999999994},{"$f":"AVERAGE(RG11:RG511)","v":3.6282000000000001},null,{"$f":"AVERAGE(RI11:RI511)","v":2.5949999999999993},{"$f":"AVERAGE(RJ11:RJ511)","v":3.5244},null,{"$f":"AVERAGE(RL11:RL511)","v":2.4101999999999997},{"$f":"AVERAGE(RM11:RM511)","v":3.0039999999999987},null,{"$f":"AVERAGE(RO11:RO511)","v":2.3042000000000002},{"$f":"AVERAGE(RP11:RP511)","v":3.1379999999999995},null,{"$f":"AVERAGE(RR11:RR511)","v":2.6088},{"$f":"AVERAGE(RS11:RS511)","v":3.0521999999999991},null,{"$f":"AVERAGE(RU11:RU511)","v":2.5817999999999999},{"$f":"AVERAGE(RV11:RV511)","v":3.0069999999999997},null,{"$f":"AVERAGE(RX11:RX511)","v":2.5213999999999999},{"$f":"AVERAGE(RY11:RY511)","v":3.2373999999999996},null,{"$f":"AVERAGE(SA11:SA511)","v":2.4232000000000005},{"$f":"AVERAGE(SB11:SB511)","v":3.0899999999999994},null,{"$f":"AVERAGE(SD11:SD511)","v":2.1901999999999999},{"$f":"AVERAGE(SE11:SE511)","v":2.8937999999999988},null,{"$f":"AVERAGE(SG11:SG511)","v":2.7483999999999997},{"$f":"AVERAGE(SH11:SH511)","v":3.3321999999999989},null,{"$f":"AVERAGE(SJ11:SJ511)","v":1.9899999999999993},{"$f":"AVERAGE(SK11:SK511)","v":2.8982000000000001},null,{"$f":"AVERAGE(SM11:SM511)","v":2.6238000000000001},{"$f":"AVERAGE(SN11:SN511)","v":3.3207999999999989},null,{"$f":"AVERAGE(SP11:SP511)","v":2.7307999999999999},{"$f":"AVERAGE(SQ11:SQ511)","v":3.5324000000000009},null,{"$f":"AVERAGE(SS11:SS511)","v":2.5003999999999995},{"$f":"AVERAGE(ST11:ST511)","v":2.9870000000000005},null,{"$f":"AVERAGE(SV11:SV511)","v":2.6212000000000004},{"$f":"AVERAGE(SW11:SW511)","v":3.3593999999999991},null,{"$f":"AVERAGE(SY11:SY511)","v":2.3081999999999998},{"$f":"AVERAGE(SZ11:SZ511)","v":2.9625999999999988},null,{"$f":"AVERAGE(TB11:TB511)","v":2.7542},{"$f":"AVERAGE(TC11:TC511)","v":3.3323999999999989},null,{"$f":"AVERAGE(TE11:TE511)","v":2.5994000000000002},{"$f":"AVERAGE(TF11:TF511)","v":3.3395999999999999},null,{"$f":"AVERAGE(TH11:TH511)","v":2.7353999999999998},{"$f":"AVERAGE(TI11:TI511)","v":3.2827999999999991},null,{"$f":"AVERAGE(TK11:TK511)","v":2.8734000000000002},{"$f":"AVERAGE(TL11:TL511)","v":3.5683999999999996},null,{"$f":"AVERAGE(TN11:TN511)","v":2.9476000000000004},{"$f":"AVERAGE(TO11:TO511)","v":3.561799999999999},null,{"$f":"AVERAGE(TQ11:TQ511)","v":2.5103999999999997},{"$f":"AVERAGE(TR11:TR511)","v":3.3009999999999997},null,{"$f":"AVERAGE(TT11:TT511)","v":2.6329999999999996},{"$f":"AVERAGE(TU11:TU511)","v":3.0507999999999988},null,{"$f":"AVERAGE(TW11:TW511)","v":2.5442},{"$f":"AVERAGE(TX11:TX511)","v":3.2294},null,{"$f":"AVERAGE(TZ11:TZ511)","v":2.9136000000000006},{"$f":"AVERAGE(UA11:UA511)","v":3.5886000000000009},null,{"$f":"AVERAGE(UC11:UC511)","v":2.3948000000000005},{"$f":"AVERAGE(UD11:UD511)","v":3.008999999999999},null,{"$f":"AVERAGE(UF11:UF511)","v":2.5326000000000004},{"$f":"AVERAGE(UG11:UG511)","v":3.3095999999999997},null,{"$f":"AVERAGE(UI11:UI511)","v":2.7977999999999996},{"$f":"AVERAGE(UJ11:UJ511)","v":3.4329999999999989},null,{"$f":"AVERAGE(UL11:UL511)","v":2.4806000000000004},{"$f":"AVERAGE(UM11:UM511)","v":3.086599999999998},null,{"$f":"AVERAGE(UO11:UO511)","v":2.1792000000000002},{"$f":"AVERAGE(UP11:UP511)","v":2.9056000000000006},null,{"$f":"AVERAGE(UR11:UR511)","v":2.1355999999999993},{"$f":"AVERAGE(US11:US511)","v":2.7389999999999999},null,{"$f":"AVERAGE(UU11:UU511)","v":2.5879999999999996},{"$f":"AVERAGE(UV11:UV511)","v":3.1473999999999993},null,{"$f":"AVERAGE(UX11:UX511)","v":2.3662000000000001},{"$f":"AVERAGE(UY11:UY511)","v":3.0362},null,{"$f":"AVERAGE(VA11:VA511)","v":2.5744000000000007},{"$f":"AVERAGE(VB11:VB511)","v":3.0515999999999996},null,{"$f":"AVERAGE(VD11:VD511)","v":2.7666000000000004},{"$f":"AVERAGE(VE11:VE511)","v":3.5198},null,{"$f":"AVERAGE(VG11:VG511)","v":2.028},{"$f":"AVERAGE(VH11:VH511)","v":2.7669999999999995},null,{"$f":"AVERAGE(VJ11:VJ511)","v":2.7230000000000003},{"$f":"AVERAGE(VK11:VK511)","v":3.4361999999999999},null,{"$f":"AVERAGE(VM11:VM511)","v":2.7604000000000002},{"$f":"AVERAGE(VN11:VN511)","v":3.3441999999999994},null,{"$f":"AVERAGE(VP11:VP511)","v":2.2445999999999997},{"$f":"AVERAGE(VQ11:VQ511)","v":2.9580000000000002},null,{"$f":"AVERAGE(VS11:VS511)","v":2.6657999999999999},{"$f":"AVERAGE(VT11:VT511)","v":3.4267999999999996},null,{"$f":"AVERAGE(VV11:VV511)","v":2.8928000000000003},{"$f":"AVERAGE(VW11:VW511)","v":3.7099999999999991},null,{"$f":"AVERAGE(VY11:VY511)","v":2.1120000000000001},{"$f":"AVERAGE(VZ11:VZ511)","v":2.7757999999999994},null,{"$f":"AVERAGE(WB11:WB511)","v":2.5151999999999997},{"$f":"AVERAGE(WC11:WC511)","v":3.1568000000000001},null,{"$f":"AVERAGE(WE11:WE511)","v":2.4112000000000005},{"$f":"AVERAGE(WF11:WF511)","v":3.2250000000000005},null,{"$f":"AVERAGE(WH11:WH511)","v":2.4072000000000005},{"$f":"AVERAGE(WI11:WI511)","v":3.1982000000000004},null,{"$f":"AVERAGE(WK11:WK511)","v":3.1298000000000012},{"$f":"AVERAGE(WL11:WL511)","v":4.0299999999999985},null,{"$f":"AVERAGE(WN11:WN511)","v":2.2841999999999998},{"$f":"AVERAGE(WO11:WO511)","v":2.9903999999999993},null,{"$f":"AVERAGE(WQ11:WQ511)","v":2.1947999999999999},{"$f":"AVERAGE(WR11:WR511)","v":2.9643999999999995},null,{"$f":"AVERAGE(WT11:WT511)","v":2.7458},{"$f":"AVERAGE(WU11:WU511)","v":3.4884000000000013},null,{"$f":"AVERAGE(WW11:WW511)","v":2.4589999999999996},{"$f":"AVERAGE(WX11:WX511)","v":3.1077999999999997},null,{"$f":"AVERAGE(WZ11:WZ511)","v":2.4438000000000004},{"$f":"AVERAGE(XA11:XA511)","v":2.8224000000000005},null,{"$f":"AVERAGE(XC11:XC511)","v":2.5126000000000004},{"$f":"AVERAGE(XD11:XD511)","v":3.1283999999999996},null,{"$f":"AVERAGE(XF11:XF511)","v":2.5340000000000007},{"$f":"AVERAGE(XG11:XG511)","v":3.2916000000000003},null,{"$f":"AVERAGE(XI11:XI511)","v":2.7927999999999997},{"$f":"AVERAGE(XJ11:XJ511)","v":3.4950000000000001},null,{"$f":"AVERAGE(XL11:XL511)","v":2.3341999999999992},{"$f":"AVERAGE(XM11:XM511)","v":3.0023999999999984},null,{"$f":"AVERAGE(XO11:XO511)","v":2.2039999999999997},{"$f":"AVERAGE(XP11:XP511)","v":3.2464},null,{"$f":"AVERAGE(XR11:XR511)","v":2.7080000000000006},{"$f":"AVERAGE(XS11:XS511)","v":3.1554000000000002},null,{"$f":"AVERAGE(XU11:XU511)","v":2.2016000000000004},{"$f":"AVERAGE(XV11:XV511)","v":3.1615999999999991},null,{"$f":"AVERAGE(XX11:XX511)","v":3.0278000000000005},{"$f":"AVERAGE(XY11:XY511)","v":3.6283999999999992},null,{"$f":"AVERAGE(YA11:YA511)","v":2.8184000000000009},{"$f":"AVERAGE(YB11:YB511)","v":3.6637999999999984},null,{"$f":"AVERAGE(YD11:YD511)","v":2.9944000000000011},{"$f":"AVERAGE(YE11:YE511)","v":3.7748000000000008},null,{"$f":"AVERAGE(YG11:YG511)","v":2.1975999999999996},{"$f":"AVERAGE(YH11:YH511)","v":2.8092000000000001},null,{"$f":"AVERAGE(YJ11:YJ511)","v":2.4694000000000007},{"$f":"AVERAGE(YK11:YK511)","v":3.2274000000000003},null,{"$f":"AVERAGE(YM11:YM511)","v":2.6233999999999997},{"$f":"AVERAGE(YN11:YN511)","v":3.2745999999999991},null,{"$f":"AVERAGE(YP11:YP511)","v":2.1765999999999992},{"$f":"AVERAGE(YQ11:YQ511)","v":2.8503999999999996},null,{"$f":"AVERAGE(YS11:YS511)","v":2.7442000000000002},{"$f":"AVERAGE(YT11:YT511)","v":3.3379999999999992},null,{"$f":"AVERAGE(YV11:YV511)","v":2.5096000000000003},{"$f":"AVERAGE(YW11:YW511)","v":3.0844},null,{"$f":"AVERAGE(YY11:YY511)","v":2.5459999999999998},{"$f":"AVERAGE(YZ11:YZ511)","v":3.1347999999999998},null,{"$f":"AVERAGE(ZB11:ZB511)","v":2.5015999999999998},{"$f":"AVERAGE(ZC11:ZC511)","v":3.0831999999999997},null,{"$f":"AVERAGE(ZE11:ZE511)","v":2.6154000000000006},{"$f":"AVERAGE(ZF11:ZF511)","v":3.1097999999999995},null,{"$f":"AVERAGE(ZH11:ZH511)","v":2.3981999999999997},{"$f":"AVERAGE(ZI11:ZI511)","v":2.8977999999999997},null,{"$f":"AVERAGE(ZK11:ZK511)","v":2.7258},{"$f":"AVERAGE(ZL11:ZL511)","v":3.2873999999999994},null,{"$f":"AVERAGE(ZN11:ZN511)","v":2.5279999999999991},{"$f":"AVERAGE(ZO11:ZO511)","v":3.012799999999999},null,{"$f":"AVERAGE(ZQ11:ZQ511)","v":2.5225999999999997},{"$f":"AVERAGE(ZR11:ZR511)","v":3.3226},null,{"$f":"AVERAGE(ZT11:ZT511)","v":2.2810000000000001},{"$f":"AVERAGE(ZU11:ZU511)","v":2.6450000000000005},null,{"$f":"AVERAGE(ZW11:ZW511)","v":2.7842000000000011},{"$f":"AVERAGE(ZX11:ZX511)","v":3.4717999999999996},null,{"$f":"AVERAGE(ZZ11:ZZ511)","v":2.6017999999999999},{"$f":"AVERAGE(AAA11:AAA511)","v":3.1801999999999992},null,{"$f":"AVERAGE(AAC11:AAC511)","v":2.5217999999999989},{"$f":"AVERAGE(AAD11:AAD511)","v":3.2933999999999997},null,{"$f":"AVERAGE(AAF11:AAF511)","v":2.5575999999999999},{"$f":"AVERAGE(AAG11:AAG511)","v":3.2850000000000001},null,{"$f":"AVERAGE(AAI11:AAI511)","v":2.7430000000000012},{"$f":"AVERAGE(AAJ11:AAJ511)","v":3.5033999999999992},null,{"$f":"AVERAGE(AAL11:AAL511)","v":2.2847999999999997},{"$f":"AVERAGE(AAM11:AAM511)","v":2.8024},null,{"$f":"AVERAGE(AAO11:AAO511)","v":2.4648000000000003},{"$f":"AVERAGE(AAP11:AAP511)","v":3.2845999999999997},null,{"$f":"AVERAGE(AAR11:AAR511)","v":2.5192000000000001},{"$f":"AVERAGE(AAS11:AAS511)","v":3.2843999999999993},null,{"$f":"AVERAGE(AAU11:AAU511)","v":2.2029999999999998},{"$f":"AVERAGE(AAV11:AAV511)","v":2.7993999999999999},null,{"$f":"AVERAGE(AAX11:AAX511)","v":2.3316000000000003},{"$f":"AVERAGE(AAY11:AAY511)","v":3.1004},null,{"$f":"AVERAGE(ABA11:ABA511)","v":2.3902000000000001},{"$f":"AVERAGE(ABB11:ABB511)","v":2.9527999999999999},null,{"$f":"AVERAGE(ABD11:ABD511)","v":2.5022000000000002},{"$f":"AVERAGE(ABE11:ABE511)","v":3.2164000000000006},null,{"$f":"AVERAGE(ABG11:ABG511)","v":2.5266000000000002},{"$f":"AVERAGE(ABH11:ABH511)","v":3.3340000000000005},null,{"$f":"AVERAGE(ABJ11:ABJ511)","v":3.0211999999999999},{"$f":"AVERAGE(ABK11:ABK511)","v":3.8935999999999997},null,{"$f":"AVERAGE(ABM11:ABM511)","v":2.4003999999999994},{"$f":"AVERAGE(ABN11:ABN511)","v":3.0035999999999996},null,{"$f":"AVERAGE(ABP11:ABP511)","v":2.7677999999999998},{"$f":"AVERAGE(ABQ11:ABQ511)","v":3.3577999999999992},null,{"$f":"AVERAGE(ABS11:ABS511)","v":2.9771999999999998},{"$f":"AVERAGE(ABT11:ABT511)","v":3.3487999999999989},null,{"$f":"AVERAGE(ABV11:ABV511)","v":2.5626000000000011},{"$f":"AVERAGE(ABW11:ABW511)","v":3.2164000000000006},null,{"$f":"AVERAGE(ABY11:ABY511)","v":2.5538000000000003},{"$f":"AVERAGE(ABZ11:ABZ511)","v":3.5081999999999995},null,{"$f":"AVERAGE(ACB11:ACB511)","v":2.5608},{"$f":"AVERAGE(ACC11:ACC511)","v":3.3879999999999986},null,{"$f":"AVERAGE(ACE11:ACE511)","v":2.7104000000000008},{"$f":"AVERAGE(ACF11:ACF511)","v":3.3994000000000004},null,{"$f":"AVERAGE(ACH11:ACH511)","v":2.6682000000000001},{"$f":"AVERAGE(ACI11:ACI511)","v":3.5041999999999995},null,{"$f":"AVERAGE(ACK11:ACK511)","v":2.3087999999999993},{"$f":"AVERAGE(ACL11:ACL511)","v":3.0851999999999991},null,{"$f":"AVERAGE(ACN11:ACN511)","v":2.5505999999999998},{"$f":"AVERAGE(ACO11:ACO511)","v":3.1782000000000004},null,{"$f":"AVERAGE(ACQ11:ACQ511)","v":2.5619999999999998},{"$f":"AVERAGE(ACR11:ACR511)","v":3.2458000000000009},null,{"$f":"AVERAGE(ACT11:ACT511)","v":2.5284000000000009},{"$f":"AVERAGE(ACU11:ACU511)","v":3.3855999999999993},null,{"$f":"AVERAGE(ACW11:ACW511)","v":2.399},{"$f":"AVERAGE(ACX11:ACX511)","v":2.8764000000000003},null,{"$f":"AVERAGE(ACZ11:ACZ511)","v":2.4601999999999991},{"$f":"AVERAGE(ADA11:ADA511)","v":3.1143999999999994},null,{"$f":"AVERAGE(ADC11:ADC511)","v":1.9642000000000002},{"$f":"AVERAGE(ADD11:ADD511)","v":2.6225999999999994},null,{"$f":"AVERAGE(ADF11:ADF511)","v":2.4932000000000003},{"$f":"AVERAGE(ADG11:ADG511)","v":3.0092000000000003},null,{"$f":"AVERAGE(ADI11:ADI511)","v":2.6487999999999996},{"$f":"AVERAGE(ADJ11:ADJ511)","v":3.2588000000000004},null,{"$f":"AVERAGE(ADL11:ADL511)","v":2.3501999999999996},{"$f":"AVERAGE(ADM11:ADM511)","v":3.2504000000000004},null,{"$f":"AVERAGE(ADO11:ADO511)","v":2.5508000000000006},{"$f":"AVERAGE(ADP11:ADP511)","v":3.1553999999999998},null,{"$f":"AVERAGE(ADR11:ADR511)","v":2.6150000000000002},{"$f":"AVERAGE(ADS11:ADS511)","v":3.3157999999999994},null,{"$f":"AVERAGE(ADU11:ADU511)","v":2.9266000000000001},{"$f":"AVERAGE(ADV11:ADV511)","v":3.6002000000000005},null,{"$f":"AVERAGE(ADX11:ADX511)","v":2.4377999999999993},{"$f":"AVERAGE(ADY11:ADY511)","v":3.1304000000000003},null,{"$f":"AVERAGE(AEA11:AEA511)","v":2.0370000000000004},{"$f":"AVERAGE(AEB11:AEB511)","v":2.6591999999999998},null,{"$f":"AVERAGE(AED11:AED511)","v":2.1772000000000009},{"$f":"AVERAGE(AEE11:AEE511)","v":2.8088000000000011},null,{"$f":"AVERAGE(AEG11:AEG511)","v":2.8163999999999993},{"$f":"AVERAGE(AEH11:AEH511)","v":3.4043999999999994},null,{"$f":"AVERAGE(AEJ11:AEJ511)","v":2.2235999999999998},{"$f":"AVERAGE(AEK11:AEK511)","v":2.7423999999999999},null,{"$f":"AVERAGE(AEM11:AEM511)","v":2.4411999999999994},{"$f":"AVERAGE(AEN11:AEN511)","v":3.2232000000000012},null,{"$f":"AVERAGE(AEP11:AEP511)","v":2.6224000000000007},{"$f":"AVERAGE(AEQ11:AEQ511)","v":3.3767999999999994},null,{"$f":"AVERAGE(AES11:AES511)","v":2.6554000000000002},{"$f":"AVERAGE(AET11:AET511)","v":3.4951999999999996},null,{"$f":"AVERAGE(AEV11:AEV511)","v":2.7815999999999996},{"$f":"AVERAGE(AEW11:AEW511)","v":3.6093999999999982},null,{"$f":"AVERAGE(AEY11:AEY511)","v":2.4072},{"$f":"AVERAGE(AEZ11:AEZ511)","v":3.2428000000000003},null,{"$f":"AVERAGE(AFB11:AFB511)","v":2.4209999999999998},{"$f":"AVERAGE(AFC11:AFC511)","v":3.2319999999999998},null,{"$f":"AVERAGE(AFE11:AFE511)","v":1.9809999999999997},{"$f":"AVERAGE(AFF11:AFF511)","v":2.4471999999999996},null,{"$f":"AVERAGE(AFH11:AFH511)","v":2.5466000000000002},{"$f":"AVERAGE(AFI11:AFI511)","v":3.1583999999999985},null,{"$f":"AVERAGE(AFK11:AFK511)","v":2.0111999999999997},{"$f":"AVERAGE(AFL11:AFL511)","v":2.5573999999999995},null,{"$f":"AVERAGE(AFN11:AFN511)","v":2.4607999999999994},{"$f":"AVERAGE(AFO11:AFO511)","v":2.9196},null,{"$f":"AVERAGE(AFQ11:AFQ511)","v":2.4868000000000006},{"$f":"AVERAGE(AFR11:AFR511)","v":3.3952},null,{"$f":"AVERAGE(AFT11:AFT511)","v":2.089},{"$f":"AVERAGE(AFU11:AFU511)","v":2.7585999999999999},null,{"$f":"AVERAGE(AFW11:AFW511)","v":2.5521999999999996},{"$f":"AVERAGE(AFX11:AFX511)","v":3.2234000000000003},null,{"$f":"AVERAGE(AFZ11:AFZ511)","v":2.403},{"$f":"AVERAGE(AGA11:AGA511)","v":3.1197999999999997},null,{"$f":"AVERAGE(AGC11:AGC511)","v":2.9283999999999999},{"$f":"AVERAGE(AGD11:AGD511)","v":3.5161999999999995},null,{"$f":"AVERAGE(AGF11:AGF511)","v":2.1083999999999996},{"$f":"AVERAGE(AGG11:AGG511)","v":2.6942000000000004},null,{"$f":"AVERAGE(AGI11:AGI511)","v":2.4954000000000001},{"$f":"AVERAGE(AGJ11:AGJ511)","v":3.3267999999999995},null,{"$f":"AVERAGE(AGL11:AGL511)","v":2.7317999999999993},{"$f":"AVERAGE(AGM11:AGM511)","v":3.319399999999999},null,{"$f":"AVERAGE(AGO11:AGO511)","v":2.7011999999999996},{"$f":"AVERAGE(AGP11:AGP511)","v":3.6275999999999997},null,{"$f":"AVERAGE(AGR11:AGR511)","v":2.1102000000000003},{"$f":"AVERAGE(AGS11:AGS511)","v":2.6766000000000001},null,{"$f":"AVERAGE(AGU11:AGU511)","v":2.4308000000000001},{"$f":"AVERAGE(AGV11:AGV511)","v":2.9511999999999996},null,{"$f":"AVERAGE(AGX11:AGX511)","v":2.3504},{"$f":"AVERAGE(AGY11:AGY511)","v":2.8629999999999995},null,{"$f":"AVERAGE(AHA11:AHA511)","v":2.1616},{"$f":"AVERAGE(AHB11:AHB511)","v":2.9449999999999994},null,{"$f":"AVERAGE(AHD11:AHD511)","v":2.5123999999999991},{"$f":"AVERAGE(AHE11:AHE511)","v":3.1225999999999994},null,{"$f":"AVERAGE(AHG11:AHG511)","v":2.2702},{"$f":"AVERAGE(AHH11:AHH511)","v":2.8139999999999992},null,{"$f":"AVERAGE(AHJ11:AHJ511)","v":2.2058},{"$f":"AVERAGE(AHK11:AHK511)","v":2.7798000000000007},null,{"$f":"AVERAGE(AHM11:AHM511)","v":2.3619999999999997},{"$f":"AVERAGE(AHN11:AHN511)","v":2.9830000000000001},null,{"$f":"AVERAGE(AHP11:AHP511)","v":2.2799999999999998},{"$f":"AVERAGE(AHQ11:AHQ511)","v":2.8357999999999999},null,{"$f":"AVERAGE(AHS11:AHS511)","v":2.3811999999999989},{"$f":"AVERAGE(AHT11:AHT511)","v":2.9955999999999996},null,{"$f":"AVERAGE(AHV11:AHV511)","v":2.5751999999999997},{"$f":"AVERAGE(AHW11:AHW511)","v":3.1216000000000004},null,{"$f":"AVERAGE(AHY11:AHY511)","v":2.6840000000000002},{"$f":"AVERAGE(AHZ11:AHZ511)","v":3.2641999999999998},null,{"$f":"AVERAGE(AIB11:AIB511)","v":2.5194000000000001},{"$f":"AVERAGE(AIC11:AIC511)","v":3.3582000000000001},null,{"$f":"AVERAGE(AIE11:AIE511)","v":2.7782000000000004},{"$f":"AVERAGE(AIF11:AIF511)","v":3.6428000000000003},null,{"$f":"AVERAGE(AIH11:AIH511)","v":2.3077999999999999},{"$f":"AVERAGE(AII11:AII511)","v":2.9508000000000005},null,{"$f":"AVERAGE(AIK11:AIK511)","v":2.856199999999999},{"$f":"AVERAGE(AIL11:AIL511)","v":3.4144000000000005},null,{"$f":"AVERAGE(AIN11:AIN511)","v":2.2983999999999996},{"$f":"AVERAGE(AIO11:AIO511)","v":3.0068000000000006},null,{"$f":"AVERAGE(AIQ11:AIQ511)","v":2.3568000000000002},{"$f":"AVERAGE(AIR11:AIR511)","v":3.2236000000000011},null,{"$f":"AVERAGE(AIT11:AIT511)","v":2.4183999999999992},{"$f":"AVERAGE(AIU11:AIU511)","v":3.1227999999999994},null,{"$f":"AVERAGE(AIW11:AIW511)","v":2.5263999999999998},{"$f":"AVERAGE(AIX11:AIX511)","v":3.1327999999999991},null,{"$f":"AVERAGE(AIZ11:AIZ511)","v":1.9907999999999988},{"$f":"AVERAGE(AJA11:AJA511)","v":2.4233999999999996},null,{"$f":"AVERAGE(AJC11:AJC511)","v":2.4762000000000004},{"$f":"AVERAGE(AJD11:AJD511)","v":3.073},null,{"$f":"AVERAGE(AJF11:AJF511)","v":2.2873999999999999},{"$f":"AVERAGE(AJG11:AJG511)","v":3.103400000000001},null,{"$f":"AVERAGE(AJI11:AJI511)","v":2.3552},{"$f":"AVERAGE(AJJ11:AJJ511)","v":2.8449999999999989},null,{"$f":"AVERAGE(AJL11:AJL511)","v":2.7267999999999999},{"$f":"AVERAGE(AJM11:AJM511)","v":3.2733999999999996},null,{"$f":"AVERAGE(AJO11:AJO511)","v":2.1467999999999998},{"$f":"AVERAGE(AJP11:AJP511)","v":2.8685999999999989},null,{"$f":"AVERAGE(AJR11:AJR511)","v":2.4240000000000004},{"$f":"AVERAGE(AJS11:AJS511)","v":3.0854000000000004},null,{"$f":"AVERAGE(AJU11:AJU511)","v":2.4673999999999996},{"$f":"AVERAGE(AJV11:AJV511)","v":3.0034000000000005},null,{"$f":"AVERAGE(AJX11:AJX511)","v":2.4510000000000001},{"$f":"AVERAGE(AJY11:AJY511)","v":3.2542},null,{"$f":"AVERAGE(AKA11:AKA511)","v":2.4279999999999999},{"$f":"AVERAGE(AKB11:AKB511)","v":3.0282000000000004},null,{"$f":"AVERAGE(AKD11:AKD511)","v":2.9029999999999996},{"$f":"AVERAGE(AKE11:AKE511)","v":3.3783999999999996},null,{"$f":"AVERAGE(AKG11:AKG511)","v":1.7573999999999996},{"$f":"AVERAGE(AKH11:AKH511)","v":2.363},null,{"$f":"AVERAGE(AKJ11:AKJ511)","v":2.6690000000000005},{"$f":"AVERAGE(AKK11:AKK511)","v":3.2325999999999993},null,{"$f":"AVERAGE(AKM11:AKM511)","v":2.3832},{"$f":"AVERAGE(AKN11:AKN511)","v":2.8671999999999995},null,{"$f":"AVERAGE(AKP11:AKP511)","v":2.6624000000000017},{"$f":"AVERAGE(AKQ11:AKQ511)","v":3.4380000000000002},null,{"$f":"AVERAGE(AKS11:AKS511)","v":2.4333999999999998},{"$f":"AVERAGE(AKT11:AKT511)","v":3.3229999999999995},null,{"$f":"AVERAGE(AKV11:AKV511)","v":2.5796000000000006},{"$f":"AVERAGE(AKW11:AKW511)","v":3.234599999999999},null,{"$f":"AVERAGE(AKY11:AKY511)","v":2.3930000000000002},{"$f":"AVERAGE(AKZ11:AKZ511)","v":3.1801999999999992},null,{"$f":"AVERAGE(ALB11:ALB511)","v":2.4507999999999996},{"$f":"AVERAGE(ALC11:ALC511)","v":3.0381999999999998},null,{"$f":"AVERAGE(ALE11:ALE511)","v":2.6539999999999999},{"$f":"AVERAGE(ALF11:ALF511)","v":3.0525999999999986},null,{"$f":"AVERAGE(ALH11:ALH511)","v":2.2481999999999998},{"$f":"AVERAGE(ALI11:ALI511)","v":3.1225999999999994},null,{"$f":"AVERAGE(ALK11:ALK511)","v":2.9570000000000003},{"$f":"AVERAGE(ALL11:ALL511)","v":3.5391999999999992},null,{"$f":"AVERAGE(ALN11:ALN511)","v":2.6398000000000001},{"$f":"AVERAGE(ALO11:ALO511)","v":3.2035999999999989},null,{"$f":"AVERAGE(ALQ11:ALQ511)","v":2.5524000000000004},{"$f":"AVERAGE(ALR11:ALR511)","v":3.3106000000000004},null,{"$f":"AVERAGE(ALT11:ALT511)","v":2.2633999999999999},{"$f":"AVERAGE(ALU11:ALU511)","v":2.6804000000000001},null,{"$f":"AVERAGE(ALW11:ALW511)","v":2.6245999999999996},{"$f":"AVERAGE(ALX11:ALX511)","v":3.6332000000000004},null,{"$f":"AVERAGE(ALZ11:ALZ511)","v":2.4084000000000008},{"$f":"AVERAGE(AMA11:AMA511)","v":2.9980000000000002},null,{"$f":"AVERAGE(AMC11:AMC511)","v":2.3967999999999994},{"$f":"AVERAGE(AMD11:AMD511)","v":2.9859999999999998},null,{"$f":"AVERAGE(AMF11:AMF511)","v":2.1474000000000002},{"$f":"AVERAGE(AMG11:AMG511)","v":2.8281999999999994},null,{"$f":"AVERAGE(AMI11:AMI511)","v":2.4633999999999996},{"$f":"AVERAGE(AMJ11:AMJ511)","v":3.3175999999999988},null,{"$f":"AVERAGE(AML11:AML511)","v":2.2441999999999998},{"$f":"AVERAGE(AMM11:AMM511)","v":2.8411999999999988},null,{"$f":"AVERAGE(AMO11:AMO511)","v":2.5455999999999999},{"$f":"AVERAGE(AMP11:AMP511)","v":3.4476},null,{"$f":"AVERAGE(AMR11:AMR511)","v":2.5644},{"$f":"AVERAGE(AMS11:AMS511)","v":3.2392000000000003},null,{"$f":"AVERAGE(AMU11:AMU511)","v":2.922600000000001},{"$f":"AVERAGE(AMV11:AMV511)","v":3.6210000000000004},null,{"$f":"AVERAGE(AMX11:AMX511)","v":3.0787999999999993},{"$f":"AVERAGE(AMY11:AMY511)","v":3.6934000000000005},null,{"$f":"AVERAGE(ANA11:ANA511)","v":2.2477999999999998},{"$f":"AVERAGE(ANB11:ANB511)","v":2.9099999999999993},null,{"$f":"AVERAGE(AND11:AND511)","v":2.1204000000000001},{"$f":"AVERAGE(ANE11:ANE511)","v":2.9098000000000002},null,{"$f":"AVERAGE(ANG11:ANG511)","v":2.3188000000000004},{"$f":"AVERAGE(ANH11:ANH511)","v":2.9530000000000003},null,{"$f":"AVERAGE(ANJ11:ANJ511)","v":2.4290000000000003},{"$f":"AVERAGE(ANK11:ANK511)","v":3.0741999999999994},null,{"$f":"AVERAGE(ANM11:ANM511)","v":2.7936000000000005},{"$f":"AVERAGE(ANN11:ANN511)","v":3.5096000000000003},null,{"$f":"AVERAGE(ANP11:ANP511)","v":2.2862000000000005},{"$f":"AVERAGE(ANQ11:ANQ511)","v":3.0505999999999993},null,{"$f":"AVERAGE(ANS11:ANS511)","v":2.9950000000000001},{"$f":"AVERAGE(ANT11:ANT511)","v":3.507000000000001},null,{"$f":"AVERAGE(ANV11:ANV511)","v":2.5052000000000003},{"$f":"AVERAGE(ANW11:ANW511)","v":3.3551999999999982},null,{"$f":"AVERAGE(ANY11:ANY511)","v":2.5491999999999999},{"$f":"AVERAGE(ANZ11:ANZ511)","v":3.3107999999999982},null,{"$f":"AVERAGE(AOB11:AOB511)","v":2.4601999999999999},{"$f":"AVERAGE(AOC11:AOC511)","v":3.2090000000000005},null,{"$f":"AVERAGE(AOE11:AOE511)","v":2.7826000000000004},{"$f":"AVERAGE(AOF11:AOF511)","v":3.4069999999999987},null,{"$f":"AVERAGE(AOH11:AOH511)","v":2.283399999999999},{"$f":"AVERAGE(AOI11:AOI511)","v":2.9183999999999997},null,{"$f":"AVERAGE(AOK11:AOK511)","v":2.5508000000000002},{"$f":"AVERAGE(AOL11:AOL511)","v":3.2278000000000002},null,{"$f":"AVERAGE(AON11:AON511)","v":2.5544000000000002},{"$f":"AVERAGE(AOO11:AOO511)","v":3.2675999999999998},null,{"$f":"AVERAGE(AOQ11:AOQ511)","v":2.6066000000000003},{"$f":"AVERAGE(AOR11:AOR511)","v":3.3017999999999987},null,{"$f":"AVERAGE(AOT11:AOT511)","v":1.9725999999999992},{"$f":"AVERAGE(AOU11:AOU511)","v":2.5077999999999996},null,{"$f":"AVERAGE(AOW11:AOW511)","v":2.6019999999999999},{"$f":"AVERAGE(AOX11:AOX511)","v":3.2907999999999986},null,{"$f":"AVERAGE(AOZ11:AOZ511)","v":2.8947999999999992},{"$f":"AVERAGE(APA11:APA511)","v":3.5341999999999985},null,{"$f":"AVERAGE(APC11:APC511)","v":2.5857999999999999},{"$f":"AVERAGE(APD11:APD511)","v":3.2355999999999985},null,{"$f":"AVERAGE(APF11:APF511)","v":2.5749999999999993},{"$f":"AVERAGE(APG11:APG511)","v":3.1654000000000009},null,{"$f":"AVERAGE(API11:API511)","v":2.7884000000000011},{"$f":"AVERAGE(APJ11:APJ511)","v":3.3151999999999986},null,{"$f":"AVERAGE(APL11:APL511)","v":2.3624000000000001},{"$f":"AVERAGE(APM11:APM511)","v":3.1988000000000003},null,{"$f":"AVERAGE(APO11:APO511)","v":2.5198000000000005},{"$f":"AVERAGE(APP11:APP511)","v":3.1482000000000001},null,{"$f":"AVERAGE(APR11:APR511)","v":2.3127999999999993},{"$f":"AVERAGE(APS11:APS511)","v":3.1412000000000004},null,{"$f":"AVERAGE(APU11:APU511)","v":2.4350000000000001},{"$f":"AVERAGE(APV11:APV511)","v":2.9736000000000007},null,{"$f":"AVERAGE(APX11:APX511)","v":2.2987999999999995},{"$f":"AVERAGE(APY11:APY511)","v":3.1682000000000006},null,{"$f":"AVERAGE(AQA11:AQA511)","v":2.5940000000000003},{"$f":"AVERAGE(AQB11:AQB511)","v":3.2183999999999999},null,{"$f":"AVERAGE(AQD11:AQD511)","v":2.4674000000000009},{"$f":"AVERAGE(AQE11:AQE511)","v":3.2569999999999992},null,{"$f":"AVERAGE(AQG11:AQG511)","v":2.3827999999999996},{"$f":"AVERAGE(AQH11:AQH511)","v":3.0392000000000001},null,{"$f":"AVERAGE(AQJ11:AQJ511)","v":2.9359999999999995},{"$f":"AVERAGE(AQK11:AQK511)","v":3.7919999999999994},null,{"$f":"AVERAGE(AQM11:AQM511)","v":2.6516000000000002},{"$f":"AVERAGE(AQN11:AQN511)","v":3.3627999999999996},null,{"$f":"AVERAGE(AQP11:AQP511)","v":2.5848000000000009},{"$f":"AVERAGE(AQQ11:AQQ511)","v":3.3574000000000002},null,{"$f":"AVERAGE(AQS11:AQS511)","v":1.9781999999999997},{"$f":"AVERAGE(AQT11:AQT511)","v":2.7279999999999989},null,{"$f":"AVERAGE(AQV11:AQV511)","v":2.5242},{"$f":"AVERAGE(AQW11:AQW511)","v":3.1474000000000006},null,{"$f":"AVERAGE(AQY11:AQY511)","v":2.6990000000000003},{"$f":"AVERAGE(AQZ11:AQZ511)","v":3.5342000000000007},null,{"$f":"AVERAGE(ARB11:ARB511)","v":2.7319999999999998},{"$f":"AVERAGE(ARC11:ARC511)","v":3.2171999999999996},null,{"$f":"AVERAGE(ARE11:ARE511)","v":2.2318000000000002},{"$f":"AVERAGE(ARF11:ARF511)","v":2.9279999999999999},null,{"$f":"AVERAGE(ARH11:ARH511)","v":2.1751999999999998},{"$f":"AVERAGE(ARI11:ARI511)","v":3.1052000000000008},null,{"$f":"AVERAGE(ARK11:ARK511)","v":2.5148000000000001},{"$f":"AVERAGE(ARL11:ARL511)","v":3.4650000000000012},null,{"$f":"AVERAGE(ARN11:ARN511)","v":2.7410000000000001},{"$f":"AVERAGE(ARO11:ARO511)","v":3.3619999999999992},null,{"$f":"AVERAGE(ARQ11:ARQ511)","v":2.3376000000000001},{"$f":"AVERAGE(ARR11:ARR511)","v":2.7563999999999993},null,{"$f":"AVERAGE(ART11:ART511)","v":2.7836000000000007},{"$f":"AVERAGE(ARU11:ARU511)","v":3.1360000000000001},null,{"$f":"AVERAGE(ARW11:ARW511)","v":2.3960000000000004},{"$f":"AVERAGE(ARX11:ARX511)","v":2.9475999999999987},null,{"$f":"AVERAGE(ARZ11:ARZ511)","v":2.2950000000000004},{"$f":"AVERAGE(ASA11:ASA511)","v":2.8443999999999998},null,{"$f":"AVERAGE(ASC11:ASC511)","v":2.3702000000000001},{"$f":"AVERAGE(ASD11:ASD511)","v":3.0114000000000001},null,{"$f":"AVERAGE(ASF11:ASF511)","v":2.6301999999999999},{"$f":"AVERAGE(ASG11:ASG511)","v":3.3655999999999993},null,{"$f":"AVERAGE(ASI11:ASI511)","v":2.2181999999999999},{"$f":"AVERAGE(ASJ11:ASJ511)","v":2.7675999999999998},null,{"$f":"AVERAGE(ASL11:ASL511)","v":2.4857999999999998},{"$f":"AVERAGE(ASM11:ASM511)","v":3.0717999999999988},null,{"$f":"AVERAGE(ASO11:ASO511)","v":2.4782000000000006},{"$f":"AVERAGE(ASP11:ASP511)","v":3.0731999999999995},null,{"$f":"AVERAGE(ASR11:ASR511)","v":2.2105999999999999},{"$f":"AVERAGE(ASS11:ASS511)","v":2.8317999999999999},null,{"$f":"AVERAGE(ASU11:ASU511)","v":2.4441999999999995},{"$f":"AVERAGE(ASV11:ASV511)","v":2.8785999999999996},null,{"$f":"AVERAGE(ASX11:ASX511)","v":2.2472000000000003},{"$f":"AVERAGE(ASY11:ASY511)","v":3.0355999999999987},null,{"$f":"AVERAGE(ATA11:ATA511)","v":2.6706000000000008},{"$f":"AVERAGE(ATB11:ATB511)","v":3.4135999999999989},null,{"$f":"AVERAGE(ATD11:ATD511)","v":2.2177999999999995},{"$f":"AVERAGE(ATE11:ATE511)","v":3.1553999999999998},null,{"$f":"AVERAGE(ATG11:ATG511)","v":2.6732000000000005},{"$f":"AVERAGE(ATH11:ATH511)","v":3.5119999999999987},null,{"$f":"AVERAGE(ATJ11:ATJ511)","v":2.3053999999999997},{"$f":"AVERAGE(ATK11:ATK511)","v":2.7703999999999995},null,{"$f":"AVERAGE(ATM11:ATM511)","v":2.1612000000000005},{"$f":"AVERAGE(ATN11:ATN511)","v":2.9621999999999997},null,{"$f":"AVERAGE(ATP11:ATP511)","v":2.0833999999999997},{"$f":"AVERAGE(ATQ11:ATQ511)","v":2.5129999999999999},null,{"$f":"AVERAGE(ATS11:ATS511)","v":2.380399999999999},{"$f":"AVERAGE(ATT11:ATT511)","v":3.1912000000000007},null,{"$f":"AVERAGE(ATV11:ATV511)","v":2.6688000000000001},{"$f":"AVERAGE(ATW11:ATW511)","v":2.9992000000000001},null,{"$f":"AVERAGE(ATY11:ATY511)","v":2.3645999999999994},{"$f":"AVERAGE(ATZ11:ATZ511)","v":2.7046000000000006},null,{"$f":"AVERAGE(AUB11:AUB511)","v":2.7235999999999994},{"$f":"AVERAGE(AUC11:AUC511)","v":3.2304000000000004},null,{"$f":"AVERAGE(AUE11:AUE511)","v":2.4054000000000006},{"$f":"AVERAGE(AUF11:AUF511)","v":3.2088000000000005},null,{"$f":"AVERAGE(AUH11:AUH511)","v":2.2975999999999996},{"$f":"AVERAGE(AUI11:AUI511)","v":3.0277999999999996},null,{"$f":"AVERAGE(AUK11:AUK511)","v":2.3412000000000002},{"$f":"AVERAGE(AUL11:AUL511)","v":2.8135999999999997},null,{"$f":"AVERAGE(AUN11:AUN511)","v":2.3467999999999991},{"$f":"AVERAGE(AUO11:AUO511)","v":2.9293999999999998},null,{"$f":"AVERAGE(AUQ11:AUQ511)","v":2.4835999999999996},{"$f":"AVERAGE(AUR11:AUR511)","v":3.2691999999999992},null,{"$f":"AVERAGE(AUT11:AUT511)","v":2.5773999999999999},{"$f":"AVERAGE(AUU11:AUU511)","v":3.1824000000000008},null,{"$f":"AVERAGE(AUW11:AUW511)","v":2.4311999999999996},{"$f":"AVERAGE(AUX11:AUX511)","v":3.1448000000000009},null,{"$f":"AVERAGE(AUZ11:AUZ511)","v":2.5116000000000001},{"$f":"AVERAGE(AVA11:AVA511)","v":3.1332000000000004},null,{"$f":"AVERAGE(AVC11:AVC511)","v":2.6218000000000008},{"$f":"AVERAGE(AVD11:AVD511)","v":3.3944000000000001},null,{"$f":"AVERAGE(AVF11:AVF511)","v":3.0060000000000002},{"$f":"AVERAGE(AVG11:AVG511)","v":3.4725999999999995},null,{"$f":"AVERAGE(AVI11:AVI511)","v":2.2473999999999998},{"$f":"AVERAGE(AVJ11:AVJ511)","v":2.8675999999999999},null,{"$f":"AVERAGE(AVL11:AVL511)","v":2.3985999999999996},{"$f":"AVERAGE(AVM11:AVM511)","v":3.147800000000001},null,{"$f":"AVERAGE(AVO11:AVO511)","v":2.5575999999999994},{"$f":"AVERAGE(AVP11:AVP511)","v":3.1522000000000001},null,{"$f":"AVERAGE(AVR11:AVR511)","v":2.59},{"$f":"AVERAGE(AVS11:AVS511)","v":3.1279999999999988},null,{"$f":"AVERAGE(AVU11:AVU511)","v":2.4547999999999992},{"$f":"AVERAGE(AVV11:AVV511)","v":3.0891999999999995},null,{"$f":"AVERAGE(AVX11:AVX511)","v":2.1959999999999997},{"$f":"AVERAGE(AVY11:AVY511)","v":3.0945999999999998},null,{"$f":"AVERAGE(AWA11:AWA511)","v":2.3183999999999987},{"$f":"AVERAGE(AWB11:AWB511)","v":2.9641999999999999},null,{"$f":"AVERAGE(AWD11:AWD511)","v":2.3523999999999994},{"$f":"AVERAGE(AWE11:AWE511)","v":2.9359999999999995},null,{"$f":"AVERAGE(AWG11:AWG511)","v":2.2835999999999994},{"$f":"AVERAGE(AWH11:AWH511)","v":3.1219999999999999},null,{"$f":"AVERAGE(AWJ11:AWJ511)","v":2.2617999999999991},{"$f":"AVERAGE(AWK11:AWK511)","v":2.9574000000000007},null,{"$f":"AVERAGE(AWM11:AWM511)","v":2.6885999999999997},{"$f":"AVERAGE(AWN11:AWN511)","v":3.2949999999999999},null,{"$f":"AVERAGE(AWP11:AWP511)","v":2.6509999999999998},{"$f":"AVERAGE(AWQ11:AWQ511)","v":3.5467999999999993},null,{"$f":"AVERAGE(AWS11:AWS511)","v":2.5337999999999998},{"$f":"AVERAGE(AWT11:AWT511)","v":3.3064},null,{"$f":"AVERAGE(AWV11:AWV511)","v":2.3039999999999994},{"$f":"AVERAGE(AWW11:AWW511)","v":3.073599999999999},null,{"$f":"AVERAGE(AWY11:AWY511)","v":2.7059999999999995},{"$f":"AVERAGE(AWZ11:AWZ511)","v":3.3051999999999988},null,{"$f":"AVERAGE(AXB11:AXB511)","v":2.5986000000000007},{"$f":"AVERAGE(AXC11:AXC511)","v":3.1789999999999998},null,{"$f":"AVERAGE(AXE11:AXE511)","v":2.5669999999999997},{"$f":"AVERAGE(AXF11:AXF511)","v":3.5000000000000004},null,{"$f":"AVERAGE(AXH11:AXH511)","v":2.5329999999999999},{"$f":"AVERAGE(AXI11:AXI511)","v":3.0519999999999992},null,{"$f":"AVERAGE(AXK11:AXK511)","v":2.5459999999999998},{"$f":"AVERAGE(AXL11:AXL511)","v":3.1903999999999995},null,{"$f":"AVERAGE(AXN11:AXN511)","v":2.2137999999999995},{"$f":"AVERAGE(AXO11:AXO511)","v":2.7799999999999994},null,{"$f":"AVERAGE(AXQ11:AXQ511)","v":2.6799999999999993},{"$f":"AVERAGE(AXR11:AXR511)","v":3.2967999999999988},null,{"$f":"AVERAGE(AXT11:AXT511)","v":2.0787999999999998},{"$f":"AVERAGE(AXU11:AXU511)","v":2.890400000000001},null,{"$f":"AVERAGE(AXW11:AXW511)","v":2.4735999999999994},{"$f":"AVERAGE(AXX11:AXX511)","v":3.0199999999999996},null,{"$f":"AVERAGE(AXZ11:AXZ511)","v":2.3986000000000001},{"$f":"AVERAGE(AYA11:AYA511)","v":2.6357999999999993},null,{"$f":"AVERAGE(AYC11:AYC511)","v":2.4327999999999999},{"$f":"AVERAGE(AYD11:AYD511)","v":3.0813999999999999},null,{"$f":"AVERAGE(AYF11:AYF511)","v":1.9735999999999996},{"$f":"AVERAGE(AYG11:AYG511)","v":2.6065999999999989},null,{"$f":"AVERAGE(AYI11:AYI511)","v":2.716400000000001},{"$f":"AVERAGE(AYJ11:AYJ511)","v":3.2955999999999999},null,{"$f":"AVERAGE(AYL11:AYL511)","v":2.6684000000000001},{"$f":"AVERAGE(AYM11:AYM511)","v":3.0938000000000003},null,{"$f":"AVERAGE(AYO11:AYO511)","v":2.4687999999999999},{"$f":"AVERAGE(AYP11:AYP511)","v":3.3322000000000003},null,{"$f":"AVERAGE(AYR11:AYR511)","v":2.1518000000000002},{"$f":"AVERAGE(AYS11:AYS511)","v":2.8397999999999994},null,{"$f":"AVERAGE(AYU11:AYU511)","v":2.7740000000000005},{"$f":"AVERAGE(AYV11:AYV511)","v":3.5285999999999995},null,{"$f":"AVERAGE(AYX11:AYX511)","v":2.6083999999999992},{"$f":"AVERAGE(AYY11:AYY511)","v":3.0459999999999989},null,{"$f":"AVERAGE(AZA11:AZA511)","v":2.4753999999999992},{"$f":"AVERAGE(AZB11:AZB511)","v":3.1971999999999996},null,{"$f":"AVERAGE(AZD11:AZD511)","v":2.3838000000000004},{"$f":"AVERAGE(AZE11:AZE511)","v":3.0061999999999993},null,{"$f":"AVERAGE(AZG11:AZG511)","v":2.5890000000000004},{"$f":"AVERAGE(AZH11:AZH511)","v":3.1676000000000006},null,{"$f":"AVERAGE(AZJ11:AZJ511)","v":2.4488000000000003},{"$f":"AVERAGE(AZK11:AZK511)","v":3.3821999999999979},null,{"$f":"AVERAGE(AZM11:AZM511)","v":2.5066000000000002},{"$f":"AVERAGE(AZN11:AZN511)","v":2.9613999999999989},null,{"$f":"AVERAGE(AZP11:AZP511)","v":2.8190000000000004},{"$f":"AVERAGE(AZQ11:AZQ511)","v":3.4706000000000001},null,{"$f":"AVERAGE(AZS11:AZS511)","v":2.4728000000000003},{"$f":"AVERAGE(AZT11:AZT511)","v":3.1899999999999995},null,{"$f":"AVERAGE(AZV11:AZV511)","v":2.5594000000000001},{"$f":"AVERAGE(AZW11:AZW511)","v":3.2127999999999997},null,{"$f":"AVERAGE(AZY11:AZY511)","v":2.1121999999999996},{"$f":"AVERAGE(AZZ11:AZZ511)","v":2.6839999999999997},null,{"$f":"AVERAGE(BAB11:BAB511)","v":2.5072000000000001},{"$f":"AVERAGE(BAC11:BAC511)","v":3.114199999999999},null,{"$f":"AVERAGE(BAE11:BAE511)","v":2.714},{"$f":"AVERAGE(BAF11:BAF511)","v":3.4033999999999991},null,{"$f":"AVERAGE(BAH11:BAH511)","v":2.8810000000000002},{"$f":"AVERAGE(BAI11:BAI511)","v":3.6567999999999983},null,{"$f":"AVERAGE(BAK11:BAK511)","v":2.4892000000000003},{"$f":"AVERAGE(BAL11:BAL511)","v":3.3059999999999992},null,{"$f":"AVERAGE(BAN11:BAN511)","v":2.8744000000000001},{"$f":"AVERAGE(BAO11:BAO511)","v":3.6679999999999988},null,{"$f":"AVERAGE(BAQ11:BAQ511)","v":2.5697999999999994},{"$f":"AVERAGE(BAR11:BAR511)","v":3.2299999999999995},null,{"$f":"AVERAGE(BAT11:BAT511)","v":2.1779999999999999},{"$f":"AVERAGE(BAU11:BAU511)","v":3.0107999999999997},null,{"$f":"AVERAGE(BAW11:BAW511)","v":2.9774000000000007},{"$f":"AVERAGE(BAX11:BAX511)","v":3.653999999999999},null,{"$f":"AVERAGE(BAZ11:BAZ511)","v":2.589399999999999},{"$f":"AVERAGE(BBA11:BBA511)","v":3.1394000000000002},null,{"$f":"AVERAGE(BBC11:BBC511)","v":2.5633999999999992},{"$f":"AVERAGE(BBD11:BBD511)","v":3.1094000000000004},null,{"$f":"AVERAGE(BBF11:BBF511)","v":2.6547999999999998},{"$f":"AVERAGE(BBG11:BBG511)","v":3.1847999999999996},null,{"$f":"AVERAGE(BBI11:BBI511)","v":1.9868000000000006},{"$f":"AVERAGE(BBJ11:BBJ511)","v":2.7421999999999991},null,{"$f":"AVERAGE(BBL11:BBL511)","v":2.8125999999999998},{"$f":"AVERAGE(BBM11:BBM511)","v":3.6289999999999991},null,{"$f":"AVERAGE(BBO11:BBO511)","v":2.3612000000000002},{"$f":"AVERAGE(BBP11:BBP511)","v":3.2977999999999996},null,{"$f":"AVERAGE(BBR11:BBR511)","v":2.1821999999999995},{"$f":"AVERAGE(BBS11:BBS511)","v":3.0144000000000002},null,{"$f":"AVERAGE(BBU11:BBU511)","v":2.6630000000000003},{"$f":"AVERAGE(BBV11:BBV511)","v":3.4443999999999995},null,{"$f":"AVERAGE(BBX11:BBX511)","v":2.9037999999999999},{"$f":"AVERAGE(BBY11:BBY511)","v":3.7505999999999995},null,{"$f":"AVERAGE(BCA11:BCA511)","v":2.8483999999999998},{"$f":"AVERAGE(BCB11:BCB511)","v":3.5427999999999997},null,{"$f":"AVERAGE(BCD11:BCD511)","v":2.8154000000000003},{"$f":"AVERAGE(BCE11:BCE511)","v":3.5935999999999995},null,{"$f":"AVERAGE(BCG11:BCG511)","v":2.8262},{"$f":"AVERAGE(BCH11:BCH511)","v":3.4925999999999995},null,{"$f":"AVERAGE(BCJ11:BCJ511)","v":2.5085999999999995},{"$f":"AVERAGE(BCK11:BCK511)","v":2.8789999999999991},null,{"$f":"AVERAGE(BCM11:BCM511)","v":2.3629999999999995},{"$f":"AVERAGE(BCN11:BCN511)","v":3.1033999999999993},null,{"$f":"AVERAGE(BCP11:BCP511)","v":2.5694000000000004},{"$f":"AVERAGE(BCQ11:BCQ511)","v":3.0002000000000004},null,{"$f":"AVERAGE(BCS11:BCS511)","v":2.8859999999999997},{"$f":"AVERAGE(BCT11:BCT511)","v":3.6314000000000011},null,{"$f":"AVERAGE(BCV11:BCV511)","v":2.7332000000000001},{"$f":"AVERAGE(BCW11:BCW511)","v":3.2455999999999996},null,{"$f":"AVERAGE(BCY11:BCY511)","v":2.2669999999999999},{"$f":"AVERAGE(BCZ11:BCZ511)","v":3.1855999999999995},null,{"$f":"AVERAGE(BDB11:BDB511)","v":2.6460000000000004},{"$f":"AVERAGE(BDC11:BDC511)","v":3.4194},null,{"$f":"AVERAGE(BDE11:BDE511)","v":2.4780000000000002},{"$f":"AVERAGE(BDF11:BDF511)","v":3.2616000000000001},null,{"$f":"AVERAGE(BDH11:BDH511)","v":2.6156000000000006},{"$f":"AVERAGE(BDI11:BDI511)","v":3.1693999999999987},null,{"$f":"AVERAGE(BDK11:BDK511)","v":2.5495999999999999},{"$f":"AVERAGE(BDL11:BDL511)","v":3.3571999999999984},null,{"$f":"AVERAGE(BDN11:BDN511)","v":2.7949999999999999},{"$f":"AVERAGE(BDO11:BDO511)","v":3.5135999999999989},null,{"$f":"AVERAGE(BDQ11:BDQ511)","v":2.92},{"$f":"AVERAGE(BDR11:BDR511)","v":3.6129999999999995},null,{"$f":"AVERAGE(BDT11:BDT511)","v":3.0444},{"$f":"AVERAGE(BDU11:BDU511)","v":3.6268000000000011},null,{"$f":"AVERAGE(BDW11:BDW511)","v":2.6438000000000001},{"$f":"AVERAGE(BDX11:BDX511)","v":3.2293999999999996},null,{"$f":"AVERAGE(BDZ11:BDZ511)","v":2.2489999999999992},{"$f":"AVERAGE(BEA11:BEA511)","v":2.7611999999999997},null,{"$f":"AVERAGE(BEC11:BEC511)","v":2.5072000000000005},{"$f":"AVERAGE(BED11:BED511)","v":3.1977999999999995},null,{"$f":"AVERAGE(BEF11:BEF511)","v":2.5409999999999995},{"$f":"AVERAGE(BEG11:BEG511)","v":3.1315999999999997},null,{"$f":"AVERAGE(BEI11:BEI511)","v":2.7472000000000003},{"$f":"AVERAGE(BEJ11:BEJ511)","v":3.4174000000000007},null,{"$f":"AVERAGE(BEL11:BEL511)","v":2.5550000000000002},{"$f":"AVERAGE(BEM11:BEM511)","v":3.081799999999999},null,{"$f":"AVERAGE(BEO11:BEO511)","v":2.5128000000000004},{"$f":"AVERAGE(BEP11:BEP511)","v":3.0725999999999987},null,{"$f":"AVERAGE(BER11:BER511)","v":2.8440000000000003},{"$f":"AVERAGE(BES11:BES511)","v":3.2396000000000003},null,{"$f":"AVERAGE(BEU11:BEU511)","v":2.7078000000000002},{"$f":"AVERAGE(BEV11:BEV511)","v":3.3527999999999984},null,{"$f":"AVERAGE(BEX11:BEX511)","v":2.3702000000000001},{"$f":"AVERAGE(BEY11:BEY511)","v":2.9468000000000001},null,{"$f":"AVERAGE(BFA11:BFA511)","v":2.7874000000000008},{"$f":"AVERAGE(BFB11:BFB511)","v":3.6682000000000001},null,{"$f":"AVERAGE(BFD11:BFD511)","v":2.4964},{"$f":"AVERAGE(BFE11:BFE511)","v":3.4426000000000001},null,{"$f":"AVERAGE(BFG11:BFG511)","v":2.3740000000000001},{"$f":"AVERAGE(BFH11:BFH511)","v":3.1647999999999996},null,{"$f":"AVERAGE(BFJ11:BFJ511)","v":2.5421999999999993},{"$f":"AVERAGE(BFK11:BFK511)","v":3.3268},null,{"$f":"AVERAGE(BFM11:BFM511)","v":2.5604000000000009},{"$f":"AVERAGE(BFN11:BFN511)","v":3.2429999999999994},null,{"$f":"AVERAGE(BFP11:BFP511)","v":2.4760000000000004},{"$f":"AVERAGE(BFQ11:BFQ511)","v":3.2782000000000004},null,{"$f":"AVERAGE(BFS11:BFS511)","v":2.2601999999999998},{"$f":"AVERAGE(BFT11:BFT511)","v":3.1462000000000008},null,{"$f":"AVERAGE(BFV11:BFV511)","v":2.2829999999999995},{"$f":"AVERAGE(BFW11:BFW511)","v":3.0395999999999996},null,{"$f":"AVERAGE(BFY11:BFY511)","v":2.7892000000000001},{"$f":"AVERAGE(BFZ11:BFZ511)","v":3.2230000000000008},null,{"$f":"AVERAGE(BGB11:BGB511)","v":2.1142000000000007},{"$f":"AVERAGE(BGC11:BGC511)","v":3.1709999999999998},null,{"$f":"AVERAGE(BGE11:BGE511)","v":2.4878},{"$f":"AVERAGE(BGF11:BGF511)","v":3.3268},null,{"$f":"AVERAGE(BGH11:BGH511)","v":2.9938000000000007},{"$f":"AVERAGE(BGI11:BGI511)","v":3.7052000000000009},null,{"$f":"AVERAGE(BGK11:BGK511)","v":2.1609999999999996},{"$f":"AVERAGE(BGL11:BGL511)","v":2.8294000000000006},null,{"$f":"AVERAGE(BGN11:BGN511)","v":2.6797999999999997},{"$f":"AVERAGE(BGO11:BGO511)","v":3.3054000000000006},null,{"$f":"AVERAGE(BGQ11:BGQ511)","v":2.1424000000000003},{"$f":"AVERAGE(BGR11:BGR511)","v":3.1091999999999995},null,{"$f":"AVERAGE(BGT11:BGT511)","v":2.4866000000000006},{"$f":"AVERAGE(BGU11:BGU511)","v":3.3380000000000001}]
[null,null,4,0.32,0.75,null,null,0,0,null,"標準偏差：=STDEV(セル範囲) ",null,{"$f":"STDEV(D5:D1304)","v":1.678069298756333},{"$f":"STDEV(E5:E1304)","v":1.8541094347201752},{"$f":"STDEV(F5:F1304)","v":{"$error":"#DIV/0!"}},{"$f":"STDEV(G5:G1304)","v":{"$error":"#DIV/0!"}},"誤差分散比(λ)",{"$f":"S5/R5","v":{"$error":"#DIV/0!"}},null,null,2.11,23,6,2.2600000000000002,20,8,null,null,null,{"$f":"AD7+$AC$7","v":-1.3912249157098762},0.28594512000082406,-1.2527531082381138,0.69630255056876189,null,{"$error":"#DIV/0!"},{"$error":"#DIV/0!"},{"$error":"#DIV/0!"},{"$error":"#DIV/0!"},null,47,47,"","",null,0.53500000000000003,0.43,null,0.53500000000000003,0.43,null,null,null,"Sｘｙ=",{"$f":"COVAR(BB11:BB510,BC11:BC510)*$N$5","v":192.46740400000004},null,null,{"$f":"COVAR(BE11:BE510,BF11:BF510)*$N$5","v":128.15657999999996},null,null,{"$f":"COVAR(BH11:BH510,BI11:BI510)*$N$5","v":141.63069200000004},null,null,{"$f":"COVAR(BK11:BK510,BL11:BL510)*$N$5","v":127.82602},null,null,{"$f":"COVAR(BN11:BN510,BO11:BO510)*$N$5","v":108.67356400000003},null,null,{"$f":"COVAR(BQ11:BQ510,BR11:BR510)*$N$5","v":117.97681400000005},null,null,{"$f":"COVAR(BT11:BT510,BU11:BU510)*$N$5","v":92.572303999999988},null,null,{"$f":"COVAR(BW11:BW510,BX11:BX510)*$N$5","v":117.73459200000001},null,null,{"$f":"COVAR(BZ11:BZ510,CA11:CA510)*$N$5","v":137.66530800000004},null,null,{"$f":"COVAR(CC11:CC510,CD11:CD510)*$N$5","v":135.54118000000003},null,null,{"$f":"COVAR(CF11:CF510,CG11:CG510)*$N$5","v":89.13540600000006},null,null,{"$f":"COVAR(CI11:CI510,CJ11:CJ510)*$N$5","v":101.44457999999995},null,null,{"$f":"COVAR(CL11:CL510,CM11:CM510)*$N$5","v":160.56168799999998},null,null,{"$f":"COVAR(CO11:CO510,CP11:CP510)*$N$5","v":114.61658000000003},null,null,{"$f":"COVAR(CR11:CR510,CS11:CS510)*$N$5","v":104.98202400000001},null,null,{"$f":"COVAR(CU11:CU510,CV11:CV510)*$N$5","v":152.40671599999996},null,null,{"$f":"COVAR(CX11:CX510,CY11:CY510)*$N$5","v":128.24005999999994},null,null,{"$f":"COVAR(DA11:DA510,DB11:DB510)*$N$5","v":154.42087400000003},null,null,{"$f":"COVAR(DD11:DD510,DE11:DE510)*$N$5","v":144.91769199999996},null,null,{"$f":"COVAR(DG11:DG510,DH11:DH510)*$N$5","v":116.94495999999997},null,null,{"$f":"COVAR(DJ11:DJ510,DK11:DK510)*$N$5","v":129.982328},null,null,{"$f":"COVAR(DM11:DM510,DN11:DN510)*$N$5","v":101.54814000000005},null,null,{"$f":"COVAR(DP11:DP510,DQ11:DQ510)*$N$5","v":142.96429000000003},null,null,{"$f":"COVAR(DS11:DS510,DT11:DT510)*$N$5","v":153.86169999999996},null,null,{"$f":"COVAR(DV11:DV510,DW11:DW510)*$N$5","v":138.71019199999995},null,null,{"$f":"COVAR(DY11:DY510,DZ11:DZ510)*$N$5","v":145.43282800000003},null,null,{"$f":"COVAR(EB11:EB510,EC11:EC510)*$N$5","v":108.31669200000003},null,null,{"$f":"COVAR(EE11:EE510,EF11:EF510)*$N$5","v":110.92540400000001},null,null,{"$f":"COVAR(EH11:EH510,EI11:EI510)*$N$5","v":146.22809999999998},null,null,{"$f":"COVAR(EK11:EK510,EL11:EL510)*$N$5","v":119.569192},null,null,{"$f":"COVAR(EN11:EN510,EO11:EO510)*$N$5","v":141.23329799999996},null,null,{"$f":"COVAR(EQ11:EQ510,ER11:ER510)*$N$5","v":112.76502799999999},null,null,{"$f":"COVAR(ET11:ET510,EU11:EU510)*$N$5","v":122.29329599999997},null,null,{"$f":"COVAR(EW11:EW510,EX11:EX510)*$N$5","v":117.72072399999998},null,null,{"$f":"COVAR(EZ11:EZ510,FA11:FA510)*$N$5","v":142.82074399999999},null,null,{"$f":"COVAR(FC11:FC510,FD11:FD510)*$N$5","v":103.82692000000003},null,null,{"$f":"COVAR(FF11:FF510,FG11:FG510)*$N$5","v":144.00665999999998},null,null,{"$f":"COVAR(FI11:FI510,FJ11:FJ510)*$N$5","v":106.003336},null,null,{"$f":"COVAR(FL11:FL510,FM11:FM510)*$N$5","v":116.910984},null,null,{"$f":"COVAR(FO11:FO510,FP11:FP510)*$N$5","v":140.56150600000001},null,null,{"$f":"COVAR(FR11:FR510,FS11:FS510)*$N$5","v":135.61342000000002},null,null,{"$f":"COVAR(FU11:FU510,FV11:FV510)*$N$5","v":165.23984000000004},null,null,{"$f":"COVAR(FX11:FX510,FY11:FY510)*$N$5","v":156.58198000000004},null,null,{"$f":"COVAR(GA11:GA510,GB11:GB510)*$N$5","v":116.731696},null,null,{"$f":"COVAR(GD11:GD510,GE11:GE510)*$N$5","v":148.65162000000001},null,null,{"$f":"COVAR(GG11:GG510,GH11:GH510)*$N$5","v":119.19645999999995},null,null,{"$f":"COVAR(GJ11:GJ510,GK11:GK510)*$N$5","v":97.190284000000034},null,null,{"$f":"COVAR(GM11:GM510,GN11:GN510)*$N$5","v":101.65857},null,null,{"$f":"COVAR(GP11:GP510,GQ11:GQ510)*$N$5","v":125.76782799999992},null,null,{"$f":"COVAR(GS11:GS510,GT11:GT510)*$N$5","v":142.07958000000002},null,null,{"$f":"COVAR(GV11:GV510,GW11:GW510)*$N$5","v":139.71606799999995},null,null,{"$f":"COVAR(GY11:GY510,GZ11:GZ510)*$N$5","v":151.807412},null,null,{"$f":"COVAR(HB11:HB510,HC11:HC510)*$N$5","v":147.01184999999995},null,null,{"$f":"COVAR(HE11:HE510,HF11:HF510)*$N$5","v":142.18914799999999},null,null,{"$f":"COVAR(HH11:HH510,HI11:HI510)*$N$5","v":101.70403999999998},null,null,{"$f":"COVAR(HK11:HK510,HL11:HL510)*$N$5","v":113.5915},null,null,{"$f":"COVAR(HN11:HN510,HO11:HO510)*$N$5","v":131.80703199999996},null,null,{"$f":"COVAR(HQ11:HQ510,HR11:HR510)*$N$5","v":124.59351199999998},null,null,{"$f":"COVAR(HT11:HT510,HU11:HU510)*$N$5","v":109.14824800000001},null,null,{"$f":"COVAR(HW11:HW510,HX11:HX510)*$N$5","v":110.94856799999999},null,null,{"$f":"COVAR(HZ11:HZ510,IA11:IA510)*$N$5","v":132.248368},null,null,{"$f":"COVAR(IC11:IC510,ID11:ID510)*$N$5","v":95.705358000000004},null,null,{"$f":"COVAR(IF11:IF510,IG11:IG510)*$N$5","v":137.70799599999998},null,null,{"$f":"COVAR(II11:II510,IJ11:IJ510)*$N$5","v":142.87499600000001},null,null,{"$f":"COVAR(IL11:IL510,IM11:IM510)*$N$5","v":136.59841599999999},null,null,{"$f":"COVAR(IO11:IO510,IP11:IP510)*$N$5","v":124.29069999999997},null,null,{"$f":"COVAR(IR11:IR510,IS11:IS510)*$N$5","v":134.61418799999998},null,null,{"$f":"COVAR(IU11:IU510,IV11:IV510)*$N$5","v":144.05303599999996},null,null,{"$f":"COVAR(IX11:IX510,IY11:IY510)*$N$5","v":115.90929000000001},null,null,{"$f":"COVAR(JA11:JA510,JB11:JB510)*$N$5","v":122.28413000000002},null,null,{"$f":"COVAR(JD11:JD510,JE11:JE510)*$N$5","v":120.92949999999993},null,null,{"$f":"COVAR(JG11:JG510,JH11:JH510)*$N$5","v":104.00935000000004},null,null,{"$f":"COVAR(JJ11:JJ510,JK11:JK510)*$N$5","v":149.64882400000005},null,null,{"$f":"COVAR(JM11:JM510,JN11:JN510)*$N$5","v":149.23076800000001},null,null,{"$f":"COVAR(JP11:JP510,JQ11:JQ510)*$N$5","v":176.61122799999998},null,null,{"$f":"COVAR(JS11:JS510,JT11:JT510)*$N$5","v":129.56636399999996},null,null,{"$f":"COVAR(JV11:JV510,JW11:JW510)*$N$5","v":139.28783800000005},null,null,{"$f":"COVAR(JY11:JY510,JZ11:JZ510)*$N$5","v":88.961439999999996},null,null,{"$f":"COVAR(KB11:KB510,KC11:KC510)*$N$5","v":99.885784000000015},null,null,{"$f":"COVAR(KE11:KE510,KF11:KF510)*$N$5","v":115.64640200000002},null,null,{"$f":"COVAR(KH11:KH510,KI11:KI510)*$N$5","v":121.64139999999999},null,null,{"$f":"COVAR(KK11:KK510,KL11:KL510)*$N$5","v":125.34610000000002},null,null,{"$f":"COVAR(KN11:KN510,KO11:KO510)*$N$5","v":125.44390000000006},null,null,{"$f":"COVAR(KQ11:KQ510,KR11:KR510)*$N$5","v":182.51082400000001},null,null,{"$f":"COVAR(KT11:KT510,KU11:KU510)*$N$5","v":138.55803599999999},null,null,{"$f":"COVAR(KW11:KW510,KX11:KX510)*$N$5","v":112.911078},null,null,{"$f":"COVAR(KZ11:KZ510,LA11:LA510)*$N$5","v":120.63016799999997},null,null,{"$f":"COVAR(LC11:LC510,LD11:LD510)*$N$5","v":120.04189000000001},null,null,{"$f":"COVAR(LF11:LF510,LG11:LG510)*$N$5","v":132.52832399999997},null,null,{"$f":"COVAR(LI11:LI510,LJ11:LJ510)*$N$5","v":123.99441199999998},null,null,{"$f":"COVAR(LL11:LL510,LM11:LM510)*$N$5","v":141.57599599999998},null,null,{"$f":"COVAR(LO11:LO510,LP11:LP510)*$N$5","v":106.002576},null,null,{"$f":"COVAR(LR11:LR510,LS11:LS510)*$N$5","v":122.45606399999997},null,null,{"$f":"COVAR(LU11:LU510,LV11:LV510)*$N$5","v":103.61559199999999},null,null,{"$f":"COVAR(LX11:LX510,LY11:LY510)*$N$5","v":132.59326000000001},null,null,{"$f":"COVAR(MA11:MA510,MB11:MB510)*$N$5","v":117.45972},null,null,{"$f":"COVAR(MD11:MD510,ME11:ME510)*$N$5","v":97.04766800000003},null,null,{"$f":"COVAR(MG11:MG510,MH11:MH510)*$N$5","v":179.09007000000005},null,null,{"$f":"COVAR(MJ11:MJ510,MK11:MK510)*$N$5","v":129.03370000000001},null,null,{"$f":"COVAR(MM11:MM510,MN11:MN510)*$N$5","v":113.82916399999996},null,null,{"$f":"COVAR(MP11:MP510,MQ11:MQ510)*$N$5","v":153.04345000000001},null,null,{"$f":"COVAR(MS11:MS510,MT11:MT510)*$N$5","v":102.40269999999995},null,null,{"$f":"COVAR(MV11:MV510,MW11:MW510)*$N$5","v":96.425655999999989},null,null,{"$f":"COVAR(MY11:MY510,MZ11:MZ510)*$N$5","v":148.60210799999999},null,null,{"$f":"COVAR(NB11:NB510,NC11:NC510)*$N$5","v":126.62861799999999},null,null,{"$f":"COVAR(NE11:NE510,NF11:NF510)*$N$5","v":110.76525599999999},null,null,{"$f":"COVAR(NH11:NH510,NI11:NI510)*$N$5","v":98.768617999999975},null,null,{"$f":"COVAR(NK11:NK510,NL11:NL510)*$N$5","v":118.08651999999998},null,null,{"$f":"COVAR(NN11:NN510,NO11:NO510)*$N$5","v":167.30357999999998},null,null,{"$f":"COVAR(NQ11:NQ510,NR11:NR510)*$N$5","v":98.65736000000004},null,null,{"$f":"COVAR(NT11:NT510,NU11:NU510)*$N$5","v":132.09771600000002},null,null,{"$f":"COVAR(NW11:NW510,NX11:NX510)*$N$5","v":127.317352},null,null,{"$f":"COVAR(NZ11:NZ510,OA11:OA510)*$N$5","v":117.68308400000001},null,null,{"$f":"COVAR(OC11:OC510,OD11:OD510)*$N$5","v":98.299894000000009},null,null,{"$f":"COVAR(OF11:OF510,OG11:OG510)*$N$5","v":163.02915199999998},null,null,{"$f":"COVAR(OI11:OI510,OJ11:OJ510)*$N$5","v":151.98160000000001},null,null,{"$f":"COVAR(OL11:OL510,OM11:OM510)*$N$5","v":150.281904},null,null,{"$f":"COVAR(OO11:OO510,OP11:OP510)*$N$5","v":98.927111999999994},null,null,{"$f":"COVAR(OR11:OR510,OS11:OS510)*$N$5","v":130.73072000000002},null,null,{"$f":"COVAR(OU11:OU510,OV11:OV510)*$N$5","v":176.68343200000001},null,null,{"$f":"COVAR(OX11:OX510,OY11:OY510)*$N$5","v":119.17880400000003},null,null,{"$f":"COVAR(PA11:PA510,PB11:PB510)*$N$5","v":133.23898400000002},null,null,{"$f":"COVAR(PD11:PD510,PE11:PE510)*$N$5","v":166.654292},null,null,{"$f":"COVAR(PG11:PG510,PH11:PH510)*$N$5","v":108.16677999999999},null,null,{"$f":"COVAR(PJ11:PJ510,PK11:PK510)*$N$5","v":185.19179600000004},null,null,{"$f":"COVAR(PM11:PM510,PN11:PN510)*$N$5","v":134.97083600000002},null,null,{"$f":"COVAR(PP11:PP510,PQ11:PQ510)*$N$5","v":125.23705199999998},null,null,{"$f":"COVAR(PS11:PS510,PT11:PT510)*$N$5","v":120.30940200000001},null,null,{"$f":"COVAR(PV11:PV510,PW11:PW510)*$N$5","v":115.5446},null,null,{"$f":"COVAR(PY11:PY510,PZ11:PZ510)*$N$5","v":112.29512000000001},null,null,{"$f":"COVAR(QB11:QB510,QC11:QC510)*$N$5","v":129.10084800000001},null,null,{"$f":"COVAR(QE11:QE510,QF11:QF510)*$N$5","v":109.58085},null,null,{"$f":"COVAR(QH11:QH510,QI11:QI510)*$N$5","v":141.88578800000002},null,null,{"$f":"COVAR(QK11:QK510,QL11:QL510)*$N$5","v":124.20999199999994},null,null,{"$f":"COVAR(QN11:QN510,QO11:QO510)*$N$5","v":115.17718800000006},null,null,{"$f":"COVAR(QQ11:QQ510,QR11:QR510)*$N$5","v":130.34531199999995},null,null,{"$f":"COVAR(QT11:QT510,QU11:QU510)*$N$5","v":123.11088999999996},null,null,{"$f":"COVAR(QW11:QW510,QX11:QX510)*$N$5","v":116.60849999999998},null,null,{"$f":"COVAR(QZ11:QZ510,RA11:RA510)*$N$5","v":118.17642400000001},null,null,{"$f":"COVAR(RC11:RC510,RD11:RD510)*$N$5","v":93.935690000000008},null,null,{"$f":"COVAR(RF11:RF510,RG11:RG510)*$N$5","v":145.746464},null,null,{"$f":"COVAR(RI11:RI510,RJ11:RJ510)*$N$5","v":162.20919999999998},null,null,{"$f":"COVAR(RL11:RL510,RM11:RM510)*$N$5","v":138.40896000000004},null,null,{"$f":"COVAR(RO11:RO510,RP11:RP510)*$N$5","v":91.785720000000026},null,null,{"$f":"COVAR(RR11:RR510,RS11:RS510)*$N$5","v":148.19273199999995},null,null,{"$f":"COVAR(RU11:RU510,RV11:RV510)*$N$5","v":121.01246999999998},null,null,{"$f":"COVAR(RX11:RX510,RY11:RY510)*$N$5","v":111.25018200000001},null,null,{"$f":"COVAR(SA11:SA510,SB11:SB510)*$N$5","v":106.94249999999998},null,null,{"$f":"COVAR(SD11:SD510,SE11:SE510)*$N$5","v":148.33876199999997},null,null,{"$f":"COVAR(SG11:SG510,SH11:SH510)*$N$5","v":150.097476},null,null,{"$f":"COVAR(SJ11:SJ510,SK11:SK510)*$N$5","v":103.82540000000003},null,null,{"$f":"COVAR(SM11:SM510,SN11:SN510)*$N$5","v":111.34064800000002},null,null,{"$f":"COVAR(SP11:SP510,SQ11:SQ510)*$N$5","v":140.97970400000005},null,null,{"$f":"COVAR(SS11:SS510,ST11:ST510)*$N$5","v":159.06186000000002},null,null,{"$f":"COVAR(SV11:SV510,SW11:SW510)*$N$5","v":109.88213599999999},null,null,{"$f":"COVAR(SY11:SY510,SZ11:SZ510)*$N$5","v":123.87583399999997},null,null,{"$f":"COVAR(TB11:TB510,TC11:TC510)*$N$5","v":106.15809600000001},null,null,{"$f":"COVAR(TE11:TE510,TF11:TF510)*$N$5","v":123.417788},null,null,{"$f":"COVAR(TH11:TH510,TI11:TI510)*$N$5","v":157.22694399999997},null,null,{"$f":"COVAR(TK11:TK510,TL11:TL510)*$N$5","v":152.28577200000004},null,null,{"$f":"COVAR(TN11:TN510,TO11:TO510)*$N$5","v":149.044916},null,null,{"$f":"COVAR(TQ11:TQ510,TR11:TR510)*$N$5","v":140.06628000000003},null,null,{"$f":"COVAR(TT11:TT510,TU11:TU510)*$N$5","v":136.76638000000005},null,null,{"$f":"COVAR(TW11:TW510,TX11:TX510)*$N$5","v":119.46142600000005},null,null,{"$f":"COVAR(TZ11:TZ510,UA11:UA510)*$N$5","v":149.697452},null,null,{"$f":"COVAR(UC11:UC510,UD11:UD510)*$N$5","v":122.07693999999998},null,null,{"$f":"COVAR(UF11:UF510,UG11:UG510)*$N$5","v":106.88705200000005},null,null,{"$f":"COVAR(UI11:UI510,UJ11:UJ510)*$N$5","v":132.67293000000004},null,null,{"$f":"COVAR(UL11:UL510,UM11:UM510)*$N$5","v":108.27090200000001},null,null,{"$f":"COVAR(UO11:UO510,UP11:UP510)*$N$5","v":117.22572399999997},null,null,{"$f":"COVAR(UR11:UR510,US11:US510)*$N$5","v":118.93758000000001},null,null,{"$f":"COVAR(UU11:UU510,UV11:UV510)*$N$5","v":115.21403999999997},null,null,{"$f":"COVAR(UX11:UX510,UY11:UY510)*$N$5","v":127.20397800000001},null,null,{"$f":"COVAR(VA11:VA510,VB11:VB510)*$N$5","v":118.63354799999996},null,null,{"$f":"COVAR(VD11:VD510,VE11:VE510)*$N$5","v":163.01356600000003},null,null,{"$f":"COVAR(VG11:VG510,VH11:VH510)*$N$5","v":88.312600000000003},null,null,{"$f":"COVAR(VJ11:VJ510,VK11:VK510)*$N$5","v":149.63437000000005},null,null,{"$f":"COVAR(VM11:VM510,VN11:VN510)*$N$5","v":115.81841599999996},null,null,{"$f":"COVAR(VP11:VP510,VQ11:VQ510)*$N$5","v":150.82855999999995},null,null,{"$f":"COVAR(VS11:VS510,VT11:VT510)*$N$5","v":117.161728},null,null,{"$f":"COVAR(VV11:VV510,VW11:VW510)*$N$5","v":143.39670000000001},null,null,{"$f":"COVAR(VY11:VY510,VZ11:VZ510)*$N$5","v":95.25142000000001},null,null,{"$f":"COVAR(WB11:WB510,WC11:WC510)*$N$5","v":115.35283200000002},null,null,{"$f":"COVAR(WE11:WE510,WF11:WF510)*$N$5","v":140.53220000000002},null,null,{"$f":"COVAR(WH11:WH510,WI11:WI510)*$N$5","v":93.333047999999948},null,null,{"$f":"COVAR(WK11:WK510,WL11:WL510)*$N$5","v":111.54959999999998},null,null,{"$f":"COVAR(WN11:WN510,WO11:WO510)*$N$5","v":105.36861600000003},null,null,{"$f":"COVAR(WQ11:WQ510,WR11:WR510)*$N$5","v":124.99774399999997},null,null,{"$f":"COVAR(WT11:WT510,WU11:WU510)*$N$5","v":152.91526400000001},null,null,{"$f":"COVAR(WW11:WW510,WX11:WX510)*$N$5","v":118.15728999999999},null,null,{"$f":"COVAR(WZ11:WZ510,XA11:XA510)*$N$5","v":191.33684399999999},null,null,{"$f":"COVAR(XC11:XC510,XD11:XD510)*$N$5","v":83.33610800000001},null,null,{"$f":"COVAR(XF11:XF510,XG11:XG510)*$N$5","v":113.55397999999998},null,null,{"$f":"COVAR(XI11:XI510,XJ11:XJ510)*$N$5","v":110.24729999999998},null,null,{"$f":"COVAR(XL11:XL510,XM11:XM510)*$N$5","v":116.89129599999998},null,null,{"$f":"COVAR(XO11:XO510,XP11:XP510)*$N$5","v":117.57301999999999},null,null,{"$f":"COVAR(XR11:XR510,XS11:XS510)*$N$5","v":138.40204},null,null,{"$f":"COVAR(XU11:XU510,XV11:XV510)*$N$5","v":172.49837199999999},null,null,{"$f":"COVAR(XX11:XX510,XY11:XY510)*$N$5","v":114.04102400000001},null,null,{"$f":"COVAR(YA11:YA510,YB11:YB510)*$N$5","v":119.66850399999997},null,null,{"$f":"COVAR(YD11:YD510,YE11:YE510)*$N$5","v":114.83174399999993},null,null,{"$f":"COVAR(YG11:YG510,YH11:YH510)*$N$5","v":160.53750399999996},null,null,{"$f":"COVAR(YJ11:YJ510,YK11:YK510)*$N$5","v":95.972621999999987},null,null,{"$f":"COVAR(YM11:YM510,YN11:YN510)*$N$5","v":114.17881799999998},null,null,{"$f":"COVAR(YP11:YP510,YQ11:YQ510)*$N$5","v":134.38026799999997},null,null,{"$f":"COVAR(YS11:YS510,YT11:YT510)*$N$5","v":134.45482000000001},null,null,{"$f":"COVAR(YV11:YV510,YW11:YW510)*$N$5","v":140.745588},null,null,{"$f":"COVAR(YY11:YY510,YZ11:YZ510)*$N$5","v":152.14346000000006},null,null,{"$f":"COVAR(ZB11:ZB510,ZC11:ZC510)*$N$5","v":167.44444399999992},null,null,{"$f":"COVAR(ZE11:ZE510,ZF11:ZF510)*$N$5","v":124.87545399999999},null,null,{"$f":"COVAR(ZH11:ZH510,ZI11:ZI510)*$N$5","v":118.97040200000004},null,null,{"$f":"COVAR(ZK11:ZK510,ZL11:ZL510)*$N$5","v":131.22365400000007},null,null,{"$f":"COVAR(ZN11:ZN510,ZO11:ZO510)*$N$5","v":156.76337999999998},null,null,{"$f":"COVAR(ZQ11:ZQ510,ZR11:ZR510)*$N$5","v":117.91506200000002},null,null,{"$f":"COVAR(ZT11:ZT510,ZU11:ZU510)*$N$5","v":149.27624999999998},null,null,{"$f":"COVAR(ZW11:ZW510,ZX11:ZX510)*$N$5","v":130.433922},null,null,{"$f":"COVAR(ZZ11:ZZ510,AAA11:AAA510)*$N$5","v":115.89498200000001},null,null,{"$f":"COVAR(AAC11:AAC510,AAD11:AAD510)*$N$5","v":163.39919400000002},null,null,{"$f":"COVAR(AAF11:AAF510,AAG11:AAG510)*$N$5","v":125.75510000000003},null,null,{"$f":"COVAR(AAI11:AAI510,AAJ11:AAJ510)*$N$5","v":111.28609000000004},null,null,{"$f":"COVAR(AAL11:AAL510,AAM11:AAM510)*$N$5","v":117.875924},null,null,{"$f":"COVAR(AAO11:AAO510,AAP11:AAP510)*$N$5","v":161.47309599999997},null,null,{"$f":"COVAR(AAR11:AAR510,AAS11:AAS510)*$N$5","v":160.09097599999998},null,null,{"$f":"COVAR(AAU11:AAU510,AAV11:AAV510)*$N$5","v":130.91539},null,null,{"$f":"COVAR(AAX11:AAX510,AAY11:AAY510)*$N$5","v":105.92086800000004},null,null,{"$f":"COVAR(ABA11:ABA510,ABB11:ABB510)*$N$5","v":124.11667199999998},null,null,{"$f":"COVAR(ABD11:ABD510,ABE11:ABE510)*$N$5","v":120.54089599999998},null,null,{"$f":"COVAR(ABG11:ABG510,ABH11:ABH510)*$N$5","v":113.21628},null,null,{"$f":"COVAR(ABJ11:ABJ510,ABK11:ABK510)*$N$5","v":115.60188400000003},null,null,{"$f":"COVAR(ABM11:ABM510,ABN11:ABN510)*$N$5","v":139.46042799999998},null,null,{"$f":"COVAR(ABP11:ABP510,ABQ11:ABQ510)*$N$5","v":108.48945800000003},null,null,{"$f":"COVAR(ABS11:ABS510,ABT11:ABT510)*$N$5","v":190.55843200000004},null,null,{"$f":"COVAR(ABV11:ABV510,ABW11:ABW510)*$N$5","v":95.17506800000001},null,null,{"$f":"COVAR(ABY11:ABY510,ABZ11:ABZ510)*$N$5","v":102.89404200000001},null,null,{"$f":"COVAR(ACB11:ACB510,ACC11:ACC510)*$N$5","v":143.61238000000003},null,null,{"$f":"COVAR(ACE11:ACE510,ACF11:ACF510)*$N$5","v":126.814612},null,null,{"$f":"COVAR(ACH11:ACH510,ACI11:ACI510)*$N$5","v":165.41057800000004},null,null,{"$f":"COVAR(ACK11:ACK510,ACL11:ACL510)*$N$5","v":132.22121200000001},null,null,{"$f":"COVAR(ACN11:ACN510,ACO11:ACO510)*$N$5","v":130.331254},null,null,{"$f":"COVAR(ACQ11:ACQ510,ACR11:ACR510)*$N$5","v":152.93462000000002},null,null,{"$f":"COVAR(ACT11:ACT510,ACU11:ACU510)*$N$5","v":95.264747999999955},null,null,{"$f":"COVAR(ACW11:ACW510,ACX11:ACX510)*$N$5","v":134.05452},null,null,{"$f":"COVAR(ACZ11:ACZ510,ADA11:ADA510)*$N$5","v":151.06365600000004},null,null,{"$f":"COVAR(ADC11:ADC510,ADD11:ADD510)*$N$5","v":116.00515399999998},null,null,{"$f":"COVAR(ADF11:ADF510,ADG11:ADG510)*$N$5","v":112.86402799999999},null,null,{"$f":"COVAR(ADI11:ADI510,ADJ11:ADJ510)*$N$5","v":129.00662799999998},null,null,{"$f":"COVAR(ADL11:ADL510,ADM11:ADM510)*$N$5","v":123.016696},null,null,{"$f":"COVAR(ADO11:ADO510,ADP11:ADP510)*$N$5","v":130.24308400000001},null,null,{"$f":"COVAR(ADR11:ADR510,ADS11:ADS510)*$N$5","v":123.32644999999999},null,null,{"$f":"COVAR(ADU11:ADU510,ADV11:ADV510)*$N$5","v":126.91283400000005},null,null,{"$f":"COVAR(ADX11:ADX510,ADY11:ADY510)*$N$5","v":158.44954399999997},null,null,{"$f":"COVAR(AEA11:AEA510,AEB11:AEB510)*$N$5","v":94.790680000000009},null,null,{"$f":"COVAR(AED11:AED510,AEE11:AEE510)*$N$5","v":107.54643200000002},null,null,{"$f":"COVAR(AEG11:AEG510,AEH11:AEH510)*$N$5","v":150.59649199999996},null,null,{"$f":"COVAR(AEJ11:AEJ510,AEK11:AEK510)*$N$5","v":103.31156799999999},null,null,{"$f":"COVAR(AEM11:AEM510,AEN11:AEN510)*$N$5","v":124.65780800000003},null,null,{"$f":"COVAR(AEP11:AEP510,AEQ11:AEQ510)*$N$5","v":144.40908399999998},null,null,{"$f":"COVAR(AES11:AES510,AET11:AET510)*$N$5","v":101.833896},null,null,{"$f":"COVAR(AEV11:AEV510,AEW11:AEW510)*$N$5","v":117.778948},null,null,{"$f":"COVAR(AEY11:AEY510,AEZ11:AEZ510)*$N$5","v":84.48929200000002},null,null,{"$f":"COVAR(AFB11:AFB510,AFC11:AFC510)*$N$5","v":160.49679999999995},null,null,{"$f":"COVAR(AFE11:AFE510,AFF11:AFF510)*$N$5","v":86.205239999999989},null,null,{"$f":"COVAR(AFH11:AFH510,AFI11:AFI510)*$N$5","v":109.36442800000002},null,null,{"$f":"COVAR(AFK11:AFK510,AFL11:AFL510)*$N$5","v":127.52485599999999},null,null,{"$f":"COVAR(AFN11:AFN510,AFO11:AFO510)*$N$5","v":134.28051600000001},null,null,{"$f":"COVAR(AFQ11:AFQ510,AFR11:AFR510)*$N$5","v":97.056731999999968},null,null,{"$f":"COVAR(AFT11:AFT510,AFU11:AFU510)*$N$5","v":111.15182999999998},null,null,{"$f":"COVAR(AFW11:AFW510,AFX11:AFX510)*$N$5","v":139.84462599999995},null,null,{"$f":"COVAR(AFZ11:AFZ510,AGA11:AGA510)*$N$5","v":130.60243},null,null,{"$f":"COVAR(AGC11:AGC510,AGD11:AGD510)*$N$5","v":151.13749599999997},null,null,{"$f":"COVAR(AGF11:AGF510,AGG11:AGG510)*$N$5","v":126.58373599999997},null,null,{"$f":"COVAR(AGI11:AGI510,AGJ11:AGJ510)*$N$5","v":121.84526399999997},null,null,{"$f":"COVAR(AGL11:AGL510,AGM11:AGM510)*$N$5","v":122.06475399999999},null,null,{"$f":"COVAR(AGO11:AGO510,AGP11:AGP510)*$N$5","v":105.24634399999999},null,null,{"$f":"COVAR(AGR11:AGR510,AGS11:AGS510)*$N$5","v":143.10223399999995},null,null,{"$f":"COVAR(AGU11:AGU510,AGV11:AGV510)*$N$5","v":126.659752},null,null,{"$f":"COVAR(AGX11:AGX510,AGY11:AGY510)*$N$5","v":136.52863999999997},null,null,{"$f":"COVAR(AHA11:AHA510,AHB11:AHB510)*$N$5","v":100.84929999999997},null,null,{"$f":"COVAR(AHD11:AHD510,AHE11:AHE510)*$N$5","v":133.46588799999995},null,null,{"$f":"COVAR(AHG11:AHG510,AHH11:AHH510)*$N$5","v":108.82496000000002},null,null,{"$f":"COVAR(AHJ11:AHJ510,AHK11:AHK510)*$N$5","v":160.42055799999997},null,null,{"$f":"COVAR(AHM11:AHM510,AHN11:AHN510)*$N$5","v":141.18579999999997},null,null,{"$f":"COVAR(AHP11:AHP510,AHQ11:AHQ510)*$N$5","v":119.2401},null,null,{"$f":"COVAR(AHS11:AHS510,AHT11:AHT510)*$N$5","v":98.411264000000003},null,null,{"$f":"COVAR(AHV11:AHV510,AHW11:AHW510)*$N$5","v":136.03838399999998},null,null,{"$f":"COVAR(AHY11:AHY510,AHZ11:AHZ510)*$N$5","v":136.55825999999999},null,null,{"$f":"COVAR(AIB11:AIB510,AIC11:AIC510)*$N$5","v":105.90064599999999},null,null,{"$f":"COVAR(AIE11:AIE510,AIF11:AIF510)*$N$5","v":122.01895199999998},null,null,{"$f":"COVAR(AIH11:AIH510,AII11:AII510)*$N$5","v":141.55808800000003},null,null,{"$f":"COVAR(AIK11:AIK510,AIL11:AIL510)*$N$5","v":163.09233599999996},null,null,{"$f":"COVAR(AIN11:AIN510,AIO11:AIO510)*$N$5","v":116.37734400000002},null,null,{"$f":"COVAR(AIQ11:AIQ510,AIR11:AIR510)*$N$5","v":158.55657599999998},null,null,{"$f":"COVAR(AIT11:AIT510,AIU11:AIU510)*$N$5","v":143.98932400000001},null,null,{"$f":"COVAR(AIW11:AIW510,AIX11:AIX510)*$N$5","v":125.52650400000003},null,null,{"$f":"COVAR(AIZ11:AIZ510,AJA11:AJA510)*$N$5","v":122.94646400000001},null,null,{"$f":"COVAR(AJC11:AJC510,AJD11:AJD510)*$N$5","v":112.99236999999999},null,null,{"$f":"COVAR(AJF11:AJF510,AJG11:AJG510)*$N$5","v":105.947242},null,null,{"$f":"COVAR(AJI11:AJI510,AJJ11:AJJ510)*$N$5","v":142.2894},null,null,{"$f":"COVAR(AJL11:AJL510,AJM11:AJM510)*$N$5","v":131.69004400000003},null,null,{"$f":"COVAR(AJO11:AJO510,AJP11:AJP510)*$N$5","v":115.41967599999995},null,null,{"$f":"COVAR(AJR11:AJR510,AJS11:AJS510)*$N$5","v":140.71062000000006},null,null,{"$f":"COVAR(AJU11:AJU510,AJV11:AJV510)*$N$5","v":166.70724200000001},null,null,{"$f":"COVAR(AJX11:AJX510,AJY11:AJY510)*$N$5","v":98.60038999999999},null,null,{"$f":"COVAR(AKA11:AKA510,AKB11:AKB510)*$N$5","v":132.41541999999995},null,null,{"$f":"COVAR(AKD11:AKD510,AKE11:AKE510)*$N$5","v":128.97203999999996},null,null,{"$f":"COVAR(AKG11:AKG510,AKH11:AKH510)*$N$5","v":94.135690000000025},null,null,{"$f":"COVAR(AKJ11:AKJ510,AKK11:AKK510)*$N$5","v":158.18582999999992},null,null,{"$f":"COVAR(AKM11:AKM510,AKN11:AKN510)*$N$5","v":104.40214800000001},null,null,{"$f":"COVAR(AKP11:AKP510,AKQ11:AKQ510)*$N$5","v":122.76644000000003},null,null,{"$f":"COVAR(AKS11:AKS510,AKT11:AKT510)*$N$5","v":136.56409000000002},null,null,{"$f":"COVAR(AKV11:AKV510,AKW11:AKW510)*$N$5","v":115.59699199999997},null,null,{"$f":"COVAR(AKY11:AKY510,AKZ11:AKZ510)*$N$5","v":145.79216999999997},null,null,{"$f":"COVAR(ALB11:ALB510,ALC11:ALC510)*$N$5","v":148.76697200000004},null,null,{"$f":"COVAR(ALE11:ALE510,ALF11:ALF510)*$N$5","v":168.35878},null,null,{"$f":"COVAR(ALH11:ALH510,ALI11:ALI510)*$N$5","v":110.67623400000002},null,null,{"$f":"COVAR(ALK11:ALK510,ALL11:ALL510)*$N$5","v":134.99437999999992},null,null,{"$f":"COVAR(ALN11:ALN510,ALO11:ALO510)*$N$5","v":197.169836},null,null,{"$f":"COVAR(ALQ11:ALQ510,ALR11:ALR510)*$N$5","v":124.22302800000004},null,null,{"$f":"COVAR(ALT11:ALT510,ALU11:ALU510)*$N$5","v":143.53243200000009},null,null,{"$f":"COVAR(ALW11:ALW510,ALX11:ALX510)*$N$5","v":102.219764},null,null,{"$f":"COVAR(ALZ11:ALZ510,AMA11:AMA510)*$N$5","v":132.49464},null,null,{"$f":"COVAR(AMC11:AMC510,AMD11:AMD510)*$N$5","v":112.06035999999997},null,null,{"$f":"COVAR(AMF11:AMF510,AMG11:AMG510)*$N$5","v":117.82416600000001},null,null,{"$f":"COVAR(AMI11:AMI510,AMJ11:AMJ510)*$N$5","v":112.84970800000001},null,null,{"$f":"COVAR(AML11:AML510,AMM11:AMM510)*$N$5","v":115.59944800000001},null,null,{"$f":"COVAR(AMO11:AMO510,AMP11:AMP510)*$N$5","v":117.68617199999997},null,null,{"$f":"COVAR(AMR11:AMR510,AMS11:AMS510)*$N$5","v":118.80317600000001},null,null,{"$f":"COVAR(AMU11:AMU510,AMV11:AMV510)*$N$5","v":135.81087000000002},null,null,{"$f":"COVAR(AMX11:AMX510,AMY11:AMY510)*$N$5","v":191.38080400000004},null,null,{"$f":"COVAR(ANA11:ANA510,ANB11:ANB510)*$N$5","v":119.39290000000004},null,null,{"$f":"COVAR(AND11:AND510,ANE11:ANE510)*$N$5","v":115.67030399999996},null,null,{"$f":"COVAR(ANG11:ANG510,ANH11:ANH510)*$N$5","v":117.45377999999999},null,null,{"$f":"COVAR(ANJ11:ANJ510,ANK11:ANK510)*$N$5","v":153.07540999999998},null,null,{"$f":"COVAR(ANM11:ANM510,ANN11:ANN510)*$N$5","v":135.555272},null,null,{"$f":"COVAR(ANP11:ANP510,ANQ11:ANQ510)*$N$5","v":101.63191399999999},null,null,{"$f":"COVAR(ANS11:ANS510,ANT11:ANT510)*$N$5","v":126.99135},null,null,{"$f":"COVAR(ANV11:ANV510,ANW11:ANW510)*$N$5","v":114.90514799999998},null,null,{"$f":"COVAR(ANY11:ANY510,ANZ11:ANZ510)*$N$5","v":117.45043199999998},null,null,{"$f":"COVAR(AOB11:AOB510,AOC11:AOC510)*$N$5","v":117.19221000000005},null,null,{"$f":"COVAR(AOE11:AOE510,AOF11:AOF510)*$N$5","v":108.25529},null,null,{"$f":"COVAR(AOH11:AOH510,AOI11:AOI510)*$N$5","v":141.74497200000002},null,null,{"$f":"COVAR(AOK11:AOK510,AOL11:AOL510)*$N$5","v":140.41778799999997},null,null,{"$f":"COVAR(AON11:AON510,AOO11:AOO510)*$N$5","v":130.95862800000003},null,null,{"$f":"COVAR(AOQ11:AOQ510,AOR11:AOR510)*$N$5","v":176.22370599999994},null,null,{"$f":"COVAR(AOT11:AOT510,AOU11:AOU510)*$N$5","v":134.09418599999995},null,null,{"$f":"COVAR(AOW11:AOW510,AOX11:AOX510)*$N$5","v":136.50181999999998},null,null,{"$f":"COVAR(AOZ11:AOZ510,APA11:APA510)*$N$5","v":153.47849199999996},null,null,{"$f":"COVAR(APC11:APC510,APD11:APD510)*$N$5","v":144.802876},null,null,{"$f":"COVAR(APF11:APF510,APG11:APG510)*$N$5","v":122.59415000000004},null,null,{"$f":"COVAR(API11:API510,APJ11:APJ510)*$N$5","v":149.01381599999999},null,null,{"$f":"COVAR(APL11:APL510,APM11:APM510)*$N$5","v":131.720044},null,null,{"$f":"COVAR(APO11:APO510,APP11:APP510)*$N$5","v":108.83528200000001},null,null,{"$f":"COVAR(APR11:APR510,APS11:APS510)*$N$5","v":154.49163200000001},null,null,{"$f":"COVAR(APU11:APU510,APV11:APV510)*$N$5","v":153.99659999999994},null,null,{"$f":"COVAR(APX11:APX510,APY11:APY510)*$N$5","v":131.76569200000003},null,null,{"$f":"COVAR(AQA11:AQA510,AQB11:AQB510)*$N$5","v":167.36091999999999},null,null,{"$f":"COVAR(AQD11:AQD510,AQE11:AQE510)*$N$5","v":104.92780999999999},null,null,{"$f":"COVAR(AQG11:AQG510,AQH11:AQH510)*$N$5","v":139.88751199999996},null,null,{"$f":"COVAR(AQJ11:AQJ510,AQK11:AQK510)*$N$5","v":124.01299999999995},null,null,{"$f":"COVAR(AQM11:AQM510,AQN11:AQN510)*$N$5","v":152.10117599999995},null,null,{"$f":"COVAR(AQP11:AQP510,AQQ11:AQQ510)*$N$5","v":140.48842400000004},null,null,{"$f":"COVAR(AQS11:AQS510,AQT11:AQT510)*$N$5","v":137.16172},null,null,{"$f":"COVAR(AQV11:AQV510,AQW11:AQW510)*$N$5","v":114.77114599999997},null,null,{"$f":"COVAR(AQY11:AQY510,AQZ11:AQZ510)*$N$5","v":142.75901000000002},null,null,{"$f":"COVAR(ARB11:ARB510,ARC11:ARC510)*$N$5","v":157.75887999999995},null,null,{"$f":"COVAR(ARE11:ARE510,ARF11:ARF510)*$N$5","v":106.12248},null,null,{"$f":"COVAR(ARH11:ARH510,ARI11:ARI510)*$N$5","v":118.33274800000004},null,null,{"$f":"COVAR(ARK11:ARK510,ARL11:ARL510)*$N$5","v":98.937799999999982},null,null,{"$f":"COVAR(ARN11:ARN510,ARO11:ARO510)*$N$5","v":133.96140000000003},null,null,{"$f":"COVAR(ARQ11:ARQ510,ARR11:ARR510)*$N$5","v":163.66036800000003},null,null,{"$f":"COVAR(ART11:ART510,ARU11:ARU510)*$N$5","v":158.34281999999996},null,null,{"$f":"COVAR(ARW11:ARW510,ARX11:ARX510)*$N$5","v":141.45922000000002},null,null,{"$f":"COVAR(ARZ11:ARZ510,ASA11:ASA510)*$N$5","v":98.229799999999997},null,null,{"$f":"COVAR(ASC11:ASC510,ASD11:ASD510)*$N$5","v":126.67138599999991},null,null,{"$f":"COVAR(ASF11:ASF510,ASG11:ASG510)*$N$5","v":125.13834400000002},null,null,{"$f":"COVAR(ASI11:ASI510,ASJ11:ASJ510)*$N$5","v":133.13508399999998},null,null,{"$f":"COVAR(ASL11:ASL510,ASM11:ASM510)*$N$5","v":108.84417799999999},null,null,{"$f":"COVAR(ASO11:ASO510,ASP11:ASP510)*$N$5","v":160.67928800000007},null,null,{"$f":"COVAR(ASR11:ASR510,ASS11:ASS510)*$N$5","v":135.29594599999999},null,null,{"$f":"COVAR(ASU11:ASU510,ASV11:ASV510)*$N$5","v":147.82279400000002},null,null,{"$f":"COVAR(ASX11:ASX510,ASY11:ASY510)*$N$5","v":101.75968400000002},null,null,{"$f":"COVAR(ATA11:ATA510,ATB11:ATB510)*$N$5","v":143.18409199999994},null,null,{"$f":"COVAR(ATD11:ATD510,ATE11:ATE510)*$N$5","v":109.218794},null,null,{"$f":"COVAR(ATG11:ATG510,ATH11:ATH510)*$N$5","v":144.43348000000003},null,null,{"$f":"COVAR(ATJ11:ATJ510,ATK11:ATK510)*$N$5","v":105.172292},null,null,{"$f":"COVAR(ATM11:ATM510,ATN11:ATN510)*$N$5","v":104.666168},null,null,{"$f":"COVAR(ATP11:ATP510,ATQ11:ATQ510)*$N$5","v":113.40938999999996},null,null,{"$f":"COVAR(ATS11:ATS510,ATT11:ATT510)*$N$5","v":139.13477599999996},null,null,{"$f":"COVAR(ATV11:ATV510,ATW11:ATW510)*$N$5","v":133.56675200000001},null,null,{"$f":"COVAR(ATY11:ATY510,ATZ11:ATZ510)*$N$5","v":129.87664199999998},null,null,{"$f":"COVAR(AUB11:AUB510,AUC11:AUC510)*$N$5","v":139.17482799999999},null,null,{"$f":"COVAR(AUE11:AUE510,AUF11:AUF510)*$N$5","v":103.94792399999999},null,null,{"$f":"COVAR(AUH11:AUH510,AUI11:AUI510)*$N$5","v":108.96553599999999},null,null,{"$f":"COVAR(AUK11:AUK510,AUL11:AUL510)*$N$5","v":93.029583999999986},null,null,{"$f":"COVAR(AUN11:AUN510,AUO11:AUO510)*$N$5","v":134.82560400000003},null,null,{"$f":"COVAR(AUQ11:AUQ510,AUR11:AUR510)*$N$5","v":115.76274399999997},null,null,{"$f":"COVAR(AUT11:AUT510,AUU11:AUU510)*$N$5","v":143.99951199999998},null,null,{"$f":"COVAR(AUW11:AUW510,AUX11:AUX510)*$N$5","v":131.05361199999996},null,null,{"$f":"COVAR(AUZ11:AUZ510,AVA11:AVA510)*$N$5","v":114.09524400000004},null,null,{"$f":"COVAR(AVC11:AVC510,AVD11:AVD510)*$N$5","v":169.19820400000003},null,null,{"$f":"COVAR(AVF11:AVF510,AVG11:AVG510)*$N$5","v":148.69512},null,null,{"$f":"COVAR(AVI11:AVI510,AVJ11:AVJ510)*$N$5","v":131.42738800000004},null,null,{"$f":"COVAR(AVL11:AVL510,AVM11:AVM510)*$N$5","v":112.60104600000001},null,null,{"$f":"COVAR(AVO11:AVO510,AVP11:AVP510)*$N$5","v":168.64286400000006},null,null,{"$f":"COVAR(AVR11:AVR510,AVS11:AVS510)*$N$5","v":144.3227},null,null,{"$f":"COVAR(AVU11:AVU510,AVV11:AVV510)*$N$5","v":152.27019200000007},null,null,{"$f":"COVAR(AVX11:AVX510,AVY11:AVY510)*$N$5","v":117.99102000000002},null,null,{"$f":"COVAR(AWA11:AWA510,AWB11:AWB510)*$N$5","v":147.42593599999998},null,null,{"$f":"COVAR(AWD11:AWD510,AWE11:AWE510)*$N$5","v":142.36638000000002},null,null,{"$f":"COVAR(AWG11:AWG510,AWH11:AWH510)*$N$5","v":89.761139999999997},null,null,{"$f":"COVAR(AWJ11:AWJ510,AWK11:AWK510)*$N$5","v":113.97783399999997},null,null,{"$f":"COVAR(AWM11:AWM510,AWN11:AWN510)*$N$5","v":120.01234999999998},null,null,{"$f":"COVAR(AWP11:AWP510,AWQ11:AWQ510)*$N$5","v":156.91625999999999},null,null,{"$f":"COVAR(AWS11:AWS510,AWT11:AWT510)*$N$5","v":183.92788400000001},null,null,{"$f":"COVAR(AWV11:AWV510,AWW11:AWW510)*$N$5","v":153.75918000000001},null,null,{"$f":"COVAR(AWY11:AWY510,AWZ11:AWZ510)*$N$5","v":152.86254},null,null,{"$f":"COVAR(AXB11:AXB510,AXC11:AXC510)*$N$5","v":132.34452999999999},null,null,{"$f":"COVAR(AXE11:AXE510,AXF11:AXF510)*$N$5","v":117.1446},null,null,{"$f":"COVAR(AXH11:AXH510,AXI11:AXI510)*$N$5","v":123.88739999999999},null,null,{"$f":"COVAR(AXK11:AXK510,AXL11:AXL510)*$N$5","v":131.38727999999998},null,null,{"$f":"COVAR(AXN11:AXN510,AXO11:AXO510)*$N$5","v":126.45380000000004},null,null,{"$f":"COVAR(AXQ11:AXQ510,AXR11:AXR510)*$N$5","v":140.89230000000001},null,null,{"$f":"COVAR(AXT11:AXT510,AXU11:AXU510)*$N$5","v":106.632324},null,null,{"$f":"COVAR(AXW11:AXW510,AXX11:AXX510)*$N$5","v":163.04340000000002},null,null,{"$f":"COVAR(AXZ11:AXZ510,AYA11:AYA510)*$N$5","v":129.04660599999994},null,null,{"$f":"COVAR(AYC11:AYC510,AYD11:AYD510)*$N$5","v":127.99400399999999},null,null,{"$f":"COVAR(AYF11:AYF510,AYG11:AYG510)*$N$5","v":114.577512},null,null,{"$f":"COVAR(AYI11:AYI510,AYJ11:AYJ510)*$N$5","v":142.17800800000001},null,null,{"$f":"COVAR(AYL11:AYL510,AYM11:AYM510)*$N$5","v":128.85800400000002},null,null,{"$f":"COVAR(AYO11:AYO510,AYP11:AYP510)*$N$5","v":99.892431999999985},null,null,{"$f":"COVAR(AYR11:AYR510,AYS11:AYS510)*$N$5","v":114.09991800000002},null,null,{"$f":"COVAR(AYU11:AYU510,AYV11:AYV510)*$N$5","v":151.67838},null,null,{"$f":"COVAR(AYX11:AYX510,AYY11:AYY510)*$N$5","v":143.94918000000001},null,null,{"$f":"COVAR(AZA11:AZA510,AZB11:AZB510)*$N$5","v":112.556256},null,null,{"$f":"COVAR(AZD11:AZD510,AZE11:AZE510)*$N$5","v":127.75792200000001},null,null,{"$f":"COVAR(AZG11:AZG510,AZH11:AZH510)*$N$5","v":116.39808000000002},null,null,{"$f":"COVAR(AZJ11:AZJ510,AZK11:AZK510)*$N$5","v":93.892232000000021},null,null,{"$f":"COVAR(AZM11:AZM510,AZN11:AZN510)*$N$5","v":143.95543799999999},null,null,{"$f":"COVAR(AZP11:AZP510,AZQ11:AZQ510)*$N$5","v":145.01003000000006},null,null,{"$f":"COVAR(AZS11:AZS510,AZT11:AZT510)*$N$5","v":121.02779999999997},null,null,{"$f":"COVAR(AZV11:AZV510,AZW11:AZW510)*$N$5","v":101.60638400000002},null,null,{"$f":"COVAR(AZY11:AZY510,AZZ11:AZZ510)*$N$5","v":148.52715999999995},null,null,{"$f":"COVAR(BAB11:BAB510,BAC11:BAC510)*$N$5","v":144.20928800000007},null,null,{"$f":"COVAR(BAE11:BAE510,BAF11:BAF510)*$N$5","v":124.49571999999998},null,null,{"$f":"COVAR(BAH11:BAH510,BAI11:BAI510)*$N$5","v":117.67796},null,null,{"$f":"COVAR(BAK11:BAK510,BAL11:BAL510)*$N$5","v":105.97253999999998},null,null,{"$f":"COVAR(BAN11:BAN510,BAO11:BAO510)*$N$5","v":127.93393999999998},null,null,{"$f":"COVAR(BAQ11:BAQ510,BAR11:BAR510)*$N$5","v":151.17920000000001},null,null,{"$f":"COVAR(BAT11:BAT510,BAU11:BAU510)*$N$5","v":121.13527999999999},null,null,{"$f":"COVAR(BAW11:BAW510,BAX11:BAX510)*$N$5","v":140.81362000000004},null,null,{"$f":"COVAR(BAZ11:BAZ510,BBA11:BBA510)*$N$5","v":170.052482},null,null,{"$f":"COVAR(BBC11:BBC510,BBD11:BBD510)*$N$5","v":152.52960200000001},null,null,{"$f":"COVAR(BBF11:BBF510,BBG11:BBG510)*$N$5","v":144.27194800000001},null,null,{"$f":"COVAR(BBI11:BBI510,BBJ11:BBJ510)*$N$5","v":143.773652},null,null,{"$f":"COVAR(BBL11:BBL510,BBM11:BBM510)*$N$5","v":96.512230000000017},null,null,{"$f":"COVAR(BBO11:BBO510,BBP11:BBP510)*$N$5","v":117.560132},null,null,{"$f":"COVAR(BBR11:BBR510,BBS11:BBS510)*$N$5","v":91.582116000000013},null,null,{"$f":"COVAR(BBU11:BBU510,BBV11:BBV510)*$N$5","v":118.55854000000001},null,null,{"$f":"COVAR(BBX11:BBX510,BBY11:BBY510)*$N$5","v":129.19088600000001},null,null,{"$f":"COVAR(BCA11:BCA510,BCB11:BCB510)*$N$5","v":160.61202400000005},null,null,{"$f":"COVAR(BCD11:BCD510,BCE11:BCE510)*$N$5","v":95.898028000000025},null,null,{"$f":"COVAR(BCG11:BCG510,BCH11:BCH510)*$N$5","v":156.64129399999999},null,null,{"$f":"COVAR(BCJ11:BCJ510,BCK11:BCK510)*$N$5","v":140.60023000000001},null,null,{"$f":"COVAR(BCM11:BCM510,BCN11:BCN510)*$N$5","v":116.44239},null,null,{"$f":"COVAR(BCP11:BCP510,BCQ11:BCQ510)*$N$5","v":124.25460599999998},null,null,{"$f":"COVAR(BCS11:BCS510,BCT11:BCT510)*$N$5","v":150.87688000000006},null,null,{"$f":"COVAR(BCV11:BCV510,BCW11:BCW510)*$N$5","v":142.68380400000009},null,null,{"$f":"COVAR(BCY11:BCY510,BCZ11:BCZ510)*$N$5","v":104.94753999999999},null,null,{"$f":"COVAR(BDB11:BDB510,BDC11:BDC510)*$N$5","v":119.52147999999998},null,null,{"$f":"COVAR(BDE11:BDE510,BDF11:BDF510)*$N$5","v":117.31125999999999},null,null,{"$f":"COVAR(BDH11:BDH510,BDI11:BDI510)*$N$5","v":99.620867999999945},null,null,{"$f":"COVAR(BDK11:BDK510,BDL11:BDL510)*$N$5","v":136.95584399999998},null,null,{"$f":"COVAR(BDN11:BDN510,BDO11:BDO510)*$N$5","v":108.93730000000002},null,null,{"$f":"COVAR(BDQ11:BDQ510,BDR11:BDR510)*$N$5","v":156.26290000000006},null,null,{"$f":"COVAR(BDT11:BDT510,BDU11:BDU510)*$N$5","v":118.691204},null,null,{"$f":"COVAR(BDW11:BDW510,BDX11:BDX510)*$N$5","v":142.81511399999997},null,null,{"$f":"COVAR(BDZ11:BDZ510,BEA11:BEA510)*$N$5","v":134.43295999999995},null,null,{"$f":"COVAR(BEC11:BEC510,BED11:BED510)*$N$5","v":88.374791999999999},null,null,{"$f":"COVAR(BEF11:BEF510,BEG11:BEG510)*$N$5","v":140.94431999999995},null,null,{"$f":"COVAR(BEI11:BEI510,BEJ11:BEJ510)*$N$5","v":124.19563599999999},null,null,{"$f":"COVAR(BEL11:BEL510,BEM11:BEM510)*$N$5","v":140.36604999999997},null,null,{"$f":"COVAR(BEO11:BEO510,BEP11:BEP510)*$N$5","v":129.17913599999997},null,null,{"$f":"COVAR(BER11:BER510,BES11:BES510)*$N$5","v":121.04447999999999},null,null,{"$f":"COVAR(BEU11:BEU510,BEV11:BEV510)*$N$5","v":153.587008},null,null,{"$f":"COVAR(BEX11:BEX510,BEY11:BEY510)*$N$5","v":151.887732},null,null,{"$f":"COVAR(BFA11:BFA510,BFB11:BFB510)*$N$5","v":151.85046599999998},null,null,{"$f":"COVAR(BFD11:BFD510,BFE11:BFE510)*$N$5","v":110.51766799999999},null,null,{"$f":"COVAR(BFG11:BFG510,BFH11:BFH510)*$N$5","v":106.13814000000002},null,null,{"$f":"COVAR(BFJ11:BFJ510,BFK11:BFK510)*$N$5","v":147.712952},null,null,{"$f":"COVAR(BFM11:BFM510,BFN11:BFN510)*$N$5","v":120.06363999999998},null,null,{"$f":"COVAR(BFP11:BFP510,BFQ11:BFQ510)*$N$5","v":111.29403999999998},null,null,{"$f":"COVAR(BFS11:BFS510,BFT11:BFT510)*$N$5","v":86.016137999999998},null,null,{"$f":"COVAR(BFV11:BFV510,BFW11:BFW510)*$N$5","v":159.13076000000001},null,null,{"$f":"COVAR(BFY11:BFY510,BFZ11:BFZ510)*$N$5","v":129.81181999999998},null,null,{"$f":"COVAR(BGB11:BGB510,BGC11:BGC510)*$N$5","v":100.07259000000006},null,null,{"$f":"COVAR(BGE11:BGE510,BGF11:BGF510)*$N$5","v":143.94844799999996},null,null,{"$f":"COVAR(BGH11:BGH510,BGI11:BGI510)*$N$5","v":148.03031199999995},null,null,{"$f":"COVAR(BGK11:BGK510,BGL11:BGL510)*$N$5","v":115.69452999999999},null,null,{"$f":"COVAR(BGN11:BGN510,BGO11:BGO510)*$N$5","v":172.41525399999992},null,null,{"$f":"COVAR(BGQ11:BGQ510,BGR11:BGR510)*$N$5","v":97.554395999999983},null,null,{"$f":"COVAR(BGT11:BGT510,BGU11:BGU510)*$N$5","v":155.68325999999999}]
[null,null,5,0.32,0.91,null,null,0,0,null,"変動計数：=SD/n＊100",null,{"$f":"M8/M6*100","v":67.187271731115189},{"$f":"N8/N6*100","v":58.474499644259346},{"$f":"O8/O6*100","v":{"$error":"#DIV/0!"}},{"$f":"P8/P6*100","v":{"$error":"#DIV/0!"}},null,null,null,null,2.7399999999999998,28,5,2.8400000000000003,24,4,null,null,null,-1.3364527337984695,0.42527131698608706,-1.2891439814453873,0.77581927575116949,null,{"$error":"#DIV/0!"},{"$error":"#DIV/0!"},{"$error":"#DIV/0!"},{"$error":"#DIV/0!"},null,47,46,"","",null,{"$f":"IF(D9<>\"\",(D9+E9)/2,\"\")","v":0.61499999999999999},0.59000000000000008,null,0.61499999999999999,0.59000000000000008,null,null,null,"Sｘｘ・Sｙｙ=",{"$f":"DEVSQ(BB11:BB510)","v":210.06836799999999},{"$f":"DEVSQ(BC11:BC510)","v":213.86591199999995},null,{"$f":"DEVSQ(BE11:BE510)","v":112.92064999999999},{"$f":"DEVSQ(BF11:BF510)","v":183.01624799999996},null,{"$f":"DEVSQ(BH11:BH510)","v":151.46543200000002},{"$f":"DEVSQ(BI11:BI510)","v":191.32880200000008},null,{"$f":"DEVSQ(BK11:BK510)","v":129.85251200000002},{"$f":"DEVSQ(BL11:BL510)","v":156.23984999999999},null,{"$f":"DEVSQ(BN11:BN510)","v":111.84755200000001},{"$f":"DEVSQ(BO11:BO510)","v":150.79924800000003},null,{"$f":"DEVSQ(BQ11:BQ510)","v":131.85092200000003},{"$f":"DEVSQ(BR11:BR510)","v":144.08281800000003},null,{"$f":"DEVSQ(BT11:BT510)","v":94.458392000000032},{"$f":"DEVSQ(BU11:BU510)","v":117.00484800000002},null,{"$f":"DEVSQ(BW11:BW510)","v":120.48588799999996},{"$f":"DEVSQ(BX11:BX510)","v":156.90692799999997},null,{"$f":"DEVSQ(BZ11:BZ510)","v":150.96524800000003},{"$f":"DEVSQ(CA11:CA510)","v":204.59816799999999},null,{"$f":"DEVSQ(CC11:CC510)","v":147.60565000000003},{"$f":"DEVSQ(CD11:CD510)","v":164.74723200000003},null,{"$f":"DEVSQ(CF11:CF510)","v":81.891857999999985},{"$f":"DEVSQ(CG11:CG510)","v":149.05304199999995},null,{"$f":"DEVSQ(CI11:CI510)","v":94.31052200000002},{"$f":"DEVSQ(CJ11:CJ510)","v":172.44419999999991},null,{"$f":"DEVSQ(CL11:CL510)","v":160.05304800000005},{"$f":"DEVSQ(CM11:CM510)","v":193.56957799999992},null,{"$f":"DEVSQ(CO11:CO510)","v":100.77405000000002},{"$f":"DEVSQ(CP11:CP510)","v":170.46716799999999},null,{"$f":"DEVSQ(CR11:CR510)","v":116.39624199999999},{"$f":"DEVSQ(CS11:CS510)","v":151.95812800000002},null,{"$f":"DEVSQ(CU11:CU510)","v":154.49847199999994},{"$f":"DEVSQ(CV11:CV510)","v":196.73529799999997},null,{"$f":"DEVSQ(CX11:CX510)","v":124.56387199999999},{"$f":"DEVSQ(CY11:CY510)","v":165.5266},null,{"$f":"DEVSQ(DA11:DA510)","v":169.21072200000003},{"$f":"DEVSQ(DB11:DB510)","v":166.26565800000003},null,{"$f":"DEVSQ(DD11:DD510)","v":144.22092800000001},{"$f":"DEVSQ(DE11:DE510)","v":185.56613800000002},null,{"$f":"DEVSQ(DG11:DG510)","v":117.84140000000004},{"$f":"DEVSQ(DH11:DH510)","v":171.89873800000004},null,{"$f":"DEVSQ(DJ11:DJ510)","v":131.19772799999998},{"$f":"DEVSQ(DK11:DK510)","v":170.92737799999998},null,{"$f":"DEVSQ(DM11:DM510)","v":84.889649999999989},{"$f":"DEVSQ(DN11:DN510)","v":164.81576799999999},null,{"$f":"DEVSQ(DP11:DP510)","v":153.26725000000008},{"$f":"DEVSQ(DQ11:DQ510)","v":187.46048199999993},null,{"$f":"DEVSQ(DS11:DS510)","v":168.90980000000005},{"$f":"DEVSQ(DT11:DT510)","v":202.83099999999996},null,{"$f":"DEVSQ(DV11:DV510)","v":140.07109800000001},{"$f":"DEVSQ(DW11:DW510)","v":177.67916799999995},null,{"$f":"DEVSQ(DY11:DY510)","v":160.23579199999992},{"$f":"DEVSQ(DZ11:DZ510)","v":153.33940200000004},null,{"$f":"DEVSQ(EB11:EB510)","v":132.61131199999997},{"$f":"DEVSQ(EC11:EC510)","v":132.19327199999998},null,{"$f":"DEVSQ(EE11:EE510)","v":127.084642},{"$f":"DEVSQ(EF11:EF510)","v":161.06444799999997},null,{"$f":"DEVSQ(EH11:EH510)","v":144.21664999999999},{"$f":"DEVSQ(EI11:EI510)","v":199.37067200000001},null,{"$f":"DEVSQ(EK11:EK510)","v":136.96863200000001},{"$f":"DEVSQ(EL11:EL510)","v":132.48700200000002},null,{"$f":"DEVSQ(EN11:EN510)","v":162.67336200000003},{"$f":"DEVSQ(EO11:EO510)","v":172.22364199999998},null,{"$f":"DEVSQ(EQ11:EQ510)","v":109.34713799999999},{"$f":"DEVSQ(ER11:ER510)","v":173.66016800000006},null,{"$f":"DEVSQ(ET11:ET510)","v":146.86008800000002},{"$f":"DEVSQ(EU11:EU510)","v":148.645082},null,{"$f":"DEVSQ(EW11:EW510)","v":139.14569799999995},{"$f":"DEVSQ(EX11:EX510)","v":150.99251199999998},null,{"$f":"DEVSQ(EZ11:EZ510)","v":145.27352199999999},{"$f":"DEVSQ(FA11:FA510)","v":190.82168799999999},null,{"$f":"DEVSQ(FC11:FC510)","v":105.14865},{"$f":"DEVSQ(FD11:FD510)","v":134.51035199999998},null,{"$f":"DEVSQ(FF11:FF510)","v":134.61945000000006},{"$f":"DEVSQ(FG11:FG510)","v":202.09047199999995},null,{"$f":"DEVSQ(FI11:FI510)","v":113.31740799999999},{"$f":"DEVSQ(FJ11:FJ510)","v":152.62176199999999},null,{"$f":"DEVSQ(FL11:FL510)","v":123.58556800000002},{"$f":"DEVSQ(FM11:FM510)","v":155.54179200000004},null,{"$f":"DEVSQ(FO11:FO510)","v":170.82765799999996},{"$f":"DEVSQ(FP11:FP510)","v":146.79364199999998},null,{"$f":"DEVSQ(FR11:FR510)","v":145.95641800000001},{"$f":"DEVSQ(FS11:FS510)","v":159.09620000000001},null,{"$f":"DEVSQ(FU11:FU510)","v":177.79265800000005},{"$f":"DEVSQ(FV11:FV510)","v":207.10139999999996},null,{"$f":"DEVSQ(FX11:FX510)","v":193.35199199999997},{"$f":"DEVSQ(FY11:FY510)","v":172.82625000000002},null,{"$f":"DEVSQ(GA11:GA510)","v":130.49788800000002},{"$f":"DEVSQ(GB11:GB510)","v":140.58048199999999},null,{"$f":"DEVSQ(GD11:GD510)","v":168.03160000000005},{"$f":"DEVSQ(GE11:GE510)","v":187.43936799999997},null,{"$f":"DEVSQ(GG11:GG510)","v":126.93999999999996},{"$f":"DEVSQ(GH11:GH510)","v":154.08743200000004},null,{"$f":"DEVSQ(GJ11:GJ510)","v":100.94085800000005},{"$f":"DEVSQ(GK11:GK510)","v":122.247232},null,{"$f":"DEVSQ(GM11:GM510)","v":87.327849999999941},{"$f":"DEVSQ(GN11:GN510)","v":161.14929800000002},null,{"$f":"DEVSQ(GP11:GP510)","v":126.65124799999998},{"$f":"DEVSQ(GQ11:GQ510)","v":163.8328579999999},null,{"$f":"DEVSQ(GS11:GS510)","v":158.47127199999997},{"$f":"DEVSQ(GT11:GT510)","v":179.07999999999993},null,{"$f":"DEVSQ(GV11:GV510)","v":147.85388799999998},{"$f":"DEVSQ(GW11:GW510)","v":177.843298},null,{"$f":"DEVSQ(GY11:GY510)","v":147.43508800000001},{"$f":"DEVSQ(GZ11:GZ510)","v":212.99328800000004},null,{"$f":"DEVSQ(HB11:HB510)","v":155.50984200000005},{"$f":"DEVSQ(HC11:HC510)","v":168.49885000000003},null,{"$f":"DEVSQ(HE11:HE510)","v":136.06496799999999},{"$f":"DEVSQ(HF11:HF510)","v":199.42912799999991},null,{"$f":"DEVSQ(HH11:HH510)","v":117.60320199999998},{"$f":"DEVSQ(HI11:HI510)","v":131.98680000000004},null,{"$f":"DEVSQ(HK11:HK510)","v":115.33105000000002},{"$f":"DEVSQ(HL11:HL510)","v":177.46059999999997},null,{"$f":"DEVSQ(HN11:HN510)","v":147.65520200000003},{"$f":"DEVSQ(HO11:HO510)","v":187.310712},null,{"$f":"DEVSQ(HQ11:HQ510)","v":133.52157799999998},{"$f":"DEVSQ(HR11:HR510)","v":148.985848},null,{"$f":"DEVSQ(HT11:HT510)","v":125.68317800000001},{"$f":"DEVSQ(HU11:HU510)","v":118.17496800000006},null,{"$f":"DEVSQ(HW11:HW510)","v":120.93851199999997},{"$f":"DEVSQ(HX11:HX510)","v":152.66055199999997},null,{"$f":"DEVSQ(HZ11:HZ510)","v":159.93783200000001},{"$f":"DEVSQ(IA11:IA510)","v":155.229882},null,{"$f":"DEVSQ(IC11:IC510)","v":101.38301800000002},{"$f":"DEVSQ(ID11:ID510)","v":141.480098},null,{"$f":"DEVSQ(IF11:IF510)","v":153.79941800000003},{"$f":"DEVSQ(IG11:IG510)","v":168.554112},null,{"$f":"DEVSQ(II11:II510)","v":145.14348200000001},{"$f":"DEVSQ(IJ11:IJ510)","v":185.56048799999996},null,{"$f":"DEVSQ(IL11:IL510)","v":143.64797800000002},{"$f":"DEVSQ(IM11:IM510)","v":181.07135199999999},null,{"$f":"DEVSQ(IO11:IO510)","v":137.65140000000002},{"$f":"DEVSQ(IP11:IP510)","v":172.68969800000005},null,{"$f":"DEVSQ(IR11:IR510)","v":118.79915200000002},{"$f":"DEVSQ(IS11:IS510)","v":203.77412200000001},null,{"$f":"DEVSQ(IU11:IU510)","v":147.23684800000004},{"$f":"DEVSQ(IV11:IV510)","v":190.42900199999997},null,{"$f":"DEVSQ(IX11:IX510)","v":111.72925000000002},{"$f":"DEVSQ(IY11:IY510)","v":167.104578},null,{"$f":"DEVSQ(JA11:JA510)","v":141.11564199999992},{"$f":"DEVSQ(JB11:JB510)","v":155.11804999999995},null,{"$f":"DEVSQ(JD11:JD510)","v":144.35787200000001},{"$f":"DEVSQ(JE11:JE510)","v":124.65205000000003},null,{"$f":"DEVSQ(JG11:JG510)","v":133.72744999999992},{"$f":"DEVSQ(JH11:JH510)","v":108.46064999999999},null,{"$f":"DEVSQ(JJ11:JJ510)","v":168.69543200000007},{"$f":"DEVSQ(JK11:JK510)","v":193.826618},null,{"$f":"DEVSQ(JM11:JM510)","v":171.40672800000004},{"$f":"DEVSQ(JN11:JN510)","v":164.89945799999998},null,{"$f":"DEVSQ(JP11:JP510)","v":199.331232},{"$f":"DEVSQ(JQ11:JQ510)","v":201.44091199999997},null,{"$f":"DEVSQ(JS11:JS510)","v":131.25371199999998},{"$f":"DEVSQ(JT11:JT510)","v":154.03885800000003},null,{"$f":"DEVSQ(JV11:JV510)","v":148.170378},{"$f":"DEVSQ(JW11:JW510)","v":173.55129799999995},null,{"$f":"DEVSQ(JY11:JY510)","v":78.282848000000001},{"$f":"DEVSQ(JZ11:JZ510)","v":150.46500000000006},null,{"$f":"DEVSQ(KB11:KB510)","v":101.39705799999999},{"$f":"DEVSQ(KC11:KC510)","v":130.482632},null,{"$f":"DEVSQ(KE11:KE510)","v":116.51277799999998},{"$f":"DEVSQ(KF11:KF510)","v":144.11421800000002},null,{"$f":"DEVSQ(KH11:KH510)","v":108.94312799999997},{"$f":"DEVSQ(KI11:KI510)","v":179.62684999999996},null,{"$f":"DEVSQ(KK11:KK510)","v":107.41285000000003},{"$f":"DEVSQ(KL11:KL510)","v":188.88999999999996},null,{"$f":"DEVSQ(KN11:KN510)","v":132.03999999999996},{"$f":"DEVSQ(KO11:KO510)","v":152.79604999999998},null,{"$f":"DEVSQ(KQ11:KQ510)","v":190.90284199999994},{"$f":"DEVSQ(KR11:KR510)","v":236.121128},null,{"$f":"DEVSQ(KT11:KT510)","v":145.435688},{"$f":"DEVSQ(KU11:KU510)","v":176.501442},null,{"$f":"DEVSQ(KW11:KW510)","v":131.20833800000005},{"$f":"DEVSQ(KX11:KX510)","v":133.003018},null,{"$f":"DEVSQ(KZ11:KZ510)","v":124.02743200000003},{"$f":"DEVSQ(LA11:LA510)","v":196.53988199999995},null,{"$f":"DEVSQ(LC11:LC510)","v":126.53788200000002},{"$f":"DEVSQ(LD11:LD510)","v":163.86365000000004},null,{"$f":"DEVSQ(LF11:LF510)","v":145.02748800000006},{"$f":"DEVSQ(LG11:LG510)","v":163.21655199999998},null,{"$f":"DEVSQ(LI11:LI510)","v":125.70121800000001},{"$f":"DEVSQ(LJ11:LJ510)","v":172.2870079999999},null,{"$f":"DEVSQ(LL11:LL510)","v":123.472728},{"$f":"DEVSQ(LM11:LM510)","v":220.07272199999994},null,{"$f":"DEVSQ(LO11:LO510)","v":108.568522},{"$f":"DEVSQ(LP11:LP510)","v":167.414008},null,{"$f":"DEVSQ(LR11:LR510)","v":132.85895200000002},{"$f":"DEVSQ(LS11:LS510)","v":145.54249799999997},null,{"$f":"DEVSQ(LU11:LU510)","v":111.052672},{"$f":"DEVSQ(LV11:LV510)","v":142.35311200000001},null,{"$f":"DEVSQ(LX11:LX510)","v":129.67945000000003},{"$f":"DEVSQ(LY11:LY510)","v":185.59027199999994},null,{"$f":"DEVSQ(MA11:MA510)","v":95.914850000000015},{"$f":"DEVSQ(MB11:MB510)","v":189.40143200000003},null,{"$f":"DEVSQ(MD11:MD510)","v":98.989887999999993},{"$f":"DEVSQ(ME11:ME510)","v":167.59789800000004},null,{"$f":"DEVSQ(MG11:MG510)","v":195.61205000000004},{"$f":"DEVSQ(MH11:MH510)","v":199.77581800000002},null,{"$f":"DEVSQ(MJ11:MJ510)","v":148.43819999999999},{"$f":"DEVSQ(MK11:MK510)","v":154.89519999999999},null,{"$f":"DEVSQ(MM11:MM510)","v":105.27385800000002},{"$f":"DEVSQ(MN11:MN510)","v":166.97811199999998},null,{"$f":"DEVSQ(MP11:MP510)","v":167.92484999999999},{"$f":"DEVSQ(MQ11:MQ510)","v":193.18745000000001},null,{"$f":"DEVSQ(MS11:MS510)","v":107.61939200000002},{"$f":"DEVSQ(MT11:MT510)","v":145.16385000000002},null,{"$f":"DEVSQ(MV11:MV510)","v":91.157568000000012},{"$f":"DEVSQ(MW11:MW510)","v":152.85660199999998},null,{"$f":"DEVSQ(MY11:MY510)","v":157.29127200000005},{"$f":"DEVSQ(MZ11:MZ510)","v":179.60031199999992},null,{"$f":"DEVSQ(NB11:NB510)","v":137.45909800000001},{"$f":"DEVSQ(NC11:NC510)","v":185.32153799999998},null,{"$f":"DEVSQ(NE11:NE510)","v":115.63056200000005},{"$f":"DEVSQ(NF11:NF510)","v":124.56432800000002},null,{"$f":"DEVSQ(NH11:NH510)","v":115.99013799999999},{"$f":"DEVSQ(NI11:NI510)","v":117.03529800000001},null,{"$f":"DEVSQ(NK11:NK510)","v":125.31911200000002},{"$f":"DEVSQ(NL11:NL510)","v":174.39680000000001},null,{"$f":"DEVSQ(NN11:NN510)","v":192.47125000000003},{"$f":"DEVSQ(NO11:NO510)","v":185.58296799999997},null,{"$f":"DEVSQ(NQ11:NQ510)","v":97.722042000000002},{"$f":"DEVSQ(NR11:NR510)","v":123.09500000000001},null,{"$f":"DEVSQ(NT11:NT510)","v":149.35563200000001},{"$f":"DEVSQ(NU11:NU510)","v":163.17700799999997},null,{"$f":"DEVSQ(NW11:NW510)","v":135.26716200000001},{"$f":"DEVSQ(NX11:NX510)","v":161.80659199999999},null,{"$f":"DEVSQ(NZ11:NZ510)","v":125.43156800000004},{"$f":"DEVSQ(OA11:OA510)","v":162.55184199999994},null,{"$f":"DEVSQ(OC11:OC510)","v":111.47912200000003},{"$f":"DEVSQ(OD11:OD510)","v":145.82333799999998},null,{"$f":"DEVSQ(OF11:OF510)","v":173.26312800000005},{"$f":"DEVSQ(OG11:OG510)","v":195.89021800000006},null,{"$f":"DEVSQ(OI11:OI510)","v":146.97373800000005},{"$f":"DEVSQ(OJ11:OJ510)","v":182.29700000000003},null,{"$f":"DEVSQ(OL11:OL510)","v":181.40952800000002},{"$f":"DEVSQ(OM11:OM510)","v":177.91667199999998},null,{"$f":"DEVSQ(OO11:OO510)","v":109.44396199999998},{"$f":"DEVSQ(OP11:OP510)","v":132.40111199999993},null,{"$f":"DEVSQ(OR11:OR510)","v":128.02660000000006},{"$f":"DEVSQ(OS11:OS510)","v":176.21671199999997},null,{"$f":"DEVSQ(OU11:OU510)","v":203.29436200000001},{"$f":"DEVSQ(OV11:OV510)","v":196.20835199999996},null,{"$f":"DEVSQ(OX11:OX510)","v":129.30028799999999},{"$f":"DEVSQ(OY11:OY510)","v":144.31883200000001},null,{"$f":"DEVSQ(PA11:PA510)","v":140.68819199999996},{"$f":"DEVSQ(PB11:PB510)","v":154.18341799999999},null,{"$f":"DEVSQ(PD11:PD510)","v":188.39087200000003},{"$f":"DEVSQ(PE11:PE510)","v":179.39091199999999},null,{"$f":"DEVSQ(PG11:PG510)","v":112.36479999999997},{"$f":"DEVSQ(PH11:PH510)","v":149.33655200000007},null,{"$f":"DEVSQ(PJ11:PJ510)","v":224.90163200000003},{"$f":"DEVSQ(PK11:PK510)","v":181.847138},null,{"$f":"DEVSQ(PM11:PM510)","v":143.90652800000001},{"$f":"DEVSQ(PN11:PN510)","v":171.51403199999999},null,{"$f":"DEVSQ(PP11:PP510)","v":137.50029799999999},{"$f":"DEVSQ(PQ11:PQ510)","v":169.927448},null,{"$f":"DEVSQ(PS11:PS510)","v":110.00472200000003},{"$f":"DEVSQ(PT11:PT510)","v":177.96068199999999},null,{"$f":"DEVSQ(PV11:PV510)","v":130.74279999999996},{"$f":"DEVSQ(PW11:PW510)","v":150.00640799999999},null,{"$f":"DEVSQ(PY11:PY510)","v":122.01680000000002},{"$f":"DEVSQ(PZ11:PZ510)","v":154.09643199999999},null,{"$f":"DEVSQ(QB11:QB510)","v":139.43709800000002},{"$f":"DEVSQ(QC11:QC510)","v":167.02744799999996},null,{"$f":"DEVSQ(QE11:QE510)","v":108.11825000000002},{"$f":"DEVSQ(QF11:QF510)","v":155.95680200000001},null,{"$f":"DEVSQ(QH11:QH510)","v":155.62181799999999},{"$f":"DEVSQ(QI11:QI510)","v":182.28880799999999},null,{"$f":"DEVSQ(QK11:QK510)","v":115.47095199999998},{"$f":"DEVSQ(QL11:QL510)","v":179.06988200000001},null,{"$f":"DEVSQ(QN11:QN510)","v":117.57556799999999},{"$f":"DEVSQ(QO11:QO510)","v":160.206208},null,{"$f":"DEVSQ(QQ11:QQ510)","v":153.239498},{"$f":"DEVSQ(QR11:QR510)","v":148.47732800000006},null,{"$f":"DEVSQ(QT11:QT510)","v":124.90885000000003},{"$f":"DEVSQ(QU11:QU510)","v":151.77144199999995},null,{"$f":"DEVSQ(QW11:QW510)","v":133.74199199999998},{"$f":"DEVSQ(QX11:QX510)","v":115.86600000000001},null,{"$f":"DEVSQ(QZ11:QZ510)","v":119.71696799999997},{"$f":"DEVSQ(RA11:RA510)","v":151.42988199999999},null,{"$f":"DEVSQ(RC11:RC510)","v":107.12005000000002},{"$f":"DEVSQ(RD11:RD510)","v":129.17500200000001},null,{"$f":"DEVSQ(RF11:RF510)","v":169.08699200000007},{"$f":"DEVSQ(RG11:RG510)","v":180.674938},null,{"$f":"DEVSQ(RI11:RI510)","v":143.70544999999996},{"$f":"DEVSQ(RJ11:RJ510)","v":227.603432},null,{"$f":"DEVSQ(RL11:RL510)","v":141.08969800000003},{"$f":"DEVSQ(RM11:RM510)","v":190.60999999999999},null,{"$f":"DEVSQ(RO11:RO510)","v":102.85501800000003},{"$f":"DEVSQ(RP11:RP510)","v":149.69260000000003},null,{"$f":"DEVSQ(RR11:RR510)","v":178.05492799999993},{"$f":"DEVSQ(RS11:RS510)","v":151.96805799999998},null,{"$f":"DEVSQ(RU11:RU510)","v":143.89373800000001},{"$f":"DEVSQ(RV11:RV510)","v":130.00525000000002},null,{"$f":"DEVSQ(RX11:RX510)","v":122.06940200000001},{"$f":"DEVSQ(RY11:RY510)","v":161.70376200000001},null,{"$f":"DEVSQ(SA11:SA510)","v":109.47608800000002},{"$f":"DEVSQ(SB11:SB510)","v":150.80439999999999},null,{"$f":"DEVSQ(SD11:SD510)","v":147.33589800000001},{"$f":"DEVSQ(SE11:SE510)","v":206.58037800000002},null,{"$f":"DEVSQ(SG11:SG510)","v":191.05027200000001},{"$f":"DEVSQ(SH11:SH510)","v":169.48385800000008},null,{"$f":"DEVSQ(SJ11:SJ510)","v":92.70980000000003},{"$f":"DEVSQ(SK11:SK510)","v":163.92013800000001},null,{"$f":"DEVSQ(SM11:SM510)","v":134.57357800000003},{"$f":"DEVSQ(SN11:SN510)","v":126.696968},null,{"$f":"DEVSQ(SP11:SP510)","v":155.70496800000004},{"$f":"DEVSQ(SQ11:SQ510)","v":186.59711200000004},null,{"$f":"DEVSQ(SS11:SS510)","v":181.21659200000002},{"$f":"DEVSQ(ST11:ST510)","v":170.28085000000004},null,{"$f":"DEVSQ(SV11:SV510)","v":124.063928},{"$f":"DEVSQ(SW11:SW510)","v":150.31188199999994},null,{"$f":"DEVSQ(SY11:SY510)","v":136.60873800000002},{"$f":"DEVSQ(SZ11:SZ510)","v":179.03936200000001},null,{"$f":"DEVSQ(TB11:TB510)","v":113.039018},{"$f":"DEVSQ(TC11:TC510)","v":137.45351199999996},null,{"$f":"DEVSQ(TE11:TE510)","v":126.70208199999998},{"$f":"DEVSQ(TF11:TF510)","v":159.07359200000002},null,{"$f":"DEVSQ(TH11:TH510)","v":164.75084200000001},{"$f":"DEVSQ(TI11:TI510)","v":185.807008},null,{"$f":"DEVSQ(TK11:TK510)","v":169.76372200000003},{"$f":"DEVSQ(TL11:TL510)","v":200.53707199999997},null,{"$f":"DEVSQ(TN11:TN510)","v":175.63491200000001},{"$f":"DEVSQ(TO11:TO510)","v":171.995338},null,{"$f":"DEVSQ(TQ11:TQ510)","v":145.45899200000002},{"$f":"DEVSQ(TR11:TR510)","v":182.98464999999996},null,{"$f":"DEVSQ(TT11:TT510)","v":170.74624999999997},{"$f":"DEVSQ(TU11:TU510)","v":146.83636799999999},null,{"$f":"DEVSQ(TW11:TW510)","v":128.43061799999995},{"$f":"DEVSQ(TX11:TX510)","v":167.79968200000008},null,{"$f":"DEVSQ(TZ11:TZ510)","v":175.93335199999999},{"$f":"DEVSQ(UA11:UA510)","v":184.19480199999998},null,{"$f":"DEVSQ(UC11:UC510)","v":144.88364800000005},{"$f":"DEVSQ(UD11:UD510)","v":141.67264999999998},null,{"$f":"DEVSQ(UF11:UF510)","v":102.282962},{"$f":"DEVSQ(UG11:UG510)","v":164.41879199999994},null,{"$f":"DEVSQ(UI11:UI510)","v":140.23905800000003},{"$f":"DEVSQ(UJ11:UJ510)","v":162.47104999999999},null,{"$f":"DEVSQ(UL11:UL510)","v":117.40488199999997},{"$f":"DEVSQ(UM11:UM510)","v":149.62632200000002},null,{"$f":"DEVSQ(UO11:UO510)","v":116.665768},{"$f":"DEVSQ(UP11:UP510)","v":156.55183199999996},null,{"$f":"DEVSQ(UR11:UR510)","v":114.237832},{"$f":"DEVSQ(US11:US510)","v":154.76024999999996},null,{"$f":"DEVSQ(UU11:UU510)","v":124.42360000000008},{"$f":"DEVSQ(UV11:UV510)","v":147.55096199999997},null,{"$f":"DEVSQ(UX11:UX510)","v":143.32297800000001},{"$f":"DEVSQ(UY11:UY510)","v":177.62497799999997},null,{"$f":"DEVSQ(VA11:VA510)","v":132.83783199999999},{"$f":"DEVSQ(VB11:VB510)","v":142.32607199999998},null,{"$f":"DEVSQ(VD11:VD510)","v":172.27592199999998},{"$f":"DEVSQ(VE11:VE510)","v":210.00809799999999},null,{"$f":"DEVSQ(VG11:VG510)","v":96.381800000000013},{"$f":"DEVSQ(VH11:VH510)","v":129.94125},null,{"$f":"DEVSQ(VJ11:VJ510)","v":164.39965000000007},{"$f":"DEVSQ(VK11:VK510)","v":184.12697799999998},null,{"$f":"DEVSQ(VM11:VM510)","v":127.01919199999998},{"$f":"DEVSQ(VN11:VN510)","v":146.91041799999996},null,{"$f":"DEVSQ(VP11:VP510)","v":144.584442},{"$f":"DEVSQ(VQ11:VQ510)","v":205.17060000000001},null,{"$f":"DEVSQ(VS11:VS510)","v":126.42501800000001},{"$f":"DEVSQ(VT11:VT510)","v":163.73128799999995},null,{"$f":"DEVSQ(VV11:VV510)","v":138.64080800000002},{"$f":"DEVSQ(VW11:VW510)","v":208.70000000000005},null,{"$f":"DEVSQ(VY11:VY510)","v":95.474799999999973},{"$f":"DEVSQ(VZ11:VZ510)","v":150.22941799999998},null,{"$f":"DEVSQ(WB11:WB510)","v":117.27244800000001},{"$f":"DEVSQ(WC11:WC510)","v":143.76308800000001},null,{"$f":"DEVSQ(WE11:WE510)","v":139.17172799999997},{"$f":"DEVSQ(WF11:WF510)","v":189.12005000000005},null,{"$f":"DEVSQ(WH11:WH510)","v":92.656408000000013},{"$f":"DEVSQ(WI11:WI510)","v":155.14173799999998},null,{"$f":"DEVSQ(WK11:WK510)","v":132.06969800000005},{"$f":"DEVSQ(WL11:WL510)","v":157.90940000000001},null,{"$f":"DEVSQ(WN11:WN510)","v":98.08361800000003},{"$f":"DEVSQ(WO11:WO510)","v":148.44339199999999},null,{"$f":"DEVSQ(WQ11:WQ510)","v":128.769248},{"$f":"DEVSQ(WR11:WR510)","v":172.86843200000007},null,{"$f":"DEVSQ(WT11:WT510)","v":153.622218},{"$f":"DEVSQ(WU11:WU510)","v":201.24587199999996},null,{"$f":"DEVSQ(WW11:WW510)","v":122.16865},{"$f":"DEVSQ(WX11:WX510)","v":169.75865800000005},null,{"$f":"DEVSQ(WZ11:WZ510)","v":209.88317800000004},{"$f":"DEVSQ(XA11:XA510)","v":204.55091200000007},null,{"$f":"DEVSQ(XC11:XC510)","v":100.58176199999998},{"$f":"DEVSQ(XD11:XD510)","v":111.16307199999997},null,{"$f":"DEVSQ(XF11:XF510)","v":115.991},{"$f":"DEVSQ(XG11:XG510)","v":161.49887199999995},null,{"$f":"DEVSQ(XI11:XI510)","v":124.42220799999997},{"$f":"DEVSQ(XJ11:XJ510)","v":151.52565000000007},null,{"$f":"DEVSQ(XL11:XL510)","v":118.29841799999997},{"$f":"DEVSQ(XM11:XM510)","v":162.89871200000002},null,{"$f":"DEVSQ(XO11:XO510)","v":123.84959999999995},{"$f":"DEVSQ(XP11:XP510)","v":170.96235199999995},null,{"$f":"DEVSQ(XR11:XR510)","v":146.55540000000002},{"$f":"DEVSQ(XS11:XS510)","v":166.07844200000002},null,{"$f":"DEVSQ(XU11:XU510)","v":165.80267199999989},{"$f":"DEVSQ(XV11:XV510)","v":237.733272},null,{"$f":"DEVSQ(XX11:XX510)","v":140.99565799999996},{"$f":"DEVSQ(XY11:XY510)","v":138.40327200000002},null,{"$f":"DEVSQ(YA11:YA510)","v":116.29407200000003},{"$f":"DEVSQ(YB11:YB510)","v":169.52777800000001},null,{"$f":"DEVSQ(YD11:YD510)","v":125.16363200000009},{"$f":"DEVSQ(YE11:YE510)","v":158.42724800000002},null,{"$f":"DEVSQ(YG11:YG510)","v":173.10391200000001},{"$f":"DEVSQ(YH11:YH510)","v":192.64256799999993},null,{"$f":"DEVSQ(YJ11:YJ510)","v":102.53928200000003},{"$f":"DEVSQ(YK11:YK510)","v":145.40616199999999},null,{"$f":"DEVSQ(YM11:YM510)","v":118.41252199999998},{"$f":"DEVSQ(YN11:YN510)","v":163.77524199999999},null,{"$f":"DEVSQ(YP11:YP510)","v":131.62412200000003},{"$f":"DEVSQ(YQ11:YQ510)","v":183.79559200000003},null,{"$f":"DEVSQ(YS11:YS510)","v":156.505818},{"$f":"DEVSQ(YT11:YT510)","v":160.26400000000004},null,{"$f":"DEVSQ(YV11:YV510)","v":141.34399200000004},{"$f":"DEVSQ(YW11:YW510)","v":183.42743199999995},null,{"$f":"DEVSQ(YY11:YY510)","v":159.31739999999994},{"$f":"DEVSQ(YZ11:YZ510)","v":179.89524800000009},null,{"$f":"DEVSQ(ZB11:ZB510)","v":180.16607199999999},{"$f":"DEVSQ(ZC11:ZC510)","v":185.42288800000006},null,{"$f":"DEVSQ(ZE11:ZE510)","v":136.37344199999995},{"$f":"DEVSQ(ZF11:ZF510)","v":149.52569800000003},null,{"$f":"DEVSQ(ZH11:ZH510)","v":138.964538},{"$f":"DEVSQ(ZI11:ZI510)","v":138.48665800000001},null,{"$f":"DEVSQ(ZK11:ZK510)","v":152.53681800000001},{"$f":"DEVSQ(ZL11:ZL510)","v":156.46356200000005},null,{"$f":"DEVSQ(ZN11:ZN510)","v":164.321},{"$f":"DEVSQ(ZO11:ZO510)","v":191.55580799999998},null,{"$f":"DEVSQ(ZQ11:ZQ510)","v":118.03716200000002},{"$f":"DEVSQ(ZR11:ZR510)","v":180.43536199999994},null,{"$f":"DEVSQ(ZT11:ZT510)","v":162.77564999999998},{"$f":"DEVSQ(ZU11:ZU510)","v":155.42524999999995},null,{"$f":"DEVSQ(ZW11:ZW510)","v":155.53821800000003},{"$f":"DEVSQ(ZX11:ZX510)","v":164.35513799999998},null,{"$f":"DEVSQ(ZZ11:ZZ510)","v":124.72693799999996},{"$f":"DEVSQ(AAA11:AAA510)","v":141.52289800000003},null,{"$f":"DEVSQ(AAC11:AAC510)","v":175.95613799999987},{"$f":"DEVSQ(AAD11:AAD510)","v":197.36832199999998},null,{"$f":"DEVSQ(AAF11:AAF510)","v":132.87851200000003},{"$f":"DEVSQ(AAG11:AAG510)","v":181.16225000000014},null,{"$f":"DEVSQ(AAI11:AAI510)","v":131.03364999999999},{"$f":"DEVSQ(AAJ11:AAJ510)","v":168.71292199999999},null,{"$f":"DEVSQ(AAL11:AAL510)","v":124.16684800000002},{"$f":"DEVSQ(AAM11:AAM510)","v":148.82971200000006},null,{"$f":"DEVSQ(AAO11:AAO510)","v":161.30604799999998},{"$f":"DEVSQ(AAP11:AAP510)","v":224.64944200000002},null,{"$f":"DEVSQ(AAR11:AAR510)","v":164.85236800000004},{"$f":"DEVSQ(AAS11:AAS510)","v":209.05263200000005},null,{"$f":"DEVSQ(AAU11:AAU510)","v":131.37464999999997},{"$f":"DEVSQ(AAV11:AAV510)","v":172.187882},null,{"$f":"DEVSQ(AAX11:AAX510)","v":114.90607199999997},{"$f":"DEVSQ(AAY11:AAY510)","v":137.056792},null,{"$f":"DEVSQ(ABA11:ABA510)","v":131.99569799999998},{"$f":"DEVSQ(ABB11:ABB510)","v":157.92840799999996},null,{"$f":"DEVSQ(ABD11:ABD510)","v":127.78085799999998},{"$f":"DEVSQ(ABE11:ABE510)","v":154.63995200000002},null,{"$f":"DEVSQ(ABG11:ABG510)","v":140.70332199999999},{"$f":"DEVSQ(ABH11:ABH510)","v":151.37479999999999},null,{"$f":"DEVSQ(ABJ11:ABJ510)","v":140.06892799999997},{"$f":"DEVSQ(ABK11:ABK510)","v":163.85275199999992},null,{"$f":"DEVSQ(ABM11:ABM510)","v":144.88619200000002},{"$f":"DEVSQ(ABN11:ABN510)","v":174.25255200000001},null,{"$f":"DEVSQ(ABP11:ABP510)","v":117.34585799999999},{"$f":"DEVSQ(ABQ11:ABQ510)","v":136.70885800000005},null,{"$f":"DEVSQ(ABS11:ABS510)","v":239.47680800000001},{"$f":"DEVSQ(ABT11:ABT510)","v":188.57952800000001},null,{"$f":"DEVSQ(ABV11:ABV510)","v":110.46316200000004},{"$f":"DEVSQ(ABW11:ABW510)","v":123.38595200000003},null,{"$f":"DEVSQ(ABY11:ABY510)","v":101.57377800000003},{"$f":"DEVSQ(ABZ11:ABZ510)","v":156.20493799999997},null,{"$f":"DEVSQ(ACB11:ACB510)","v":138.90296800000002},{"$f":"DEVSQ(ACC11:ACC510)","v":194.60860000000002},null,{"$f":"DEVSQ(ACE11:ACE510)","v":129.78179200000002},{"$f":"DEVSQ(ACF11:ACF510)","v":178.35748199999998},null,{"$f":"DEVSQ(ACH11:ACH510)","v":172.46713799999998},{"$f":"DEVSQ(ACI11:ACI510)","v":218.90601799999999},null,{"$f":"DEVSQ(ACK11:ACK510)","v":126.73632800000001},{"$f":"DEVSQ(ACL11:ACL510)","v":174.36524799999998},null,{"$f":"DEVSQ(ACN11:ACN510)","v":134.33588199999997},{"$f":"DEVSQ(ACO11:ACO510)","v":178.00153799999998},null,{"$f":"DEVSQ(ACQ11:ACQ510)","v":162.18120000000002},{"$f":"DEVSQ(ACR11:ACR510)","v":177.17141800000002},null,{"$f":"DEVSQ(ACT11:ACT510)","v":103.959672},{"$f":"DEVSQ(ACU11:ACU510)","v":149.99643200000008},null,{"$f":"DEVSQ(ACW11:ACW510)","v":141.75824999999998},{"$f":"DEVSQ(ACX11:ACX510)","v":161.92915200000002},null,{"$f":"DEVSQ(ACZ11:ACZ510)","v":169.67029800000003},{"$f":"DEVSQ(ADA11:ADA510)","v":172.16943199999997},null,{"$f":"DEVSQ(ADC11:ADC510)","v":113.88181800000007},{"$f":"DEVSQ(ADD11:ADD510)","v":151.51676199999997},null,{"$f":"DEVSQ(ADF11:ADF510)","v":132.60668800000002},{"$f":"DEVSQ(ADG11:ADG510)","v":133.647368},null,{"$f":"DEVSQ(ADI11:ADI510)","v":132.820528},{"$f":"DEVSQ(ADJ11:ADJ510)","v":163.11572800000002},null,{"$f":"DEVSQ(ADL11:ADL510)","v":114.69789799999998},{"$f":"DEVSQ(ADM11:ADM510)","v":202.93519199999997},null,{"$f":"DEVSQ(ADO11:ADO510)","v":145.363968},{"$f":"DEVSQ(ADP11:ADP510)","v":171.73204199999998},null,{"$f":"DEVSQ(ADR11:ADR510)","v":133.35065000000003},{"$f":"DEVSQ(ADS11:ADS510)","v":157.52561799999998},null,{"$f":"DEVSQ(ADU11:ADU510)","v":154.47712199999998},{"$f":"DEVSQ(ADV11:ADV510)","v":163.37429800000004},null,{"$f":"DEVSQ(ADX11:ADX510)","v":160.433258},{"$f":"DEVSQ(ADY11:ADY510)","v":195.84999200000004},null,{"$f":"DEVSQ(AEA11:AEA510)","v":93.032050000000041},{"$f":"DEVSQ(AEB11:AEB510)","v":149.188568},null,{"$f":"DEVSQ(AED11:AED510)","v":113.24160799999999},{"$f":"DEVSQ(AEE11:AEE510)","v":138.52332800000002},null,{"$f":"DEVSQ(AEG11:AEG510)","v":177.63735200000008},{"$f":"DEVSQ(AEH11:AEH510)","v":170.58283200000005},null,{"$f":"DEVSQ(AEJ11:AEJ510)","v":109.17635200000001},{"$f":"DEVSQ(AEK11:AEK510)","v":125.66411200000003},null,{"$f":"DEVSQ(AEM11:AEM510)","v":123.04232799999997},{"$f":"DEVSQ(AEN11:AEN510)","v":191.45868799999997},null,{"$f":"DEVSQ(AEP11:AEP510)","v":149.15451199999998},{"$f":"DEVSQ(AEQ11:AEQ510)","v":193.67988800000001},null,{"$f":"DEVSQ(AES11:AES510)","v":105.91224199999999},{"$f":"DEVSQ(AET11:AET510)","v":134.26784799999999},null,{"$f":"DEVSQ(AEV11:AEV510)","v":137.91127200000005},{"$f":"DEVSQ(AEW11:AEW510)","v":155.08648199999996},null,{"$f":"DEVSQ(AEY11:AEY510)","v":77.485007999999979},{"$f":"DEVSQ(AEZ11:AEZ510)","v":128.62940800000004},null,{"$f":"DEVSQ(AFB11:AFB510)","v":164.97525000000007},{"$f":"DEVSQ(AFC11:AFC510)","v":213.81439999999992},null,{"$f":"DEVSQ(AFE11:AFE510)","v":78.823250000000016},{"$f":"DEVSQ(AFF11:AFF510)","v":114.48140800000004},null,{"$f":"DEVSQ(AFH11:AFH510)","v":120.19812200000003},{"$f":"DEVSQ(AFI11:AFI510)","v":142.35207199999999},null,{"$f":"DEVSQ(AFK11:AFK510)","v":142.23232799999997},{"$f":"DEVSQ(AFL11:AFL510)","v":146.92136199999999},null,{"$f":"DEVSQ(AFN11:AFN510)","v":142.57516799999999},{"$f":"DEVSQ(AFO11:AFO510)","v":137.06339200000002},null,{"$f":"DEVSQ(AFQ11:AFQ510)","v":91.932488000000049},{"$f":"DEVSQ(AFR11:AFR510)","v":160.09944800000002},null,{"$f":"DEVSQ(AFT11:AFT510)","v":131.15265000000002},{"$f":"DEVSQ(AFU11:AFU510)","v":134.25140199999998},null,{"$f":"DEVSQ(AFW11:AFW510)","v":156.96885800000004},{"$f":"DEVSQ(AFX11:AFX510)","v":174.49032199999996},null,{"$f":"DEVSQ(AFZ11:AFZ510)","v":128.08365000000003},{"$f":"DEVSQ(AGA11:AGA510)","v":171.77489800000001},null,{"$f":"DEVSQ(AGC11:AGC510)","v":175.17087199999995},{"$f":"DEVSQ(AGD11:AGD510)","v":187.5791780000001},null,{"$f":"DEVSQ(AGF11:AGF510)","v":146.04707199999999},{"$f":"DEVSQ(AGG11:AGG510)","v":143.56861799999999},null,{"$f":"DEVSQ(AGI11:AGI510)","v":125.86964200000001},{"$f":"DEVSQ(AGJ11:AGJ510)","v":179.20028800000003},null,{"$f":"DEVSQ(AGL11:AGL510)","v":148.38573800000003},{"$f":"DEVSQ(AGM11:AGM510)","v":127.51608200000003},null,{"$f":"DEVSQ(AGO11:AGO510)","v":106.95612799999996},{"$f":"DEVSQ(AGP11:AGP510)","v":154.30371200000002},null,{"$f":"DEVSQ(AGR11:AGR510)","v":158.112098},{"$f":"DEVSQ(AGS11:AGS510)","v":151.27712200000002},null,{"$f":"DEVSQ(AGU11:AGU510)","v":145.71516799999998},{"$f":"DEVSQ(AGV11:AGV510)","v":141.301928},null,{"$f":"DEVSQ(AGX11:AGX510)","v":146.53679200000002},{"$f":"DEVSQ(AGY11:AGY510)","v":157.59144999999998},null,{"$f":"DEVSQ(AHA11:AHA510)","v":94.202471999999986},{"$f":"DEVSQ(AHB11:AHB510)","v":160.22724999999997},null,{"$f":"DEVSQ(AHD11:AHD510)","v":143.44211199999998},{"$f":"DEVSQ(AHE11:AHE510)","v":175.48636200000001},null,{"$f":"DEVSQ(AHG11:AHG510)","v":125.38489799999999},{"$f":"DEVSQ(AHH11:AHH510)","v":133.22619999999998},null,{"$f":"DEVSQ(AHJ11:AHJ510)","v":171.55801800000003},{"$f":"DEVSQ(AHK11:AHK510)","v":186.94889799999999},null,{"$f":"DEVSQ(AHM11:AHM510)","v":145.95379999999997},{"$f":"DEVSQ(AHN11:AHN510)","v":181.92305000000005},null,{"$f":"DEVSQ(AHP11:AHP510)","v":127.46220000000001},{"$f":"DEVSQ(AHQ11:AHQ510)","v":147.55561800000001},null,{"$f":"DEVSQ(AHS11:AHS510)","v":93.087728000000027},{"$f":"DEVSQ(AHT11:AHT510)","v":135.06043200000002},null,{"$f":"DEVSQ(AHV11:AHV510)","v":151.91584799999998},{"$f":"DEVSQ(AHW11:AHW510)","v":160.84387200000003},null,{"$f":"DEVSQ(AHY11:AHY510)","v":147.63839999999999},{"$f":"DEVSQ(AHZ11:AHZ510)","v":164.30021799999997},null,{"$f":"DEVSQ(AIB11:AIB510)","v":95.321082000000004},{"$f":"DEVSQ(AIC11:AIC510)","v":171.61633799999996},null,{"$f":"DEVSQ(AIE11:AIE510)","v":116.42673800000003},{"$f":"DEVSQ(AIF11:AIF510)","v":181.40500799999995},null,{"$f":"DEVSQ(AIH11:AIH510)","v":158.62885799999995},{"$f":"DEVSQ(AII11:AII510)","v":170.250968},null,{"$f":"DEVSQ(AIK11:AIK510)","v":184.87597799999995},{"$f":"DEVSQ(AIL11:AIL510)","v":184.77503199999998},null,{"$f":"DEVSQ(AIN11:AIN510)","v":112.51707199999996},{"$f":"DEVSQ(AIO11:AIO510)","v":161.02188799999993},null,{"$f":"DEVSQ(AIQ11:AIQ510)","v":156.49648799999994},{"$f":"DEVSQ(AIR11:AIR510)","v":208.98655199999996},null,{"$f":"DEVSQ(AIT11:AIT510)","v":156.90987200000001},{"$f":"DEVSQ(AIU11:AIU510)","v":161.03520799999998},null,{"$f":"DEVSQ(AIW11:AIW510)","v":141.65595200000004},{"$f":"DEVSQ(AIX11:AIX510)","v":142.53200800000002},null,{"$f":"DEVSQ(AIZ11:AIZ510)","v":131.28936799999997},{"$f":"DEVSQ(AJA11:AJA510)","v":149.22512199999997},null,{"$f":"DEVSQ(AJC11:AJC510)","v":131.59877799999998},{"$f":"DEVSQ(AJD11:AJD510)","v":149.87045000000001},null,{"$f":"DEVSQ(AJF11:AJF510)","v":95.074762000000007},{"$f":"DEVSQ(AJG11:AJG510)","v":146.31772199999997},null,{"$f":"DEVSQ(AJI11:AJI510)","v":157.56144800000004},{"$f":"DEVSQ(AJJ11:AJJ510)","v":161.93084999999996},null,{"$f":"DEVSQ(AJL11:AJL510)","v":148.89148800000004},{"$f":"DEVSQ(AJM11:AJM510)","v":181.22492199999999},null,{"$f":"DEVSQ(AJO11:AJO510)","v":119.67908800000004},{"$f":"DEVSQ(AJP11:AJP510)","v":163.13420199999999},null,{"$f":"DEVSQ(AJR11:AJR510)","v":144.09180000000003},{"$f":"DEVSQ(AJS11:AJS510)","v":166.94304199999996},null,{"$f":"DEVSQ(AJU11:AJU510)","v":166.48776200000003},{"$f":"DEVSQ(AJV11:AJV510)","v":203.65992199999999},null,{"$f":"DEVSQ(AJX11:AJX510)","v":107.65525000000001},{"$f":"DEVSQ(AJY11:AJY510)","v":129.084418},null,{"$f":"DEVSQ(AKA11:AKA510)","v":137.36540000000002},{"$f":"DEVSQ(AKB11:AKB510)","v":169.09573799999995},null,{"$f":"DEVSQ(AKD11:AKD510)","v":142.05325000000005},{"$f":"DEVSQ(AKE11:AKE510)","v":154.18267199999997},null,{"$f":"DEVSQ(AKG11:AKG510)","v":98.321762000000021},{"$f":"DEVSQ(AKH11:AKH510)","v":116.07545000000009},null,{"$f":"DEVSQ(AKJ11:AKJ510)","v":172.50425000000004},{"$f":"DEVSQ(AKK11:AKK510)","v":193.11636199999998},null,{"$f":"DEVSQ(AKM11:AKM510)","v":120.52928800000001},{"$f":"DEVSQ(AKN11:AKN510)","v":122.374408},null,{"$f":"DEVSQ(AKP11:AKP510)","v":116.49711200000002},{"$f":"DEVSQ(AKQ11:AKQ510)","v":175.51580000000007},null,{"$f":"DEVSQ(AKS11:AKS510)","v":136.15272200000007},{"$f":"DEVSQ(AKT11:AKT510)","v":204.00325000000001},null,{"$f":"DEVSQ(AKV11:AKV510)","v":121.76499200000002},{"$f":"DEVSQ(AKW11:AKW510)","v":151.28504199999998},null,{"$f":"DEVSQ(AKY11:AKY510)","v":159.6608499999999},{"$f":"DEVSQ(AKZ11:AKZ510)","v":189.91809799999996},null,{"$f":"DEVSQ(ALB11:ALB510)","v":170.52056800000003},{"$f":"DEVSQ(ALC11:ALC510)","v":193.56013799999999},null,{"$f":"DEVSQ(ALE11:ALE510)","v":189.47680000000005},{"$f":"DEVSQ(ALF11:ALF510)","v":168.24016199999994},null,{"$f":"DEVSQ(ALH11:ALH510)","v":92.233137999999983},{"$f":"DEVSQ(ALI11:ALI510)","v":176.89516199999997},null,{"$f":"DEVSQ(ALK11:ALK510)","v":152.65624999999994},{"$f":"DEVSQ(ALL11:ALL510)","v":178.99456799999993},null,{"$f":"DEVSQ(ALN11:ALN510)","v":213.06269800000004},{"$f":"DEVSQ(ALO11:ALO510)","v":222.27675200000002},null,{"$f":"DEVSQ(ALQ11:ALQ510)","v":136.38331200000005},{"$f":"DEVSQ(ALR11:ALR510)","v":170.645082},null,{"$f":"DEVSQ(ALT11:ALT510)","v":158.92392200000003},{"$f":"DEVSQ(ALU11:ALU510)","v":146.86219199999999},null,{"$f":"DEVSQ(ALW11:ALW510)","v":100.36244200000007},{"$f":"DEVSQ(ALX11:ALX510)","v":179.273088},null,{"$f":"DEVSQ(ALZ11:ALZ510)","v":143.65507199999999},{"$f":"DEVSQ(AMA11:AMA510)","v":175.79300000000003},null,{"$f":"DEVSQ(AMC11:AMC510)","v":105.36828800000002},{"$f":"DEVSQ(AMD11:AMD510)","v":149.07399999999998},null,{"$f":"DEVSQ(AMF11:AMF510)","v":117.71736200000007},{"$f":"DEVSQ(AMG11:AMG510)","v":152.23653800000005},null,{"$f":"DEVSQ(AMI11:AMI510)","v":100.51492200000003},{"$f":"DEVSQ(AMJ11:AMJ510)","v":157.48311200000001},null,{"$f":"DEVSQ(AML11:AML510)","v":117.42061799999996},{"$f":"DEVSQ(AMM11:AMM510)","v":151.22332800000001},null,{"$f":"DEVSQ(AMO11:AMO510)","v":118.89703199999998},{"$f":"DEVSQ(AMP11:AMP510)","v":173.23411200000001},null,{"$f":"DEVSQ(AMR11:AMR510)","v":111.23183200000001},{"$f":"DEVSQ(AMS11:AMS510)","v":162.81456799999995},null,{"$f":"DEVSQ(AMU11:AMU510)","v":156.81996200000003},{"$f":"DEVSQ(AMV11:AMV510)","v":162.82724999999994},null,{"$f":"DEVSQ(AMX11:AMX510)","v":212.07712799999996},{"$f":"DEVSQ(AMY11:AMY510)","v":235.37032200000004},null,{"$f":"DEVSQ(ANA11:ANA510)","v":127.68125799999999},{"$f":"DEVSQ(ANB11:ANB510)","v":141.66840000000002},null,{"$f":"DEVSQ(AND11:AND510)","v":99.665992000000045},{"$f":"DEVSQ(ANE11:ANE510)","v":172.134298},null,{"$f":"DEVSQ(ANG11:ANG510)","v":123.093728},{"$f":"DEVSQ(ANH11:ANH510)","v":157.20804999999999},null,{"$f":"DEVSQ(ANJ11:ANJ510)","v":158.36524999999995},{"$f":"DEVSQ(ANK11:ANK510)","v":191.54361800000009},null,{"$f":"DEVSQ(ANM11:ANM510)","v":136.55895199999998},{"$f":"DEVSQ(ANN11:ANN510)","v":187.20659199999997},null,{"$f":"DEVSQ(ANP11:ANP510)","v":84.539578000000006},{"$f":"DEVSQ(ANQ11:ANQ510)","v":163.76148200000003},null,{"$f":"DEVSQ(ANS11:ANS510)","v":158.62845000000002},{"$f":"DEVSQ(ANT11:ANT510)","v":160.75444999999996},null,{"$f":"DEVSQ(ANV11:ANV510)","v":120.86424799999998},{"$f":"DEVSQ(ANW11:ANW510)","v":180.48884800000005},null,{"$f":"DEVSQ(ANY11:ANY510)","v":120.53616800000003},{"$f":"DEVSQ(ANZ11:ANZ510)","v":167.78896799999998},null,{"$f":"DEVSQ(AOB11:AOB510)","v":125.71729800000004},{"$f":"DEVSQ(AOC11:AOC510)","v":153.18084999999994},null,{"$f":"DEVSQ(AOE11:AOE510)","v":124.62616200000005},{"$f":"DEVSQ(AOF11:AOF510)","v":123.99125000000002},null,{"$f":"DEVSQ(AOH11:AOH510)","v":134.71632199999999},{"$f":"DEVSQ(AOI11:AOI510)","v":204.38147200000009},null,{"$f":"DEVSQ(AOK11:AOK510)","v":147.68556799999999},{"$f":"DEVSQ(AOL11:AOL510)","v":169.11365799999999},null,{"$f":"DEVSQ(AON11:AON510)","v":139.86623200000005},{"$f":"DEVSQ(AOO11:AOO510)","v":172.99451200000001},null,{"$f":"DEVSQ(AOQ11:AOQ510)","v":193.173722},{"$f":"DEVSQ(AOR11:AOR510)","v":205.49053800000007},null,{"$f":"DEVSQ(AOT11:AOT510)","v":136.60576200000003},{"$f":"DEVSQ(AOU11:AOU510)","v":159.84885800000001},null,{"$f":"DEVSQ(AOW11:AOW510)","v":159.7492},{"$f":"DEVSQ(AOX11:AOX510)","v":161.666968},null,{"$f":"DEVSQ(AOZ11:AOZ510)","v":173.99984800000001},{"$f":"DEVSQ(APA11:APA510)","v":183.679618},null,{"$f":"DEVSQ(APC11:APC510)","v":154.198218},{"$f":"DEVSQ(APD11:APD510)","v":169.74943200000001},null,{"$f":"DEVSQ(APF11:APF510)","v":128.64325000000002},{"$f":"DEVSQ(APG11:APG510)","v":155.74104199999999},null,{"$f":"DEVSQ(API11:API510)","v":171.29947200000001},{"$f":"DEVSQ(APJ11:APJ510)","v":181.647648},null,{"$f":"DEVSQ(APL11:APL510)","v":139.24011200000004},{"$f":"DEVSQ(APM11:APM510)","v":158.83912799999999},null,{"$f":"DEVSQ(APO11:APO510)","v":117.30889799999999},{"$f":"DEVSQ(APP11:APP510)","v":141.773538},null,{"$f":"DEVSQ(APR11:APR510)","v":144.69440799999998},{"$f":"DEVSQ(APS11:APS510)","v":197.41252800000001},null,{"$f":"DEVSQ(APU11:APU510)","v":171.10165000000001},{"$f":"DEVSQ(APV11:APV510)","v":186.78255200000001},null,{"$f":"DEVSQ(APX11:APX510)","v":126.07272799999998},{"$f":"DEVSQ(APY11:APY510)","v":191.96673800000002},null,{"$f":"DEVSQ(AQA11:AQA510)","v":159.5264},{"$f":"DEVSQ(AQB11:AQB510)","v":211.64187200000006},null,{"$f":"DEVSQ(AQD11:AQD510)","v":113.61796199999999},{"$f":"DEVSQ(AQE11:AQE510)","v":146.04204999999993},null,{"$f":"DEVSQ(AQG11:AQG510)","v":135.88300799999993},{"$f":"DEVSQ(AQH11:AQH510)","v":209.69276800000003},null,{"$f":"DEVSQ(AQJ11:AQJ510)","v":115.30659999999999},{"$f":"DEVSQ(AQK11:AQK510)","v":184.45380000000003},null,{"$f":"DEVSQ(AQM11:AQM510)","v":151.68867199999997},{"$f":"DEVSQ(AQN11:AQN510)","v":191.70500799999994},null,{"$f":"DEVSQ(AQP11:AQP510)","v":162.56824799999998},{"$f":"DEVSQ(AQQ11:AQQ510)","v":176.74836200000007},null,{"$f":"DEVSQ(AQS11:AQS510)","v":119.71193799999999},{"$f":"DEVSQ(AQT11:AQT510)","v":184.64780000000005},null,{"$f":"DEVSQ(AQV11:AQV510)","v":130.20081799999994},{"$f":"DEVSQ(AQW11:AQW510)","v":140.91196200000005},null,{"$f":"DEVSQ(AQY11:AQY510)","v":129.36704999999998},{"$f":"DEVSQ(AQZ11:AQZ510)","v":201.92041800000001},null,{"$f":"DEVSQ(ARB11:ARB510)","v":178.99560000000002},{"$f":"DEVSQ(ARC11:ARC510)","v":183.07380799999996},null,{"$f":"DEVSQ(ARE11:ARE510)","v":114.977138},{"$f":"DEVSQ(ARF11:ARF510)","v":142.49019999999996},null,{"$f":"DEVSQ(ARH11:ARH510)","v":114.904448},{"$f":"DEVSQ(ARI11:ARI510)","v":165.24624799999998},null,{"$f":"DEVSQ(ARK11:ARK510)","v":99.58464800000003},{"$f":"DEVSQ(ARL11:ARL510)","v":141.17124999999999},null,{"$f":"DEVSQ(ARN11:ARN510)","v":149.46285000000006},{"$f":"DEVSQ(ARO11:ARO510)","v":162.45339999999999},null,{"$f":"DEVSQ(ARQ11:ARQ510)","v":192.37031199999998},{"$f":"DEVSQ(ARR11:ARR510)","v":182.445752},null,{"$f":"DEVSQ(ART11:ART510)","v":189.5387520000001},{"$f":"DEVSQ(ARU11:ARU510)","v":171.04539999999997},null,{"$f":"DEVSQ(ARW11:ARW510)","v":150.49160000000001},{"$f":"DEVSQ(ARX11:ARX510)","v":163.01171199999999},null,{"$f":"DEVSQ(ARZ11:ARZ510)","v":113.52545000000002},{"$f":"DEVSQ(ASA11:ASA510)","v":126.19883200000001},null,{"$f":"DEVSQ(ASC11:ASC510)","v":141.58849799999999},{"$f":"DEVSQ(ASD11:ASD510)","v":149.10520200000002},null,{"$f":"DEVSQ(ASF11:ASF510)","v":134.04969799999998},{"$f":"DEVSQ(ASG11:ASG510)","v":176.08163199999993},null,{"$f":"DEVSQ(ASI11:ASI510)","v":144.88293799999997},{"$f":"DEVSQ(ASJ11:ASJ510)","v":165.88271200000003},null,{"$f":"DEVSQ(ASL11:ASL510)","v":122.71121799999997},{"$f":"DEVSQ(ASM11:ASM510)","v":139.87233799999996},null,{"$f":"DEVSQ(ASO11:ASO510)","v":175.79893799999999},{"$f":"DEVSQ(ASP11:ASP510)","v":192.49248799999992},null,{"$f":"DEVSQ(ASR11:ASR510)","v":143.36928200000003},{"$f":"DEVSQ(ASS11:ASS510)","v":172.39973799999999},null,{"$f":"DEVSQ(ASU11:ASU510)","v":164.855818},{"$f":"DEVSQ(ASV11:ASV510)","v":154.09880200000001},null,{"$f":"DEVSQ(ASX11:ASX510)","v":103.682008},{"$f":"DEVSQ(ASY11:ASY510)","v":164.17643200000009},null,{"$f":"DEVSQ(ATA11:ATA510)","v":145.36968200000004},{"$f":"DEVSQ(ATB11:ATB510)","v":185.561352},null,{"$f":"DEVSQ(ATD11:ATD510)","v":100.59945799999998},{"$f":"DEVSQ(ATE11:ATE510)","v":168.97944200000001},null,{"$f":"DEVSQ(ATG11:ATG510)","v":153.09648799999997},{"$f":"DEVSQ(ATH11:ATH510)","v":231.60579999999993},null,{"$f":"DEVSQ(ATJ11:ATJ510)","v":111.70724199999998},{"$f":"DEVSQ(ATK11:ATK510)","v":139.43139200000002},null,{"$f":"DEVSQ(ATM11:ATM510)","v":105.03892800000003},{"$f":"DEVSQ(ATN11:ATN510)","v":160.26285800000008},null,{"$f":"DEVSQ(ATP11:ATP510)","v":124.75992200000006},{"$f":"DEVSQ(ATQ11:ATQ510)","v":121.15645000000004},null,{"$f":"DEVSQ(ATS11:ATS510)","v":120.11979199999996},{"$f":"DEVSQ(ATT11:ATT510)","v":194.37692799999988},null,{"$f":"DEVSQ(ATV11:ATV510)","v":159.38072800000006},{"$f":"DEVSQ(ATW11:ATW510)","v":128.19576800000002},null,{"$f":"DEVSQ(ATY11:ATY510)","v":150.376642},{"$f":"DEVSQ(ATZ11:ATZ510)","v":128.926042},null,{"$f":"DEVSQ(AUB11:AUB510)","v":155.12295200000005},{"$f":"DEVSQ(AUC11:AUC510)","v":170.75679200000005},null,{"$f":"DEVSQ(AUE11:AUE510)","v":111.64584200000006},{"$f":"DEVSQ(AUF11:AUF510)","v":151.611728},null,{"$f":"DEVSQ(AUH11:AUH510)","v":112.25771200000001},{"$f":"DEVSQ(AUI11:AUI510)","v":161.30125799999996},null,{"$f":"DEVSQ(AUK11:AUK510)","v":102.19572799999999},{"$f":"DEVSQ(AUL11:AUL510)","v":105.17955199999999},null,{"$f":"DEVSQ(AUN11:AUN510)","v":140.66208799999995},{"$f":"DEVSQ(AUO11:AUO510)","v":161.98108199999999},null,{"$f":"DEVSQ(AUQ11:AUQ510)","v":113.39715200000003},{"$f":"DEVSQ(AUR11:AUR510)","v":163.95876800000002},null,{"$f":"DEVSQ(AUT11:AUT510)","v":162.93316200000007},{"$f":"DEVSQ(AUU11:AUU510)","v":158.84811199999999},null,{"$f":"DEVSQ(AUW11:AUW510)","v":137.30552799999995},{"$f":"DEVSQ(AUX11:AUX510)","v":168.01864800000001},null,{"$f":"DEVSQ(AUZ11:AUZ510)","v":127.19087200000001},{"$f":"DEVSQ(AVA11:AVA510)","v":155.08188800000002},null,{"$f":"DEVSQ(AVC11:AVC510)","v":176.01273800000001},{"$f":"DEVSQ(AVD11:AVD510)","v":220.58783200000002},null,{"$f":"DEVSQ(AVF11:AVF510)","v":186.61160000000001},{"$f":"DEVSQ(AVG11:AVG510)","v":172.66696199999998},null,{"$f":"DEVSQ(AVI11:AVI510)","v":141.07396200000005},{"$f":"DEVSQ(AVJ11:AVJ510)","v":184.56811200000001},null,{"$f":"DEVSQ(AVL11:AVL510)","v":121.23980200000001},{"$f":"DEVSQ(AVM11:AVM510)","v":147.19045799999995},null,{"$f":"DEVSQ(AVO11:AVO510)","v":198.56611200000003},{"$f":"DEVSQ(AVP11:AVP510)","v":197.49205799999996},null,{"$f":"DEVSQ(AVR11:AVR510)","v":148.0924},{"$f":"DEVSQ(AVS11:AVS510)","v":185.03759999999997},null,{"$f":"DEVSQ(AVU11:AVU510)","v":176.76244800000001},{"$f":"DEVSQ(AVV11:AVV510)","v":180.07496799999998},null,{"$f":"DEVSQ(AVX11:AVX510)","v":117.35600000000001},{"$f":"DEVSQ(AVY11:AVY510)","v":174.22364200000001},null,{"$f":"DEVSQ(AWA11:AWA510)","v":153.22947200000004},{"$f":"DEVSQ(AWB11:AWB510)","v":172.53981800000003},null,{"$f":"DEVSQ(AWD11:AWD510)","v":153.03371199999995},{"$f":"DEVSQ(AWE11:AWE510)","v":176.42459999999994},null,{"$f":"DEVSQ(AWG11:AWG510)","v":86.377752000000001},{"$f":"DEVSQ(AWH11:AWH510)","v":153.18279999999999},null,{"$f":"DEVSQ(AWJ11:AWJ510)","v":112.80973799999997},{"$f":"DEVSQ(AWK11:AWK510)","v":144.951762},null,{"$f":"DEVSQ(AWM11:AWM510)","v":131.59720200000001},{"$f":"DEVSQ(AWN11:AWN510)","v":174.58724999999998},null,{"$f":"DEVSQ(AWP11:AWP510)","v":160.92365000000001},{"$f":"DEVSQ(AWQ11:AWQ510)","v":209.71388800000005},null,{"$f":"DEVSQ(AWS11:AWS510)","v":195.28457800000012},{"$f":"DEVSQ(AWT11:AWT510)","v":237.38275199999993},null,{"$f":"DEVSQ(AWV11:AWV510)","v":153.28699999999998},{"$f":"DEVSQ(AWW11:AWW510)","v":222.23155199999999},null,{"$f":"DEVSQ(AWY11:AWY510)","v":167.97540000000001},{"$f":"DEVSQ(AWZ11:AWZ510)","v":178.75944799999994},null,{"$f":"DEVSQ(AXB11:AXB510)","v":141.05640200000002},{"$f":"DEVSQ(AXC11:AXC510)","v":172.40784999999997},null,{"$f":"DEVSQ(AXE11:AXE510)","v":122.88884999999999},{"$f":"DEVSQ(AXF11:AXF510)","v":162.32899999999998},null,{"$f":"DEVSQ(AXH11:AXH510)","v":140.98045000000002},{"$f":"DEVSQ(AXI11:AXI510)","v":146.25200000000001},null,{"$f":"DEVSQ(AXK11:AXK510)","v":133.59699999999998},{"$f":"DEVSQ(AXL11:AXL510)","v":177.75179200000002},null,{"$f":"DEVSQ(AXN11:AXN510)","v":126.59017799999998},{"$f":"DEVSQ(AXO11:AXO510)","v":165.85640000000001},null,{"$f":"DEVSQ(AXQ11:AXQ510)","v":142.05680000000004},{"$f":"DEVSQ(AXR11:AXR510)","v":171.64528799999997},null,{"$f":"DEVSQ(AXT11:AXT510)","v":105.31392799999999},{"$f":"DEVSQ(AXU11:AXU510)","v":164.84779200000006},null,{"$f":"DEVSQ(AXW11:AXW510)","v":181.665752},{"$f":"DEVSQ(AXX11:AXX510)","v":196.91140000000001},null,{"$f":"DEVSQ(AXZ11:AXZ510)","v":149.22100199999997},{"$f":"DEVSQ(AYA11:AYA510)","v":138.42001799999997},null,{"$f":"DEVSQ(AYC11:AYC510)","v":134.72440800000001},{"$f":"DEVSQ(AYD11:AYD510)","v":182.63880200000003},null,{"$f":"DEVSQ(AYF11:AYF510)","v":128.58375200000003},{"$f":"DEVSQ(AYG11:AYG510)","v":163.13292199999998},null,{"$f":"DEVSQ(AYI11:AYI510)","v":163.721352},{"$f":"DEVSQ(AYJ11:AYJ510)","v":178.23323200000002},null,{"$f":"DEVSQ(AYL11:AYL510)","v":161.36107199999998},{"$f":"DEVSQ(AYM11:AYM510)","v":140.113978},null,{"$f":"DEVSQ(AYO11:AYO510)","v":107.84532800000002},{"$f":"DEVSQ(AYP11:AYP510)","v":143.71765800000003},null,{"$f":"DEVSQ(AYR11:AYR510)","v":137.89513800000003},{"$f":"DEVSQ(AYS11:AYS510)","v":151.93769800000001},null,{"$f":"DEVSQ(AYU11:AYU510)","v":160.40399999999994},{"$f":"DEVSQ(AYV11:AYV510)","v":195.03340199999997},null,{"$f":"DEVSQ(AYX11:AYX510)","v":162.80127200000001},{"$f":"DEVSQ(AYY11:AYY510)","v":155.46779999999998},null,{"$f":"DEVSQ(AZA11:AZA510)","v":120.79744199999999},{"$f":"DEVSQ(AZB11:AZB510)","v":155.71820799999998},null,{"$f":"DEVSQ(AZD11:AZD510)","v":135.81057800000008},{"$f":"DEVSQ(AZE11:AZE510)","v":155.22257799999991},null,{"$f":"DEVSQ(AZG11:AZG510)","v":125.78485000000002},{"$f":"DEVSQ(AZH11:AZH510)","v":141.51131200000003},null,{"$f":"DEVSQ(AZJ11:AZJ510)","v":103.00172799999999},{"$f":"DEVSQ(AZK11:AZK510)","v":155.964258},null,{"$f":"DEVSQ(AZM11:AZM510)","v":153.25772200000003},{"$f":"DEVSQ(AZN11:AZN510)","v":173.616602},null,{"$f":"DEVSQ(AZP11:AZP510)","v":139.57045000000005},{"$f":"DEVSQ(AZQ11:AZQ510)","v":202.42488199999997},null,{"$f":"DEVSQ(AZS11:AZS510)","v":129.57700800000001},{"$f":"DEVSQ(AZT11:AZT510)","v":144.1198},null,{"$f":"DEVSQ(AZV11:AZV510)","v":108.99188200000002},{"$f":"DEVSQ(AZW11:AZW510)","v":130.81100799999999},null,{"$f":"DEVSQ(AZY11:AZY510)","v":140.92745800000003},{"$f":"DEVSQ(AZZ11:AZZ510)","v":173.12339999999998},null,{"$f":"DEVSQ(BAB11:BAB510)","v":152.02360800000002},{"$f":"DEVSQ(BAC11:BAC510)","v":175.67901799999999},null,{"$f":"DEVSQ(BAE11:BAE510)","v":147.36759999999998},{"$f":"DEVSQ(BAF11:BAF510)","v":160.08592200000001},null,{"$f":"DEVSQ(BAH11:BAH510)","v":133.77945000000003},{"$f":"DEVSQ(BAI11:BAI510)","v":165.0396879999999},null,{"$f":"DEVSQ(BAK11:BAK510)","v":114.74236800000001},{"$f":"DEVSQ(BAL11:BAL510)","v":153.87180000000004},null,{"$f":"DEVSQ(BAN11:BAN510)","v":117.186232},{"$f":"DEVSQ(BAO11:BAO510)","v":185.99099999999993},null,{"$f":"DEVSQ(BAQ11:BAQ510)","v":153.13489799999999},{"$f":"DEVSQ(BAR11:BAR510)","v":192.80859999999998},null,{"$f":"DEVSQ(BAT11:BAT510)","v":111.28760000000003},{"$f":"DEVSQ(BAU11:BAU510)","v":177.61796799999996},null,{"$f":"DEVSQ(BAW11:BAW510)","v":160.60096199999995},{"$f":"DEVSQ(BAX11:BAX510)","v":189.89580000000001},null,{"$f":"DEVSQ(BAZ11:BAZ510)","v":185.35628200000002},{"$f":"DEVSQ(BBA11:BBA510)","v":187.46908200000001},null,{"$f":"DEVSQ(BBC11:BBC510)","v":178.68572199999994},{"$f":"DEVSQ(BBD11:BBD510)","v":190.19768200000004},null,{"$f":"DEVSQ(BBF11:BBF510)","v":165.76304800000003},{"$f":"DEVSQ(BBG11:BBG510)","v":179.67704800000001},null,{"$f":"DEVSQ(BBI11:BBI510)","v":139.98308800000001},{"$f":"DEVSQ(BBJ11:BBJ510)","v":197.57325799999987},null,{"$f":"DEVSQ(BBL11:BBL510)","v":105.48756200000001},{"$f":"DEVSQ(BBM11:BBM510)","v":148.69564999999994},null,{"$f":"DEVSQ(BBO11:BBO510)","v":113.06072799999998},{"$f":"DEVSQ(BBP11:BBP510)","v":186.33885799999993},null,{"$f":"DEVSQ(BBR11:BBR510)","v":85.286457999999996},{"$f":"DEVSQ(BBS11:BBS510)","v":139.63923199999996},null,{"$f":"DEVSQ(BBU11:BBU510)","v":116.05745000000002},{"$f":"DEVSQ(BBV11:BBV510)","v":170.853432},null,{"$f":"DEVSQ(BBX11:BBX510)","v":146.35417799999999},{"$f":"DEVSQ(BBY11:BBY510)","v":174.30248199999997},null,{"$f":"DEVSQ(BCA11:BCA510)","v":182.37507199999993},{"$f":"DEVSQ(BCB11:BCB510)","v":196.44700799999993},null,{"$f":"DEVSQ(BCD11:BCD510)","v":96.237642000000008},{"$f":"DEVSQ(BCE11:BCE510)","v":153.93875199999994},null,{"$f":"DEVSQ(BCG11:BCG510)","v":191.74317799999997},{"$f":"DEVSQ(BCH11:BCH510)","v":180.29316200000002},null,{"$f":"DEVSQ(BCJ11:BCJ510)","v":161.55820200000005},{"$f":"DEVSQ(BCK11:BCK510)","v":154.19364999999999},null,{"$f":"DEVSQ(BCM11:BCM510)","v":105.79105},{"$f":"DEVSQ(BCN11:BCN510)","v":196.65412199999994},null,{"$f":"DEVSQ(BCP11:BCP510)","v":145.81288199999995},{"$f":"DEVSQ(BCQ11:BCQ510)","v":143.04429800000005},null,{"$f":"DEVSQ(BCS11:BCS510)","v":173.46720000000005},{"$f":"DEVSQ(BCT11:BCT510)","v":179.26480199999995},null,{"$f":"DEVSQ(BCV11:BCV510)","v":155.365488},{"$f":"DEVSQ(BCW11:BCW510)","v":159.84343199999998},null,{"$f":"DEVSQ(BCY11:BCY510)","v":105.83805},{"$f":"DEVSQ(BCZ11:BCZ510)","v":173.40263200000001},null,{"$f":"DEVSQ(BDB11:BDB510)","v":119.82080000000003},{"$f":"DEVSQ(BDC11:BDC510)","v":168.47588199999998},null,{"$f":"DEVSQ(BDE11:BDE510)","v":129.31459999999998},{"$f":"DEVSQ(BDF11:BDF510)","v":151.67567199999999},null,{"$f":"DEVSQ(BDH11:BDH510)","v":115.36763199999997},{"$f":"DEVSQ(BDI11:BDI510)","v":115.36868199999998},null,{"$f":"DEVSQ(BDK11:BDK510)","v":131.18999200000002},{"$f":"DEVSQ(BDL11:BDL510)","v":203.75800799999996},null,{"$f":"DEVSQ(BDN11:BDN510)","v":132.40484999999998},{"$f":"DEVSQ(BDO11:BDO510)","v":152.74075200000001},null,{"$f":"DEVSQ(BDQ11:BDQ510)","v":157.28539999999995},{"$f":"DEVSQ(BDR11:BDR510)","v":217.76004999999995},null,{"$f":"DEVSQ(BDT11:BDT510)","v":135.71943200000001},{"$f":"DEVSQ(BDU11:BDU510)","v":149.04528799999994},null,{"$f":"DEVSQ(BDW11:BDW510)","v":160.82937799999999},{"$f":"DEVSQ(BDX11:BDX510)","v":173.22608200000005},null,{"$f":"DEVSQ(BDZ11:BDZ510)","v":154.75664999999998},{"$f":"DEVSQ(BEA11:BEA510)","v":164.37712799999997},null,{"$f":"DEVSQ(BEC11:BEC510)","v":88.824207999999985},{"$f":"DEVSQ(BED11:BED510)","v":143.88525799999996},null,{"$f":"DEVSQ(BEF11:BEF510)","v":164.13285000000002},{"$f":"DEVSQ(BEG11:BEG510)","v":153.79367199999999},null,{"$f":"DEVSQ(BEI11:BEI510)","v":123.45100799999999},{"$f":"DEVSQ(BEJ11:BEJ510)","v":181.33976200000001},null,{"$f":"DEVSQ(BEL11:BEL510)","v":167.92785000000001},{"$f":"DEVSQ(BEM11:BEM510)","v":157.45173799999998},null,{"$f":"DEVSQ(BEO11:BEO510)","v":143.96500800000004},{"$f":"DEVSQ(BEP11:BEP510)","v":181.19736200000003},null,{"$f":"DEVSQ(BER11:BER510)","v":143.09039999999999},{"$f":"DEVSQ(BES11:BES510)","v":143.15559199999998},null,{"$f":"DEVSQ(BEU11:BEU510)","v":169.84665800000002},{"$f":"DEVSQ(BEV11:BEV510)","v":187.732608},null,{"$f":"DEVSQ(BEX11:BEX510)","v":168.63829799999996},{"$f":"DEVSQ(BEY11:BEY510)","v":179.90028799999999},null,{"$f":"DEVSQ(BFA11:BFA510)","v":157.90136199999998},{"$f":"DEVSQ(BFB11:BFB510)","v":209.894138},null,{"$f":"DEVSQ(BFD11:BFD510)","v":107.87775200000004},{"$f":"DEVSQ(BFE11:BFE510)","v":183.50716199999997},null,{"$f":"DEVSQ(BFG11:BFG510)","v":99.371599999999987},{"$f":"DEVSQ(BFH11:BFH510)","v":153.93284799999998},null,{"$f":"DEVSQ(BFJ11:BFJ510)","v":147.88985799999998},{"$f":"DEVSQ(BFK11:BFK510)","v":198.94968799999992},null,{"$f":"DEVSQ(BFM11:BFM510)","v":120.86939199999995},{"$f":"DEVSQ(BFN11:BFN510)","v":170.77224999999996},null,{"$f":"DEVSQ(BFP11:BFP510)","v":119.31999999999996},{"$f":"DEVSQ(BFQ11:BFQ510)","v":154.83993799999993},null,{"$f":"DEVSQ(BFS11:BFS510)","v":97.924098000000043},{"$f":"DEVSQ(BFT11:BFT510)","v":144.08317799999998},null,{"$f":"DEVSQ(BFV11:BFV510)","v":169.94405},{"$f":"DEVSQ(BFW11:BFW510)","v":200.87579200000008},null,{"$f":"DEVSQ(BFY11:BFY510)","v":151.99856800000003},{"$f":"DEVSQ(BFZ11:BFZ510)","v":146.93244999999999},null,{"$f":"DEVSQ(BGB11:BGB510)","v":90.666418000000036},{"$f":"DEVSQ(BGC11:BGC510)","v":152.37405000000007},null,{"$f":"DEVSQ(BGE11:BGE510)","v":148.60745800000001},{"$f":"DEVSQ(BGF11:BGF510)","v":210.64968799999994},null,{"$f":"DEVSQ(BGH11:BGH510)","v":163.863978},{"$f":"DEVSQ(BGI11:BGI510)","v":186.88744799999998},null,{"$f":"DEVSQ(BGK11:BGK510)","v":110.95765},{"$f":"DEVSQ(BGL11:BGL510)","v":156.11148200000002},null,{"$f":"DEVSQ(BGN11:BGN510)","v":181.86289799999997},{"$f":"DEVSQ(BGO11:BGO510)","v":204.998842},null,{"$f":"DEVSQ(BGQ11:BGQ510)","v":83.943911999999997},{"$f":"DEVSQ(BGR11:BGR510)","v":156.681568},null,{"$f":"DEVSQ(BGT11:BGT510)","v":151.17192200000002},{"$f":"DEVSQ(BGU11:BGU510)","v":210.10380000000006}]
[null,null,6,0.38,0.96,null,null,0,0,null,"最小値　：=MIN(セル範囲) ",null,{"$f":"MIN(D5:D1304)","v":0.22},{"$f":"MIN(E5:E1304)","v":0.51},{"$f":"MIN(F5:F1304)","v":0},{"$f":"MIN(G5:G1304)","v":0},"LAM",{"$f":"R5/(M7-R5)","v":0},null,null,3.3699999999999997,33,5,3.4200000000000004,28,4,null,null,null,-1.2816805518870629,0.55531164586764747,-1.3162489865489579,0.84693178816957937,null,{"$error":"#DIV/0!"},{"$error":"#DIV/0!"},{"$error":"#DIV/0!"},{"$error":"#DIV/0!"},null,46,45,"","",null,0.66999999999999993,0.57999999999999996,null,0.66999999999999993,0.57999999999999996,null,"元データ",null,null,null,null,null,null,null,null,null,null,null,null,null,null,null,null,null,null,null,null,null,null,null,null,null,null,null,null,null,null,null,null,null,null,null,null,null,null,null,null,null,null,null,null,null,null,null,null,null,null,null,null,null,null,null,null,null,null,null,null,null,null,null,null,null,null,null,null,null,null,null,null,null,null,null,null,null,null,null,null,null,null,null,null,null,null,null,null,null,null,null,null,null,null,null,null,null,null,null,null,null,null,null,null,null,null,null,null,null,null,null,null,null,null,null,null,null,null,null,null,null,null,null,null,null,null,null,null,null,null,null,null,null,null,null,null,null,null,null,null,null,null,null,null,null,null,null,null,null,null,null,null,null,null,null,null,null,null,null,null,null,null,null,null,null,null,null,null,null,null,null,null,null,null,null,null,null,null,null,null,null,null,null,null,null,null,null,null,null,null,null,null,null,null,null,null,null,null,null,null,null,null,null,null,null,null,null,null,null,null,null,null,null,null,null,null,null,null,null,null,null,null,null,null,null,null,null,null,null,null,null,null,null,null,null,null,null,null,null,null,null,null,null,null,null,null,null,null,null,null,null,null,null,null,null,null,null,null,null,null,null,null,null,null,null,null,null,null,null,null,null,null,null,null,null,null,null,null,null,null,null,null,null,null,null,null,null,null,null,null,null,null,null,null,null,null,null,null,null,null,null,null,null,null,null,null,null,null,null,null,null,null,null,null,null,null,null,null,null,null,null,null,null,null,null,null,null,null,null,null,null,null,null,null,null,null,null,null,null,null,null,null,null,null,null,null,null,null,null,null,null,null,null,null,null,null,null,null,null,null,null,null,null,null,null,null,null,null,null,null,null,null,null,null,null,null,null,null,null,null,null,null,null,null,null,null,null,null,null,null,null,null,null,null,null,null,null,null,null,null,null,null,null,null,null,null,null,null,null,null,null,null,null,null,null,null,null,null,null,null,null,null,null,null,null,null,null,null,null,null,null,null,null,null,null,null,null,null,null,null,null,null,null,null,null,null,null,null,null,null,null,null,null,null,null,null,null,null,null,null,null,null,null,null,null,null,null,null,null,null,null,null,null,null,null,null,null,null,null,null,null,null,null,null,null,null,null,null,null,null,null,null,null,null,null,null,null,null,null,null,null,null,null,null,null,null,null,null,null,null,null,null,null,null,null,null,null,null,null,null,null,null,null,null,null,null,null,null,null,null,null,null,null,null,null,null,null,null,null,null,null,null,null,null,null,null,null,null,null,null,null,null,null,null,null,null,null,null,null,null,null,null,null,null,null,null,null,null,null,null,null,null,null,null,null,null,null,null,null,null,null,null,null,null,null,null,null,null,null,null,null,null,null,null,null,null,null,null,null,null,null,null,null,null,null,null,null,null,null,null,null,null,null,null,null,null,null,null,null,null,null,null,null,null,null,null,null,null,null,null,null,null,null,null,null,null,null,null,null,null,null,null,null,null,null,null,null,null,null,null,null,null,null,null,null,null,null,null,null,null,null,null,null,null,null,null,null,null,null,null,null,null,null,null,null,null,null,null,null,null,null,null,null,null,null,null,null,null,null,null,null,null,null,null,null,null,null,null,null,null,null,null,null,null,null,null,null,null,null,null,null,null,null,null,null,null,null,null,null,null,null,null,null,null,null,null,null,null,null,null,null,null,null,null,null,null,null,null,null,null,null,null,null,null,null,null,null,null,null,null,null,null,null,null,null,null,null,null,null,null,null,null,null,null,null,null,null,null,null,null,null,null,null,null,null,null,null,null,null,null,null,null,null,null,null,null,null,null,null,null,null,null,null,null,null,null,null,null,null,null,null,null,null,null,null,null,null,null,null,null,null,null,null,null,null,null,null,null,null,null,null,null,null,null,null,null,null,null,null,null,null,null,null,null,null,null,null,null,null,null,null,null,null,null,null,null,null,null,null,null,null,null,null,null,null,null,null,null,null,null,null,null,null,null,null,null,null,null,null,null,null,null,null,null,null,null,null,null,null,null,null,null,null,null,null,null,null,null,null,null,null,null,null,null,null,null,null,null,null,null,null,null,null,null,null,null,null,null,null,null,null,null,null,null,null,null,null,null,null,null,null,null,null,null,null,null,null,null,null,null,null,null,null,null,null,null,null,null,null,null,null,null,null,null,null,null,null,null,null,null,null,null,null,null,null,null,null,null,null,null,null,null,null,null,null,null,null,null,null,null,null,null,null,null,null,null,null,null,null,null,null,null,null,null,null,null,null,null,null,null,null,null,null,null,null,null,null,null,null,null,null,null,null,null,null,null,null,null,null,null,null,null,null,null,null,null,null,null,null,null,null,null,null,null,null,null,null,null,null,null,null,null,null,null,null,null,null,null,null,null,null,null,null,null,null,null,null,null,null,null,null,null,null,null,null,null,null,null,null,null,null,null,null,null,null,null,null,null,null,null,null,null,null,null,null,null,null,null,null,null,null,null,null,null,null,null,null,null,null,null,null,null,null,null,null,null,null,null,null,null,null,null,null,null,null,null,null,null,null,null,null,null,null,null,null,null,null,null,null,null,null,null,null,null,null,null,null,null,null,null,null,null,null,null,null,null,null,null,null,null,null,null,null,null,null,null,null,null,null,null,null,null,null,null,null,null,null,null,null,null,null,null,null,null,null,null,null,null,null,null,null,null,null,null,null,null,null,null,null,null,null,null,null,null,null,null,null,null,null,null,null,null,null,null,null,null,null,null,null,null,null,null,null,null,null,null,null,null,null,null,null,null,null,null,null,null,null,null,null,null,null,null,null,null,null,null,null,null,null,null,null,null,null,null,null,null,null,null,null,null,null,null,null,null,null,null,null,null,null,null,null,null,null,null,null,null,null,null,null,null,null,null,null,null,null,null,null,null,null,null,null,null,null,null,null,null,null,null,null,null,null,null,null,null,null,null,null,null,null,null,null,null,null,null,null,null,null,null,null,null,null,null,null,null,null,null,null,null,null,null,null,null,null,null,null,null,null,null,null,null,null,null,null,null,null,null,null,null,null,null,null,null,null,null,null,null,null,null,null,null,null,null,null,null,null,null,null,null,null,null,null,null,null,null,null,null,null,null,null,null,null,null,null,null,null,null,null,null,null,null,null,null,null,null,null,null,null,null,null,null,null,null,null,null,null,null,null,null,null,null,null,null,null,null,null,null,null,null,null,null,null,null,null,null,null,null,null,null,null,null,null,null,null,null,null,null,null,null,null,null,null,null,null,null,null,null,null,null,null,null,null,null,null,null,null,null,null,null,null,null,null,null,null,null,null,null,null,null,null,null,null,null,null,null,null,null,null,null,null,null,null,null,null,null,null,null,null,null,null,null,null,null,null,null,null,null,null,null,null,null,null,null,null,null,null,null,null,null,null,null,null,null,null,null,null,null,null,null,null,null,null,null,null,null,null,null,null,null,null,null,null,null,null,null,null,null,null,null,null,null,null,null,null,null,null,null,null,null,null,null,null,null,null,null,null,null,{"$f":"IF($E10<>\"\",VLOOKUP(BHZ10,$C$5:$E$504,3,FALSE),\"\")","v":{"$error":"#N/A"}}]
[null,null,7,0.4,1.05,null,null,0,0,null,"最大値　：=MAX(セル範囲) ",null,{"$f":"MAX(D5:D1304)","v":7.1},{"$f":"MAX(E5:E1304)","v":6.8},{"$f":"MAX(F5:F1304)","v":0},{"$f":"MAX(G5:G1304)","v":0},"SYXD",{"$f":"(N7-(1+R10)*(N7-M29^2))^0.5","v":0.98547203734393651},null,null,3.9999999999999996,41,8,4,34,6,null,null,null,-1.2269083699756562,0.67824156331704388,-1.3362435802203647,0.91160899374881044,null,{"$error":"#DIV/0!"},{"$error":"#DIV/0!"},{"$error":"#DIV/0!"},{"$error":"#DIV/0!"},null,45,44,"","",null,0.72500000000000009,0.65,null,0.72500000000000009,0.65,null,{"$f":"IF(D5<>\"\",D5,\"\")","v":0.22},{"$f":"IF(E5<>\"\",E5,\"\")","v":0.51},15,1.3,1.8,23,1.1499999999999999,2.5,10,1.1200000000000001,1.2,20,2.06,2.23,23,1.1499999999999999,2.5,32,2.83,3.77,13,1.24,1.7,16,1.58,1.83,44,3.4,5.8,4,0.32,0.75,42,2.97,5.3,26,2.15,2.91,14,1.1599999999999999,1.72,16,1.58,1.83,4,0.32,0.75,33,4.28,3.99,30,3.4,3.7,15,1.3,1.8,49,3.94,6.8,28,2.8,3.4,38,3.61,4.7,26,2.15,2.91,37,3.7,4.2,19,1.33,2.06,34,3.4,4,25,3.68,2.88,17,1.3,1.89,11,0.91,1.3,24,1.7,2.8,22,2.75,2.4,22,2.75,2.4,45,5.2,5.8,48,7.1,6.2,8,1.68,1.1299999999999999,24,1.7,2.8,3,0.46,0.7,16,1.58,1.83,9,0.6,1.18,1,0.22,0.51,19,1.33,2.06,10,1.1200000000000001,1.2,16,1.58,1.83,20,2.06,2.23,7,0.4,1.05,44,3.4,5.8,8,1.68,1.1299999999999999,25,3.68,2.88,6,0.38,0.96,37,3.7,4.2,5,0.32,0.91,47,2.34,6.2,24,1.7,2.8,3,0.46,0.7,28,2.8,3.4,23,1.1499999999999999,2.5,10,1.1200000000000001,1.2,46,5.9,6.1,12,2.16,1.6,20,2.06,2.23,27,4.01,3,25,3.68,2.88,48,7.1,6.2,34,3.4,4,43,3.79,5.65,28,2.8,3.4,25,3.68,2.88,44,3.4,5.8,35,2.83,4.0199999999999996,6,0.38,0.96,38,3.61,4.7,29,2.4,3.5,2,0.22,0.56000000000000005,26,2.15,2.91,11,0.91,1.3,48,7.1,6.2,43,3.79,5.65,31,1.56,3.71,32,2.83,3.77,34,3.4,4,45,5.2,5.8,11,0.91,1.3,44,3.4,5.8,2,0.22,0.56000000000000005,41,5.95,5.0999999999999996,46,5.9,6.1,8,1.68,1.1299999999999999,10,1.1200000000000001,1.2,16,1.58,1.83,50,4.5,6.8,24,1.7,2.8,47,2.34,6.2,42,2.97,5.3,37,3.7,4.2,10,1.1200000000000001,1.2,22,2.75,2.4,16,1.58,1.83,41,5.95,5.0999999999999996,5,0.32,0.91,19,1.33,2.06,9,0.6,1.18,4,0.32,0.75,22,2.75,2.4,19,1.33,2.06,34,3.4,4,29,2.4,3.5,21,1.83,2.3199999999999998,24,1.7,2.8,24,1.7,2.8,34,3.4,4,45,5.2,5.8,6,0.38,0.96,19,1.33,2.06,36,2.2799999999999998,4.0999999999999996,10,1.1200000000000001,1.2,10,1.1200000000000001,1.2,20,2.06,2.23,27,4.01,3,22,2.75,2.4,21,1.83,2.3199999999999998,3,0.46,0.7,34,3.4,4,39,4.1900000000000004,4.8899999999999997,46,5.9,6.1,50,4.5,6.8,23,1.1499999999999999,2.5,12,2.16,1.6,8,1.68,1.1299999999999999,31,1.56,3.71,24,1.7,2.8,27,4.01,3,47,2.34,6.2,16,1.58,1.83,22,2.75,2.4,16,1.58,1.83,44,3.4,5.8,32,2.83,3.77,3,0.46,0.7,24,1.7,2.8,46,5.9,6.1,43,3.79,5.65,16,1.58,1.83,50,4.5,6.8,13,1.24,1.7,43,3.79,5.65,48,7.1,6.2,34,3.4,4,20,2.06,2.23,4,0.32,0.75,8,1.68,1.1299999999999999,23,1.1499999999999999,2.5,29,2.4,3.5,40,5.16,4.92,33,4.28,3.99,38,3.61,4.7,17,1.3,1.89,41,5.95,5.0999999999999996,41,5.95,5.0999999999999996,9,0.6,1.18,16,1.58,1.83,7,0.4,1.05,12,2.16,1.6,22,2.75,2.4,27,4.01,3,50,4.5,6.8,20,2.06,2.23,25,3.68,2.88,29,2.4,3.5,12,2.16,1.6,35,2.83,4.0199999999999996,1,0.22,0.51,14,1.1599999999999999,1.72,43,3.79,5.65,37,3.7,4.2,2,0.22,0.56000000000000005,29,2.4,3.5,36,2.2799999999999998,4.0999999999999996,33,4.28,3.99,44,3.4,5.8,31,1.56,3.71,34,3.4,4,50,4.5,6.8,16,1.58,1.83,9,0.6,1.18,43,3.79,5.65,33,4.28,3.99,49,3.94,6.8,6,0.38,0.96,9,0.6,1.18,4,0.32,0.75,6,0.38,0.96,21,1.83,2.3199999999999998,9,0.6,1.18,41,5.95,5.0999999999999996,18,1.32,2,7,0.4,1.05,1,0.22,0.51,8,1.68,1.1299999999999999,3,0.46,0.7,47,2.34,6.2,43,3.79,5.65,12,2.16,1.6,31,1.56,3.71,25,3.68,2.88,15,1.3,1.8,8,1.68,1.1299999999999999,7,0.4,1.05,27,4.01,3,15,1.3,1.8,27,4.01,3,21,1.83,2.3199999999999998,42,2.97,5.3,5,0.32,0.91,13,1.24,1.7,6,0.38,0.96,33,4.28,3.99,30,3.4,3.7,20,2.06,2.23,4,0.32,0.75,13,1.24,1.7,46,5.9,6.1,23,1.1499999999999999,2.5,7,0.4,1.05,44,3.4,5.8,5,0.32,0.91,47,2.34,6.2,46,5.9,6.1,36,2.2799999999999998,4.0999999999999996,13,1.24,1.7,49,3.94,6.8,6,0.38,0.96,20,2.06,2.23,40,5.16,4.92,18,1.32,2,43,3.79,5.65,28,2.8,3.4,2,0.22,0.56000000000000005,40,5.16,4.92,18,1.32,2,31,1.56,3.71,46,5.9,6.1,17,1.3,1.89,45,5.2,5.8,1,0.22,0.51,6,0.38,0.96,9,0.6,1.18,48,7.1,6.2,25,3.68,2.88,18,1.32,2,29,2.4,3.5,31,1.56,3.71,37,3.7,4.2,43,3.79,5.65,8,1.68,1.1299999999999999,17,1.3,1.89,9,0.6,1.18,13,1.24,1.7,16,1.58,1.83,35,2.83,4.0199999999999996,11,0.91,1.3,27,4.01,3,2,0.22,0.56000000000000005,38,3.61,4.7,24,1.7,2.8,22,2.75,2.4,40,5.16,4.92,17,1.3,1.89,21,1.83,2.3199999999999998,45,5.2,5.8,43,3.79,5.65,41,5.95,5.0999999999999996,14,1.1599999999999999,1.72,47,2.34,6.2,38,3.61,4.7,45,5.2,5.8,5,0.32,0.91,31,1.56,3.71,48,7.1,6.2,46,5.9,6.1,8,1.68,1.1299999999999999,23,1.1499999999999999,2.5,48,7.1,6.2,11,0.91,1.3,24,1.7,2.8,43,3.79,5.65,21,1.83,2.3199999999999998,40,5.16,4.92,41,5.95,5.0999999999999996,49,3.94,6.8,35,2.83,4.0199999999999996,15,1.3,1.8,32,2.83,3.77,36,2.2799999999999998,4.0999999999999996,29,2.4,3.5,3,0.46,0.7,30,3.4,3.7,5,0.32,0.91,14,1.1599999999999999,1.72,34,3.4,4,3,0.46,0.7,37,3.7,4.2,30,3.4,3.7,29,2.4,3.5,50,4.5,6.8,35,2.83,4.0199999999999996,25,3.68,2.88,50,4.5,6.8,5,0.32,0.91,22,2.75,2.4,41,5.95,5.0999999999999996,5,0.32,0.91,6,0.38,0.96,14,1.1599999999999999,1.72,11,0.91,1.3,22,2.75,2.4,25,3.68,2.88,39,4.1900000000000004,4.8899999999999997,22,2.75,2.4,33,4.28,3.99,12,2.16,1.6,31,1.56,3.71,38,3.61,4.7,15,1.3,1.8,47,2.34,6.2,32,2.83,3.77,41,5.95,5.0999999999999996,7,0.4,1.05,13,1.24,1.7,7,0.4,1.05,25,3.68,2.88,23,1.1499999999999999,2.5,22,2.75,2.4,21,1.83,2.3199999999999998,10,1.1200000000000001,1.2,39,4.1900000000000004,4.8899999999999997,12,2.16,1.6,27,4.01,3,16,1.58,1.83,40,5.16,4.92,47,2.34,6.2,21,1.83,2.3199999999999998,50,4.5,6.8,30,3.4,3.7,42,2.97,5.3,7,0.4,1.05,5,0.32,0.91,45,5.2,5.8,38,3.61,4.7,21,1.83,2.3199999999999998,22,2.75,2.4,48,7.1,6.2,46,5.9,6.1,25,3.68,2.88,13,1.24,1.7,16,1.58,1.83,4,0.32,0.75,7,0.4,1.05,49,3.94,6.8,4,0.32,0.75,46,5.9,6.1,45,5.2,5.8,11,0.91,1.3,12,2.16,1.6,27,4.01,3,38,3.61,4.7,45,5.2,5.8,24,1.7,2.8,23,1.1499999999999999,2.5,40,5.16,4.92,45,5.2,5.8,46,5.9,6.1,31,1.56,3.71,20,2.06,2.23,35,2.83,4.0199999999999996,25,3.68,2.88,40,5.16,4.92,19,1.33,2.06,15,1.3,1.8,9,0.6,1.18,10,1.1200000000000001,1.2,33,4.28,3.99,32,2.83,3.77,41,5.95,5.0999999999999996,16,1.58,1.83,50,4.5,6.8,44,3.4,5.8,47,2.34,6.2,2,0.22,0.56000000000000005,3,0.46,0.7,14,1.1599999999999999,1.72,48,7.1,6.2,2,0.22,0.56000000000000005,36,2.2799999999999998,4.0999999999999996,5,0.32,0.91,33,4.28,3.99,16,1.58,1.83,30,3.4,3.7,46,5.9,6.1,39,4.1900000000000004,4.8899999999999997,8,1.68,1.1299999999999999,43,3.79,5.65,50,4.5,6.8,47,2.34,6.2,5,0.32,0.91,11,0.91,1.3,7,0.4,1.05,45,5.2,5.8,23,1.1499999999999999,2.5,18,1.32,2,28,2.8,3.4,44,3.4,5.8,40,5.16,4.92,17,1.3,1.89,13,1.24,1.7,17,1.3,1.89,45,5.2,5.8,22,2.75,2.4,18,1.32,2,37,3.7,4.2,39,4.1900000000000004,4.8899999999999997,13,1.24,1.7,46,5.9,6.1,45,5.2,5.8,5,0.32,0.91,48,7.1,6.2,46,5.9,6.1,15,1.3,1.8,38,3.61,4.7,41,5.95,5.0999999999999996,23,1.1499999999999999,2.5,38,3.61,4.7,38,3.61,4.7,1,0.22,0.51,15,1.3,1.8,22,2.75,2.4,17,1.3,1.89,37,3.7,4.2,26,2.15,2.91,45,5.2,5.8,14,1.1599999999999999,1.72,21,1.83,2.3199999999999998,30,3.4,3.7,30,3.4,3.7,28,2.8,3.4,14,1.1599999999999999,1.72,26,2.15,2.91,29,2.4,3.5,8,1.68,1.1299999999999999,8,1.68,1.1299999999999999,21,1.83,2.3199999999999998,17,1.3,1.89,14,1.1599999999999999,1.72,28,2.8,3.4,6,0.38,0.96,49,3.94,6.8,28,2.8,3.4,47,2.34,6.2,17,1.3,1.89,37,3.7,4.2,41,5.95,5.0999999999999996,11,0.91,1.3,38,3.61,4.7,28,2.8,3.4,39,4.1900000000000004,4.8899999999999997,32,2.83,3.77,27,4.01,3,1,0.22,0.51,16,1.58,1.83,40,5.16,4.92,5,0.32,0.91,29,2.4,3.5,38,3.61,4.7,45,5.2,5.8,6,0.38,0.96,46,5.9,6.1,20,2.06,2.23,17,1.3,1.89,33,4.28,3.99,34,3.4,4,28,2.8,3.4,26,2.15,2.91,38,3.61,4.7,16,1.58,1.83,25,3.68,2.88,41,5.95,5.0999999999999996,6,0.38,0.96,15,1.3,1.8,45,5.2,5.8,50,4.5,6.8,6,0.38,0.96,30,3.4,3.7,23,1.1499999999999999,2.5,33,4.28,3.99,1,0.22,0.51,11,0.91,1.3,33,4.28,3.99,4,0.32,0.75,21,1.83,2.3199999999999998,14,1.1599999999999999,1.72,1,0.22,0.51,12,2.16,1.6,4,0.32,0.75,null,null,null,null,null,null,null,null,null,null,null,null,null,null,null,null,null,null,null,null,null,null,null,null,null,null,null,null,null,null,null,null,{"$error":"#N/A"}]
[null,null,8,1.68,1.1299999999999999,null,null,0,0,null,"歪　　度：=SKEW(セル範囲) ",null,{"$f":"SKEW(D5:D1304)","v":0.67236726638927014},{"$f":"SKEW(E5:E1304)","v":0.37378644388351495},{"$f":"SKEW(F5:F1304)","v":{"$error":"#DIV/0!"}},{"$f":"SKEW(G5:G1304)","v":{"$error":"#DIV/0!"}},"Sy.x / SDy(<2) = ",{"$f":"R11/S6","v":{"$error":"#DIV/0!"}},null,null,4.63,45,4,4.58,37,3,null,null,null,-1.1721361880642496,0.79548265910311156,-1.350549352228442,0.97113750810164001,null,{"$error":"#DIV/0!"},{"$error":"#DIV/0!"},{"$error":"#DIV/0!"},{"$error":"#DIV/0!"},null,31,43,"","",null,1.4049999999999998,-0.55000000000000004,null,1.4049999999999998,-0.55000000000000004,null,0.22,0.56000000000000005,29,2.4,3.5,6,0.38,0.96,18,1.32,2,28,2.8,3.4,34,3.4,4,34,3.4,4,15,1.3,1.8,7,0.4,1.05,34,3.4,4,24,1.7,2.8,11,0.91,1.3,10,1.1200000000000001,1.2,19,1.33,2.06,34,3.4,4,6,0.38,0.96,42,2.97,5.3,45,5.2,5.8,7,0.4,1.05,22,2.75,2.4,47,2.34,6.2,19,1.33,2.06,50,4.5,6.8,3,0.46,0.7,8,1.68,1.1299999999999999,49,3.94,6.8,20,2.06,2.23,21,1.83,2.3199999999999998,18,1.32,2,18,1.32,2,21,1.83,2.3199999999999998,49,3.94,6.8,12,2.16,1.6,3,0.46,0.7,18,1.32,2,45,5.2,5.8,7,0.4,1.05,16,1.58,1.83,11,0.91,1.3,45,5.2,5.8,10,1.1200000000000001,1.2,10,1.1200000000000001,1.2,20,2.06,2.23,24,1.7,2.8,33,4.28,3.99,42,2.97,5.3,35,2.83,4.0199999999999996,17,1.3,1.89,25,3.68,2.88,49,3.94,6.8,30,3.4,3.7,1,0.22,0.51,18,1.32,2,40,5.16,4.92,34,3.4,4,46,5.9,6.1,27,4.01,3,45,5.2,5.8,19,1.33,2.06,14,1.1599999999999999,1.72,20,2.06,2.23,36,2.2799999999999998,4.0999999999999996,49,3.94,6.8,42,2.97,5.3,1,0.22,0.51,46,5.9,6.1,43,3.79,5.65,16,1.58,1.83,1,0.22,0.51,18,1.32,2,48,7.1,6.2,21,1.83,2.3199999999999998,32,2.83,3.77,48,7.1,6.2,25,3.68,2.88,50,4.5,6.8,7,0.4,1.05,8,1.68,1.1299999999999999,49,3.94,6.8,24,1.7,2.8,21,1.83,2.3199999999999998,19,1.33,2.06,22,2.75,2.4,27,4.01,3,40,5.16,4.92,40,5.16,4.92,46,5.9,6.1,49,3.94,6.8,14,1.1599999999999999,1.72,24,1.7,2.8,8,1.68,1.1299999999999999,49,3.94,6.8,35,2.83,4.0199999999999996,30,3.4,3.7,33,4.28,3.99,22,2.75,2.4,27,4.01,3,2,0.22,0.56000000000000005,43,3.79,5.65,34,3.4,4,33,4.28,3.99,8,1.68,1.1299999999999999,31,1.56,3.71,22,2.75,2.4,21,1.83,2.3199999999999998,40,5.16,4.92,1,0.22,0.51,44,3.4,5.8,7,0.4,1.05,35,2.83,4.0199999999999996,12,2.16,1.6,8,1.68,1.1299999999999999,27,4.01,3,47,2.34,6.2,44,3.4,5.8,2,0.22,0.56000000000000005,37,3.7,4.2,37,3.7,4.2,22,2.75,2.4,42,2.97,5.3,17,1.3,1.89,28,2.8,3.4,48,7.1,6.2,28,2.8,3.4,37,3.7,4.2,20,2.06,2.23,9,0.6,1.18,17,1.3,1.89,38,3.61,4.7,13,1.24,1.7,28,2.8,3.4,6,0.38,0.96,26,2.15,2.91,3,0.46,0.7,46,5.9,6.1,28,2.8,3.4,27,4.01,3,29,2.4,3.5,9,0.6,1.18,10,1.1200000000000001,1.2,4,0.32,0.75,41,5.95,5.0999999999999996,9,0.6,1.18,48,7.1,6.2,42,2.97,5.3,25,3.68,2.88,7,0.4,1.05,33,4.28,3.99,32,2.83,3.77,47,2.34,6.2,47,2.34,6.2,6,0.38,0.96,36,2.2799999999999998,4.0999999999999996,49,3.94,6.8,1,0.22,0.51,8,1.68,1.1299999999999999,49,3.94,6.8,20,2.06,2.23,12,2.16,1.6,9,0.6,1.18,32,2.83,3.77,20,2.06,2.23,8,1.68,1.1299999999999999,35,2.83,4.0199999999999996,3,0.46,0.7,20,2.06,2.23,29,2.4,3.5,18,1.32,2,46,5.9,6.1,6,0.38,0.96,9,0.6,1.18,4,0.32,0.75,24,1.7,2.8,41,5.95,5.0999999999999996,27,4.01,3,23,1.1499999999999999,2.5,14,1.1599999999999999,1.72,47,2.34,6.2,21,1.83,2.3199999999999998,24,1.7,2.8,48,7.1,6.2,38,3.61,4.7,9,0.6,1.18,18,1.32,2,18,1.32,2,30,3.4,3.7,27,4.01,3,43,3.79,5.65,45,5.2,5.8,50,4.5,6.8,28,2.8,3.4,26,2.15,2.91,8,1.68,1.1299999999999999,16,1.58,1.83,46,5.9,6.1,26,2.15,2.91,39,4.1900000000000004,4.8899999999999997,27,4.01,3,16,1.58,1.83,23,1.1499999999999999,2.5,28,2.8,3.4,14,1.1599999999999999,1.72,12,2.16,1.6,30,3.4,3.7,39,4.1900000000000004,4.8899999999999997,5,0.32,0.91,1,0.22,0.51,15,1.3,1.8,43,3.79,5.65,3,0.46,0.7,48,7.1,6.2,29,2.4,3.5,9,0.6,1.18,27,4.01,3,42,2.97,5.3,10,1.1200000000000001,1.2,12,2.16,1.6,13,1.24,1.7,36,2.2799999999999998,4.0999999999999996,37,3.7,4.2,47,2.34,6.2,26,2.15,2.91,44,3.4,5.8,49,3.94,6.8,13,1.24,1.7,43,3.79,5.65,2,0.22,0.56000000000000005,34,3.4,4,6,0.38,0.96,41,5.95,5.0999999999999996,42,2.97,5.3,22,2.75,2.4,21,1.83,2.3199999999999998,44,3.4,5.8,31,1.56,3.71,43,3.79,5.65,22,2.75,2.4,47,2.34,6.2,18,1.32,2,1,0.22,0.51,26,2.15,2.91,36,2.2799999999999998,4.0999999999999996,48,7.1,6.2,3,0.46,0.7,38,3.61,4.7,32,2.83,3.77,32,2.83,3.77,11,0.91,1.3,16,1.58,1.83,39,4.1900000000000004,4.8899999999999997,41,5.95,5.0999999999999996,45,5.2,5.8,30,3.4,3.7,15,1.3,1.8,46,5.9,6.1,6,0.38,0.96,48,7.1,6.2,44,3.4,5.8,36,2.2799999999999998,4.0999999999999996,13,1.24,1.7,28,2.8,3.4,28,2.8,3.4,43,3.79,5.65,44,3.4,5.8,23,1.1499999999999999,2.5,40,5.16,4.92,24,1.7,2.8,48,7.1,6.2,48,7.1,6.2,37,3.7,4.2,13,1.24,1.7,12,2.16,1.6,12,2.16,1.6,39,4.1900000000000004,4.8899999999999997,32,2.83,3.77,2,0.22,0.56000000000000005,9,0.6,1.18,18,1.32,2,17,1.3,1.89,50,4.5,6.8,29,2.4,3.5,1,0.22,0.51,1,0.22,0.51,21,1.83,2.3199999999999998,16,1.58,1.83,34,3.4,4,18,1.32,2,29,2.4,3.5,10,1.1200000000000001,1.2,9,0.6,1.18,11,0.91,1.3,19,1.33,2.06,29,2.4,3.5,6,0.38,0.96,7,0.4,1.05,20,2.06,2.23,33,4.28,3.99,42,2.97,5.3,4,0.32,0.75,48,7.1,6.2,39,4.1900000000000004,4.8899999999999997,40,5.16,4.92,22,2.75,2.4,28,2.8,3.4,49,3.94,6.8,3,0.46,0.7,12,2.16,1.6,29,2.4,3.5,46,5.9,6.1,5,0.32,0.91,30,3.4,3.7,8,1.68,1.1299999999999999,49,3.94,6.8,42,2.97,5.3,28,2.8,3.4,22,2.75,2.4,30,3.4,3.7,1,0.22,0.51,48,7.1,6.2,45,5.2,5.8,47,2.34,6.2,32,2.83,3.77,36,2.2799999999999998,4.0999999999999996,6,0.38,0.96,31,1.56,3.71,42,2.97,5.3,17,1.3,1.89,29,2.4,3.5,50,4.5,6.8,44,3.4,5.8,31,1.56,3.71,49,3.94,6.8,19,1.33,2.06,25,3.68,2.88,32,2.83,3.77,28,2.8,3.4,35,2.83,4.0199999999999996,21,1.83,2.3199999999999998,48,7.1,6.2,39,4.1900000000000004,4.8899999999999997,20,2.06,2.23,8,1.68,1.1299999999999999,10,1.1200000000000001,1.2,13,1.24,1.7,24,1.7,2.8,4,0.32,0.75,33,4.28,3.99,50,4.5,6.8,45,5.2,5.8,33,4.28,3.99,21,1.83,2.3199999999999998,36,2.2799999999999998,4.0999999999999996,8,1.68,1.1299999999999999,5,0.32,0.91,23,1.1499999999999999,2.5,28,2.8,3.4,9,0.6,1.18,4,0.32,0.75,12,2.16,1.6,1,0.22,0.51,21,1.83,2.3199999999999998,38,3.61,4.7,17,1.3,1.89,6,0.38,0.96,11,0.91,1.3,8,1.68,1.1299999999999999,27,4.01,3,42,2.97,5.3,20,2.06,2.23,35,2.83,4.0199999999999996,1,0.22,0.51,37,3.7,4.2,7,0.4,1.05,45,5.2,5.8,40,5.16,4.92,46,5.9,6.1,4,0.32,0.75,28,2.8,3.4,27,4.01,3,12,2.16,1.6,34,3.4,4,47,2.34,6.2,23,1.1499999999999999,2.5,31,1.56,3.71,41,5.95,5.0999999999999996,20,2.06,2.23,33,4.28,3.99,41,5.95,5.0999999999999996,36,2.2799999999999998,4.0999999999999996,8,1.68,1.1299999999999999,25,3.68,2.88,15,1.3,1.8,46,5.9,6.1,15,1.3,1.8,21,1.83,2.3199999999999998,23,1.1499999999999999,2.5,40,5.16,4.92,7,0.4,1.05,45,5.2,5.8,50,4.5,6.8,2,0.22,0.56000000000000005,37,3.7,4.2,33,4.28,3.99,27,4.01,3,29,2.4,3.5,33,4.28,3.99,8,1.68,1.1299999999999999,37,3.7,4.2,36,2.2799999999999998,4.0999999999999996,6,0.38,0.96,20,2.06,2.23,11,0.91,1.3,20,2.06,2.23,10,1.1200000000000001,1.2,41,5.95,5.0999999999999996,9,0.6,1.18,46,5.9,6.1,20,2.06,2.23,26,2.15,2.91,48,7.1,6.2,34,3.4,4,22,2.75,2.4,44,3.4,5.8,2,0.22,0.56000000000000005,23,1.1499999999999999,2.5,19,1.33,2.06,6,0.38,0.96,5,0.32,0.91,27,4.01,3,39,4.1900000000000004,4.8899999999999997,21,1.83,2.3199999999999998,30,3.4,3.7,28,2.8,3.4,19,1.33,2.06,3,0.46,0.7,15,1.3,1.8,10,1.1200000000000001,1.2,40,5.16,4.92,49,3.94,6.8,14,1.1599999999999999,1.72,19,1.33,2.06,32,2.83,3.77,24,1.7,2.8,2,0.22,0.56000000000000005,27,4.01,3,39,4.1900000000000004,4.8899999999999997,9,0.6,1.18,50,4.5,6.8,19,1.33,2.06,45,5.2,5.8,14,1.1599999999999999,1.72,5,0.32,0.91,29,2.4,3.5,13,1.24,1.7,4,0.32,0.75,40,5.16,4.92,49,3.94,6.8,40,5.16,4.92,32,2.83,3.77,7,0.4,1.05,48,7.1,6.2,20,2.06,2.23,40,5.16,4.92,14,1.1599999999999999,1.72,48,7.1,6.2,23,1.1499999999999999,2.5,24,1.7,2.8,6,0.38,0.96,24,1.7,2.8,32,2.83,3.77,50,4.5,6.8,8,1.68,1.1299999999999999,1,0.22,0.51,47,2.34,6.2,49,3.94,6.8,40,5.16,4.92,29,2.4,3.5,2,0.22,0.56000000000000005,14,1.1599999999999999,1.72,34,3.4,4,10,1.1200000000000001,1.2,39,4.1900000000000004,4.8899999999999997,7,0.4,1.05,17,1.3,1.89,42,2.97,5.3,48,7.1,6.2,41,5.95,5.0999999999999996,9,0.6,1.18,24,1.7,2.8,22,2.75,2.4,9,0.6,1.18,33,4.28,3.99,24,1.7,2.8,19,1.33,2.06,40,5.16,4.92,31,1.56,3.71,10,1.1200000000000001,1.2,42,2.97,5.3,5,0.32,0.91,2,0.22,0.56000000000000005,43,3.79,5.65,26,2.15,2.91,null,null,null,null,null,null,null,null,null,null,null,null,null,null,null,null,null,null,null,null,null,null,null,null,null,null,null,null,null,null,null,null,{"$error":"#N/A"}]
[null,null,9,0.6,1.18,null,null,0,0,null,"尖　　 　度 ： =KURT(セル範囲) ",null,{"$f":"KURT(D5:D1304)","v":-4.9127917459150794E-2},{"$f":"KURT(E5:E1304)","v":-1.0209288031672878},{"$f":"KURT(F5:F1304)","v":{"$error":"#DIV/0!"}},{"$f":"KURT(G5:G1304)","v":{"$error":"#DIV/0!"}},null,null,null,null,5.26,47,2,5.16,41,4,null,null,null,-1.1173640061528429,0.90802516278874734,-1.360156532136088,1.0264135425288154,null,{"$error":"#DIV/0!"},{"$error":"#DIV/0!"},{"$error":"#DIV/0!"},{"$error":"#DIV/0!"},null,43,42,"","",null,0.8899999999999999,0.57999999999999996,null,0.8899999999999999,{"$f":"IF(D13<>\"\",(E13-D13),\"\")","v":0.57999999999999996},null,0.46,0.7,46,5.9,6.1,38,3.61,4.7,27,4.01,3,31,1.56,3.71,33,4.28,3.99,34,3.4,4,8,1.68,1.1299999999999999,32,2.83,3.77,33,4.28,3.99,29,2.4,3.5,9,0.6,1.18,16,1.58,1.83,29,2.4,3.5,1,0.22,0.51,20,2.06,2.23,38,3.61,4.7,20,2.06,2.23,14,1.1599999999999999,1.72,5,0.32,0.91,43,3.79,5.65,44,3.4,5.8,44,3.4,5.8,19,1.33,2.06,50,4.5,6.8,28,2.8,3.4,20,2.06,2.23,27,4.01,3,1,0.22,0.51,42,2.97,5.3,24,1.7,2.8,46,5.9,6.1,14,1.1599999999999999,1.72,12,2.16,1.6,9,0.6,1.18,40,5.16,4.92,9,0.6,1.18,8,1.68,1.1299999999999999,23,1.1499999999999999,2.5,32,2.83,3.77,41,5.95,5.0999999999999996,31,1.56,3.71,2,0.22,0.56000000000000005,31,1.56,3.71,42,2.97,5.3,22,2.75,2.4,21,1.83,2.3199999999999998,18,1.32,2,36,2.2799999999999998,4.0999999999999996,27,4.01,3,7,0.4,1.05,42,2.97,5.3,3,0.46,0.7,32,2.83,3.77,20,2.06,2.23,36,2.2799999999999998,4.0999999999999996,18,1.32,2,50,4.5,6.8,40,5.16,4.92,38,3.61,4.7,46,5.9,6.1,32,2.83,3.77,20,2.06,2.23,29,2.4,3.5,49,3.94,6.8,30,3.4,3.7,3,0.46,0.7,35,2.83,4.0199999999999996,7,0.4,1.05,34,3.4,4,45,5.2,5.8,32,2.83,3.77,6,0.38,0.96,6,0.38,0.96,9,0.6,1.18,26,2.15,2.91,27,4.01,3,46,5.9,6.1,15,1.3,1.8,38,3.61,4.7,9,0.6,1.18,49,3.94,6.8,6,0.38,0.96,4,0.32,0.75,22,2.75,2.4,45,5.2,5.8,24,1.7,2.8,34,3.4,4,44,3.4,5.8,35,2.83,4.0199999999999996,1,0.22,0.51,38,3.61,4.7,14,1.1599999999999999,1.72,2,0.22,0.56000000000000005,11,0.91,1.3,15,1.3,1.8,37,3.7,4.2,24,1.7,2.8,36,2.2799999999999998,4.0999999999999996,48,7.1,6.2,5,0.32,0.91,8,1.68,1.1299999999999999,42,2.97,5.3,18,1.32,2,32,2.83,3.77,32,2.83,3.77,16,1.58,1.83,29,2.4,3.5,49,3.94,6.8,49,3.94,6.8,26,2.15,2.91,42,2.97,5.3,13,1.24,1.7,8,1.68,1.1299999999999999,28,2.8,3.4,27,4.01,3,29,2.4,3.5,31,1.56,3.71,48,7.1,6.2,24,1.7,2.8,33,4.28,3.99,7,0.4,1.05,21,1.83,2.3199999999999998,15,1.3,1.8,35,2.83,4.0199999999999996,1,0.22,0.51,40,5.16,4.92,14,1.1599999999999999,1.72,33,4.28,3.99,17,1.3,1.89,27,4.01,3,15,1.3,1.8,31,1.56,3.71,30,3.4,3.7,5,0.32,0.91,2,0.22,0.56000000000000005,22,2.75,2.4,32,2.83,3.77,41,5.95,5.0999999999999996,26,2.15,2.91,38,3.61,4.7,31,1.56,3.71,46,5.9,6.1,40,5.16,4.92,2,0.22,0.56000000000000005,28,2.8,3.4,41,5.95,5.0999999999999996,47,2.34,6.2,6,0.38,0.96,38,3.61,4.7,36,2.2799999999999998,4.0999999999999996,17,1.3,1.89,39,4.1900000000000004,4.8899999999999997,40,5.16,4.92,17,1.3,1.89,4,0.32,0.75,38,3.61,4.7,28,2.8,3.4,49,3.94,6.8,38,3.61,4.7,41,5.95,5.0999999999999996,32,2.83,3.77,42,2.97,5.3,22,2.75,2.4,15,1.3,1.8,48,7.1,6.2,28,2.8,3.4,45,5.2,5.8,33,4.28,3.99,28,2.8,3.4,50,4.5,6.8,4,0.32,0.75,25,3.68,2.88,40,5.16,4.92,17,1.3,1.89,42,2.97,5.3,31,1.56,3.71,32,2.83,3.77,12,2.16,1.6,1,0.22,0.51,31,1.56,3.71,16,1.58,1.83,29,2.4,3.5,24,1.7,2.8,18,1.32,2,6,0.38,0.96,6,0.38,0.96,42,2.97,5.3,3,0.46,0.7,30,3.4,3.7,29,2.4,3.5,48,7.1,6.2,17,1.3,1.89,44,3.4,5.8,48,7.1,6.2,6,0.38,0.96,38,3.61,4.7,10,1.1200000000000001,1.2,2,0.22,0.56000000000000005,7,0.4,1.05,19,1.33,2.06,45,5.2,5.8,12,2.16,1.6,47,2.34,6.2,38,3.61,4.7,24,1.7,2.8,30,3.4,3.7,11,0.91,1.3,5,0.32,0.91,44,3.4,5.8,8,1.68,1.1299999999999999,23,1.1499999999999999,2.5,34,3.4,4,12,2.16,1.6,20,2.06,2.23,7,0.4,1.05,24,1.7,2.8,30,3.4,3.7,6,0.38,0.96,13,1.24,1.7,9,0.6,1.18,7,0.4,1.05,24,1.7,2.8,4,0.32,0.75,15,1.3,1.8,24,1.7,2.8,13,1.24,1.7,1,0.22,0.51,28,2.8,3.4,14,1.1599999999999999,1.72,20,2.06,2.23,50,4.5,6.8,34,3.4,4,7,0.4,1.05,42,2.97,5.3,43,3.79,5.65,8,1.68,1.1299999999999999,31,1.56,3.71,29,2.4,3.5,7,0.4,1.05,28,2.8,3.4,37,3.7,4.2,46,5.9,6.1,50,4.5,6.8,44,3.4,5.8,25,3.68,2.88,50,4.5,6.8,25,3.68,2.88,11,0.91,1.3,34,3.4,4,34,3.4,4,5,0.32,0.91,37,3.7,4.2,7,0.4,1.05,26,2.15,2.91,17,1.3,1.89,39,4.1900000000000004,4.8899999999999997,48,7.1,6.2,3,0.46,0.7,44,3.4,5.8,16,1.58,1.83,10,1.1200000000000001,1.2,23,1.1499999999999999,2.5,34,3.4,4,33,4.28,3.99,35,2.83,4.0199999999999996,9,0.6,1.18,27,4.01,3,14,1.1599999999999999,1.72,10,1.1200000000000001,1.2,6,0.38,0.96,41,5.95,5.0999999999999996,5,0.32,0.91,35,2.83,4.0199999999999996,43,3.79,5.65,18,1.32,2,42,2.97,5.3,3,0.46,0.7,12,2.16,1.6,40,5.16,4.92,35,2.83,4.0199999999999996,43,3.79,5.65,7,0.4,1.05,3,0.46,0.7,16,1.58,1.83,28,2.8,3.4,26,2.15,2.91,49,3.94,6.8,45,5.2,5.8,38,3.61,4.7,37,3.7,4.2,21,1.83,2.3199999999999998,31,1.56,3.71,46,5.9,6.1,4,0.32,0.75,21,1.83,2.3199999999999998,20,2.06,2.23,5,0.32,0.91,29,2.4,3.5,36,2.2799999999999998,4.0999999999999996,36,2.2799999999999998,4.0999999999999996,10,1.1200000000000001,1.2,2,0.22,0.56000000000000005,23,1.1499999999999999,2.5,41,5.95,5.0999999999999996,11,0.91,1.3,17,1.3,1.89,13,1.24,1.7,7,0.4,1.05,45,5.2,5.8,48,7.1,6.2,13,1.24,1.7,50,4.5,6.8,30,3.4,3.7,41,5.95,5.0999999999999996,43,3.79,5.65,26,2.15,2.91,19,1.33,2.06,16,1.58,1.83,10,1.1200000000000001,1.2,37,3.7,4.2,18,1.32,2,30,3.4,3.7,17,1.3,1.89,4,0.32,0.75,19,1.33,2.06,5,0.32,0.91,20,2.06,2.23,1,0.22,0.51,39,4.1900000000000004,4.8899999999999997,20,2.06,2.23,4,0.32,0.75,3,0.46,0.7,29,2.4,3.5,11,0.91,1.3,16,1.58,1.83,40,5.16,4.92,38,3.61,4.7,34,3.4,4,20,2.06,2.23,19,1.33,2.06,49,3.94,6.8,50,4.5,6.8,5,0.32,0.91,11,0.91,1.3,17,1.3,1.89,5,0.32,0.91,10,1.1200000000000001,1.2,46,5.9,6.1,27,4.01,3,40,5.16,4.92,11,0.91,1.3,19,1.33,2.06,11,0.91,1.3,1,0.22,0.51,19,1.33,2.06,12,2.16,1.6,29,2.4,3.5,19,1.33,2.06,44,3.4,5.8,31,1.56,3.71,11,0.91,1.3,49,3.94,6.8,18,1.32,2,46,5.9,6.1,14,1.1599999999999999,1.72,23,1.1499999999999999,2.5,29,2.4,3.5,6,0.38,0.96,40,5.16,4.92,13,1.24,1.7,26,2.15,2.91,7,0.4,1.05,14,1.1599999999999999,1.72,11,0.91,1.3,27,4.01,3,23,1.1499999999999999,2.5,29,2.4,3.5,16,1.58,1.83,42,2.97,5.3,7,0.4,1.05,2,0.22,0.56000000000000005,39,4.1900000000000004,4.8899999999999997,14,1.1599999999999999,1.72,47,2.34,6.2,41,5.95,5.0999999999999996,16,1.58,1.83,13,1.24,1.7,37,3.7,4.2,23,1.1499999999999999,2.5,37,3.7,4.2,4,0.32,0.75,13,1.24,1.7,44,3.4,5.8,33,4.28,3.99,13,1.24,1.7,44,3.4,5.8,16,1.58,1.83,31,1.56,3.71,24,1.7,2.8,46,5.9,6.1,41,5.95,5.0999999999999996,19,1.33,2.06,17,1.3,1.89,1,0.22,0.51,38,3.61,4.7,22,2.75,2.4,39,4.1900000000000004,4.8899999999999997,39,4.1900000000000004,4.8899999999999997,39,4.1900000000000004,4.8899999999999997,40,5.16,4.92,24,1.7,2.8,37,3.7,4.2,42,2.97,5.3,5,0.32,0.91,28,2.8,3.4,24,1.7,2.8,30,3.4,3.7,43,3.79,5.65,35,2.83,4.0199999999999996,8,1.68,1.1299999999999999,1,0.22,0.51,1,0.22,0.51,9,0.6,1.18,2,0.22,0.56000000000000005,12,2.16,1.6,39,4.1900000000000004,4.8899999999999997,27,4.01,3,26,2.15,2.91,32,2.83,3.77,28,2.8,3.4,11,0.91,1.3,13,1.24,1.7,13,1.24,1.7,21,1.83,2.3199999999999998,28,2.8,3.4,31,1.56,3.71,20,2.06,2.23,25,3.68,2.88,3,0.46,0.7,15,1.3,1.8,21,1.83,2.3199999999999998,45,5.2,5.8,41,5.95,5.0999999999999996,16,1.58,1.83,46,5.9,6.1,31,1.56,3.71,16,1.58,1.83,7,0.4,1.05,4,0.32,0.75,49,3.94,6.8,20,2.06,2.23,5,0.32,0.91,11,0.91,1.3,5,0.32,0.91,21,1.83,2.3199999999999998,4,0.32,0.75,38,3.61,4.7,34,3.4,4,44,3.4,5.8,23,1.1499999999999999,2.5,10,1.1200000000000001,1.2,6,0.38,0.96,2,0.22,0.56000000000000005,12,2.16,1.6,30,3.4,3.7,35,2.83,4.0199999999999996,46,5.9,6.1,26,2.15,2.91,7,0.4,1.05,14,1.1599999999999999,1.72,29,2.4,3.5,6,0.38,0.96,47,2.34,6.2,48,7.1,6.2,30,3.4,3.7,25,3.68,2.88,11,0.91,1.3,8,1.68,1.1299999999999999,38,3.61,4.7,49,3.94,6.8,34,3.4,4,1,0.22,0.51,4,0.32,0.75,6,0.38,0.96,1,0.22,0.51,39,4.1900000000000004,4.8899999999999997,2,0.22,0.56000000000000005,22,2.75,2.4,45,5.2,5.8,36,2.2799999999999998,4.0999999999999996,1,0.22,0.51,13,1.24,1.7,49,3.94,6.8,6,0.38,0.96,7,0.4,1.05,48,7.1,6.2,17,1.3,1.89,29,2.4,3.5,6,0.38,0.96,17,1.3,1.89,49,3.94,6.8,null,null,null,null,null,null,null,null,null,null,null,null,null,null,null,null,null,null,null,null,null,null,null,null,null,null,null,null,null,null,null,null,{"$error":"#N/A"}]
[null,null,10,1.1200000000000001,1.2,null,null,0,0,null,null,null,null,null,null,null,null,null,null,null,5.89,47,0,5.74,43,2,null,null,null,-1.0625918242414363,1.0165920141248408,-1.3657880596941916,1.0780913965976118,null,{"$error":"#DIV/0!"},{"$error":"#DIV/0!"},{"$error":"#DIV/0!"},{"$error":"#DIV/0!"},null,41,41,"","",null,1.1600000000000001,7.9999999999999849E-2,null,1.1600000000000001,7.9999999999999849E-2,null,0.32,0.75,17,1.3,1.89,36,2.2799999999999998,4.0999999999999996,23,1.1499999999999999,2.5,5,0.32,0.91,39,4.1900000000000004,4.8899999999999997,1,0.22,0.51,6,0.38,0.96,24,1.7,2.8,33,4.28,3.99,6,0.38,0.96,18,1.32,2,29,2.4,3.5,19,1.33,2.06,26,2.15,2.91,40,5.16,4.92,42,2.97,5.3,28,2.8,3.4,27,4.01,3,22,2.75,2.4,10,1.1200000000000001,1.2,13,1.24,1.7,43,3.79,5.65,50,4.5,6.8,8,1.68,1.1299999999999999,15,1.3,1.8,46,5.9,6.1,22,2.75,2.4,1,0.22,0.51,1,0.22,0.51,48,7.1,6.2,38,3.61,4.7,12,2.16,1.6,9,0.6,1.18,2,0.22,0.56000000000000005,3,0.46,0.7,17,1.3,1.89,4,0.32,0.75,20,2.06,2.23,41,5.95,5.0999999999999996,41,5.95,5.0999999999999996,4,0.32,0.75,5,0.32,0.91,23,1.1499999999999999,2.5,15,1.3,1.8,10,1.1200000000000001,1.2,43,3.79,5.65,5,0.32,0.91,8,1.68,1.1299999999999999,50,4.5,6.8,9,0.6,1.18,35,2.83,4.0199999999999996,11,0.91,1.3,45,5.2,5.8,35,2.83,4.0199999999999996,13,1.24,1.7,31,1.56,3.71,24,1.7,2.8,39,4.1900000000000004,4.8899999999999997,19,1.33,2.06,11,0.91,1.3,7,0.4,1.05,20,2.06,2.23,6,0.38,0.96,48,7.1,6.2,6,0.38,0.96,12,2.16,1.6,49,3.94,6.8,34,3.4,4,31,1.56,3.71,4,0.32,0.75,11,0.91,1.3,2,0.22,0.56000000000000005,8,1.68,1.1299999999999999,17,1.3,1.89,23,1.1499999999999999,2.5,39,4.1900000000000004,4.8899999999999997,19,1.33,2.06,50,4.5,6.8,17,1.3,1.89,10,1.1200000000000001,1.2,43,3.79,5.65,35,2.83,4.0199999999999996,36,2.2799999999999998,4.0999999999999996,46,5.9,6.1,16,1.58,1.83,4,0.32,0.75,45,5.2,5.8,41,5.95,5.0999999999999996,4,0.32,0.75,19,1.33,2.06,7,0.4,1.05,14,1.1599999999999999,1.72,34,3.4,4,18,1.32,2,28,2.8,3.4,37,3.7,4.2,39,4.1900000000000004,4.8899999999999997,16,1.58,1.83,2,0.22,0.56000000000000005,16,1.58,1.83,22,2.75,2.4,26,2.15,2.91,34,3.4,4,44,3.4,5.8,23,1.1499999999999999,2.5,40,5.16,4.92,10,1.1200000000000001,1.2,13,1.24,1.7,1,0.22,0.51,20,2.06,2.23,41,5.95,5.0999999999999996,33,4.28,3.99,36,2.2799999999999998,4.0999999999999996,3,0.46,0.7,16,1.58,1.83,27,4.01,3,30,3.4,3.7,23,1.1499999999999999,2.5,12,2.16,1.6,24,1.7,2.8,36,2.2799999999999998,4.0999999999999996,35,2.83,4.0199999999999996,29,2.4,3.5,23,1.1499999999999999,2.5,36,2.2799999999999998,4.0999999999999996,15,1.3,1.8,21,1.83,2.3199999999999998,15,1.3,1.8,37,3.7,4.2,10,1.1200000000000001,1.2,6,0.38,0.96,24,1.7,2.8,35,2.83,4.0199999999999996,10,1.1200000000000001,1.2,26,2.15,2.91,3,0.46,0.7,29,2.4,3.5,23,1.1499999999999999,2.5,26,2.15,2.91,46,5.9,6.1,12,2.16,1.6,26,2.15,2.91,45,5.2,5.8,13,1.24,1.7,9,0.6,1.18,12,2.16,1.6,17,1.3,1.89,15,1.3,1.8,42,2.97,5.3,15,1.3,1.8,33,4.28,3.99,18,1.32,2,50,4.5,6.8,35,2.83,4.0199999999999996,26,2.15,2.91,47,2.34,6.2,18,1.32,2,36,2.2799999999999998,4.0999999999999996,3,0.46,0.7,18,1.32,2,30,3.4,3.7,45,5.2,5.8,2,0.22,0.56000000000000005,20,2.06,2.23,22,2.75,2.4,29,2.4,3.5,5,0.32,0.91,15,1.3,1.8,7,0.4,1.05,15,1.3,1.8,15,1.3,1.8,1,0.22,0.51,5,0.32,0.91,41,5.95,5.0999999999999996,47,2.34,6.2,35,2.83,4.0199999999999996,41,5.95,5.0999999999999996,10,1.1200000000000001,1.2,31,1.56,3.71,21,1.83,2.3199999999999998,6,0.38,0.96,4,0.32,0.75,24,1.7,2.8,6,0.38,0.96,23,1.1499999999999999,2.5,18,1.32,2,41,5.95,5.0999999999999996,47,2.34,6.2,35,2.83,4.0199999999999996,2,0.22,0.56000000000000005,41,5.95,5.0999999999999996,31,1.56,3.71,47,2.34,6.2,19,1.33,2.06,33,4.28,3.99,13,1.24,1.7,39,4.1900000000000004,4.8899999999999997,6,0.38,0.96,37,3.7,4.2,15,1.3,1.8,35,2.83,4.0199999999999996,13,1.24,1.7,17,1.3,1.89,38,3.61,4.7,35,2.83,4.0199999999999996,40,5.16,4.92,13,1.24,1.7,36,2.2799999999999998,4.0999999999999996,13,1.24,1.7,46,5.9,6.1,1,0.22,0.51,5,0.32,0.91,28,2.8,3.4,13,1.24,1.7,3,0.46,0.7,26,2.15,2.91,38,3.61,4.7,31,1.56,3.71,16,1.58,1.83,36,2.2799999999999998,4.0999999999999996,41,5.95,5.0999999999999996,39,4.1900000000000004,4.8899999999999997,2,0.22,0.56000000000000005,42,2.97,5.3,18,1.32,2,29,2.4,3.5,40,5.16,4.92,15,1.3,1.8,41,5.95,5.0999999999999996,15,1.3,1.8,41,5.95,5.0999999999999996,39,4.1900000000000004,4.8899999999999997,43,3.79,5.65,16,1.58,1.83,25,3.68,2.88,18,1.32,2,6,0.38,0.96,45,5.2,5.8,10,1.1200000000000001,1.2,2,0.22,0.56000000000000005,4,0.32,0.75,17,1.3,1.89,19,1.33,2.06,28,2.8,3.4,11,0.91,1.3,16,1.58,1.83,36,2.2799999999999998,4.0999999999999996,14,1.1599999999999999,1.72,23,1.1499999999999999,2.5,24,1.7,2.8,43,3.79,5.65,22,2.75,2.4,42,2.97,5.3,19,1.33,2.06,3,0.46,0.7,34,3.4,4,24,1.7,2.8,24,1.7,2.8,16,1.58,1.83,38,3.61,4.7,31,1.56,3.71,30,3.4,3.7,33,4.28,3.99,24,1.7,2.8,11,0.91,1.3,23,1.1499999999999999,2.5,31,1.56,3.71,1,0.22,0.51,25,3.68,2.88,31,1.56,3.71,7,0.4,1.05,18,1.32,2,44,3.4,5.8,23,1.1499999999999999,2.5,26,2.15,2.91,2,0.22,0.56000000000000005,10,1.1200000000000001,1.2,36,2.2799999999999998,4.0999999999999996,41,5.95,5.0999999999999996,5,0.32,0.91,7,0.4,1.05,45,5.2,5.8,14,1.1599999999999999,1.72,18,1.32,2,42,2.97,5.3,15,1.3,1.8,11,0.91,1.3,46,5.9,6.1,42,2.97,5.3,3,0.46,0.7,4,0.32,0.75,41,5.95,5.0999999999999996,16,1.58,1.83,23,1.1499999999999999,2.5,30,3.4,3.7,5,0.32,0.91,19,1.33,2.06,32,2.83,3.77,28,2.8,3.4,50,4.5,6.8,44,3.4,5.8,19,1.33,2.06,19,1.33,2.06,21,1.83,2.3199999999999998,12,2.16,1.6,12,2.16,1.6,16,1.58,1.83,37,3.7,4.2,31,1.56,3.71,46,5.9,6.1,35,2.83,4.0199999999999996,35,2.83,4.0199999999999996,21,1.83,2.3199999999999998,42,2.97,5.3,22,2.75,2.4,35,2.83,4.0199999999999996,45,5.2,5.8,2,0.22,0.56000000000000005,45,5.2,5.8,12,2.16,1.6,4,0.32,0.75,14,1.1599999999999999,1.72,44,3.4,5.8,36,2.2799999999999998,4.0999999999999996,49,3.94,6.8,19,1.33,2.06,50,4.5,6.8,18,1.32,2,47,2.34,6.2,42,2.97,5.3,7,0.4,1.05,24,1.7,2.8,20,2.06,2.23,35,2.83,4.0199999999999996,15,1.3,1.8,47,2.34,6.2,38,3.61,4.7,33,4.28,3.99,31,1.56,3.71,45,5.2,5.8,27,4.01,3,20,2.06,2.23,35,2.83,4.0199999999999996,40,5.16,4.92,44,3.4,5.8,14,1.1599999999999999,1.72,8,1.68,1.1299999999999999,32,2.83,3.77,7,0.4,1.05,2,0.22,0.56000000000000005,19,1.33,2.06,18,1.32,2,39,4.1900000000000004,4.8899999999999997,6,0.38,0.96,30,3.4,3.7,34,3.4,4,35,2.83,4.0199999999999996,40,5.16,4.92,10,1.1200000000000001,1.2,50,4.5,6.8,23,1.1499999999999999,2.5,50,4.5,6.8,11,0.91,1.3,35,2.83,4.0199999999999996,6,0.38,0.96,1,0.22,0.51,11,0.91,1.3,31,1.56,3.71,1,0.22,0.51,33,4.28,3.99,12,2.16,1.6,35,2.83,4.0199999999999996,4,0.32,0.75,32,2.83,3.77,9,0.6,1.18,7,0.4,1.05,7,0.4,1.05,9,0.6,1.18,15,1.3,1.8,22,2.75,2.4,31,1.56,3.71,40,5.16,4.92,3,0.46,0.7,1,0.22,0.51,27,4.01,3,27,4.01,3,4,0.32,0.75,45,5.2,5.8,29,2.4,3.5,11,0.91,1.3,27,4.01,3,35,2.83,4.0199999999999996,29,2.4,3.5,6,0.38,0.96,32,2.83,3.77,44,3.4,5.8,7,0.4,1.05,41,5.95,5.0999999999999996,24,1.7,2.8,9,0.6,1.18,33,4.28,3.99,11,0.91,1.3,1,0.22,0.51,20,2.06,2.23,16,1.58,1.83,5,0.32,0.91,23,1.1499999999999999,2.5,21,1.83,2.3199999999999998,37,3.7,4.2,25,3.68,2.88,36,2.2799999999999998,4.0999999999999996,15,1.3,1.8,23,1.1499999999999999,2.5,38,3.61,4.7,13,1.24,1.7,46,5.9,6.1,47,2.34,6.2,25,3.68,2.88,8,1.68,1.1299999999999999,31,1.56,3.71,36,2.2799999999999998,4.0999999999999996,4,0.32,0.75,18,1.32,2,11,0.91,1.3,43,3.79,5.65,8,1.68,1.1299999999999999,12,2.16,1.6,11,0.91,1.3,29,2.4,3.5,27,4.01,3,22,2.75,2.4,17,1.3,1.89,11,0.91,1.3,17,1.3,1.89,42,2.97,5.3,10,1.1200000000000001,1.2,19,1.33,2.06,12,2.16,1.6,45,5.2,5.8,17,1.3,1.89,17,1.3,1.89,12,2.16,1.6,11,0.91,1.3,22,2.75,2.4,38,3.61,4.7,19,1.33,2.06,16,1.58,1.83,39,4.1900000000000004,4.8899999999999997,29,2.4,3.5,49,3.94,6.8,33,4.28,3.99,3,0.46,0.7,10,1.1200000000000001,1.2,43,3.79,5.65,50,4.5,6.8,13,1.24,1.7,44,3.4,5.8,4,0.32,0.75,44,3.4,5.8,48,7.1,6.2,25,3.68,2.88,35,2.83,4.0199999999999996,22,2.75,2.4,42,2.97,5.3,16,1.58,1.83,47,2.34,6.2,25,3.68,2.88,16,1.58,1.83,15,1.3,1.8,26,2.15,2.91,42,2.97,5.3,33,4.28,3.99,24,1.7,2.8,17,1.3,1.89,34,3.4,4,4,0.32,0.75,29,2.4,3.5,8,1.68,1.1299999999999999,30,3.4,3.7,17,1.3,1.89,2,0.22,0.56000000000000005,47,2.34,6.2,23,1.1499999999999999,2.5,21,1.83,2.3199999999999998,5,0.32,0.91,2,0.22,0.56000000000000005,41,5.95,5.0999999999999996,26,2.15,2.91,14,1.1599999999999999,1.72,43,3.79,5.65,19,1.33,2.06,15,1.3,1.8,50,4.5,6.8,36,2.2799999999999998,4.0999999999999996,41,5.95,5.0999999999999996,19,1.33,2.06,28,2.8,3.4,1,0.22,0.51,45,5.2,5.8,49,3.94,6.8,11,0.91,1.3,null,null,null,null,null,null,null,null,null,null,null,null,null,null,null,null,null,null,null,null,null,null,null,null,null,null,null,null,null,null,null,null,{"$error":"#N/A"}]
[null,null,11,0.91,1.3,null,null,0,0,null,"統計項目",null,"結  果",null,null,null,null,null,null,null,6.52,49,2,6.32,48,5,null,null,null,-1.0078196423300296,1.1217303982329643,-1.3679911200243251,1.1266663024319006,null,{"$error":"#DIV/0!"},{"$error":"#DIV/0!"},{"$error":"#DIV/0!"},{"$error":"#DIV/0!"},null,42,40,"","",null,1.105,0.39,null,1.105,0.39,null,0.32,0.91,44,3.4,5.8,9,0.6,1.18,49,3.94,6.8,6,0.38,0.96,21,1.83,2.3199999999999998,46,5.9,6.1,14,1.1599999999999999,1.72,19,1.33,2.06,49,3.94,6.8,48,7.1,6.2,18,1.32,2,15,1.3,1.8,2,0.22,0.56000000000000005,20,2.06,2.23,30,3.4,3.7,31,1.56,3.71,20,2.06,2.23,28,2.8,3.4,7,0.4,1.05,17,1.3,1.89,31,1.56,3.71,50,4.5,6.8,2,0.22,0.56000000000000005,47,2.34,6.2,44,3.4,5.8,35,2.83,4.0199999999999996,29,2.4,3.5,27,4.01,3,44,3.4,5.8,22,2.75,2.4,49,3.94,6.8,29,2.4,3.5,2,0.22,0.56000000000000005,25,3.68,2.88,6,0.38,0.96,23,1.1499999999999999,2.5,4,0.32,0.75,27,4.01,3,38,3.61,4.7,36,2.2799999999999998,4.0999999999999996,33,4.28,3.99,43,3.79,5.65,41,5.95,5.0999999999999996,15,1.3,1.8,23,1.1499999999999999,2.5,35,2.83,4.0199999999999996,3,0.46,0.7,1,0.22,0.51,17,1.3,1.89,1,0.22,0.51,44,3.4,5.8,25,3.68,2.88,43,3.79,5.65,18,1.32,2,23,1.1499999999999999,2.5,4,0.32,0.75,48,7.1,6.2,3,0.46,0.7,6,0.38,0.96,11,0.91,1.3,2,0.22,0.56000000000000005,30,3.4,3.7,47,2.34,6.2,47,2.34,6.2,5,0.32,0.91,19,1.33,2.06,28,2.8,3.4,39,4.1900000000000004,4.8899999999999997,16,1.58,1.83,27,4.01,3,19,1.33,2.06,31,1.56,3.71,34,3.4,4,10,1.1200000000000001,1.2,41,5.95,5.0999999999999996,11,0.91,1.3,2,0.22,0.56000000000000005,43,3.79,5.65,1,0.22,0.51,29,2.4,3.5,16,1.58,1.83,5,0.32,0.91,32,2.83,3.77,41,5.95,5.0999999999999996,2,0.22,0.56000000000000005,19,1.33,2.06,50,4.5,6.8,11,0.91,1.3,48,7.1,6.2,21,1.83,2.3199999999999998,22,2.75,2.4,25,3.68,2.88,10,1.1200000000000001,1.2,22,2.75,2.4,45,5.2,5.8,20,2.06,2.23,15,1.3,1.8,46,5.9,6.1,39,4.1900000000000004,4.8899999999999997,21,1.83,2.3199999999999998,43,3.79,5.65,24,1.7,2.8,5,0.32,0.91,47,2.34,6.2,12,2.16,1.6,6,0.38,0.96,41,5.95,5.0999999999999996,23,1.1499999999999999,2.5,23,1.1499999999999999,2.5,26,2.15,2.91,23,1.1499999999999999,2.5,7,0.4,1.05,27,4.01,3,44,3.4,5.8,46,5.9,6.1,32,2.83,3.77,45,5.2,5.8,33,4.28,3.99,33,4.28,3.99,9,0.6,1.18,7,0.4,1.05,45,5.2,5.8,1,0.22,0.51,38,3.61,4.7,4,0.32,0.75,28,2.8,3.4,41,5.95,5.0999999999999996,38,3.61,4.7,41,5.95,5.0999999999999996,11,0.91,1.3,12,2.16,1.6,38,3.61,4.7,22,2.75,2.4,50,4.5,6.8,46,5.9,6.1,26,2.15,2.91,29,2.4,3.5,34,3.4,4,16,1.58,1.83,16,1.58,1.83,24,1.7,2.8,13,1.24,1.7,17,1.3,1.89,26,2.15,2.91,10,1.1200000000000001,1.2,24,1.7,2.8,8,1.68,1.1299999999999999,16,1.58,1.83,6,0.38,0.96,40,5.16,4.92,18,1.32,2,41,5.95,5.0999999999999996,35,2.83,4.0199999999999996,30,3.4,3.7,15,1.3,1.8,16,1.58,1.83,20,2.06,2.23,28,2.8,3.4,33,4.28,3.99,45,5.2,5.8,46,5.9,6.1,19,1.33,2.06,20,2.06,2.23,6,0.38,0.96,39,4.1900000000000004,4.8899999999999997,32,2.83,3.77,39,4.1900000000000004,4.8899999999999997,10,1.1200000000000001,1.2,46,5.9,6.1,1,0.22,0.51,38,3.61,4.7,9,0.6,1.18,40,5.16,4.92,33,4.28,3.99,32,2.83,3.77,30,3.4,3.7,27,4.01,3,48,7.1,6.2,43,3.79,5.65,10,1.1200000000000001,1.2,24,1.7,2.8,18,1.32,2,6,0.38,0.96,49,3.94,6.8,43,3.79,5.65,29,2.4,3.5,39,4.1900000000000004,4.8899999999999997,28,2.8,3.4,44,3.4,5.8,1,0.22,0.51,21,1.83,2.3199999999999998,31,1.56,3.71,40,5.16,4.92,24,1.7,2.8,37,3.7,4.2,42,2.97,5.3,28,2.8,3.4,2,0.22,0.56000000000000005,32,2.83,3.77,40,5.16,4.92,23,1.1499999999999999,2.5,9,0.6,1.18,31,1.56,3.71,18,1.32,2,6,0.38,0.96,17,1.3,1.89,17,1.3,1.89,10,1.1200000000000001,1.2,38,3.61,4.7,23,1.1499999999999999,2.5,23,1.1499999999999999,2.5,30,3.4,3.7,32,2.83,3.77,49,3.94,6.8,43,3.79,5.65,25,3.68,2.88,43,3.79,5.65,48,7.1,6.2,45,5.2,5.8,39,4.1900000000000004,4.8899999999999997,12,2.16,1.6,27,4.01,3,2,0.22,0.56000000000000005,41,5.95,5.0999999999999996,34,3.4,4,32,2.83,3.77,36,2.2799999999999998,4.0999999999999996,14,1.1599999999999999,1.72,27,4.01,3,38,3.61,4.7,26,2.15,2.91,10,1.1200000000000001,1.2,22,2.75,2.4,14,1.1599999999999999,1.72,19,1.33,2.06,11,0.91,1.3,10,1.1200000000000001,1.2,43,3.79,5.65,19,1.33,2.06,9,0.6,1.18,5,0.32,0.91,2,0.22,0.56000000000000005,23,1.1499999999999999,2.5,45,5.2,5.8,18,1.32,2,10,1.1200000000000001,1.2,29,2.4,3.5,12,2.16,1.6,44,3.4,5.8,41,5.95,5.0999999999999996,7,0.4,1.05,17,1.3,1.89,10,1.1200000000000001,1.2,36,2.2799999999999998,4.0999999999999996,24,1.7,2.8,14,1.1599999999999999,1.72,39,4.1900000000000004,4.8899999999999997,46,5.9,6.1,41,5.95,5.0999999999999996,38,3.61,4.7,21,1.83,2.3199999999999998,20,2.06,2.23,17,1.3,1.89,11,0.91,1.3,3,0.46,0.7,21,1.83,2.3199999999999998,25,3.68,2.88,4,0.32,0.75,36,2.2799999999999998,4.0999999999999996,42,2.97,5.3,37,3.7,4.2,18,1.32,2,38,3.61,4.7,39,4.1900000000000004,4.8899999999999997,14,1.1599999999999999,1.72,21,1.83,2.3199999999999998,16,1.58,1.83,33,4.28,3.99,12,2.16,1.6,1,0.22,0.51,8,1.68,1.1299999999999999,13,1.24,1.7,49,3.94,6.8,30,3.4,3.7,24,1.7,2.8,7,0.4,1.05,38,3.61,4.7,45,5.2,5.8,16,1.58,1.83,21,1.83,2.3199999999999998,26,2.15,2.91,33,4.28,3.99,46,5.9,6.1,29,2.4,3.5,4,0.32,0.75,36,2.2799999999999998,4.0999999999999996,28,2.8,3.4,35,2.83,4.0199999999999996,22,2.75,2.4,16,1.58,1.83,21,1.83,2.3199999999999998,43,3.79,5.65,20,2.06,2.23,30,3.4,3.7,48,7.1,6.2,41,5.95,5.0999999999999996,22,2.75,2.4,25,3.68,2.88,14,1.1599999999999999,1.72,47,2.34,6.2,41,5.95,5.0999999999999996,34,3.4,4,46,5.9,6.1,19,1.33,2.06,44,3.4,5.8,44,3.4,5.8,40,5.16,4.92,20,2.06,2.23,40,5.16,4.92,24,1.7,2.8,25,3.68,2.88,12,2.16,1.6,13,1.24,1.7,14,1.1599999999999999,1.72,38,3.61,4.7,43,3.79,5.65,35,2.83,4.0199999999999996,26,2.15,2.91,7,0.4,1.05,9,0.6,1.18,33,4.28,3.99,12,2.16,1.6,1,0.22,0.51,25,3.68,2.88,16,1.58,1.83,38,3.61,4.7,47,2.34,6.2,11,0.91,1.3,19,1.33,2.06,26,2.15,2.91,47,2.34,6.2,32,2.83,3.77,13,1.24,1.7,5,0.32,0.91,18,1.32,2,13,1.24,1.7,16,1.58,1.83,27,4.01,3,43,3.79,5.65,5,0.32,0.91,29,2.4,3.5,45,5.2,5.8,29,2.4,3.5,25,3.68,2.88,26,2.15,2.91,50,4.5,6.8,33,4.28,3.99,43,3.79,5.65,10,1.1200000000000001,1.2,25,3.68,2.88,1,0.22,0.51,49,3.94,6.8,33,4.28,3.99,11,0.91,1.3,12,2.16,1.6,20,2.06,2.23,23,1.1499999999999999,2.5,32,2.83,3.77,45,5.2,5.8,4,0.32,0.75,29,2.4,3.5,38,3.61,4.7,1,0.22,0.51,17,1.3,1.89,27,4.01,3,4,0.32,0.75,37,3.7,4.2,50,4.5,6.8,37,3.7,4.2,46,5.9,6.1,20,2.06,2.23,42,2.97,5.3,4,0.32,0.75,49,3.94,6.8,37,3.7,4.2,12,2.16,1.6,38,3.61,4.7,7,0.4,1.05,17,1.3,1.89,7,0.4,1.05,27,4.01,3,23,1.1499999999999999,2.5,21,1.83,2.3199999999999998,9,0.6,1.18,45,5.2,5.8,29,2.4,3.5,39,4.1900000000000004,4.8899999999999997,6,0.38,0.96,40,5.16,4.92,6,0.38,0.96,4,0.32,0.75,25,3.68,2.88,25,3.68,2.88,31,1.56,3.71,11,0.91,1.3,31,1.56,3.71,33,4.28,3.99,25,3.68,2.88,12,2.16,1.6,34,3.4,4,32,2.83,3.77,18,1.32,2,6,0.38,0.96,9,0.6,1.18,13,1.24,1.7,29,2.4,3.5,10,1.1200000000000001,1.2,30,3.4,3.7,24,1.7,2.8,2,0.22,0.56000000000000005,25,3.68,2.88,17,1.3,1.89,33,4.28,3.99,14,1.1599999999999999,1.72,28,2.8,3.4,45,5.2,5.8,41,5.95,5.0999999999999996,34,3.4,4,19,1.33,2.06,12,2.16,1.6,15,1.3,1.8,2,0.22,0.56000000000000005,33,4.28,3.99,28,2.8,3.4,31,1.56,3.71,22,2.75,2.4,14,1.1599999999999999,1.72,6,0.38,0.96,27,4.01,3,9,0.6,1.18,4,0.32,0.75,22,2.75,2.4,24,1.7,2.8,10,1.1200000000000001,1.2,38,3.61,4.7,37,3.7,4.2,4,0.32,0.75,26,2.15,2.91,10,1.1200000000000001,1.2,33,4.28,3.99,6,0.38,0.96,4,0.32,0.75,45,5.2,5.8,1,0.22,0.51,28,2.8,3.4,40,5.16,4.92,34,3.4,4,10,1.1200000000000001,1.2,46,5.9,6.1,43,3.79,5.65,37,3.7,4.2,19,1.33,2.06,48,7.1,6.2,12,2.16,1.6,44,3.4,5.8,19,1.33,2.06,20,2.06,2.23,26,2.15,2.91,46,5.9,6.1,19,1.33,2.06,9,0.6,1.18,49,3.94,6.8,25,3.68,2.88,16,1.58,1.83,36,2.2799999999999998,4.0999999999999996,40,5.16,4.92,2,0.22,0.56000000000000005,6,0.38,0.96,27,4.01,3,33,4.28,3.99,48,7.1,6.2,25,3.68,2.88,8,1.68,1.1299999999999999,28,2.8,3.4,11,0.91,1.3,39,4.1900000000000004,4.8899999999999997,9,0.6,1.18,42,2.97,5.3,48,7.1,6.2,9,0.6,1.18,33,4.28,3.99,23,1.1499999999999999,2.5,30,3.4,3.7,7,0.4,1.05,35,2.83,4.0199999999999996,27,4.01,3,49,3.94,6.8,1,0.22,0.51,16,1.58,1.83,13,1.24,1.7,43,3.79,5.65,null,null,null,null,null,null,null,null,null,null,null,null,null,null,null,null,null,null,null,null,null,null,null,null,null,null,null,null,null,null,null,null,{"$error":"#N/A"}]
[null,null,12,2.16,1.6,null,null,0,0,null,"相関係数(ﾋﾟｱｿﾝ)：=CORREL(セル範囲) ",null,null,{"$f":"CORREL($D5:$D1304,E5:E1304)","v":0.85045027384753547},null,{"$f":"CORREL($F5:$F1304,G5:G1304)","v":{"$error":"#DIV/0!"}},null,null,null,null,7.1499999999999995,50,1,6.9,50,2,null,null,null,-0.95304746041862287,1.2238664851707992,-1.3671918831841703,1.1725239669788838,null,{"$error":"#DIV/0!"},{"$error":"#DIV/0!"},{"$error":"#DIV/0!"},{"$error":"#DIV/0!"},null,26,39,"","",null,1.8800000000000001,-0.56000000000000005,null,1.8800000000000001,-0.56000000000000005,null,0.38,0.96,19,1.33,2.06,45,5.2,5.8,24,1.7,2.8,14,1.1599999999999999,1.72,47,2.34,6.2,34,3.4,4,30,3.4,3.7,8,1.68,1.1299999999999999,21,1.83,2.3199999999999998,6,0.38,0.96,34,3.4,4,18,1.32,2,18,1.32,2,38,3.61,4.7,6,0.38,0.96,49,3.94,6.8,16,1.58,1.83,13,1.24,1.7,43,3.79,5.65,5,0.32,0.91,23,1.1499999999999999,2.5,30,3.4,3.7,10,1.1200000000000001,1.2,27,4.01,3,11,0.91,1.3,28,2.8,3.4,32,2.83,3.77,1,0.22,0.51,26,2.15,2.91,24,1.7,2.8,5,0.32,0.91,29,2.4,3.5,46,5.9,6.1,11,0.91,1.3,14,1.1599999999999999,1.72,3,0.46,0.7,14,1.1599999999999999,1.72,23,1.1499999999999999,2.5,21,1.83,2.3199999999999998,2,0.22,0.56000000000000005,23,1.1499999999999999,2.5,2,0.22,0.56000000000000005,6,0.38,0.96,49,3.94,6.8,23,1.1499999999999999,2.5,43,3.79,5.65,28,2.8,3.4,25,3.68,2.88,29,2.4,3.5,38,3.61,4.7,50,4.5,6.8,1,0.22,0.51,8,1.68,1.1299999999999999,40,5.16,4.92,14,1.1599999999999999,1.72,32,2.83,3.77,11,0.91,1.3,34,3.4,4,46,5.9,6.1,12,2.16,1.6,27,4.01,3,30,3.4,3.7,8,1.68,1.1299999999999999,41,5.95,5.0999999999999996,50,4.5,6.8,5,0.32,0.91,22,2.75,2.4,6,0.38,0.96,5,0.32,0.91,19,1.33,2.06,3,0.46,0.7,25,3.68,2.88,38,3.61,4.7,40,5.16,4.92,8,1.68,1.1299999999999999,1,0.22,0.51,18,1.32,2,28,2.8,3.4,37,3.7,4.2,41,5.95,5.0999999999999996,3,0.46,0.7,33,4.28,3.99,14,1.1599999999999999,1.72,35,2.83,4.0199999999999996,14,1.1599999999999999,1.72,13,1.24,1.7,13,1.24,1.7,2,0.22,0.56000000000000005,31,1.56,3.71,1,0.22,0.51,6,0.38,0.96,41,5.95,5.0999999999999996,39,4.1900000000000004,4.8899999999999997,45,5.2,5.8,24,1.7,2.8,4,0.32,0.75,47,2.34,6.2,10,1.1200000000000001,1.2,25,3.68,2.88,21,1.83,2.3199999999999998,12,2.16,1.6,34,3.4,4,31,1.56,3.71,48,7.1,6.2,31,1.56,3.71,7,0.4,1.05,20,2.06,2.23,21,1.83,2.3199999999999998,46,5.9,6.1,3,0.46,0.7,37,3.7,4.2,20,2.06,2.23,3,0.46,0.7,34,3.4,4,15,1.3,1.8,6,0.38,0.96,33,4.28,3.99,10,1.1200000000000001,1.2,9,0.6,1.18,10,1.1200000000000001,1.2,40,5.16,4.92,13,1.24,1.7,41,5.95,5.0999999999999996,38,3.61,4.7,6,0.38,0.96,32,2.83,3.77,8,1.68,1.1299999999999999,42,2.97,5.3,5,0.32,0.91,15,1.3,1.8,6,0.38,0.96,47,2.34,6.2,27,4.01,3,29,2.4,3.5,10,1.1200000000000001,1.2,46,5.9,6.1,21,1.83,2.3199999999999998,37,3.7,4.2,22,2.75,2.4,7,0.4,1.05,50,4.5,6.8,29,2.4,3.5,32,2.83,3.77,35,2.83,4.0199999999999996,48,7.1,6.2,26,2.15,2.91,32,2.83,3.77,12,2.16,1.6,5,0.32,0.91,43,3.79,5.65,8,1.68,1.1299999999999999,29,2.4,3.5,3,0.46,0.7,7,0.4,1.05,31,1.56,3.71,1,0.22,0.51,20,2.06,2.23,50,4.5,6.8,15,1.3,1.8,28,2.8,3.4,41,5.95,5.0999999999999996,4,0.32,0.75,42,2.97,5.3,32,2.83,3.77,42,2.97,5.3,15,1.3,1.8,43,3.79,5.65,42,2.97,5.3,25,3.68,2.88,17,1.3,1.89,45,5.2,5.8,8,1.68,1.1299999999999999,21,1.83,2.3199999999999998,17,1.3,1.89,27,4.01,3,11,0.91,1.3,5,0.32,0.91,46,5.9,6.1,45,5.2,5.8,1,0.22,0.51,25,3.68,2.88,22,2.75,2.4,15,1.3,1.8,33,4.28,3.99,39,4.1900000000000004,4.8899999999999997,19,1.33,2.06,5,0.32,0.91,27,4.01,3,21,1.83,2.3199999999999998,11,0.91,1.3,49,3.94,6.8,37,3.7,4.2,23,1.1499999999999999,2.5,14,1.1599999999999999,1.72,14,1.1599999999999999,1.72,24,1.7,2.8,1,0.22,0.51,2,0.22,0.56000000000000005,37,3.7,4.2,10,1.1200000000000001,1.2,10,1.1200000000000001,1.2,32,2.83,3.77,16,1.58,1.83,22,2.75,2.4,1,0.22,0.51,28,2.8,3.4,26,2.15,2.91,20,2.06,2.23,40,5.16,4.92,30,3.4,3.7,34,3.4,4,21,1.83,2.3199999999999998,33,4.28,3.99,8,1.68,1.1299999999999999,34,3.4,4,45,5.2,5.8,14,1.1599999999999999,1.72,35,2.83,4.0199999999999996,44,3.4,5.8,17,1.3,1.89,3,0.46,0.7,25,3.68,2.88,15,1.3,1.8,40,5.16,4.92,17,1.3,1.89,30,3.4,3.7,2,0.22,0.56000000000000005,23,1.1499999999999999,2.5,44,3.4,5.8,2,0.22,0.56000000000000005,45,5.2,5.8,22,2.75,2.4,42,2.97,5.3,20,2.06,2.23,17,1.3,1.89,48,7.1,6.2,33,4.28,3.99,23,1.1499999999999999,2.5,36,2.2799999999999998,4.0999999999999996,36,2.2799999999999998,4.0999999999999996,22,2.75,2.4,12,2.16,1.6,28,2.8,3.4,22,2.75,2.4,22,2.75,2.4,11,0.91,1.3,19,1.33,2.06,38,3.61,4.7,46,5.9,6.1,41,5.95,5.0999999999999996,27,4.01,3,17,1.3,1.89,9,0.6,1.18,4,0.32,0.75,19,1.33,2.06,12,2.16,1.6,40,5.16,4.92,38,3.61,4.7,35,2.83,4.0199999999999996,26,2.15,2.91,15,1.3,1.8,25,3.68,2.88,22,2.75,2.4,2,0.22,0.56000000000000005,40,5.16,4.92,15,1.3,1.8,27,4.01,3,35,2.83,4.0199999999999996,9,0.6,1.18,13,1.24,1.7,9,0.6,1.18,33,4.28,3.99,17,1.3,1.89,30,3.4,3.7,7,0.4,1.05,2,0.22,0.56000000000000005,34,3.4,4,44,3.4,5.8,27,4.01,3,36,2.2799999999999998,4.0999999999999996,2,0.22,0.56000000000000005,22,2.75,2.4,33,4.28,3.99,27,4.01,3,29,2.4,3.5,8,1.68,1.1299999999999999,13,1.24,1.7,26,2.15,2.91,11,0.91,1.3,25,3.68,2.88,43,3.79,5.65,31,1.56,3.71,5,0.32,0.91,33,4.28,3.99,23,1.1499999999999999,2.5,24,1.7,2.8,20,2.06,2.23,3,0.46,0.7,25,3.68,2.88,30,3.4,3.7,22,2.75,2.4,9,0.6,1.18,1,0.22,0.51,33,4.28,3.99,42,2.97,5.3,20,2.06,2.23,1,0.22,0.51,8,1.68,1.1299999999999999,12,2.16,1.6,17,1.3,1.89,10,1.1200000000000001,1.2,13,1.24,1.7,48,7.1,6.2,14,1.1599999999999999,1.72,43,3.79,5.65,45,5.2,5.8,6,0.38,0.96,48,7.1,6.2,4,0.32,0.75,6,0.38,0.96,45,5.2,5.8,26,2.15,2.91,5,0.32,0.91,38,3.61,4.7,6,0.38,0.96,35,2.83,4.0199999999999996,2,0.22,0.56000000000000005,12,2.16,1.6,50,4.5,6.8,21,1.83,2.3199999999999998,42,2.97,5.3,33,4.28,3.99,12,2.16,1.6,22,2.75,2.4,17,1.3,1.89,11,0.91,1.3,15,1.3,1.8,17,1.3,1.89,39,4.1900000000000004,4.8899999999999997,40,5.16,4.92,47,2.34,6.2,40,5.16,4.92,25,3.68,2.88,42,2.97,5.3,3,0.46,0.7,4,0.32,0.75,36,2.2799999999999998,4.0999999999999996,19,1.33,2.06,33,4.28,3.99,36,2.2799999999999998,4.0999999999999996,46,5.9,6.1,25,3.68,2.88,11,0.91,1.3,27,4.01,3,1,0.22,0.51,45,5.2,5.8,11,0.91,1.3,44,3.4,5.8,15,1.3,1.8,38,3.61,4.7,46,5.9,6.1,5,0.32,0.91,6,0.38,0.96,40,5.16,4.92,23,1.1499999999999999,2.5,12,2.16,1.6,10,1.1200000000000001,1.2,39,4.1900000000000004,4.8899999999999997,3,0.46,0.7,6,0.38,0.96,1,0.22,0.51,46,5.9,6.1,32,2.83,3.77,25,3.68,2.88,25,3.68,2.88,46,5.9,6.1,33,4.28,3.99,28,2.8,3.4,42,2.97,5.3,48,7.1,6.2,1,0.22,0.51,32,2.83,3.77,43,3.79,5.65,6,0.38,0.96,25,3.68,2.88,15,1.3,1.8,12,2.16,1.6,50,4.5,6.8,12,2.16,1.6,21,1.83,2.3199999999999998,16,1.58,1.83,25,3.68,2.88,27,4.01,3,40,5.16,4.92,48,7.1,6.2,2,0.22,0.56000000000000005,46,5.9,6.1,41,5.95,5.0999999999999996,37,3.7,4.2,41,5.95,5.0999999999999996,22,2.75,2.4,25,3.68,2.88,18,1.32,2,25,3.68,2.88,10,1.1200000000000001,1.2,33,4.28,3.99,15,1.3,1.8,48,7.1,6.2,5,0.32,0.91,20,2.06,2.23,40,5.16,4.92,30,3.4,3.7,3,0.46,0.7,47,2.34,6.2,50,4.5,6.8,23,1.1499999999999999,2.5,4,0.32,0.75,24,1.7,2.8,16,1.58,1.83,1,0.22,0.51,50,4.5,6.8,25,3.68,2.88,9,0.6,1.18,49,3.94,6.8,8,1.68,1.1299999999999999,12,2.16,1.6,47,2.34,6.2,17,1.3,1.89,25,3.68,2.88,20,2.06,2.23,1,0.22,0.51,41,5.95,5.0999999999999996,41,5.95,5.0999999999999996,9,0.6,1.18,17,1.3,1.89,24,1.7,2.8,21,1.83,2.3199999999999998,24,1.7,2.8,50,4.5,6.8,23,1.1499999999999999,2.5,38,3.61,4.7,19,1.33,2.06,11,0.91,1.3,14,1.1599999999999999,1.72,31,1.56,3.71,43,3.79,5.65,22,2.75,2.4,49,3.94,6.8,17,1.3,1.89,42,2.97,5.3,43,3.79,5.65,48,7.1,6.2,20,2.06,2.23,19,1.33,2.06,50,4.5,6.8,31,1.56,3.71,8,1.68,1.1299999999999999,7,0.4,1.05,34,3.4,4,32,2.83,3.77,50,4.5,6.8,10,1.1200000000000001,1.2,8,1.68,1.1299999999999999,12,2.16,1.6,27,4.01,3,44,3.4,5.8,30,3.4,3.7,42,2.97,5.3,8,1.68,1.1299999999999999,10,1.1200000000000001,1.2,35,2.83,4.0199999999999996,44,3.4,5.8,47,2.34,6.2,8,1.68,1.1299999999999999,33,4.28,3.99,48,7.1,6.2,27,4.01,3,29,2.4,3.5,14,1.1599999999999999,1.72,8,1.68,1.1299999999999999,29,2.4,3.5,3,0.46,0.7,24,1.7,2.8,38,3.61,4.7,11,0.91,1.3,12,2.16,1.6,43,3.79,5.65,46,5.9,6.1,44,3.4,5.8,12,2.16,1.6,37,3.7,4.2,47,2.34,6.2,15,1.3,1.8,20,2.06,2.23,11,0.91,1.3,28,2.8,3.4,45,5.2,5.8,16,1.58,1.83,35,2.83,4.0199999999999996,28,2.8,3.4,14,1.1599999999999999,1.72,null,null,null,null,null,null,null,null,null,null,null,null,null,null,null,null,null,null,null,null,null,null,null,null,null,null,null,null,null,null,null,null,{"$error":"#N/A"}]
[null,null,13,1.24,1.7,null,null,0,0,null,"Spearmanの相関係数",null,null,{"$f":"AP4","v":0.89158077890705134},null,{"$f":"AQ4","v":{"$error":"#DIV/0!"}},null,null,null,null,7.7799999999999994,50,0,7.48,50,0,null,null,null,-0.89827527850721611,1.3233399926988731,-1.363730066934254,1.215971853181961,null,{"$error":"#DIV/0!"},{"$error":"#DIV/0!"},{"$error":"#DIV/0!"},{"$error":"#DIV/0!"},null,38,38,"","",null,1.47,0.45999999999999996,null,1.47,0.45999999999999996,null,0.4,1.05,10,1.1200000000000001,1.2,46,5.9,6.1,50,4.5,6.8,6,0.38,0.96,36,2.2799999999999998,4.0999999999999996,22,2.75,2.4,22,2.75,2.4,15,1.3,1.8,26,2.15,2.91,3,0.46,0.7,44,3.4,5.8,23,1.1499999999999999,2.5,5,0.32,0.91,3,0.46,0.7,48,7.1,6.2,33,4.28,3.99,47,2.34,6.2,21,1.83,2.3199999999999998,21,1.83,2.3199999999999998,10,1.1200000000000001,1.2,43,3.79,5.65,9,0.6,1.18,6,0.38,0.96,50,4.5,6.8,30,3.4,3.7,43,3.79,5.65,9,0.6,1.18,14,1.1599999999999999,1.72,34,3.4,4,21,1.83,2.3199999999999998,31,1.56,3.71,24,1.7,2.8,27,4.01,3,8,1.68,1.1299999999999999,47,2.34,6.2,23,1.1499999999999999,2.5,42,2.97,5.3,6,0.38,0.96,11,0.91,1.3,42,2.97,5.3,7,0.4,1.05,28,2.8,3.4,13,1.24,1.7,40,5.16,4.92,37,3.7,4.2,41,5.95,5.0999999999999996,8,1.68,1.1299999999999999,44,3.4,5.8,37,3.7,4.2,13,1.24,1.7,48,7.1,6.2,12,2.16,1.6,23,1.1499999999999999,2.5,36,2.2799999999999998,4.0999999999999996,35,2.83,4.0199999999999996,50,4.5,6.8,50,4.5,6.8,45,5.2,5.8,31,1.56,3.71,1,0.22,0.51,9,0.6,1.18,13,1.24,1.7,32,2.83,3.77,34,3.4,4,27,4.01,3,3,0.46,0.7,6,0.38,0.96,10,1.1200000000000001,1.2,38,3.61,4.7,30,3.4,3.7,39,4.1900000000000004,4.8899999999999997,48,7.1,6.2,15,1.3,1.8,41,5.95,5.0999999999999996,3,0.46,0.7,10,1.1200000000000001,1.2,10,1.1200000000000001,1.2,3,0.46,0.7,22,2.75,2.4,48,7.1,6.2,9,0.6,1.18,8,1.68,1.1299999999999999,16,1.58,1.83,12,2.16,1.6,4,0.32,0.75,35,2.83,4.0199999999999996,47,2.34,6.2,20,2.06,2.23,21,1.83,2.3199999999999998,29,2.4,3.5,29,2.4,3.5,44,3.4,5.8,11,0.91,1.3,38,3.61,4.7,6,0.38,0.96,3,0.46,0.7,8,1.68,1.1299999999999999,22,2.75,2.4,37,3.7,4.2,24,1.7,2.8,49,3.94,6.8,10,1.1200000000000001,1.2,43,3.79,5.65,14,1.1599999999999999,1.72,48,7.1,6.2,32,2.83,3.77,24,1.7,2.8,39,4.1900000000000004,4.8899999999999997,46,5.9,6.1,8,1.68,1.1299999999999999,27,4.01,3,26,2.15,2.91,12,2.16,1.6,49,3.94,6.8,38,3.61,4.7,15,1.3,1.8,12,2.16,1.6,25,3.68,2.88,27,4.01,3,39,4.1900000000000004,4.8899999999999997,40,5.16,4.92,37,3.7,4.2,14,1.1599999999999999,1.72,47,2.34,6.2,12,2.16,1.6,14,1.1599999999999999,1.72,38,3.61,4.7,8,1.68,1.1299999999999999,19,1.33,2.06,8,1.68,1.1299999999999999,1,0.22,0.51,18,1.32,2,46,5.9,6.1,13,1.24,1.7,8,1.68,1.1299999999999999,18,1.32,2,4,0.32,0.75,44,3.4,5.8,37,3.7,4.2,31,1.56,3.71,19,1.33,2.06,21,1.83,2.3199999999999998,8,1.68,1.1299999999999999,5,0.32,0.91,43,3.79,5.65,28,2.8,3.4,22,2.75,2.4,27,4.01,3,18,1.32,2,21,1.83,2.3199999999999998,11,0.91,1.3,36,2.2799999999999998,4.0999999999999996,7,0.4,1.05,13,1.24,1.7,46,5.9,6.1,16,1.58,1.83,38,3.61,4.7,7,0.4,1.05,15,1.3,1.8,32,2.83,3.77,9,0.6,1.18,2,0.22,0.56000000000000005,9,0.6,1.18,48,7.1,6.2,5,0.32,0.91,7,0.4,1.05,20,2.06,2.23,41,5.95,5.0999999999999996,31,1.56,3.71,19,1.33,2.06,3,0.46,0.7,40,5.16,4.92,3,0.46,0.7,11,0.91,1.3,2,0.22,0.56000000000000005,17,1.3,1.89,3,0.46,0.7,36,2.2799999999999998,4.0999999999999996,32,2.83,3.77,50,4.5,6.8,47,2.34,6.2,42,2.97,5.3,35,2.83,4.0199999999999996,42,2.97,5.3,20,2.06,2.23,48,7.1,6.2,36,2.2799999999999998,4.0999999999999996,4,0.32,0.75,11,0.91,1.3,35,2.83,4.0199999999999996,22,2.75,2.4,2,0.22,0.56000000000000005,25,3.68,2.88,47,2.34,6.2,23,1.1499999999999999,2.5,17,1.3,1.89,48,7.1,6.2,9,0.6,1.18,15,1.3,1.8,12,2.16,1.6,29,2.4,3.5,49,3.94,6.8,34,3.4,4,21,1.83,2.3199999999999998,21,1.83,2.3199999999999998,44,3.4,5.8,43,3.79,5.65,41,5.95,5.0999999999999996,38,3.61,4.7,16,1.58,1.83,27,4.01,3,42,2.97,5.3,22,2.75,2.4,4,0.32,0.75,35,2.83,4.0199999999999996,36,2.2799999999999998,4.0999999999999996,27,4.01,3,34,3.4,4,47,2.34,6.2,17,1.3,1.89,4,0.32,0.75,15,1.3,1.8,45,5.2,5.8,50,4.5,6.8,16,1.58,1.83,36,2.2799999999999998,4.0999999999999996,2,0.22,0.56000000000000005,31,1.56,3.71,49,3.94,6.8,36,2.2799999999999998,4.0999999999999996,29,2.4,3.5,12,2.16,1.6,45,5.2,5.8,27,4.01,3,39,4.1900000000000004,4.8899999999999997,30,3.4,3.7,46,5.9,6.1,37,3.7,4.2,19,1.33,2.06,7,0.4,1.05,47,2.34,6.2,11,0.91,1.3,18,1.32,2,4,0.32,0.75,17,1.3,1.89,25,3.68,2.88,47,2.34,6.2,48,7.1,6.2,26,2.15,2.91,14,1.1599999999999999,1.72,38,3.61,4.7,10,1.1200000000000001,1.2,42,2.97,5.3,13,1.24,1.7,20,2.06,2.23,4,0.32,0.75,31,1.56,3.71,9,0.6,1.18,8,1.68,1.1299999999999999,44,3.4,5.8,30,3.4,3.7,4,0.32,0.75,48,7.1,6.2,19,1.33,2.06,28,2.8,3.4,44,3.4,5.8,31,1.56,3.71,20,2.06,2.23,1,0.22,0.51,8,1.68,1.1299999999999999,15,1.3,1.8,44,3.4,5.8,29,2.4,3.5,12,2.16,1.6,17,1.3,1.89,44,3.4,5.8,4,0.32,0.75,21,1.83,2.3199999999999998,7,0.4,1.05,8,1.68,1.1299999999999999,17,1.3,1.89,29,2.4,3.5,20,2.06,2.23,37,3.7,4.2,46,5.9,6.1,49,3.94,6.8,34,3.4,4,44,3.4,5.8,17,1.3,1.89,11,0.91,1.3,3,0.46,0.7,11,0.91,1.3,17,1.3,1.89,32,2.83,3.77,8,1.68,1.1299999999999999,13,1.24,1.7,26,2.15,2.91,43,3.79,5.65,19,1.33,2.06,47,2.34,6.2,11,0.91,1.3,24,1.7,2.8,17,1.3,1.89,32,2.83,3.77,32,2.83,3.77,11,0.91,1.3,35,2.83,4.0199999999999996,15,1.3,1.8,8,1.68,1.1299999999999999,10,1.1200000000000001,1.2,50,4.5,6.8,44,3.4,5.8,47,2.34,6.2,22,2.75,2.4,4,0.32,0.75,2,0.22,0.56000000000000005,42,2.97,5.3,37,3.7,4.2,21,1.83,2.3199999999999998,50,4.5,6.8,24,1.7,2.8,32,2.83,3.77,46,5.9,6.1,37,3.7,4.2,31,1.56,3.71,37,3.7,4.2,45,5.2,5.8,24,1.7,2.8,38,3.61,4.7,16,1.58,1.83,15,1.3,1.8,15,1.3,1.8,49,3.94,6.8,2,0.22,0.56000000000000005,12,2.16,1.6,1,0.22,0.51,5,0.32,0.91,2,0.22,0.56000000000000005,31,1.56,3.71,22,2.75,2.4,2,0.22,0.56000000000000005,9,0.6,1.18,14,1.1599999999999999,1.72,38,3.61,4.7,16,1.58,1.83,36,2.2799999999999998,4.0999999999999996,2,0.22,0.56000000000000005,11,0.91,1.3,3,0.46,0.7,46,5.9,6.1,18,1.32,2,1,0.22,0.51,50,4.5,6.8,14,1.1599999999999999,1.72,49,3.94,6.8,26,2.15,2.91,47,2.34,6.2,35,2.83,4.0199999999999996,44,3.4,5.8,33,4.28,3.99,12,2.16,1.6,5,0.32,0.91,30,3.4,3.7,28,2.8,3.4,38,3.61,4.7,9,0.6,1.18,34,3.4,4,30,3.4,3.7,46,5.9,6.1,25,3.68,2.88,18,1.32,2,19,1.33,2.06,8,1.68,1.1299999999999999,36,2.2799999999999998,4.0999999999999996,33,4.28,3.99,18,1.32,2,20,2.06,2.23,11,0.91,1.3,24,1.7,2.8,18,1.32,2,1,0.22,0.51,44,3.4,5.8,12,2.16,1.6,28,2.8,3.4,44,3.4,5.8,1,0.22,0.51,22,2.75,2.4,33,4.28,3.99,38,3.61,4.7,45,5.2,5.8,42,2.97,5.3,17,1.3,1.89,47,2.34,6.2,3,0.46,0.7,24,1.7,2.8,42,2.97,5.3,1,0.22,0.51,13,1.24,1.7,20,2.06,2.23,49,3.94,6.8,4,0.32,0.75,23,1.1499999999999999,2.5,6,0.38,0.96,12,2.16,1.6,2,0.22,0.56000000000000005,7,0.4,1.05,43,3.79,5.65,15,1.3,1.8,10,1.1200000000000001,1.2,42,2.97,5.3,32,2.83,3.77,28,2.8,3.4,10,1.1200000000000001,1.2,46,5.9,6.1,37,3.7,4.2,9,0.6,1.18,3,0.46,0.7,34,3.4,4,28,2.8,3.4,13,1.24,1.7,27,4.01,3,32,2.83,3.77,24,1.7,2.8,8,1.68,1.1299999999999999,41,5.95,5.0999999999999996,1,0.22,0.51,10,1.1200000000000001,1.2,12,2.16,1.6,12,2.16,1.6,31,1.56,3.71,5,0.32,0.91,38,3.61,4.7,27,4.01,3,39,4.1900000000000004,4.8899999999999997,6,0.38,0.96,5,0.32,0.91,5,0.32,0.91,40,5.16,4.92,32,2.83,3.77,7,0.4,1.05,33,4.28,3.99,18,1.32,2,35,2.83,4.0199999999999996,45,5.2,5.8,4,0.32,0.75,20,2.06,2.23,30,3.4,3.7,26,2.15,2.91,26,2.15,2.91,6,0.38,0.96,25,3.68,2.88,21,1.83,2.3199999999999998,38,3.61,4.7,15,1.3,1.8,27,4.01,3,34,3.4,4,42,2.97,5.3,42,2.97,5.3,46,5.9,6.1,40,5.16,4.92,45,5.2,5.8,29,2.4,3.5,27,4.01,3,27,4.01,3,13,1.24,1.7,15,1.3,1.8,30,3.4,3.7,3,0.46,0.7,42,2.97,5.3,2,0.22,0.56000000000000005,33,4.28,3.99,25,3.68,2.88,37,3.7,4.2,34,3.4,4,45,5.2,5.8,24,1.7,2.8,6,0.38,0.96,34,3.4,4,26,2.15,2.91,6,0.38,0.96,12,2.16,1.6,8,1.68,1.1299999999999999,27,4.01,3,10,1.1200000000000001,1.2,44,3.4,5.8,10,1.1200000000000001,1.2,36,2.2799999999999998,4.0999999999999996,26,2.15,2.91,50,4.5,6.8,18,1.32,2,46,5.9,6.1,34,3.4,4,22,2.75,2.4,25,3.68,2.88,20,2.06,2.23,44,3.4,5.8,10,1.1200000000000001,1.2,42,2.97,5.3,37,3.7,4.2,10,1.1200000000000001,1.2,36,2.2799999999999998,4.0999999999999996,null,null,null,null,null,null,null,null,null,null,null,null,null,null,null,null,null,null,null,null,null,null,null,null,null,null,null,null,null,null,null,null,{"$error":"#N/A"}]
[null,null,14,1.1599999999999999,1.72,null,null,0,0,null,"傾　　き:=SLOPE(既知のy, 既知のx)",null,null,{"$f":"SLOPE(E5:E1304,$D5:$D1304)","v":0.93966791339887223},null,{"$f":"SLOPE(G5:G1304,$F5:$F1304)","v":{"$error":"#DIV/0!"}},null,null,null,null,8.41,50,0,8.06,50,0,null,null,null,-0.84350309659580935,1.4204269853389819,-1.3578817357963726,1.2572598143614522,null,{"$error":"#DIV/0!"},{"$error":"#DIV/0!"},{"$error":"#DIV/0!"},{"$error":"#DIV/0!"},null,39,37,"","",null,1.44,0.56000000000000005,null,1.44,0.56000000000000005,null,1.68,1.1299999999999999,36,2.2799999999999998,4.0999999999999996,3,0.46,0.7,42,2.97,5.3,44,3.4,5.8,11,0.91,1.3,34,3.4,4,2,0.22,0.56000000000000005,28,2.8,3.4,49,3.94,6.8,40,5.16,4.92,16,1.58,1.83,30,3.4,3.7,41,5.95,5.0999999999999996,39,4.1900000000000004,4.8899999999999997,37,3.7,4.2,23,1.1499999999999999,2.5,39,4.1900000000000004,4.8899999999999997,40,5.16,4.92,50,4.5,6.8,47,2.34,6.2,42,2.97,5.3,2,0.22,0.56000000000000005,28,2.8,3.4,49,3.94,6.8,13,1.24,1.7,1,0.22,0.51,42,2.97,5.3,30,3.4,3.7,43,3.79,5.65,7,0.4,1.05,43,3.79,5.65,8,1.68,1.1299999999999999,41,5.95,5.0999999999999996,31,1.56,3.71,48,7.1,6.2,42,2.97,5.3,27,4.01,3,28,2.8,3.4,45,5.2,5.8,15,1.3,1.8,38,3.61,4.7,18,1.32,2,8,1.68,1.1299999999999999,42,2.97,5.3,5,0.32,0.91,13,1.24,1.7,22,2.75,2.4,23,1.1499999999999999,2.5,31,1.56,3.71,10,1.1200000000000001,1.2,24,1.7,2.8,20,2.06,2.23,43,3.79,5.65,50,4.5,6.8,8,1.68,1.1299999999999999,47,2.34,6.2,43,3.79,5.65,34,3.4,4,33,4.28,3.99,14,1.1599999999999999,1.72,36,2.2799999999999998,4.0999999999999996,50,4.5,6.8,10,1.1200000000000001,1.2,42,2.97,5.3,10,1.1200000000000001,1.2,24,1.7,2.8,32,2.83,3.77,38,3.61,4.7,33,4.28,3.99,18,1.32,2,33,4.28,3.99,27,4.01,3,11,0.91,1.3,49,3.94,6.8,2,0.22,0.56000000000000005,6,0.38,0.96,10,1.1200000000000001,1.2,26,2.15,2.91,6,0.38,0.96,6,0.38,0.96,40,5.16,4.92,33,4.28,3.99,35,2.83,4.0199999999999996,11,0.91,1.3,49,3.94,6.8,43,3.79,5.65,3,0.46,0.7,49,3.94,6.8,35,2.83,4.0199999999999996,31,1.56,3.71,9,0.6,1.18,43,3.79,5.65,11,0.91,1.3,7,0.4,1.05,22,2.75,2.4,15,1.3,1.8,47,2.34,6.2,7,0.4,1.05,12,2.16,1.6,19,1.33,2.06,9,0.6,1.18,1,0.22,0.51,9,0.6,1.18,23,1.1499999999999999,2.5,22,2.75,2.4,7,0.4,1.05,15,1.3,1.8,8,1.68,1.1299999999999999,37,3.7,4.2,26,2.15,2.91,31,1.56,3.71,33,4.28,3.99,19,1.33,2.06,32,2.83,3.77,1,0.22,0.51,4,0.32,0.75,41,5.95,5.0999999999999996,29,2.4,3.5,6,0.38,0.96,17,1.3,1.89,42,2.97,5.3,17,1.3,1.89,38,3.61,4.7,2,0.22,0.56000000000000005,48,7.1,6.2,25,3.68,2.88,21,1.83,2.3199999999999998,36,2.2799999999999998,4.0999999999999996,7,0.4,1.05,3,0.46,0.7,4,0.32,0.75,21,1.83,2.3199999999999998,36,2.2799999999999998,4.0999999999999996,26,2.15,2.91,13,1.24,1.7,15,1.3,1.8,26,2.15,2.91,14,1.1599999999999999,1.72,13,1.24,1.7,34,3.4,4,16,1.58,1.83,12,2.16,1.6,40,5.16,4.92,14,1.1599999999999999,1.72,24,1.7,2.8,30,3.4,3.7,37,3.7,4.2,36,2.2799999999999998,4.0999999999999996,48,7.1,6.2,6,0.38,0.96,9,0.6,1.18,11,0.91,1.3,19,1.33,2.06,14,1.1599999999999999,1.72,36,2.2799999999999998,4.0999999999999996,27,4.01,3,26,2.15,2.91,3,0.46,0.7,50,4.5,6.8,18,1.32,2,45,5.2,5.8,35,2.83,4.0199999999999996,27,4.01,3,30,3.4,3.7,43,3.79,5.65,42,2.97,5.3,38,3.61,4.7,13,1.24,1.7,28,2.8,3.4,45,5.2,5.8,15,1.3,1.8,19,1.33,2.06,25,3.68,2.88,32,2.83,3.77,24,1.7,2.8,11,0.91,1.3,9,0.6,1.18,2,0.22,0.56000000000000005,13,1.24,1.7,43,3.79,5.65,50,4.5,6.8,23,1.1499999999999999,2.5,5,0.32,0.91,42,2.97,5.3,22,2.75,2.4,47,2.34,6.2,20,2.06,2.23,6,0.38,0.96,24,1.7,2.8,40,5.16,4.92,50,4.5,6.8,21,1.83,2.3199999999999998,16,1.58,1.83,27,4.01,3,47,2.34,6.2,32,2.83,3.77,10,1.1200000000000001,1.2,48,7.1,6.2,27,4.01,3,29,2.4,3.5,33,4.28,3.99,23,1.1499999999999999,2.5,37,3.7,4.2,49,3.94,6.8,46,5.9,6.1,34,3.4,4,26,2.15,2.91,35,2.83,4.0199999999999996,29,2.4,3.5,20,2.06,2.23,44,3.4,5.8,11,0.91,1.3,26,2.15,2.91,29,2.4,3.5,35,2.83,4.0199999999999996,20,2.06,2.23,4,0.32,0.75,38,3.61,4.7,9,0.6,1.18,22,2.75,2.4,24,1.7,2.8,33,4.28,3.99,14,1.1599999999999999,1.72,6,0.38,0.96,24,1.7,2.8,2,0.22,0.56000000000000005,31,1.56,3.71,12,2.16,1.6,16,1.58,1.83,41,5.95,5.0999999999999996,22,2.75,2.4,24,1.7,2.8,44,3.4,5.8,20,2.06,2.23,46,5.9,6.1,11,0.91,1.3,7,0.4,1.05,17,1.3,1.89,38,3.61,4.7,46,5.9,6.1,38,3.61,4.7,8,1.68,1.1299999999999999,48,7.1,6.2,26,2.15,2.91,7,0.4,1.05,21,1.83,2.3199999999999998,42,2.97,5.3,8,1.68,1.1299999999999999,21,1.83,2.3199999999999998,11,0.91,1.3,18,1.32,2,14,1.1599999999999999,1.72,4,0.32,0.75,31,1.56,3.71,35,2.83,4.0199999999999996,33,4.28,3.99,23,1.1499999999999999,2.5,34,3.4,4,47,2.34,6.2,7,0.4,1.05,40,5.16,4.92,20,2.06,2.23,14,1.1599999999999999,1.72,8,1.68,1.1299999999999999,17,1.3,1.89,12,2.16,1.6,10,1.1200000000000001,1.2,40,5.16,4.92,38,3.61,4.7,30,3.4,3.7,2,0.22,0.56000000000000005,6,0.38,0.96,42,2.97,5.3,39,4.1900000000000004,4.8899999999999997,43,3.79,5.65,23,1.1499999999999999,2.5,21,1.83,2.3199999999999998,49,3.94,6.8,18,1.32,2,16,1.58,1.83,27,4.01,3,39,4.1900000000000004,4.8899999999999997,16,1.58,1.83,15,1.3,1.8,44,3.4,5.8,33,4.28,3.99,3,0.46,0.7,15,1.3,1.8,19,1.33,2.06,45,5.2,5.8,12,2.16,1.6,3,0.46,0.7,14,1.1599999999999999,1.72,33,4.28,3.99,47,2.34,6.2,42,2.97,5.3,7,0.4,1.05,20,2.06,2.23,46,5.9,6.1,23,1.1499999999999999,2.5,19,1.33,2.06,21,1.83,2.3199999999999998,11,0.91,1.3,25,3.68,2.88,44,3.4,5.8,36,2.2799999999999998,4.0999999999999996,44,3.4,5.8,39,4.1900000000000004,4.8899999999999997,49,3.94,6.8,11,0.91,1.3,5,0.32,0.91,5,0.32,0.91,27,4.01,3,46,5.9,6.1,19,1.33,2.06,13,1.24,1.7,23,1.1499999999999999,2.5,37,3.7,4.2,12,2.16,1.6,12,2.16,1.6,17,1.3,1.89,10,1.1200000000000001,1.2,43,3.79,5.65,35,2.83,4.0199999999999996,16,1.58,1.83,30,3.4,3.7,11,0.91,1.3,38,3.61,4.7,18,1.32,2,20,2.06,2.23,21,1.83,2.3199999999999998,45,5.2,5.8,29,2.4,3.5,38,3.61,4.7,6,0.38,0.96,14,1.1599999999999999,1.72,50,4.5,6.8,24,1.7,2.8,21,1.83,2.3199999999999998,9,0.6,1.18,20,2.06,2.23,4,0.32,0.75,45,5.2,5.8,36,2.2799999999999998,4.0999999999999996,25,3.68,2.88,6,0.38,0.96,45,5.2,5.8,43,3.79,5.65,22,2.75,2.4,42,2.97,5.3,3,0.46,0.7,34,3.4,4,20,2.06,2.23,2,0.22,0.56000000000000005,6,0.38,0.96,40,5.16,4.92,26,2.15,2.91,8,1.68,1.1299999999999999,50,4.5,6.8,6,0.38,0.96,5,0.32,0.91,33,4.28,3.99,2,0.22,0.56000000000000005,42,2.97,5.3,49,3.94,6.8,29,2.4,3.5,29,2.4,3.5,35,2.83,4.0199999999999996,14,1.1599999999999999,1.72,26,2.15,2.91,39,4.1900000000000004,4.8899999999999997,20,2.06,2.23,13,1.24,1.7,28,2.8,3.4,31,1.56,3.71,19,1.33,2.06,26,2.15,2.91,41,5.95,5.0999999999999996,11,0.91,1.3,41,5.95,5.0999999999999996,20,2.06,2.23,45,5.2,5.8,19,1.33,2.06,43,3.79,5.65,34,3.4,4,44,3.4,5.8,21,1.83,2.3199999999999998,3,0.46,0.7,24,1.7,2.8,15,1.3,1.8,6,0.38,0.96,7,0.4,1.05,22,2.75,2.4,33,4.28,3.99,6,0.38,0.96,1,0.22,0.51,8,1.68,1.1299999999999999,44,3.4,5.8,23,1.1499999999999999,2.5,48,7.1,6.2,41,5.95,5.0999999999999996,14,1.1599999999999999,1.72,16,1.58,1.83,7,0.4,1.05,10,1.1200000000000001,1.2,31,1.56,3.71,4,0.32,0.75,16,1.58,1.83,36,2.2799999999999998,4.0999999999999996,25,3.68,2.88,34,3.4,4,44,3.4,5.8,47,2.34,6.2,46,5.9,6.1,3,0.46,0.7,50,4.5,6.8,13,1.24,1.7,9,0.6,1.18,2,0.22,0.56000000000000005,10,1.1200000000000001,1.2,39,4.1900000000000004,4.8899999999999997,1,0.22,0.51,20,2.06,2.23,2,0.22,0.56000000000000005,24,1.7,2.8,44,3.4,5.8,1,0.22,0.51,6,0.38,0.96,35,2.83,4.0199999999999996,31,1.56,3.71,31,1.56,3.71,14,1.1599999999999999,1.72,36,2.2799999999999998,4.0999999999999996,13,1.24,1.7,19,1.33,2.06,6,0.38,0.96,39,4.1900000000000004,4.8899999999999997,12,2.16,1.6,8,1.68,1.1299999999999999,37,3.7,4.2,7,0.4,1.05,32,2.83,3.77,30,3.4,3.7,36,2.2799999999999998,4.0999999999999996,32,2.83,3.77,42,2.97,5.3,45,5.2,5.8,15,1.3,1.8,12,2.16,1.6,22,2.75,2.4,19,1.33,2.06,48,7.1,6.2,1,0.22,0.51,14,1.1599999999999999,1.72,35,2.83,4.0199999999999996,3,0.46,0.7,17,1.3,1.89,40,5.16,4.92,4,0.32,0.75,44,3.4,5.8,11,0.91,1.3,37,3.7,4.2,43,3.79,5.65,44,3.4,5.8,3,0.46,0.7,46,5.9,6.1,16,1.58,1.83,4,0.32,0.75,30,3.4,3.7,19,1.33,2.06,33,4.28,3.99,44,3.4,5.8,46,5.9,6.1,35,2.83,4.0199999999999996,19,1.33,2.06,4,0.32,0.75,6,0.38,0.96,33,4.28,3.99,38,3.61,4.7,50,4.5,6.8,36,2.2799999999999998,4.0999999999999996,6,0.38,0.96,37,3.7,4.2,2,0.22,0.56000000000000005,40,5.16,4.92,1,0.22,0.51,43,3.79,5.65,19,1.33,2.06,4,0.32,0.75,43,3.79,5.65,32,2.83,3.77,2,0.22,0.56000000000000005,14,1.1599999999999999,1.72,12,2.16,1.6,4,0.32,0.75,49,3.94,6.8,48,7.1,6.2,36,2.2799999999999998,4.0999999999999996,23,1.1499999999999999,2.5,35,2.83,4.0199999999999996,12,2.16,1.6,null,null,null,null,null,null,null,null,null,null,null,null,null,null,null,null,null,null,null,null,null,null,null,null,null,null,null,null,null,null,null,null,{"$error":"#N/A"}]
[null,null,15,1.3,1.8,null,null,0,0,null,"切　片：=INTERCEPT(既知のy, 既知のx)",null,null,{"$f":"INTERCEPT(E5:E1304,$D5:$D1304)","v":0.82388541949497629},null,{"$f":"INTERCEPT(G5:G1304,$F5:$F1304)","v":{"$error":"#DIV/0!"}},null,null,null,null,null,null,null,null,null,null,null,null,null,-0.7887309146844026,1.5153554654419477,-1.3498748921213481,1.296594204974,null,{"$error":"#DIV/0!"},{"$error":"#DIV/0!"},{"$error":"#DIV/0!"},{"$error":"#DIV/0!"},null,36,36,"","",null,1.55,0.5,null,1.55,0.5,null,0.6,1.18,21,1.83,2.3199999999999998,50,4.5,6.8,43,3.79,5.65,4,0.32,0.75,21,1.83,2.3199999999999998,17,1.3,1.89,31,1.56,3.71,6,0.38,0.96,30,3.4,3.7,40,5.16,4.92,35,2.83,4.0199999999999996,11,0.91,1.3,1,0.22,0.51,39,4.1900000000000004,4.8899999999999997,8,1.68,1.1299999999999999,1,0.22,0.51,21,1.83,2.3199999999999998,3,0.46,0.7,2,0.22,0.56000000000000005,50,4.5,6.8,21,1.83,2.3199999999999998,27,4.01,3,13,1.24,1.7,15,1.3,1.8,3,0.46,0.7,11,0.91,1.3,33,4.28,3.99,39,4.1900000000000004,4.8899999999999997,21,1.83,2.3199999999999998,13,1.24,1.7,21,1.83,2.3199999999999998,17,1.3,1.89,37,3.7,4.2,21,1.83,2.3199999999999998,34,3.4,4,21,1.83,2.3199999999999998,27,4.01,3,41,5.95,5.0999999999999996,15,1.3,1.8,41,5.95,5.0999999999999996,9,0.6,1.18,39,4.1900000000000004,4.8899999999999997,5,0.32,0.91,36,2.2799999999999998,4.0999999999999996,28,2.8,3.4,1,0.22,0.51,8,1.68,1.1299999999999999,1,0.22,0.51,6,0.38,0.96,3,0.46,0.7,19,1.33,2.06,44,3.4,5.8,2,0.22,0.56000000000000005,46,5.9,6.1,21,1.83,2.3199999999999998,24,1.7,2.8,40,5.16,4.92,2,0.22,0.56000000000000005,39,4.1900000000000004,4.8899999999999997,6,0.38,0.96,41,5.95,5.0999999999999996,22,2.75,2.4,8,1.68,1.1299999999999999,22,2.75,2.4,25,3.68,2.88,7,0.4,1.05,1,0.22,0.51,4,0.32,0.75,23,1.1499999999999999,2.5,42,2.97,5.3,28,2.8,3.4,17,1.3,1.89,50,4.5,6.8,41,5.95,5.0999999999999996,34,3.4,4,18,1.32,2,42,2.97,5.3,9,0.6,1.18,24,1.7,2.8,15,1.3,1.8,5,0.32,0.91,7,0.4,1.05,37,3.7,4.2,50,4.5,6.8,29,2.4,3.5,42,2.97,5.3,44,3.4,5.8,34,3.4,4,7,0.4,1.05,11,0.91,1.3,2,0.22,0.56000000000000005,1,0.22,0.51,27,4.01,3,5,0.32,0.91,21,1.83,2.3199999999999998,25,3.68,2.88,20,2.06,2.23,37,3.7,4.2,44,3.4,5.8,44,3.4,5.8,20,2.06,2.23,23,1.1499999999999999,2.5,42,2.97,5.3,1,0.22,0.51,39,4.1900000000000004,4.8899999999999997,26,2.15,2.91,19,1.33,2.06,49,3.94,6.8,3,0.46,0.7,17,1.3,1.89,28,2.8,3.4,10,1.1200000000000001,1.2,5,0.32,0.91,46,5.9,6.1,4,0.32,0.75,10,1.1200000000000001,1.2,11,0.91,1.3,23,1.1499999999999999,2.5,6,0.38,0.96,10,1.1200000000000001,1.2,38,3.61,4.7,17,1.3,1.89,21,1.83,2.3199999999999998,17,1.3,1.89,41,5.95,5.0999999999999996,16,1.58,1.83,35,2.83,4.0199999999999996,42,2.97,5.3,8,1.68,1.1299999999999999,42,2.97,5.3,11,0.91,1.3,34,3.4,4,29,2.4,3.5,41,5.95,5.0999999999999996,32,2.83,3.77,11,0.91,1.3,11,0.91,1.3,24,1.7,2.8,9,0.6,1.18,22,2.75,2.4,23,1.1499999999999999,2.5,32,2.83,3.77,45,5.2,5.8,4,0.32,0.75,41,5.95,5.0999999999999996,48,7.1,6.2,20,2.06,2.23,15,1.3,1.8,11,0.91,1.3,41,5.95,5.0999999999999996,30,3.4,3.7,20,2.06,2.23,22,2.75,2.4,1,0.22,0.51,44,3.4,5.8,45,5.2,5.8,44,3.4,5.8,10,1.1200000000000001,1.2,24,1.7,2.8,42,2.97,5.3,26,2.15,2.91,50,4.5,6.8,50,4.5,6.8,15,1.3,1.8,10,1.1200000000000001,1.2,48,7.1,6.2,21,1.83,2.3199999999999998,13,1.24,1.7,2,0.22,0.56000000000000005,15,1.3,1.8,2,0.22,0.56000000000000005,29,2.4,3.5,11,0.91,1.3,6,0.38,0.96,48,7.1,6.2,14,1.1599999999999999,1.72,49,3.94,6.8,45,5.2,5.8,33,4.28,3.99,9,0.6,1.18,39,4.1900000000000004,4.8899999999999997,1,0.22,0.51,39,4.1900000000000004,4.8899999999999997,31,1.56,3.71,42,2.97,5.3,43,3.79,5.65,20,2.06,2.23,28,2.8,3.4,46,5.9,6.1,41,5.95,5.0999999999999996,10,1.1200000000000001,1.2,40,5.16,4.92,8,1.68,1.1299999999999999,42,2.97,5.3,10,1.1200000000000001,1.2,31,1.56,3.71,24,1.7,2.8,50,4.5,6.8,32,2.83,3.77,25,3.68,2.88,48,7.1,6.2,27,4.01,3,47,2.34,6.2,11,0.91,1.3,30,3.4,3.7,46,5.9,6.1,11,0.91,1.3,6,0.38,0.96,15,1.3,1.8,14,1.1599999999999999,1.72,40,5.16,4.92,32,2.83,3.77,6,0.38,0.96,9,0.6,1.18,8,1.68,1.1299999999999999,11,0.91,1.3,36,2.2799999999999998,4.0999999999999996,21,1.83,2.3199999999999998,46,5.9,6.1,8,1.68,1.1299999999999999,9,0.6,1.18,15,1.3,1.8,16,1.58,1.83,5,0.32,0.91,42,2.97,5.3,47,2.34,6.2,40,5.16,4.92,24,1.7,2.8,34,3.4,4,3,0.46,0.7,38,3.61,4.7,14,1.1599999999999999,1.72,36,2.2799999999999998,4.0999999999999996,42,2.97,5.3,42,2.97,5.3,12,2.16,1.6,40,5.16,4.92,5,0.32,0.91,5,0.32,0.91,48,7.1,6.2,25,3.68,2.88,37,3.7,4.2,41,5.95,5.0999999999999996,29,2.4,3.5,23,1.1499999999999999,2.5,19,1.33,2.06,8,1.68,1.1299999999999999,26,2.15,2.91,39,4.1900000000000004,4.8899999999999997,17,1.3,1.89,21,1.83,2.3199999999999998,27,4.01,3,43,3.79,5.65,35,2.83,4.0199999999999996,18,1.32,2,4,0.32,0.75,12,2.16,1.6,44,3.4,5.8,37,3.7,4.2,34,3.4,4,49,3.94,6.8,9,0.6,1.18,14,1.1599999999999999,1.72,47,2.34,6.2,1,0.22,0.51,37,3.7,4.2,35,2.83,4.0199999999999996,23,1.1499999999999999,2.5,1,0.22,0.51,38,3.61,4.7,7,0.4,1.05,7,0.4,1.05,15,1.3,1.8,42,2.97,5.3,34,3.4,4,39,4.1900000000000004,4.8899999999999997,1,0.22,0.51,36,2.2799999999999998,4.0999999999999996,14,1.1599999999999999,1.72,44,3.4,5.8,38,3.61,4.7,8,1.68,1.1299999999999999,45,5.2,5.8,28,2.8,3.4,10,1.1200000000000001,1.2,7,0.4,1.05,37,3.7,4.2,3,0.46,0.7,5,0.32,0.91,15,1.3,1.8,50,4.5,6.8,6,0.38,0.96,30,3.4,3.7,25,3.68,2.88,32,2.83,3.77,42,2.97,5.3,29,2.4,3.5,44,3.4,5.8,25,3.68,2.88,36,2.2799999999999998,4.0999999999999996,26,2.15,2.91,50,4.5,6.8,37,3.7,4.2,1,0.22,0.51,20,2.06,2.23,10,1.1200000000000001,1.2,17,1.3,1.89,7,0.4,1.05,50,4.5,6.8,14,1.1599999999999999,1.72,50,4.5,6.8,31,1.56,3.71,17,1.3,1.89,25,3.68,2.88,14,1.1599999999999999,1.72,3,0.46,0.7,20,2.06,2.23,36,2.2799999999999998,4.0999999999999996,48,7.1,6.2,20,2.06,2.23,7,0.4,1.05,37,3.7,4.2,28,2.8,3.4,30,3.4,3.7,38,3.61,4.7,4,0.32,0.75,16,1.58,1.83,14,1.1599999999999999,1.72,6,0.38,0.96,42,2.97,5.3,11,0.91,1.3,45,5.2,5.8,24,1.7,2.8,46,5.9,6.1,21,1.83,2.3199999999999998,46,5.9,6.1,28,2.8,3.4,19,1.33,2.06,39,4.1900000000000004,4.8899999999999997,24,1.7,2.8,33,4.28,3.99,8,1.68,1.1299999999999999,38,3.61,4.7,6,0.38,0.96,13,1.24,1.7,49,3.94,6.8,29,2.4,3.5,43,3.79,5.65,34,3.4,4,25,3.68,2.88,23,1.1499999999999999,2.5,23,1.1499999999999999,2.5,4,0.32,0.75,41,5.95,5.0999999999999996,18,1.32,2,50,4.5,6.8,35,2.83,4.0199999999999996,2,0.22,0.56000000000000005,39,4.1900000000000004,4.8899999999999997,33,4.28,3.99,18,1.32,2,11,0.91,1.3,41,5.95,5.0999999999999996,40,5.16,4.92,7,0.4,1.05,31,1.56,3.71,31,1.56,3.71,9,0.6,1.18,23,1.1499999999999999,2.5,1,0.22,0.51,48,7.1,6.2,32,2.83,3.77,9,0.6,1.18,23,1.1499999999999999,2.5,2,0.22,0.56000000000000005,35,2.83,4.0199999999999996,12,2.16,1.6,7,0.4,1.05,36,2.2799999999999998,4.0999999999999996,41,5.95,5.0999999999999996,14,1.1599999999999999,1.72,31,1.56,3.71,37,3.7,4.2,27,4.01,3,32,2.83,3.77,7,0.4,1.05,21,1.83,2.3199999999999998,6,0.38,0.96,32,2.83,3.77,22,2.75,2.4,25,3.68,2.88,14,1.1599999999999999,1.72,1,0.22,0.51,30,3.4,3.7,13,1.24,1.7,14,1.1599999999999999,1.72,36,2.2799999999999998,4.0999999999999996,8,1.68,1.1299999999999999,41,5.95,5.0999999999999996,9,0.6,1.18,42,2.97,5.3,33,4.28,3.99,43,3.79,5.65,23,1.1499999999999999,2.5,41,5.95,5.0999999999999996,13,1.24,1.7,16,1.58,1.83,35,2.83,4.0199999999999996,1,0.22,0.51,31,1.56,3.71,35,2.83,4.0199999999999996,39,4.1900000000000004,4.8899999999999997,20,2.06,2.23,6,0.38,0.96,12,2.16,1.6,1,0.22,0.51,26,2.15,2.91,14,1.1599999999999999,1.72,33,4.28,3.99,42,2.97,5.3,38,3.61,4.7,21,1.83,2.3199999999999998,47,2.34,6.2,26,2.15,2.91,41,5.95,5.0999999999999996,28,2.8,3.4,26,2.15,2.91,9,0.6,1.18,22,2.75,2.4,33,4.28,3.99,25,3.68,2.88,12,2.16,1.6,20,2.06,2.23,47,2.34,6.2,22,2.75,2.4,39,4.1900000000000004,4.8899999999999997,37,3.7,4.2,34,3.4,4,3,0.46,0.7,24,1.7,2.8,13,1.24,1.7,50,4.5,6.8,23,1.1499999999999999,2.5,30,3.4,3.7,13,1.24,1.7,7,0.4,1.05,22,2.75,2.4,12,2.16,1.6,22,2.75,2.4,42,2.97,5.3,3,0.46,0.7,50,4.5,6.8,15,1.3,1.8,2,0.22,0.56000000000000005,29,2.4,3.5,34,3.4,4,23,1.1499999999999999,2.5,37,3.7,4.2,28,2.8,3.4,18,1.32,2,25,3.68,2.88,10,1.1200000000000001,1.2,5,0.32,0.91,35,2.83,4.0199999999999996,44,3.4,5.8,22,2.75,2.4,33,4.28,3.99,24,1.7,2.8,11,0.91,1.3,39,4.1900000000000004,4.8899999999999997,36,2.2799999999999998,4.0999999999999996,19,1.33,2.06,37,3.7,4.2,43,3.79,5.65,50,4.5,6.8,5,0.32,0.91,4,0.32,0.75,37,3.7,4.2,41,5.95,5.0999999999999996,27,4.01,3,7,0.4,1.05,21,1.83,2.3199999999999998,30,3.4,3.7,22,2.75,2.4,25,3.68,2.88,20,2.06,2.23,45,5.2,5.8,7,0.4,1.05,35,2.83,4.0199999999999996,34,3.4,4,17,1.3,1.89,33,4.28,3.99,7,0.4,1.05,45,5.2,5.8,6,0.38,0.96,46,5.9,6.1,49,3.94,6.8,37,3.7,4.2,25,3.68,2.88,18,1.32,2,21,1.83,2.3199999999999998,null,null,null,null,null,null,null,null,null,null,null,null,null,null,null,null,null,null,null,null,null,null,null,null,null,null,null,null,null,null,null,null,{"$error":"#N/A"}]
[null,null,16,1.58,1.83,null,null,0,0,null,null,null,null,null,null,null,null,null,null,null,null,null,null,null,null,null,null,null,null,-0.73395873277299584,1.6083163622415628,-1.3399004651429731,1.3341478263006208,null,{"$error":"#DIV/0!"},{"$error":"#DIV/0!"},{"$error":"#DIV/0!"},{"$error":"#DIV/0!"},null,32,35,"","",null,1.7050000000000001,0.25,null,1.7050000000000001,0.25,null,1.1200000000000001,1.2,48,7.1,6.2,16,1.58,1.83,4,0.32,0.75,32,2.83,3.77,8,1.68,1.1299999999999999,18,1.32,2,32,2.83,3.77,10,1.1200000000000001,1.2,9,0.6,1.18,10,1.1200000000000001,1.2,20,2.06,2.23,47,2.34,6.2,36,2.2799999999999998,4.0999999999999996,22,2.75,2.4,30,3.4,3.7,11,0.91,1.3,24,1.7,2.8,18,1.32,2,27,4.01,3,38,3.61,4.7,28,2.8,3.4,43,3.79,5.65,49,3.94,6.8,17,1.3,1.89,41,5.95,5.0999999999999996,40,5.16,4.92,39,4.1900000000000004,4.8899999999999997,25,3.68,2.88,45,5.2,5.8,16,1.58,1.83,41,5.95,5.0999999999999996,40,5.16,4.92,4,0.32,0.75,38,3.61,4.7,10,1.1200000000000001,1.2,5,0.32,0.91,34,3.4,4,26,2.15,2.91,34,3.4,4,12,2.16,1.6,29,2.4,3.5,15,1.3,1.8,14,1.1599999999999999,1.72,38,3.61,4.7,50,4.5,6.8,34,3.4,4,12,2.16,1.6,8,1.68,1.1299999999999999,30,3.4,3.7,35,2.83,4.0199999999999996,11,0.91,1.3,11,0.91,1.3,35,2.83,4.0199999999999996,1,0.22,0.51,35,2.83,4.0199999999999996,26,2.15,2.91,45,5.2,5.8,1,0.22,0.51,33,4.28,3.99,20,2.06,2.23,41,5.95,5.0999999999999996,17,1.3,1.89,21,1.83,2.3199999999999998,4,0.32,0.75,8,1.68,1.1299999999999999,29,2.4,3.5,49,3.94,6.8,45,5.2,5.8,3,0.46,0.7,18,1.32,2,13,1.24,1.7,3,0.46,0.7,27,4.01,3,23,1.1499999999999999,2.5,46,5.9,6.1,19,1.33,2.06,19,1.33,2.06,20,2.06,2.23,10,1.1200000000000001,1.2,26,2.15,2.91,6,0.38,0.96,2,0.22,0.56000000000000005,4,0.32,0.75,11,0.91,1.3,20,2.06,2.23,36,2.2799999999999998,4.0999999999999996,39,4.1900000000000004,4.8899999999999997,49,3.94,6.8,23,1.1499999999999999,2.5,21,1.83,2.3199999999999998,18,1.32,2,44,3.4,5.8,49,3.94,6.8,9,0.6,1.18,32,2.83,3.77,38,3.61,4.7,3,0.46,0.7,49,3.94,6.8,23,1.1499999999999999,2.5,24,1.7,2.8,32,2.83,3.77,30,3.4,3.7,49,3.94,6.8,32,2.83,3.77,45,5.2,5.8,45,5.2,5.8,22,2.75,2.4,16,1.58,1.83,8,1.68,1.1299999999999999,15,1.3,1.8,4,0.32,0.75,13,1.24,1.7,43,3.79,5.65,28,2.8,3.4,11,0.91,1.3,13,1.24,1.7,48,7.1,6.2,34,3.4,4,39,4.1900000000000004,4.8899999999999997,34,3.4,4,17,1.3,1.89,9,0.6,1.18,48,7.1,6.2,19,1.33,2.06,35,2.83,4.0199999999999996,30,3.4,3.7,3,0.46,0.7,40,5.16,4.92,31,1.56,3.71,10,1.1200000000000001,1.2,37,3.7,4.2,17,1.3,1.89,38,3.61,4.7,47,2.34,6.2,21,1.83,2.3199999999999998,48,7.1,6.2,25,3.68,2.88,40,5.16,4.92,46,5.9,6.1,50,4.5,6.8,34,3.4,4,7,0.4,1.05,22,2.75,2.4,17,1.3,1.89,35,2.83,4.0199999999999996,25,3.68,2.88,35,2.83,4.0199999999999996,40,5.16,4.92,37,3.7,4.2,30,3.4,3.7,16,1.58,1.83,30,3.4,3.7,19,1.33,2.06,27,4.01,3,29,2.4,3.5,18,1.32,2,19,1.33,2.06,14,1.1599999999999999,1.72,15,1.3,1.8,8,1.68,1.1299999999999999,34,3.4,4,21,1.83,2.3199999999999998,48,7.1,6.2,46,5.9,6.1,39,4.1900000000000004,4.8899999999999997,6,0.38,0.96,10,1.1200000000000001,1.2,48,7.1,6.2,10,1.1200000000000001,1.2,21,1.83,2.3199999999999998,23,1.1499999999999999,2.5,45,5.2,5.8,16,1.58,1.83,31,1.56,3.71,46,5.9,6.1,37,3.7,4.2,23,1.1499999999999999,2.5,4,0.32,0.75,32,2.83,3.77,15,1.3,1.8,4,0.32,0.75,11,0.91,1.3,49,3.94,6.8,34,3.4,4,22,2.75,2.4,36,2.2799999999999998,4.0999999999999996,16,1.58,1.83,15,1.3,1.8,16,1.58,1.83,48,7.1,6.2,46,5.9,6.1,42,2.97,5.3,5,0.32,0.91,45,5.2,5.8,8,1.68,1.1299999999999999,36,2.2799999999999998,4.0999999999999996,2,0.22,0.56000000000000005,43,3.79,5.65,44,3.4,5.8,32,2.83,3.77,41,5.95,5.0999999999999996,48,7.1,6.2,8,1.68,1.1299999999999999,25,3.68,2.88,20,2.06,2.23,22,2.75,2.4,5,0.32,0.91,21,1.83,2.3199999999999998,49,3.94,6.8,25,3.68,2.88,7,0.4,1.05,12,2.16,1.6,16,1.58,1.83,13,1.24,1.7,18,1.32,2,47,2.34,6.2,17,1.3,1.89,46,5.9,6.1,12,2.16,1.6,33,4.28,3.99,44,3.4,5.8,18,1.32,2,27,4.01,3,39,4.1900000000000004,4.8899999999999997,35,2.83,4.0199999999999996,41,5.95,5.0999999999999996,23,1.1499999999999999,2.5,8,1.68,1.1299999999999999,43,3.79,5.65,43,3.79,5.65,4,0.32,0.75,48,7.1,6.2,12,2.16,1.6,32,2.83,3.77,4,0.32,0.75,13,1.24,1.7,14,1.1599999999999999,1.72,17,1.3,1.89,28,2.8,3.4,18,1.32,2,6,0.38,0.96,50,4.5,6.8,13,1.24,1.7,4,0.32,0.75,41,5.95,5.0999999999999996,21,1.83,2.3199999999999998,2,0.22,0.56000000000000005,15,1.3,1.8,48,7.1,6.2,19,1.33,2.06,23,1.1499999999999999,2.5,47,2.34,6.2,20,2.06,2.23,10,1.1200000000000001,1.2,37,3.7,4.2,47,2.34,6.2,17,1.3,1.89,22,2.75,2.4,47,2.34,6.2,38,3.61,4.7,31,1.56,3.71,43,3.79,5.65,20,2.06,2.23,43,3.79,5.65,13,1.24,1.7,33,4.28,3.99,18,1.32,2,32,2.83,3.77,14,1.1599999999999999,1.72,2,0.22,0.56000000000000005,45,5.2,5.8,26,2.15,2.91,35,2.83,4.0199999999999996,39,4.1900000000000004,4.8899999999999997,6,0.38,0.96,15,1.3,1.8,45,5.2,5.8,21,1.83,2.3199999999999998,31,1.56,3.71,38,3.61,4.7,6,0.38,0.96,15,1.3,1.8,2,0.22,0.56000000000000005,28,2.8,3.4,11,0.91,1.3,9,0.6,1.18,5,0.32,0.91,16,1.58,1.83,42,2.97,5.3,48,7.1,6.2,36,2.2799999999999998,4.0999999999999996,48,7.1,6.2,31,1.56,3.71,28,2.8,3.4,21,1.83,2.3199999999999998,18,1.32,2,37,3.7,4.2,14,1.1599999999999999,1.72,3,0.46,0.7,7,0.4,1.05,38,3.61,4.7,12,2.16,1.6,35,2.83,4.0199999999999996,43,3.79,5.65,30,3.4,3.7,4,0.32,0.75,41,5.95,5.0999999999999996,18,1.32,2,47,2.34,6.2,49,3.94,6.8,35,2.83,4.0199999999999996,14,1.1599999999999999,1.72,32,2.83,3.77,45,5.2,5.8,6,0.38,0.96,2,0.22,0.56000000000000005,34,3.4,4,2,0.22,0.56000000000000005,13,1.24,1.7,44,3.4,5.8,4,0.32,0.75,29,2.4,3.5,43,3.79,5.65,12,2.16,1.6,12,2.16,1.6,34,3.4,4,36,2.2799999999999998,4.0999999999999996,19,1.33,2.06,27,4.01,3,35,2.83,4.0199999999999996,14,1.1599999999999999,1.72,10,1.1200000000000001,1.2,3,0.46,0.7,34,3.4,4,29,2.4,3.5,18,1.32,2,32,2.83,3.77,5,0.32,0.91,22,2.75,2.4,36,2.2799999999999998,4.0999999999999996,12,2.16,1.6,42,2.97,5.3,44,3.4,5.8,40,5.16,4.92,21,1.83,2.3199999999999998,21,1.83,2.3199999999999998,39,4.1900000000000004,4.8899999999999997,40,5.16,4.92,7,0.4,1.05,25,3.68,2.88,38,3.61,4.7,29,2.4,3.5,44,3.4,5.8,27,4.01,3,24,1.7,2.8,4,0.32,0.75,41,5.95,5.0999999999999996,48,7.1,6.2,46,5.9,6.1,46,5.9,6.1,25,3.68,2.88,6,0.38,0.96,6,0.38,0.96,15,1.3,1.8,26,2.15,2.91,3,0.46,0.7,6,0.38,0.96,50,4.5,6.8,33,4.28,3.99,4,0.32,0.75,4,0.32,0.75,43,3.79,5.65,9,0.6,1.18,35,2.83,4.0199999999999996,37,3.7,4.2,17,1.3,1.89,13,1.24,1.7,3,0.46,0.7,4,0.32,0.75,17,1.3,1.89,47,2.34,6.2,12,2.16,1.6,11,0.91,1.3,19,1.33,2.06,5,0.32,0.91,4,0.32,0.75,33,4.28,3.99,46,5.9,6.1,35,2.83,4.0199999999999996,4,0.32,0.75,29,2.4,3.5,47,2.34,6.2,22,2.75,2.4,39,4.1900000000000004,4.8899999999999997,34,3.4,4,45,5.2,5.8,24,1.7,2.8,6,0.38,0.96,46,5.9,6.1,36,2.2799999999999998,4.0999999999999996,26,2.15,2.91,10,1.1200000000000001,1.2,42,2.97,5.3,13,1.24,1.7,3,0.46,0.7,15,1.3,1.8,44,3.4,5.8,42,2.97,5.3,1,0.22,0.51,3,0.46,0.7,8,1.68,1.1299999999999999,6,0.38,0.96,21,1.83,2.3199999999999998,2,0.22,0.56000000000000005,12,2.16,1.6,14,1.1599999999999999,1.72,28,2.8,3.4,18,1.32,2,25,3.68,2.88,12,2.16,1.6,10,1.1200000000000001,1.2,40,5.16,4.92,17,1.3,1.89,20,2.06,2.23,11,0.91,1.3,45,5.2,5.8,2,0.22,0.56000000000000005,24,1.7,2.8,15,1.3,1.8,28,2.8,3.4,28,2.8,3.4,26,2.15,2.91,3,0.46,0.7,36,2.2799999999999998,4.0999999999999996,39,4.1900000000000004,4.8899999999999997,19,1.33,2.06,14,1.1599999999999999,1.72,16,1.58,1.83,45,5.2,5.8,13,1.24,1.7,27,4.01,3,30,3.4,3.7,4,0.32,0.75,31,1.56,3.71,46,5.9,6.1,28,2.8,3.4,21,1.83,2.3199999999999998,10,1.1200000000000001,1.2,6,0.38,0.96,33,4.28,3.99,4,0.32,0.75,25,3.68,2.88,35,2.83,4.0199999999999996,41,5.95,5.0999999999999996,38,3.61,4.7,14,1.1599999999999999,1.72,34,3.4,4,35,2.83,4.0199999999999996,15,1.3,1.8,25,3.68,2.88,16,1.58,1.83,6,0.38,0.96,32,2.83,3.77,17,1.3,1.89,5,0.32,0.91,41,5.95,5.0999999999999996,2,0.22,0.56000000000000005,34,3.4,4,7,0.4,1.05,25,3.68,2.88,19,1.33,2.06,30,3.4,3.7,33,4.28,3.99,47,2.34,6.2,47,2.34,6.2,14,1.1599999999999999,1.72,39,4.1900000000000004,4.8899999999999997,28,2.8,3.4,16,1.58,1.83,8,1.68,1.1299999999999999,31,1.56,3.71,8,1.68,1.1299999999999999,26,2.15,2.91,10,1.1200000000000001,1.2,26,2.15,2.91,43,3.79,5.65,22,2.75,2.4,28,2.8,3.4,34,3.4,4,19,1.33,2.06,27,4.01,3,21,1.83,2.3199999999999998,43,3.79,5.65,24,1.7,2.8,38,3.61,4.7,8,1.68,1.1299999999999999,26,2.15,2.91,38,3.61,4.7,34,3.4,4,32,2.83,3.77,1,0.22,0.51,null,null,null,null,null,null,null,null,null,null,null,null,null,null,null,null,null,null,null,null,null,null,null,null,null,null,null,null,null,null,null,null,{"$error":"#N/A"}]
[null,null,17,1.3,1.89,null,null,0,0,null,"Sｘｙ：=Covar(データ範囲)＊n",null,null,{"$f":"COVAR($D5:$D1304,E5:E1304)*N5","v":129.65529599999999},null,{"$f":"COVAR($F5:$F1304,G5:G1304)*P5","v":{"$error":"#DIV/0!"}},null,null,null,null,null,null,null,null,null,null,null,null,null,-0.67918655086158908,1.6994714791116321,-1.3281202582350526,1.3700671191440694,null,{"$error":"#DIV/0!"},{"$error":"#DIV/0!"},{"$error":"#DIV/0!"},{"$error":"#DIV/0!"},null,36,34,"","",null,1.595,0.58999999999999986,null,1.595,0.58999999999999986,null,0.91,1.3,7,0.4,1.05,18,1.32,2,41,5.95,5.0999999999999996,24,1.7,2.8,33,4.28,3.99,42,2.97,5.3,18,1.32,2,33,4.28,3.99,38,3.61,4.7,14,1.1599999999999999,1.72,47,2.34,6.2,50,4.5,6.8,27,4.01,3,42,2.97,5.3,18,1.32,2,45,5.2,5.8,1,0.22,0.51,32,2.83,3.77,21,1.83,2.3199999999999998,29,2.4,3.5,13,1.24,1.7,42,2.97,5.3,29,2.4,3.5,13,1.24,1.7,32,2.83,3.77,46,5.9,6.1,48,7.1,6.2,30,3.4,3.7,32,2.83,3.77,12,2.16,1.6,27,4.01,3,23,1.1499999999999999,2.5,24,1.7,2.8,42,2.97,5.3,36,2.2799999999999998,4.0999999999999996,30,3.4,3.7,22,2.75,2.4,23,1.1499999999999999,2.5,50,4.5,6.8,6,0.38,0.96,3,0.46,0.7,42,2.97,5.3,47,2.34,6.2,32,2.83,3.77,40,5.16,4.92,15,1.3,1.8,23,1.1499999999999999,2.5,9,0.6,1.18,49,3.94,6.8,26,2.15,2.91,15,1.3,1.8,45,5.2,5.8,37,3.7,4.2,29,2.4,3.5,37,3.7,4.2,19,1.33,2.06,27,4.01,3,11,0.91,1.3,29,2.4,3.5,4,0.32,0.75,33,4.28,3.99,25,3.68,2.88,20,2.06,2.23,42,2.97,5.3,8,1.68,1.1299999999999999,24,1.7,2.8,50,4.5,6.8,50,4.5,6.8,45,5.2,5.8,14,1.1599999999999999,1.72,12,2.16,1.6,23,1.1499999999999999,2.5,46,5.9,6.1,25,3.68,2.88,43,3.79,5.65,4,0.32,0.75,5,0.32,0.91,29,2.4,3.5,43,3.79,5.65,23,1.1499999999999999,2.5,50,4.5,6.8,37,3.7,4.2,46,5.9,6.1,39,4.1900000000000004,4.8899999999999997,44,3.4,5.8,48,7.1,6.2,6,0.38,0.96,47,2.34,6.2,12,2.16,1.6,16,1.58,1.83,49,3.94,6.8,6,0.38,0.96,11,0.91,1.3,25,3.68,2.88,33,4.28,3.99,15,1.3,1.8,32,2.83,3.77,30,3.4,3.7,19,1.33,2.06,13,1.24,1.7,49,3.94,6.8,9,0.6,1.18,16,1.58,1.83,38,3.61,4.7,41,5.95,5.0999999999999996,30,3.4,3.7,22,2.75,2.4,45,5.2,5.8,21,1.83,2.3199999999999998,25,3.68,2.88,39,4.1900000000000004,4.8899999999999997,44,3.4,5.8,27,4.01,3,30,3.4,3.7,49,3.94,6.8,41,5.95,5.0999999999999996,33,4.28,3.99,42,2.97,5.3,48,7.1,6.2,1,0.22,0.51,11,0.91,1.3,27,4.01,3,45,5.2,5.8,18,1.32,2,14,1.1599999999999999,1.72,3,0.46,0.7,27,4.01,3,47,2.34,6.2,19,1.33,2.06,28,2.8,3.4,28,2.8,3.4,50,4.5,6.8,34,3.4,4,50,4.5,6.8,23,1.1499999999999999,2.5,7,0.4,1.05,12,2.16,1.6,26,2.15,2.91,18,1.32,2,35,2.83,4.0199999999999996,35,2.83,4.0199999999999996,46,5.9,6.1,22,2.75,2.4,25,3.68,2.88,5,0.32,0.91,24,1.7,2.8,11,0.91,1.3,31,1.56,3.71,2,0.22,0.56000000000000005,2,0.22,0.56000000000000005,23,1.1499999999999999,2.5,36,2.2799999999999998,4.0999999999999996,47,2.34,6.2,11,0.91,1.3,2,0.22,0.56000000000000005,19,1.33,2.06,40,5.16,4.92,2,0.22,0.56000000000000005,13,1.24,1.7,41,5.95,5.0999999999999996,44,3.4,5.8,34,3.4,4,14,1.1599999999999999,1.72,38,3.61,4.7,48,7.1,6.2,28,2.8,3.4,43,3.79,5.65,33,4.28,3.99,32,2.83,3.77,28,2.8,3.4,19,1.33,2.06,4,0.32,0.75,47,2.34,6.2,33,4.28,3.99,2,0.22,0.56000000000000005,21,1.83,2.3199999999999998,7,0.4,1.05,35,2.83,4.0199999999999996,17,1.3,1.89,38,3.61,4.7,49,3.94,6.8,21,1.83,2.3199999999999998,41,5.95,5.0999999999999996,5,0.32,0.91,45,5.2,5.8,36,2.2799999999999998,4.0999999999999996,6,0.38,0.96,39,4.1900000000000004,4.8899999999999997,37,3.7,4.2,14,1.1599999999999999,1.72,2,0.22,0.56000000000000005,3,0.46,0.7,29,2.4,3.5,17,1.3,1.89,11,0.91,1.3,9,0.6,1.18,40,5.16,4.92,36,2.2799999999999998,4.0999999999999996,38,3.61,4.7,22,2.75,2.4,25,3.68,2.88,4,0.32,0.75,10,1.1200000000000001,1.2,32,2.83,3.77,4,0.32,0.75,30,3.4,3.7,41,5.95,5.0999999999999996,37,3.7,4.2,6,0.38,0.96,32,2.83,3.77,3,0.46,0.7,43,3.79,5.65,22,2.75,2.4,41,5.95,5.0999999999999996,15,1.3,1.8,15,1.3,1.8,26,2.15,2.91,18,1.32,2,43,3.79,5.65,7,0.4,1.05,4,0.32,0.75,31,1.56,3.71,6,0.38,0.96,37,3.7,4.2,48,7.1,6.2,43,3.79,5.65,8,1.68,1.1299999999999999,42,2.97,5.3,7,0.4,1.05,16,1.58,1.83,19,1.33,2.06,28,2.8,3.4,14,1.1599999999999999,1.72,22,2.75,2.4,27,4.01,3,47,2.34,6.2,6,0.38,0.96,29,2.4,3.5,49,3.94,6.8,28,2.8,3.4,25,3.68,2.88,30,3.4,3.7,5,0.32,0.91,24,1.7,2.8,21,1.83,2.3199999999999998,4,0.32,0.75,5,0.32,0.91,19,1.33,2.06,15,1.3,1.8,26,2.15,2.91,48,7.1,6.2,2,0.22,0.56000000000000005,40,5.16,4.92,46,5.9,6.1,34,3.4,4,49,3.94,6.8,24,1.7,2.8,30,3.4,3.7,38,3.61,4.7,17,1.3,1.89,49,3.94,6.8,10,1.1200000000000001,1.2,46,5.9,6.1,7,0.4,1.05,22,2.75,2.4,49,3.94,6.8,6,0.38,0.96,31,1.56,3.71,1,0.22,0.51,20,2.06,2.23,38,3.61,4.7,49,3.94,6.8,39,4.1900000000000004,4.8899999999999997,47,2.34,6.2,10,1.1200000000000001,1.2,12,2.16,1.6,43,3.79,5.65,2,0.22,0.56000000000000005,22,2.75,2.4,23,1.1499999999999999,2.5,36,2.2799999999999998,4.0999999999999996,25,3.68,2.88,9,0.6,1.18,6,0.38,0.96,43,3.79,5.65,1,0.22,0.51,49,3.94,6.8,42,2.97,5.3,31,1.56,3.71,45,5.2,5.8,38,3.61,4.7,13,1.24,1.7,14,1.1599999999999999,1.72,10,1.1200000000000001,1.2,30,3.4,3.7,11,0.91,1.3,23,1.1499999999999999,2.5,1,0.22,0.51,32,2.83,3.77,12,2.16,1.6,36,2.2799999999999998,4.0999999999999996,48,7.1,6.2,18,1.32,2,3,0.46,0.7,20,2.06,2.23,50,4.5,6.8,2,0.22,0.56000000000000005,36,2.2799999999999998,4.0999999999999996,37,3.7,4.2,28,2.8,3.4,27,4.01,3,30,3.4,3.7,11,0.91,1.3,34,3.4,4,11,0.91,1.3,47,2.34,6.2,11,0.91,1.3,37,3.7,4.2,10,1.1200000000000001,1.2,21,1.83,2.3199999999999998,42,2.97,5.3,4,0.32,0.75,45,5.2,5.8,10,1.1200000000000001,1.2,49,3.94,6.8,9,0.6,1.18,33,4.28,3.99,48,7.1,6.2,40,5.16,4.92,46,5.9,6.1,43,3.79,5.65,20,2.06,2.23,11,0.91,1.3,3,0.46,0.7,1,0.22,0.51,46,5.9,6.1,42,2.97,5.3,7,0.4,1.05,19,1.33,2.06,26,2.15,2.91,1,0.22,0.51,23,1.1499999999999999,2.5,31,1.56,3.71,46,5.9,6.1,14,1.1599999999999999,1.72,20,2.06,2.23,39,4.1900000000000004,4.8899999999999997,5,0.32,0.91,43,3.79,5.65,47,2.34,6.2,29,2.4,3.5,42,2.97,5.3,31,1.56,3.71,25,3.68,2.88,43,3.79,5.65,38,3.61,4.7,5,0.32,0.91,49,3.94,6.8,15,1.3,1.8,20,2.06,2.23,48,7.1,6.2,1,0.22,0.51,23,1.1499999999999999,2.5,35,2.83,4.0199999999999996,25,3.68,2.88,29,2.4,3.5,47,2.34,6.2,33,4.28,3.99,29,2.4,3.5,35,2.83,4.0199999999999996,46,5.9,6.1,11,0.91,1.3,35,2.83,4.0199999999999996,31,1.56,3.71,44,3.4,5.8,25,3.68,2.88,19,1.33,2.06,49,3.94,6.8,30,3.4,3.7,9,0.6,1.18,37,3.7,4.2,23,1.1499999999999999,2.5,17,1.3,1.89,8,1.68,1.1299999999999999,20,2.06,2.23,26,2.15,2.91,19,1.33,2.06,26,2.15,2.91,28,2.8,3.4,22,2.75,2.4,38,3.61,4.7,33,4.28,3.99,18,1.32,2,34,3.4,4,9,0.6,1.18,37,3.7,4.2,24,1.7,2.8,17,1.3,1.89,17,1.3,1.89,18,1.32,2,3,0.46,0.7,1,0.22,0.51,18,1.32,2,22,2.75,2.4,35,2.83,4.0199999999999996,42,2.97,5.3,28,2.8,3.4,23,1.1499999999999999,2.5,48,7.1,6.2,39,4.1900000000000004,4.8899999999999997,20,2.06,2.23,40,5.16,4.92,42,2.97,5.3,8,1.68,1.1299999999999999,35,2.83,4.0199999999999996,25,3.68,2.88,35,2.83,4.0199999999999996,23,1.1499999999999999,2.5,10,1.1200000000000001,1.2,4,0.32,0.75,18,1.32,2,20,2.06,2.23,11,0.91,1.3,41,5.95,5.0999999999999996,25,3.68,2.88,11,0.91,1.3,36,2.2799999999999998,4.0999999999999996,5,0.32,0.91,9,0.6,1.18,9,0.6,1.18,22,2.75,2.4,5,0.32,0.91,38,3.61,4.7,21,1.83,2.3199999999999998,23,1.1499999999999999,2.5,38,3.61,4.7,2,0.22,0.56000000000000005,50,4.5,6.8,44,3.4,5.8,43,3.79,5.65,26,2.15,2.91,7,0.4,1.05,44,3.4,5.8,27,4.01,3,6,0.38,0.96,43,3.79,5.65,43,3.79,5.65,47,2.34,6.2,47,2.34,6.2,34,3.4,4,50,4.5,6.8,2,0.22,0.56000000000000005,23,1.1499999999999999,2.5,36,2.2799999999999998,4.0999999999999996,47,2.34,6.2,49,3.94,6.8,42,2.97,5.3,50,4.5,6.8,41,5.95,5.0999999999999996,18,1.32,2,27,4.01,3,48,7.1,6.2,24,1.7,2.8,50,4.5,6.8,8,1.68,1.1299999999999999,14,1.1599999999999999,1.72,45,5.2,5.8,38,3.61,4.7,32,2.83,3.77,46,5.9,6.1,3,0.46,0.7,41,5.95,5.0999999999999996,26,2.15,2.91,21,1.83,2.3199999999999998,39,4.1900000000000004,4.8899999999999997,50,4.5,6.8,27,4.01,3,21,1.83,2.3199999999999998,3,0.46,0.7,28,2.8,3.4,31,1.56,3.71,25,3.68,2.88,26,2.15,2.91,49,3.94,6.8,42,2.97,5.3,11,0.91,1.3,6,0.38,0.96,12,2.16,1.6,43,3.79,5.65,17,1.3,1.89,10,1.1200000000000001,1.2,8,1.68,1.1299999999999999,26,2.15,2.91,25,3.68,2.88,32,2.83,3.77,7,0.4,1.05,37,3.7,4.2,46,5.9,6.1,21,1.83,2.3199999999999998,3,0.46,0.7,26,2.15,2.91,null,null,null,null,null,null,null,null,null,null,null,null,null,null,null,null,null,null,null,null,null,null,null,null,null,null,null,null,null,null,null,null,{"$error":"#N/A"}]
[null,null,18,1.32,2,null,null,0,0,null,"Sｘｘ：=DEVSQ(データ範囲)",null,null,{"$f":"DEVSQ($D5:$D1304)","v":137.97991199999998},null,{"$f":"DEVSQ($F5:$F1304)","v":{"$error":"#NUM!"}},null,null,null,null,null,null,null,null,null,null,null,null,null,-0.62441436895018232,1.7889593698588209,-1.314672825204251,1.4044774821916277,null,{"$error":"#DIV/0!"},{"$error":"#DIV/0!"},{"$error":"#DIV/0!"},{"$error":"#DIV/0!"},null,35,33,"","",null,1.6600000000000001,0.67999999999999994,null,1.6600000000000001,0.67999999999999994,null,2.16,1.6,50,4.5,6.8,44,3.4,5.8,46,5.9,6.1,33,4.28,3.99,45,5.2,5.8,20,2.06,2.23,8,1.68,1.1299999999999999,17,1.3,1.89,46,5.9,6.1,46,5.9,6.1,40,5.16,4.92,16,1.58,1.83,9,0.6,1.18,8,1.68,1.1299999999999999,12,2.16,1.6,8,1.68,1.1299999999999999,3,0.46,0.7,45,5.2,5.8,4,0.32,0.75,46,5.9,6.1,44,3.4,5.8,44,3.4,5.8,44,3.4,5.8,28,2.8,3.4,38,3.61,4.7,40,5.16,4.92,13,1.24,1.7,36,2.2799999999999998,4.0999999999999996,46,5.9,6.1,40,5.16,4.92,5,0.32,0.91,35,2.83,4.0199999999999996,47,2.34,6.2,48,7.1,6.2,12,2.16,1.6,35,2.83,4.0199999999999996,29,2.4,3.5,13,1.24,1.7,6,0.38,0.96,14,1.1599999999999999,1.72,30,3.4,3.7,30,3.4,3.7,45,5.2,5.8,6,0.38,0.96,49,3.94,6.8,13,1.24,1.7,41,5.95,5.0999999999999996,50,4.5,6.8,16,1.58,1.83,20,2.06,2.23,30,3.4,3.7,1,0.22,0.51,27,4.01,3,48,7.1,6.2,18,1.32,2,4,0.32,0.75,38,3.61,4.7,41,5.95,5.0999999999999996,31,1.56,3.71,34,3.4,4,25,3.68,2.88,6,0.38,0.96,29,2.4,3.5,39,4.1900000000000004,4.8899999999999997,7,0.4,1.05,42,2.97,5.3,34,3.4,4,8,1.68,1.1299999999999999,24,1.7,2.8,34,3.4,4,23,1.1499999999999999,2.5,41,5.95,5.0999999999999996,40,5.16,4.92,11,0.91,1.3,25,3.68,2.88,39,4.1900000000000004,4.8899999999999997,45,5.2,5.8,10,1.1200000000000001,1.2,38,3.61,4.7,50,4.5,6.8,30,3.4,3.7,8,1.68,1.1299999999999999,9,0.6,1.18,33,4.28,3.99,23,1.1499999999999999,2.5,18,1.32,2,21,1.83,2.3199999999999998,30,3.4,3.7,28,2.8,3.4,38,3.61,4.7,44,3.4,5.8,5,0.32,0.91,38,3.61,4.7,26,2.15,2.91,3,0.46,0.7,45,5.2,5.8,9,0.6,1.18,25,3.68,2.88,5,0.32,0.91,14,1.1599999999999999,1.72,36,2.2799999999999998,4.0999999999999996,8,1.68,1.1299999999999999,27,4.01,3,36,2.2799999999999998,4.0999999999999996,5,0.32,0.91,36,2.2799999999999998,4.0999999999999996,19,1.33,2.06,27,4.01,3,1,0.22,0.51,21,1.83,2.3199999999999998,20,2.06,2.23,45,5.2,5.8,27,4.01,3,10,1.1200000000000001,1.2,34,3.4,4,3,0.46,0.7,38,3.61,4.7,27,4.01,3,19,1.33,2.06,40,5.16,4.92,38,3.61,4.7,29,2.4,3.5,44,3.4,5.8,12,2.16,1.6,40,5.16,4.92,22,2.75,2.4,47,2.34,6.2,38,3.61,4.7,32,2.83,3.77,45,5.2,5.8,18,1.32,2,14,1.1599999999999999,1.72,18,1.32,2,8,1.68,1.1299999999999999,36,2.2799999999999998,4.0999999999999996,34,3.4,4,6,0.38,0.96,4,0.32,0.75,22,2.75,2.4,30,3.4,3.7,24,1.7,2.8,20,2.06,2.23,4,0.32,0.75,21,1.83,2.3199999999999998,35,2.83,4.0199999999999996,23,1.1499999999999999,2.5,45,5.2,5.8,22,2.75,2.4,26,2.15,2.91,49,3.94,6.8,30,3.4,3.7,21,1.83,2.3199999999999998,49,3.94,6.8,12,2.16,1.6,23,1.1499999999999999,2.5,14,1.1599999999999999,1.72,34,3.4,4,18,1.32,2,26,2.15,2.91,5,0.32,0.91,7,0.4,1.05,1,0.22,0.51,14,1.1599999999999999,1.72,18,1.32,2,25,3.68,2.88,8,1.68,1.1299999999999999,16,1.58,1.83,20,2.06,2.23,22,2.75,2.4,14,1.1599999999999999,1.72,25,3.68,2.88,9,0.6,1.18,16,1.58,1.83,31,1.56,3.71,8,1.68,1.1299999999999999,14,1.1599999999999999,1.72,34,3.4,4,46,5.9,6.1,36,2.2799999999999998,4.0999999999999996,2,0.22,0.56000000000000005,42,2.97,5.3,7,0.4,1.05,21,1.83,2.3199999999999998,10,1.1200000000000001,1.2,40,5.16,4.92,35,2.83,4.0199999999999996,23,1.1499999999999999,2.5,23,1.1499999999999999,2.5,27,4.01,3,38,3.61,4.7,9,0.6,1.18,32,2.83,3.77,14,1.1599999999999999,1.72,40,5.16,4.92,35,2.83,4.0199999999999996,38,3.61,4.7,13,1.24,1.7,31,1.56,3.71,35,2.83,4.0199999999999996,32,2.83,3.77,33,4.28,3.99,14,1.1599999999999999,1.72,20,2.06,2.23,26,2.15,2.91,34,3.4,4,28,2.8,3.4,49,3.94,6.8,9,0.6,1.18,5,0.32,0.91,27,4.01,3,48,7.1,6.2,3,0.46,0.7,40,5.16,4.92,25,3.68,2.88,9,0.6,1.18,41,5.95,5.0999999999999996,41,5.95,5.0999999999999996,48,7.1,6.2,36,2.2799999999999998,4.0999999999999996,50,4.5,6.8,21,1.83,2.3199999999999998,4,0.32,0.75,11,0.91,1.3,4,0.32,0.75,30,3.4,3.7,13,1.24,1.7,24,1.7,2.8,35,2.83,4.0199999999999996,36,2.2799999999999998,4.0999999999999996,50,4.5,6.8,9,0.6,1.18,4,0.32,0.75,18,1.32,2,2,0.22,0.56000000000000005,50,4.5,6.8,40,5.16,4.92,32,2.83,3.77,32,2.83,3.77,43,3.79,5.65,42,2.97,5.3,26,2.15,2.91,15,1.3,1.8,25,3.68,2.88,36,2.2799999999999998,4.0999999999999996,25,3.68,2.88,26,2.15,2.91,12,2.16,1.6,50,4.5,6.8,30,3.4,3.7,49,3.94,6.8,5,0.32,0.91,5,0.32,0.91,23,1.1499999999999999,2.5,40,5.16,4.92,2,0.22,0.56000000000000005,8,1.68,1.1299999999999999,38,3.61,4.7,16,1.58,1.83,23,1.1499999999999999,2.5,19,1.33,2.06,48,7.1,6.2,39,4.1900000000000004,4.8899999999999997,7,0.4,1.05,22,2.75,2.4,7,0.4,1.05,27,4.01,3,7,0.4,1.05,14,1.1599999999999999,1.72,14,1.1599999999999999,1.72,19,1.33,2.06,8,1.68,1.1299999999999999,50,4.5,6.8,27,4.01,3,9,0.6,1.18,7,0.4,1.05,12,2.16,1.6,3,0.46,0.7,34,3.4,4,46,5.9,6.1,25,3.68,2.88,39,4.1900000000000004,4.8899999999999997,35,2.83,4.0199999999999996,22,2.75,2.4,50,4.5,6.8,36,2.2799999999999998,4.0999999999999996,21,1.83,2.3199999999999998,47,2.34,6.2,29,2.4,3.5,15,1.3,1.8,49,3.94,6.8,24,1.7,2.8,2,0.22,0.56000000000000005,4,0.32,0.75,21,1.83,2.3199999999999998,45,5.2,5.8,24,1.7,2.8,30,3.4,3.7,37,3.7,4.2,32,2.83,3.77,7,0.4,1.05,35,2.83,4.0199999999999996,11,0.91,1.3,12,2.16,1.6,19,1.33,2.06,38,3.61,4.7,5,0.32,0.91,37,3.7,4.2,42,2.97,5.3,26,2.15,2.91,22,2.75,2.4,29,2.4,3.5,50,4.5,6.8,47,2.34,6.2,6,0.38,0.96,29,2.4,3.5,44,3.4,5.8,16,1.58,1.83,18,1.32,2,13,1.24,1.7,4,0.32,0.75,43,3.79,5.65,9,0.6,1.18,20,2.06,2.23,44,3.4,5.8,9,0.6,1.18,20,2.06,2.23,40,5.16,4.92,44,3.4,5.8,17,1.3,1.89,31,1.56,3.71,19,1.33,2.06,31,1.56,3.71,50,4.5,6.8,32,2.83,3.77,21,1.83,2.3199999999999998,33,4.28,3.99,39,4.1900000000000004,4.8899999999999997,4,0.32,0.75,8,1.68,1.1299999999999999,36,2.2799999999999998,4.0999999999999996,2,0.22,0.56000000000000005,13,1.24,1.7,28,2.8,3.4,11,0.91,1.3,33,4.28,3.99,10,1.1200000000000001,1.2,18,1.32,2,1,0.22,0.51,17,1.3,1.89,6,0.38,0.96,19,1.33,2.06,18,1.32,2,50,4.5,6.8,46,5.9,6.1,2,0.22,0.56000000000000005,6,0.38,0.96,18,1.32,2,9,0.6,1.18,10,1.1200000000000001,1.2,18,1.32,2,47,2.34,6.2,7,0.4,1.05,9,0.6,1.18,48,7.1,6.2,13,1.24,1.7,5,0.32,0.91,3,0.46,0.7,30,3.4,3.7,10,1.1200000000000001,1.2,4,0.32,0.75,12,2.16,1.6,7,0.4,1.05,33,4.28,3.99,31,1.56,3.71,11,0.91,1.3,45,5.2,5.8,27,4.01,3,45,5.2,5.8,32,2.83,3.77,29,2.4,3.5,44,3.4,5.8,7,0.4,1.05,31,1.56,3.71,7,0.4,1.05,16,1.58,1.83,8,1.68,1.1299999999999999,12,2.16,1.6,50,4.5,6.8,35,2.83,4.0199999999999996,12,2.16,1.6,21,1.83,2.3199999999999998,33,4.28,3.99,50,4.5,6.8,13,1.24,1.7,44,3.4,5.8,16,1.58,1.83,30,3.4,3.7,4,0.32,0.75,24,1.7,2.8,45,5.2,5.8,29,2.4,3.5,2,0.22,0.56000000000000005,40,5.16,4.92,14,1.1599999999999999,1.72,24,1.7,2.8,49,3.94,6.8,43,3.79,5.65,38,3.61,4.7,8,1.68,1.1299999999999999,10,1.1200000000000001,1.2,12,2.16,1.6,41,5.95,5.0999999999999996,2,0.22,0.56000000000000005,46,5.9,6.1,16,1.58,1.83,7,0.4,1.05,21,1.83,2.3199999999999998,43,3.79,5.65,44,3.4,5.8,36,2.2799999999999998,4.0999999999999996,14,1.1599999999999999,1.72,1,0.22,0.51,42,2.97,5.3,25,3.68,2.88,6,0.38,0.96,49,3.94,6.8,17,1.3,1.89,49,3.94,6.8,4,0.32,0.75,1,0.22,0.51,3,0.46,0.7,14,1.1599999999999999,1.72,28,2.8,3.4,48,7.1,6.2,35,2.83,4.0199999999999996,19,1.33,2.06,31,1.56,3.71,41,5.95,5.0999999999999996,43,3.79,5.65,24,1.7,2.8,8,1.68,1.1299999999999999,4,0.32,0.75,1,0.22,0.51,47,2.34,6.2,45,5.2,5.8,46,5.9,6.1,42,2.97,5.3,4,0.32,0.75,45,5.2,5.8,49,3.94,6.8,38,3.61,4.7,25,3.68,2.88,12,2.16,1.6,2,0.22,0.56000000000000005,38,3.61,4.7,28,2.8,3.4,43,3.79,5.65,12,2.16,1.6,20,2.06,2.23,6,0.38,0.96,42,2.97,5.3,22,2.75,2.4,5,0.32,0.91,24,1.7,2.8,34,3.4,4,39,4.1900000000000004,4.8899999999999997,40,5.16,4.92,32,2.83,3.77,8,1.68,1.1299999999999999,30,3.4,3.7,28,2.8,3.4,41,5.95,5.0999999999999996,4,0.32,0.75,23,1.1499999999999999,2.5,41,5.95,5.0999999999999996,8,1.68,1.1299999999999999,27,4.01,3,31,1.56,3.71,26,2.15,2.91,34,3.4,4,17,1.3,1.89,25,3.68,2.88,38,3.61,4.7,28,2.8,3.4,32,2.83,3.77,36,2.2799999999999998,4.0999999999999996,28,2.8,3.4,30,3.4,3.7,43,3.79,5.65,1,0.22,0.51,45,5.2,5.8,49,3.94,6.8,46,5.9,6.1,38,3.61,4.7,50,4.5,6.8,9,0.6,1.18,29,2.4,3.5,25,3.68,2.88,45,5.2,5.8,15,1.3,1.8,9,0.6,1.18,null,null,null,null,null,null,null,null,null,null,null,null,null,null,null,null,null,null,null,null,null,null,null,null,null,null,null,null,null,null,null,null,{"$error":"#N/A"}]
[null,null,19,1.33,2.06,null,null,0,0,null,"Sｙｙ：=DEVSQ(データ範囲)",null,null,{"$f":"DEVSQ(E5:E1304)","v":168.44836799999999},null,{"$f":"DEVSQ(G5:G1304)","v":{"$error":"#NUM!"}},null,null,null,null,null,null,null,null,null,null,null,null,null,-0.56964218703877556,1.876899768451072,-1.2996779000185121,1.4374872811588575,null,{"$error":"#DIV/0!"},{"$error":"#DIV/0!"},{"$error":"#DIV/0!"},{"$error":"#DIV/0!"},null,34,32,"","",null,1.6950000000000001,0.73,null,1.6950000000000001,0.73,null,1.24,1.7,24,1.7,2.8,16,1.58,1.83,13,1.24,1.7,22,2.75,2.4,5,0.32,0.91,27,4.01,3,31,1.56,3.71,28,2.8,3.4,42,2.97,5.3,11,0.91,1.3,22,2.75,2.4,15,1.3,1.8,50,4.5,6.8,29,2.4,3.5,34,3.4,4,42,2.97,5.3,7,0.4,1.05,34,3.4,4,41,5.95,5.0999999999999996,2,0.22,0.56000000000000005,1,0.22,0.51,42,2.97,5.3,14,1.1599999999999999,1.72,45,5.2,5.8,43,3.79,5.65,15,1.3,1.8,25,3.68,2.88,24,1.7,2.8,41,5.95,5.0999999999999996,8,1.68,1.1299999999999999,44,3.4,5.8,38,3.61,4.7,36,2.2799999999999998,4.0999999999999996,27,4.01,3,10,1.1200000000000001,1.2,6,0.38,0.96,3,0.46,0.7,49,3.94,6.8,15,1.3,1.8,40,5.16,4.92,11,0.91,1.3,8,1.68,1.1299999999999999,39,4.1900000000000004,4.8899999999999997,35,2.83,4.0199999999999996,48,7.1,6.2,40,5.16,4.92,14,1.1599999999999999,1.72,22,2.75,2.4,6,0.38,0.96,39,4.1900000000000004,4.8899999999999997,37,3.7,4.2,32,2.83,3.77,35,2.83,4.0199999999999996,34,3.4,4,50,4.5,6.8,25,3.68,2.88,47,2.34,6.2,17,1.3,1.89,36,2.2799999999999998,4.0999999999999996,27,4.01,3,50,4.5,6.8,41,5.95,5.0999999999999996,22,2.75,2.4,37,3.7,4.2,24,1.7,2.8,29,2.4,3.5,49,3.94,6.8,37,3.7,4.2,30,3.4,3.7,45,5.2,5.8,1,0.22,0.51,22,2.75,2.4,15,1.3,1.8,29,2.4,3.5,48,7.1,6.2,39,4.1900000000000004,4.8899999999999997,39,4.1900000000000004,4.8899999999999997,39,4.1900000000000004,4.8899999999999997,3,0.46,0.7,39,4.1900000000000004,4.8899999999999997,11,0.91,1.3,14,1.1599999999999999,1.72,37,3.7,4.2,43,3.79,5.65,39,4.1900000000000004,4.8899999999999997,42,2.97,5.3,12,2.16,1.6,19,1.33,2.06,41,5.95,5.0999999999999996,45,5.2,5.8,24,1.7,2.8,22,2.75,2.4,20,2.06,2.23,27,4.01,3,8,1.68,1.1299999999999999,44,3.4,5.8,49,3.94,6.8,27,4.01,3,3,0.46,0.7,32,2.83,3.77,22,2.75,2.4,46,5.9,6.1,39,4.1900000000000004,4.8899999999999997,15,1.3,1.8,15,1.3,1.8,29,2.4,3.5,23,1.1499999999999999,2.5,41,5.95,5.0999999999999996,10,1.1200000000000001,1.2,7,0.4,1.05,49,3.94,6.8,33,4.28,3.99,33,4.28,3.99,12,2.16,1.6,14,1.1599999999999999,1.72,1,0.22,0.51,1,0.22,0.51,44,3.4,5.8,50,4.5,6.8,21,1.83,2.3199999999999998,36,2.2799999999999998,4.0999999999999996,5,0.32,0.91,15,1.3,1.8,24,1.7,2.8,38,3.61,4.7,46,5.9,6.1,50,4.5,6.8,50,4.5,6.8,21,1.83,2.3199999999999998,26,2.15,2.91,47,2.34,6.2,8,1.68,1.1299999999999999,13,1.24,1.7,32,2.83,3.77,27,4.01,3,12,2.16,1.6,20,2.06,2.23,11,0.91,1.3,36,2.2799999999999998,4.0999999999999996,11,0.91,1.3,46,5.9,6.1,23,1.1499999999999999,2.5,50,4.5,6.8,48,7.1,6.2,32,2.83,3.77,38,3.61,4.7,42,2.97,5.3,25,3.68,2.88,6,0.38,0.96,20,2.06,2.23,12,2.16,1.6,23,1.1499999999999999,2.5,43,3.79,5.65,50,4.5,6.8,31,1.56,3.71,3,0.46,0.7,39,4.1900000000000004,4.8899999999999997,28,2.8,3.4,48,7.1,6.2,47,2.34,6.2,1,0.22,0.51,31,1.56,3.71,2,0.22,0.56000000000000005,33,4.28,3.99,41,5.95,5.0999999999999996,31,1.56,3.71,12,2.16,1.6,4,0.32,0.75,43,3.79,5.65,32,2.83,3.77,11,0.91,1.3,14,1.1599999999999999,1.72,34,3.4,4,16,1.58,1.83,5,0.32,0.91,26,2.15,2.91,21,1.83,2.3199999999999998,47,2.34,6.2,44,3.4,5.8,30,3.4,3.7,40,5.16,4.92,49,3.94,6.8,46,5.9,6.1,17,1.3,1.89,22,2.75,2.4,35,2.83,4.0199999999999996,46,5.9,6.1,23,1.1499999999999999,2.5,10,1.1200000000000001,1.2,2,0.22,0.56000000000000005,48,7.1,6.2,28,2.8,3.4,50,4.5,6.8,45,5.2,5.8,44,3.4,5.8,23,1.1499999999999999,2.5,41,5.95,5.0999999999999996,23,1.1499999999999999,2.5,45,5.2,5.8,35,2.83,4.0199999999999996,44,3.4,5.8,46,5.9,6.1,21,1.83,2.3199999999999998,19,1.33,2.06,9,0.6,1.18,16,1.58,1.83,13,1.24,1.7,9,0.6,1.18,8,1.68,1.1299999999999999,44,3.4,5.8,43,3.79,5.65,34,3.4,4,40,5.16,4.92,13,1.24,1.7,1,0.22,0.51,45,5.2,5.8,35,2.83,4.0199999999999996,15,1.3,1.8,33,4.28,3.99,4,0.32,0.75,35,2.83,4.0199999999999996,49,3.94,6.8,50,4.5,6.8,36,2.2799999999999998,4.0999999999999996,29,2.4,3.5,25,3.68,2.88,45,5.2,5.8,46,5.9,6.1,48,7.1,6.2,39,4.1900000000000004,4.8899999999999997,22,2.75,2.4,46,5.9,6.1,34,3.4,4,6,0.38,0.96,41,5.95,5.0999999999999996,42,2.97,5.3,7,0.4,1.05,4,0.32,0.75,22,2.75,2.4,39,4.1900000000000004,4.8899999999999997,7,0.4,1.05,33,4.28,3.99,14,1.1599999999999999,1.72,5,0.32,0.91,40,5.16,4.92,39,4.1900000000000004,4.8899999999999997,25,3.68,2.88,49,3.94,6.8,42,2.97,5.3,45,5.2,5.8,16,1.58,1.83,11,0.91,1.3,2,0.22,0.56000000000000005,47,2.34,6.2,3,0.46,0.7,11,0.91,1.3,49,3.94,6.8,24,1.7,2.8,29,2.4,3.5,19,1.33,2.06,50,4.5,6.8,9,0.6,1.18,43,3.79,5.65,29,2.4,3.5,24,1.7,2.8,19,1.33,2.06,42,2.97,5.3,50,4.5,6.8,14,1.1599999999999999,1.72,8,1.68,1.1299999999999999,30,3.4,3.7,8,1.68,1.1299999999999999,26,2.15,2.91,19,1.33,2.06,29,2.4,3.5,9,0.6,1.18,27,4.01,3,8,1.68,1.1299999999999999,17,1.3,1.89,22,2.75,2.4,5,0.32,0.91,29,2.4,3.5,17,1.3,1.89,12,2.16,1.6,47,2.34,6.2,27,4.01,3,3,0.46,0.7,47,2.34,6.2,21,1.83,2.3199999999999998,48,7.1,6.2,18,1.32,2,9,0.6,1.18,32,2.83,3.77,10,1.1200000000000001,1.2,5,0.32,0.91,27,4.01,3,25,3.68,2.88,38,3.61,4.7,50,4.5,6.8,11,0.91,1.3,17,1.3,1.89,8,1.68,1.1299999999999999,36,2.2799999999999998,4.0999999999999996,8,1.68,1.1299999999999999,29,2.4,3.5,6,0.38,0.96,12,2.16,1.6,15,1.3,1.8,37,3.7,4.2,50,4.5,6.8,25,3.68,2.88,6,0.38,0.96,34,3.4,4,22,2.75,2.4,12,2.16,1.6,25,3.68,2.88,4,0.32,0.75,18,1.32,2,1,0.22,0.51,35,2.83,4.0199999999999996,6,0.38,0.96,50,4.5,6.8,38,3.61,4.7,34,3.4,4,29,2.4,3.5,24,1.7,2.8,9,0.6,1.18,32,2.83,3.77,48,7.1,6.2,19,1.33,2.06,37,3.7,4.2,42,2.97,5.3,50,4.5,6.8,35,2.83,4.0199999999999996,38,3.61,4.7,32,2.83,3.77,24,1.7,2.8,50,4.5,6.8,36,2.2799999999999998,4.0999999999999996,38,3.61,4.7,6,0.38,0.96,44,3.4,5.8,48,7.1,6.2,42,2.97,5.3,41,5.95,5.0999999999999996,29,2.4,3.5,22,2.75,2.4,16,1.58,1.83,10,1.1200000000000001,1.2,50,4.5,6.8,44,3.4,5.8,18,1.32,2,15,1.3,1.8,36,2.2799999999999998,4.0999999999999996,10,1.1200000000000001,1.2,10,1.1200000000000001,1.2,28,2.8,3.4,30,3.4,3.7,50,4.5,6.8,36,2.2799999999999998,4.0999999999999996,3,0.46,0.7,16,1.58,1.83,26,2.15,2.91,10,1.1200000000000001,1.2,1,0.22,0.51,17,1.3,1.89,34,3.4,4,22,2.75,2.4,24,1.7,2.8,5,0.32,0.91,25,3.68,2.88,46,5.9,6.1,20,2.06,2.23,20,2.06,2.23,34,3.4,4,24,1.7,2.8,36,2.2799999999999998,4.0999999999999996,5,0.32,0.91,21,1.83,2.3199999999999998,3,0.46,0.7,2,0.22,0.56000000000000005,2,0.22,0.56000000000000005,32,2.83,3.77,37,3.7,4.2,9,0.6,1.18,11,0.91,1.3,9,0.6,1.18,4,0.32,0.75,15,1.3,1.8,8,1.68,1.1299999999999999,29,2.4,3.5,31,1.56,3.71,3,0.46,0.7,34,3.4,4,41,5.95,5.0999999999999996,33,4.28,3.99,4,0.32,0.75,35,2.83,4.0199999999999996,24,1.7,2.8,19,1.33,2.06,40,5.16,4.92,25,3.68,2.88,2,0.22,0.56000000000000005,6,0.38,0.96,14,1.1599999999999999,1.72,7,0.4,1.05,31,1.56,3.71,43,3.79,5.65,30,3.4,3.7,3,0.46,0.7,33,4.28,3.99,2,0.22,0.56000000000000005,14,1.1599999999999999,1.72,5,0.32,0.91,11,0.91,1.3,36,2.2799999999999998,4.0999999999999996,49,3.94,6.8,29,2.4,3.5,8,1.68,1.1299999999999999,35,2.83,4.0199999999999996,26,2.15,2.91,38,3.61,4.7,44,3.4,5.8,9,0.6,1.18,7,0.4,1.05,27,4.01,3,6,0.38,0.96,27,4.01,3,47,2.34,6.2,17,1.3,1.89,5,0.32,0.91,17,1.3,1.89,31,1.56,3.71,16,1.58,1.83,41,5.95,5.0999999999999996,36,2.2799999999999998,4.0999999999999996,25,3.68,2.88,36,2.2799999999999998,4.0999999999999996,38,3.61,4.7,41,5.95,5.0999999999999996,35,2.83,4.0199999999999996,30,3.4,3.7,32,2.83,3.77,32,2.83,3.77,33,4.28,3.99,38,3.61,4.7,31,1.56,3.71,6,0.38,0.96,45,5.2,5.8,44,3.4,5.8,30,3.4,3.7,18,1.32,2,46,5.9,6.1,48,7.1,6.2,43,3.79,5.65,13,1.24,1.7,27,4.01,3,50,4.5,6.8,44,3.4,5.8,9,0.6,1.18,14,1.1599999999999999,1.72,45,5.2,5.8,26,2.15,2.91,8,1.68,1.1299999999999999,10,1.1200000000000001,1.2,32,2.83,3.77,15,1.3,1.8,3,0.46,0.7,38,3.61,4.7,35,2.83,4.0199999999999996,3,0.46,0.7,11,0.91,1.3,10,1.1200000000000001,1.2,38,3.61,4.7,40,5.16,4.92,9,0.6,1.18,45,5.2,5.8,30,3.4,3.7,40,5.16,4.92,40,5.16,4.92,8,1.68,1.1299999999999999,11,0.91,1.3,49,3.94,6.8,22,2.75,2.4,12,2.16,1.6,19,1.33,2.06,24,1.7,2.8,34,3.4,4,23,1.1499999999999999,2.5,8,1.68,1.1299999999999999,29,2.4,3.5,47,2.34,6.2,42,2.97,5.3,47,2.34,6.2,36,2.2799999999999998,4.0999999999999996,32,2.83,3.77,36,2.2799999999999998,4.0999999999999996,27,4.01,3,48,7.1,6.2,23,1.1499999999999999,2.5,40,5.16,4.92,null,null,null,null,null,null,null,null,null,null,null,null,null,null,null,null,null,null,null,null,null,null,null,null,null,null,null,null,null,null,null,null,{"$error":"#N/A"}]
[null,null,20,2.06,2.23,null,null,0,0,null,"誤差分散比(λ)",null,null,null,null,null,null,null,null,null,null,null,null,null,null,null,null,null,null,-0.5148700051273688,1.9633969854556834,-1.2832397932451336,1.4691909227497222,null,{"$error":"#DIV/0!"},{"$error":"#DIV/0!"},{"$error":"#DIV/0!"},{"$error":"#DIV/0!"},null,28,31,"","",null,2.145,0.16999999999999993,null,2.145,0.16999999999999993,null,1.1599999999999999,1.72,22,2.75,2.4,8,1.68,1.1299999999999999,8,1.68,1.1299999999999999,40,5.16,4.92,14,1.1599999999999999,1.72,41,5.95,5.0999999999999996,35,2.83,4.0199999999999996,38,3.61,4.7,19,1.33,2.06,45,5.2,5.8,40,5.16,4.92,18,1.32,2,39,4.1900000000000004,4.8899999999999997,20,2.06,2.23,50,4.5,6.8,11,0.91,1.3,37,3.7,4.2,40,5.16,4.92,22,2.75,2.4,49,3.94,6.8,47,2.34,6.2,43,3.79,5.65,6,0.38,0.96,37,3.7,4.2,32,2.83,3.77,26,2.15,2.91,15,1.3,1.8,34,3.4,4,15,1.3,1.8,10,1.1200000000000001,1.2,9,0.6,1.18,44,3.4,5.8,19,1.33,2.06,11,0.91,1.3,38,3.61,4.7,23,1.1499999999999999,2.5,17,1.3,1.89,32,2.83,3.77,5,0.32,0.91,44,3.4,5.8,49,3.94,6.8,4,0.32,0.75,36,2.2799999999999998,4.0999999999999996,32,2.83,3.77,48,7.1,6.2,8,1.68,1.1299999999999999,10,1.1200000000000001,1.2,4,0.32,0.75,32,2.83,3.77,39,4.1900000000000004,4.8899999999999997,10,1.1200000000000001,1.2,24,1.7,2.8,3,0.46,0.7,1,0.22,0.51,28,2.8,3.4,24,1.7,2.8,14,1.1599999999999999,1.72,1,0.22,0.51,38,3.61,4.7,31,1.56,3.71,48,7.1,6.2,14,1.1599999999999999,1.72,30,3.4,3.7,11,0.91,1.3,2,0.22,0.56000000000000005,3,0.46,0.7,4,0.32,0.75,28,2.8,3.4,47,2.34,6.2,10,1.1200000000000001,1.2,30,3.4,3.7,5,0.32,0.91,37,3.7,4.2,4,0.32,0.75,19,1.33,2.06,11,0.91,1.3,39,4.1900000000000004,4.8899999999999997,42,2.97,5.3,7,0.4,1.05,1,0.22,0.51,21,1.83,2.3199999999999998,44,3.4,5.8,49,3.94,6.8,21,1.83,2.3199999999999998,6,0.38,0.96,28,2.8,3.4,31,1.56,3.71,27,4.01,3,39,4.1900000000000004,4.8899999999999997,10,1.1200000000000001,1.2,39,4.1900000000000004,4.8899999999999997,17,1.3,1.89,8,1.68,1.1299999999999999,20,2.06,2.23,40,5.16,4.92,19,1.33,2.06,39,4.1900000000000004,4.8899999999999997,18,1.32,2,36,2.2799999999999998,4.0999999999999996,3,0.46,0.7,48,7.1,6.2,37,3.7,4.2,13,1.24,1.7,44,3.4,5.8,2,0.22,0.56000000000000005,31,1.56,3.71,19,1.33,2.06,4,0.32,0.75,4,0.32,0.75,35,2.83,4.0199999999999996,44,3.4,5.8,26,2.15,2.91,22,2.75,2.4,41,5.95,5.0999999999999996,19,1.33,2.06,37,3.7,4.2,1,0.22,0.51,33,4.28,3.99,20,2.06,2.23,20,2.06,2.23,24,1.7,2.8,39,4.1900000000000004,4.8899999999999997,46,5.9,6.1,41,5.95,5.0999999999999996,38,3.61,4.7,39,4.1900000000000004,4.8899999999999997,44,3.4,5.8,42,2.97,5.3,46,5.9,6.1,43,3.79,5.65,14,1.1599999999999999,1.72,48,7.1,6.2,10,1.1200000000000001,1.2,24,1.7,2.8,10,1.1200000000000001,1.2,35,2.83,4.0199999999999996,11,0.91,1.3,20,2.06,2.23,16,1.58,1.83,9,0.6,1.18,35,2.83,4.0199999999999996,46,5.9,6.1,28,2.8,3.4,1,0.22,0.51,2,0.22,0.56000000000000005,16,1.58,1.83,49,3.94,6.8,22,2.75,2.4,29,2.4,3.5,29,2.4,3.5,50,4.5,6.8,27,4.01,3,36,2.2799999999999998,4.0999999999999996,23,1.1499999999999999,2.5,40,5.16,4.92,2,0.22,0.56000000000000005,30,3.4,3.7,33,4.28,3.99,46,5.9,6.1,2,0.22,0.56000000000000005,41,5.95,5.0999999999999996,14,1.1599999999999999,1.72,17,1.3,1.89,9,0.6,1.18,26,2.15,2.91,31,1.56,3.71,24,1.7,2.8,50,4.5,6.8,31,1.56,3.71,8,1.68,1.1299999999999999,39,4.1900000000000004,4.8899999999999997,25,3.68,2.88,24,1.7,2.8,37,3.7,4.2,12,2.16,1.6,2,0.22,0.56000000000000005,29,2.4,3.5,4,0.32,0.75,20,2.06,2.23,23,1.1499999999999999,2.5,31,1.56,3.71,26,2.15,2.91,26,2.15,2.91,20,2.06,2.23,43,3.79,5.65,49,3.94,6.8,50,4.5,6.8,47,2.34,6.2,27,4.01,3,11,0.91,1.3,1,0.22,0.51,23,1.1499999999999999,2.5,42,2.97,5.3,17,1.3,1.89,25,3.68,2.88,37,3.7,4.2,38,3.61,4.7,21,1.83,2.3199999999999998,12,2.16,1.6,14,1.1599999999999999,1.72,29,2.4,3.5,31,1.56,3.71,19,1.33,2.06,49,3.94,6.8,14,1.1599999999999999,1.72,19,1.33,2.06,1,0.22,0.51,50,4.5,6.8,19,1.33,2.06,43,3.79,5.65,10,1.1200000000000001,1.2,38,3.61,4.7,2,0.22,0.56000000000000005,35,2.83,4.0199999999999996,1,0.22,0.51,23,1.1499999999999999,2.5,11,0.91,1.3,3,0.46,0.7,6,0.38,0.96,26,2.15,2.91,21,1.83,2.3199999999999998,36,2.2799999999999998,4.0999999999999996,13,1.24,1.7,29,2.4,3.5,14,1.1599999999999999,1.72,37,3.7,4.2,17,1.3,1.89,28,2.8,3.4,39,4.1900000000000004,4.8899999999999997,2,0.22,0.56000000000000005,26,2.15,2.91,49,3.94,6.8,22,2.75,2.4,24,1.7,2.8,34,3.4,4,32,2.83,3.77,47,2.34,6.2,2,0.22,0.56000000000000005,50,4.5,6.8,20,2.06,2.23,41,5.95,5.0999999999999996,17,1.3,1.89,50,4.5,6.8,18,1.32,2,31,1.56,3.71,17,1.3,1.89,32,2.83,3.77,9,0.6,1.18,8,1.68,1.1299999999999999,20,2.06,2.23,37,3.7,4.2,36,2.2799999999999998,4.0999999999999996,3,0.46,0.7,18,1.32,2,37,3.7,4.2,43,3.79,5.65,26,2.15,2.91,12,2.16,1.6,24,1.7,2.8,32,2.83,3.77,21,1.83,2.3199999999999998,38,3.61,4.7,23,1.1499999999999999,2.5,30,3.4,3.7,28,2.8,3.4,24,1.7,2.8,14,1.1599999999999999,1.72,20,2.06,2.23,14,1.1599999999999999,1.72,48,7.1,6.2,13,1.24,1.7,34,3.4,4,10,1.1200000000000001,1.2,13,1.24,1.7,18,1.32,2,9,0.6,1.18,13,1.24,1.7,34,3.4,4,21,1.83,2.3199999999999998,3,0.46,0.7,2,0.22,0.56000000000000005,36,2.2799999999999998,4.0999999999999996,24,1.7,2.8,27,4.01,3,16,1.58,1.83,18,1.32,2,28,2.8,3.4,39,4.1900000000000004,4.8899999999999997,44,3.4,5.8,26,2.15,2.91,25,3.68,2.88,47,2.34,6.2,25,3.68,2.88,38,3.61,4.7,7,0.4,1.05,30,3.4,3.7,13,1.24,1.7,16,1.58,1.83,40,5.16,4.92,13,1.24,1.7,9,0.6,1.18,17,1.3,1.89,46,5.9,6.1,17,1.3,1.89,44,3.4,5.8,17,1.3,1.89,46,5.9,6.1,10,1.1200000000000001,1.2,38,3.61,4.7,45,5.2,5.8,25,3.68,2.88,26,2.15,2.91,8,1.68,1.1299999999999999,38,3.61,4.7,47,2.34,6.2,46,5.9,6.1,3,0.46,0.7,47,2.34,6.2,41,5.95,5.0999999999999996,40,5.16,4.92,37,3.7,4.2,15,1.3,1.8,49,3.94,6.8,22,2.75,2.4,44,3.4,5.8,13,1.24,1.7,32,2.83,3.77,21,1.83,2.3199999999999998,45,5.2,5.8,36,2.2799999999999998,4.0999999999999996,41,5.95,5.0999999999999996,8,1.68,1.1299999999999999,23,1.1499999999999999,2.5,21,1.83,2.3199999999999998,2,0.22,0.56000000000000005,42,2.97,5.3,11,0.91,1.3,14,1.1599999999999999,1.72,12,2.16,1.6,20,2.06,2.23,49,3.94,6.8,12,2.16,1.6,47,2.34,6.2,4,0.32,0.75,45,5.2,5.8,11,0.91,1.3,33,4.28,3.99,43,3.79,5.65,5,0.32,0.91,16,1.58,1.83,30,3.4,3.7,19,1.33,2.06,20,2.06,2.23,16,1.58,1.83,27,4.01,3,5,0.32,0.91,21,1.83,2.3199999999999998,24,1.7,2.8,3,0.46,0.7,28,2.8,3.4,42,2.97,5.3,21,1.83,2.3199999999999998,46,5.9,6.1,5,0.32,0.91,48,7.1,6.2,20,2.06,2.23,37,3.7,4.2,31,1.56,3.71,28,2.8,3.4,40,5.16,4.92,47,2.34,6.2,38,3.61,4.7,39,4.1900000000000004,4.8899999999999997,46,5.9,6.1,44,3.4,5.8,9,0.6,1.18,30,3.4,3.7,41,5.95,5.0999999999999996,14,1.1599999999999999,1.72,15,1.3,1.8,15,1.3,1.8,35,2.83,4.0199999999999996,50,4.5,6.8,50,4.5,6.8,11,0.91,1.3,15,1.3,1.8,38,3.61,4.7,44,3.4,5.8,46,5.9,6.1,33,4.28,3.99,25,3.68,2.88,24,1.7,2.8,19,1.33,2.06,6,0.38,0.96,36,2.2799999999999998,4.0999999999999996,2,0.22,0.56000000000000005,28,2.8,3.4,25,3.68,2.88,6,0.38,0.96,9,0.6,1.18,11,0.91,1.3,33,4.28,3.99,29,2.4,3.5,10,1.1200000000000001,1.2,49,3.94,6.8,7,0.4,1.05,18,1.32,2,15,1.3,1.8,29,2.4,3.5,14,1.1599999999999999,1.72,20,2.06,2.23,10,1.1200000000000001,1.2,24,1.7,2.8,16,1.58,1.83,5,0.32,0.91,6,0.38,0.96,28,2.8,3.4,47,2.34,6.2,12,2.16,1.6,37,3.7,4.2,14,1.1599999999999999,1.72,50,4.5,6.8,3,0.46,0.7,33,4.28,3.99,45,5.2,5.8,27,4.01,3,39,4.1900000000000004,4.8899999999999997,46,5.9,6.1,3,0.46,0.7,47,2.34,6.2,12,2.16,1.6,50,4.5,6.8,28,2.8,3.4,26,2.15,2.91,39,4.1900000000000004,4.8899999999999997,37,3.7,4.2,22,2.75,2.4,8,1.68,1.1299999999999999,25,3.68,2.88,44,3.4,5.8,11,0.91,1.3,17,1.3,1.89,29,2.4,3.5,29,2.4,3.5,25,3.68,2.88,20,2.06,2.23,1,0.22,0.51,11,0.91,1.3,37,3.7,4.2,49,3.94,6.8,28,2.8,3.4,34,3.4,4,15,1.3,1.8,37,3.7,4.2,41,5.95,5.0999999999999996,27,4.01,3,36,2.2799999999999998,4.0999999999999996,20,2.06,2.23,36,2.2799999999999998,4.0999999999999996,38,3.61,4.7,16,1.58,1.83,48,7.1,6.2,11,0.91,1.3,25,3.68,2.88,46,5.9,6.1,7,0.4,1.05,7,0.4,1.05,16,1.58,1.83,49,3.94,6.8,8,1.68,1.1299999999999999,20,2.06,2.23,22,2.75,2.4,41,5.95,5.0999999999999996,35,2.83,4.0199999999999996,21,1.83,2.3199999999999998,18,1.32,2,11,0.91,1.3,7,0.4,1.05,42,2.97,5.3,39,4.1900000000000004,4.8899999999999997,6,0.38,0.96,5,0.32,0.91,16,1.58,1.83,33,4.28,3.99,42,2.97,5.3,3,0.46,0.7,43,3.79,5.65,31,1.56,3.71,10,1.1200000000000001,1.2,21,1.83,2.3199999999999998,6,0.38,0.96,24,1.7,2.8,9,0.6,1.18,38,3.61,4.7,7,0.4,1.05,10,1.1200000000000001,1.2,33,4.28,3.99,11,0.91,1.3,11,0.91,1.3,47,2.34,6.2,24,1.7,2.8,null,null,null,null,null,null,null,null,null,null,null,null,null,null,null,null,null,null,null,null,null,null,null,null,null,null,null,null,null,null,null,null,{"$error":"#N/A"}]
[null,null,21,1.83,2.3199999999999998,null,null,0,0,null,"直線回帰（古典的回帰式）",null,"b","a","b","a",null,null,null,null,null,null,null,null,null,null,null,null,null,-0.4600978232159621,2.0485425516844149,-1.2654500356958751,1.4996712472983611,null,{"$error":"#DIV/0!"},{"$error":"#DIV/0!"},{"$error":"#DIV/0!"},{"$error":"#DIV/0!"},null,29,30,"","",null,2.0750000000000002,0.48999999999999977,null,2.0750000000000002,0.48999999999999977,null,1.3,1.8,1,0.22,0.51,27,4.01,3,47,2.34,6.2,30,3.4,3.7,8,1.68,1.1299999999999999,17,1.3,1.89,16,1.58,1.83,27,4.01,3,30,3.4,3.7,28,2.8,3.4,3,0.46,0.7,1,0.22,0.51,25,3.68,2.88,8,1.68,1.1299999999999999,17,1.3,1.89,38,3.61,4.7,7,0.4,1.05,28,2.8,3.4,17,1.3,1.89,11,0.91,1.3,39,4.1900000000000004,4.8899999999999997,27,4.01,3,37,3.7,4.2,25,3.68,2.88,39,4.1900000000000004,4.8899999999999997,7,0.4,1.05,24,1.7,2.8,25,3.68,2.88,46,5.9,6.1,4,0.32,0.75,34,3.4,4,24,1.7,2.8,5,0.32,0.91,14,1.1599999999999999,1.72,46,5.9,6.1,25,3.68,2.88,2,0.22,0.56000000000000005,31,1.56,3.71,39,4.1900000000000004,4.8899999999999997,28,2.8,3.4,28,2.8,3.4,50,4.5,6.8,21,1.83,2.3199999999999998,32,2.83,3.77,41,5.95,5.0999999999999996,32,2.83,3.77,37,3.7,4.2,8,1.68,1.1299999999999999,50,4.5,6.8,34,3.4,4,23,1.1499999999999999,2.5,35,2.83,4.0199999999999996,7,0.4,1.05,44,3.4,5.8,37,3.7,4.2,40,5.16,4.92,10,1.1200000000000001,1.2,37,3.7,4.2,41,5.95,5.0999999999999996,14,1.1599999999999999,1.72,24,1.7,2.8,38,3.61,4.7,50,4.5,6.8,27,4.01,3,12,2.16,1.6,50,4.5,6.8,50,4.5,6.8,16,1.58,1.83,25,3.68,2.88,44,3.4,5.8,12,2.16,1.6,27,4.01,3,10,1.1200000000000001,1.2,11,0.91,1.3,40,5.16,4.92,29,2.4,3.5,24,1.7,2.8,29,2.4,3.5,10,1.1200000000000001,1.2,28,2.8,3.4,22,2.75,2.4,34,3.4,4,39,4.1900000000000004,4.8899999999999997,7,0.4,1.05,42,2.97,5.3,19,1.33,2.06,6,0.38,0.96,19,1.33,2.06,15,1.3,1.8,28,2.8,3.4,38,3.61,4.7,46,5.9,6.1,31,1.56,3.71,26,2.15,2.91,13,1.24,1.7,20,2.06,2.23,22,2.75,2.4,25,3.68,2.88,18,1.32,2,8,1.68,1.1299999999999999,2,0.22,0.56000000000000005,22,2.75,2.4,22,2.75,2.4,6,0.38,0.96,24,1.7,2.8,5,0.32,0.91,19,1.33,2.06,47,2.34,6.2,48,7.1,6.2,14,1.1599999999999999,1.72,22,2.75,2.4,27,4.01,3,20,2.06,2.23,21,1.83,2.3199999999999998,25,3.68,2.88,33,4.28,3.99,17,1.3,1.89,19,1.33,2.06,29,2.4,3.5,41,5.95,5.0999999999999996,2,0.22,0.56000000000000005,23,1.1499999999999999,2.5,28,2.8,3.4,27,4.01,3,40,5.16,4.92,38,3.61,4.7,9,0.6,1.18,33,4.28,3.99,33,4.28,3.99,33,4.28,3.99,12,2.16,1.6,6,0.38,0.96,6,0.38,0.96,34,3.4,4,5,0.32,0.91,42,2.97,5.3,21,1.83,2.3199999999999998,24,1.7,2.8,21,1.83,2.3199999999999998,41,5.95,5.0999999999999996,36,2.2799999999999998,4.0999999999999996,6,0.38,0.96,9,0.6,1.18,35,2.83,4.0199999999999996,42,2.97,5.3,36,2.2799999999999998,4.0999999999999996,42,2.97,5.3,17,1.3,1.89,5,0.32,0.91,10,1.1200000000000001,1.2,42,2.97,5.3,36,2.2799999999999998,4.0999999999999996,19,1.33,2.06,13,1.24,1.7,20,2.06,2.23,10,1.1200000000000001,1.2,25,3.68,2.88,39,4.1900000000000004,4.8899999999999997,22,2.75,2.4,45,5.2,5.8,42,2.97,5.3,16,1.58,1.83,42,2.97,5.3,15,1.3,1.8,11,0.91,1.3,47,2.34,6.2,45,5.2,5.8,16,1.58,1.83,47,2.34,6.2,8,1.68,1.1299999999999999,7,0.4,1.05,16,1.58,1.83,11,0.91,1.3,21,1.83,2.3199999999999998,8,1.68,1.1299999999999999,33,4.28,3.99,38,3.61,4.7,22,2.75,2.4,1,0.22,0.51,14,1.1599999999999999,1.72,31,1.56,3.71,10,1.1200000000000001,1.2,32,2.83,3.77,34,3.4,4,16,1.58,1.83,40,5.16,4.92,26,2.15,2.91,2,0.22,0.56000000000000005,9,0.6,1.18,47,2.34,6.2,40,5.16,4.92,35,2.83,4.0199999999999996,49,3.94,6.8,16,1.58,1.83,20,2.06,2.23,39,4.1900000000000004,4.8899999999999997,38,3.61,4.7,26,2.15,2.91,31,1.56,3.71,7,0.4,1.05,1,0.22,0.51,2,0.22,0.56000000000000005,36,2.2799999999999998,4.0999999999999996,26,2.15,2.91,47,2.34,6.2,26,2.15,2.91,4,0.32,0.75,49,3.94,6.8,5,0.32,0.91,22,2.75,2.4,14,1.1599999999999999,1.72,29,2.4,3.5,17,1.3,1.89,36,2.2799999999999998,4.0999999999999996,34,3.4,4,14,1.1599999999999999,1.72,40,5.16,4.92,48,7.1,6.2,7,0.4,1.05,6,0.38,0.96,15,1.3,1.8,30,3.4,3.7,48,7.1,6.2,34,3.4,4,1,0.22,0.51,25,3.68,2.88,7,0.4,1.05,33,4.28,3.99,14,1.1599999999999999,1.72,41,5.95,5.0999999999999996,46,5.9,6.1,45,5.2,5.8,32,2.83,3.77,46,5.9,6.1,21,1.83,2.3199999999999998,26,2.15,2.91,17,1.3,1.89,40,5.16,4.92,32,2.83,3.77,13,1.24,1.7,43,3.79,5.65,26,2.15,2.91,40,5.16,4.92,16,1.58,1.83,37,3.7,4.2,6,0.38,0.96,34,3.4,4,6,0.38,0.96,39,4.1900000000000004,4.8899999999999997,27,4.01,3,23,1.1499999999999999,2.5,28,2.8,3.4,18,1.32,2,3,0.46,0.7,31,1.56,3.71,21,1.83,2.3199999999999998,48,7.1,6.2,36,2.2799999999999998,4.0999999999999996,14,1.1599999999999999,1.72,2,0.22,0.56000000000000005,9,0.6,1.18,7,0.4,1.05,28,2.8,3.4,11,0.91,1.3,38,3.61,4.7,34,3.4,4,21,1.83,2.3199999999999998,20,2.06,2.23,45,5.2,5.8,28,2.8,3.4,30,3.4,3.7,5,0.32,0.91,48,7.1,6.2,28,2.8,3.4,42,2.97,5.3,30,3.4,3.7,14,1.1599999999999999,1.72,36,2.2799999999999998,4.0999999999999996,19,1.33,2.06,39,4.1900000000000004,4.8899999999999997,14,1.1599999999999999,1.72,21,1.83,2.3199999999999998,35,2.83,4.0199999999999996,21,1.83,2.3199999999999998,39,4.1900000000000004,4.8899999999999997,36,2.2799999999999998,4.0999999999999996,27,4.01,3,26,2.15,2.91,37,3.7,4.2,40,5.16,4.92,1,0.22,0.51,50,4.5,6.8,49,3.94,6.8,43,3.79,5.65,12,2.16,1.6,33,4.28,3.99,17,1.3,1.89,7,0.4,1.05,49,3.94,6.8,14,1.1599999999999999,1.72,4,0.32,0.75,9,0.6,1.18,32,2.83,3.77,5,0.32,0.91,21,1.83,2.3199999999999998,20,2.06,2.23,29,2.4,3.5,26,2.15,2.91,22,2.75,2.4,44,3.4,5.8,23,1.1499999999999999,2.5,44,3.4,5.8,11,0.91,1.3,21,1.83,2.3199999999999998,6,0.38,0.96,41,5.95,5.0999999999999996,4,0.32,0.75,44,3.4,5.8,20,2.06,2.23,28,2.8,3.4,18,1.32,2,29,2.4,3.5,29,2.4,3.5,32,2.83,3.77,6,0.38,0.96,15,1.3,1.8,34,3.4,4,41,5.95,5.0999999999999996,19,1.33,2.06,7,0.4,1.05,14,1.1599999999999999,1.72,11,0.91,1.3,18,1.32,2,49,3.94,6.8,26,2.15,2.91,43,3.79,5.65,9,0.6,1.18,43,3.79,5.65,14,1.1599999999999999,1.72,8,1.68,1.1299999999999999,35,2.83,4.0199999999999996,46,5.9,6.1,34,3.4,4,50,4.5,6.8,29,2.4,3.5,20,2.06,2.23,44,3.4,5.8,43,3.79,5.65,35,2.83,4.0199999999999996,45,5.2,5.8,47,2.34,6.2,8,1.68,1.1299999999999999,38,3.61,4.7,47,2.34,6.2,10,1.1200000000000001,1.2,3,0.46,0.7,4,0.32,0.75,40,5.16,4.92,30,3.4,3.7,15,1.3,1.8,41,5.95,5.0999999999999996,28,2.8,3.4,28,2.8,3.4,18,1.32,2,10,1.1200000000000001,1.2,15,1.3,1.8,46,5.9,6.1,47,2.34,6.2,11,0.91,1.3,40,5.16,4.92,6,0.38,0.96,31,1.56,3.71,25,3.68,2.88,11,0.91,1.3,37,3.7,4.2,37,3.7,4.2,17,1.3,1.89,10,1.1200000000000001,1.2,12,2.16,1.6,30,3.4,3.7,6,0.38,0.96,6,0.38,0.96,44,3.4,5.8,45,5.2,5.8,46,5.9,6.1,34,3.4,4,4,0.32,0.75,17,1.3,1.89,17,1.3,1.89,36,2.2799999999999998,4.0999999999999996,36,2.2799999999999998,4.0999999999999996,34,3.4,4,32,2.83,3.77,10,1.1200000000000001,1.2,2,0.22,0.56000000000000005,37,3.7,4.2,3,0.46,0.7,25,3.68,2.88,29,2.4,3.5,48,7.1,6.2,25,3.68,2.88,4,0.32,0.75,17,1.3,1.89,50,4.5,6.8,16,1.58,1.83,5,0.32,0.91,18,1.32,2,34,3.4,4,23,1.1499999999999999,2.5,32,2.83,3.77,20,2.06,2.23,8,1.68,1.1299999999999999,40,5.16,4.92,44,3.4,5.8,47,2.34,6.2,18,1.32,2,41,5.95,5.0999999999999996,34,3.4,4,22,2.75,2.4,30,3.4,3.7,17,1.3,1.89,20,2.06,2.23,37,3.7,4.2,29,2.4,3.5,40,5.16,4.92,46,5.9,6.1,47,2.34,6.2,25,3.68,2.88,21,1.83,2.3199999999999998,46,5.9,6.1,10,1.1200000000000001,1.2,26,2.15,2.91,50,4.5,6.8,25,3.68,2.88,7,0.4,1.05,20,2.06,2.23,31,1.56,3.71,46,5.9,6.1,12,2.16,1.6,21,1.83,2.3199999999999998,45,5.2,5.8,30,3.4,3.7,29,2.4,3.5,32,2.83,3.77,11,0.91,1.3,27,4.01,3,41,5.95,5.0999999999999996,7,0.4,1.05,20,2.06,2.23,38,3.61,4.7,25,3.68,2.88,45,5.2,5.8,29,2.4,3.5,9,0.6,1.18,21,1.83,2.3199999999999998,28,2.8,3.4,13,1.24,1.7,28,2.8,3.4,23,1.1499999999999999,2.5,35,2.83,4.0199999999999996,37,3.7,4.2,45,5.2,5.8,26,2.15,2.91,9,0.6,1.18,33,4.28,3.99,48,7.1,6.2,39,4.1900000000000004,4.8899999999999997,44,3.4,5.8,45,5.2,5.8,50,4.5,6.8,7,0.4,1.05,28,2.8,3.4,32,2.83,3.77,45,5.2,5.8,50,4.5,6.8,5,0.32,0.91,42,2.97,5.3,22,2.75,2.4,13,1.24,1.7,42,2.97,5.3,33,4.28,3.99,39,4.1900000000000004,4.8899999999999997,25,3.68,2.88,18,1.32,2,25,3.68,2.88,20,2.06,2.23,23,1.1499999999999999,2.5,13,1.24,1.7,1,0.22,0.51,49,3.94,6.8,42,2.97,5.3,23,1.1499999999999999,2.5,26,2.15,2.91,40,5.16,4.92,13,1.24,1.7,29,2.4,3.5,25,3.68,2.88,13,1.24,1.7,22,2.75,2.4,29,2.4,3.5,30,3.4,3.7,null,null,null,null,null,null,null,null,null,null,null,null,null,null,null,null,null,null,null,null,null,null,null,null,null,null,null,null,null,null,null,null,{"$error":"#N/A"}]
[null,null,22,2.75,2.4,null,null,0,0,null,"x  →　y",null,{"$f":"N21/N22","v":0.93966791339887223},{"$f":"N6-(M26*M6)","v":0.82388541949497629},{"$f":"P21/P22","v":{"$error":"#DIV/0!"}},{"$f":"P6-(O26*O6)","v":{"$error":"#DIV/0!"}},null,null,null,null,null,null,null,null,null,null,null,null,null,-0.4053256413045554,2.1324173037007395,-1.2463894639342095,1.5290014162659271,null,{"$error":"#DIV/0!"},{"$error":"#DIV/0!"},{"$error":"#DIV/0!"},{"$error":"#DIV/0!"},null,22,29,"","",null,2.5750000000000002,-0.35000000000000009,null,2.5750000000000002,-0.35000000000000009,null,1.58,1.83,40,5.16,4.92,18,1.32,2,34,3.4,4,37,3.7,4.2,6,0.38,0.96,23,1.1499999999999999,2.5,15,1.3,1.8,16,1.58,1.83,12,2.16,1.6,10,1.1200000000000001,1.2,28,2.8,3.4,31,1.56,3.71,6,0.38,0.96,47,2.34,6.2,46,5.9,6.1,10,1.1200000000000001,1.2,15,1.3,1.8,26,2.15,2.91,38,3.61,4.7,22,2.75,2.4,22,2.75,2.4,46,5.9,6.1,47,2.34,6.2,34,3.4,4,45,5.2,5.8,5,0.32,0.91,32,2.83,3.77,42,2.97,5.3,38,3.61,4.7,4,0.32,0.75,20,2.06,2.23,49,3.94,6.8,43,3.79,5.65,19,1.33,2.06,18,1.32,2,23,1.1499999999999999,2.5,17,1.3,1.89,26,2.15,2.91,42,2.97,5.3,2,0.22,0.56000000000000005,14,1.1599999999999999,1.72,48,7.1,6.2,9,0.6,1.18,23,1.1499999999999999,2.5,28,2.8,3.4,8,1.68,1.1299999999999999,37,3.7,4.2,6,0.38,0.96,6,0.38,0.96,1,0.22,0.51,8,1.68,1.1299999999999999,2,0.22,0.56000000000000005,15,1.3,1.8,20,2.06,2.23,50,4.5,6.8,9,0.6,1.18,32,2.83,3.77,48,7.1,6.2,23,1.1499999999999999,2.5,43,3.79,5.65,30,3.4,3.7,21,1.83,2.3199999999999998,25,3.68,2.88,25,3.68,2.88,47,2.34,6.2,38,3.61,4.7,3,0.46,0.7,31,1.56,3.71,1,0.22,0.51,45,5.2,5.8,30,3.4,3.7,5,0.32,0.91,24,1.7,2.8,28,2.8,3.4,2,0.22,0.56000000000000005,29,2.4,3.5,11,0.91,1.3,17,1.3,1.89,29,2.4,3.5,14,1.1599999999999999,1.72,25,3.68,2.88,7,0.4,1.05,12,2.16,1.6,48,7.1,6.2,22,2.75,2.4,34,3.4,4,9,0.6,1.18,5,0.32,0.91,30,3.4,3.7,21,1.83,2.3199999999999998,34,3.4,4,25,3.68,2.88,49,3.94,6.8,34,3.4,4,4,0.32,0.75,44,3.4,5.8,8,1.68,1.1299999999999999,48,7.1,6.2,5,0.32,0.91,49,3.94,6.8,37,3.7,4.2,29,2.4,3.5,22,2.75,2.4,35,2.83,4.0199999999999996,49,3.94,6.8,24,1.7,2.8,22,2.75,2.4,34,3.4,4,35,2.83,4.0199999999999996,21,1.83,2.3199999999999998,17,1.3,1.89,47,2.34,6.2,29,2.4,3.5,15,1.3,1.8,17,1.3,1.89,45,5.2,5.8,20,2.06,2.23,36,2.2799999999999998,4.0999999999999996,17,1.3,1.89,34,3.4,4,44,3.4,5.8,46,5.9,6.1,32,2.83,3.77,24,1.7,2.8,23,1.1499999999999999,2.5,42,2.97,5.3,48,7.1,6.2,17,1.3,1.89,30,3.4,3.7,23,1.1499999999999999,2.5,43,3.79,5.65,11,0.91,1.3,5,0.32,0.91,25,3.68,2.88,8,1.68,1.1299999999999999,4,0.32,0.75,41,5.95,5.0999999999999996,9,0.6,1.18,39,4.1900000000000004,4.8899999999999997,24,1.7,2.8,30,3.4,3.7,19,1.33,2.06,41,5.95,5.0999999999999996,14,1.1599999999999999,1.72,20,2.06,2.23,50,4.5,6.8,42,2.97,5.3,31,1.56,3.71,40,5.16,4.92,26,2.15,2.91,17,1.3,1.89,7,0.4,1.05,29,2.4,3.5,48,7.1,6.2,34,3.4,4,26,2.15,2.91,33,4.28,3.99,42,2.97,5.3,1,0.22,0.51,6,0.38,0.96,18,1.32,2,36,2.2799999999999998,4.0999999999999996,33,4.28,3.99,3,0.46,0.7,35,2.83,4.0199999999999996,33,4.28,3.99,31,1.56,3.71,21,1.83,2.3199999999999998,7,0.4,1.05,8,1.68,1.1299999999999999,18,1.32,2,34,3.4,4,25,3.68,2.88,10,1.1200000000000001,1.2,45,5.2,5.8,27,4.01,3,5,0.32,0.91,35,2.83,4.0199999999999996,2,0.22,0.56000000000000005,40,5.16,4.92,12,2.16,1.6,2,0.22,0.56000000000000005,50,4.5,6.8,35,2.83,4.0199999999999996,39,4.1900000000000004,4.8899999999999997,48,7.1,6.2,7,0.4,1.05,16,1.58,1.83,8,1.68,1.1299999999999999,34,3.4,4,3,0.46,0.7,21,1.83,2.3199999999999998,26,2.15,2.91,11,0.91,1.3,43,3.79,5.65,13,1.24,1.7,6,0.38,0.96,1,0.22,0.51,34,3.4,4,49,3.94,6.8,50,4.5,6.8,42,2.97,5.3,28,2.8,3.4,2,0.22,0.56000000000000005,50,4.5,6.8,41,5.95,5.0999999999999996,19,1.33,2.06,46,5.9,6.1,38,3.61,4.7,43,3.79,5.65,15,1.3,1.8,8,1.68,1.1299999999999999,14,1.1599999999999999,1.72,12,2.16,1.6,8,1.68,1.1299999999999999,28,2.8,3.4,29,2.4,3.5,22,2.75,2.4,19,1.33,2.06,32,2.83,3.77,28,2.8,3.4,16,1.58,1.83,48,7.1,6.2,23,1.1499999999999999,2.5,9,0.6,1.18,21,1.83,2.3199999999999998,39,4.1900000000000004,4.8899999999999997,25,3.68,2.88,47,2.34,6.2,27,4.01,3,9,0.6,1.18,48,7.1,6.2,26,2.15,2.91,36,2.2799999999999998,4.0999999999999996,34,3.4,4,12,2.16,1.6,34,3.4,4,11,0.91,1.3,8,1.68,1.1299999999999999,33,4.28,3.99,22,2.75,2.4,48,7.1,6.2,49,3.94,6.8,22,2.75,2.4,28,2.8,3.4,4,0.32,0.75,35,2.83,4.0199999999999996,48,7.1,6.2,5,0.32,0.91,43,3.79,5.65,37,3.7,4.2,9,0.6,1.18,22,2.75,2.4,37,3.7,4.2,28,2.8,3.4,23,1.1499999999999999,2.5,22,2.75,2.4,39,4.1900000000000004,4.8899999999999997,40,5.16,4.92,25,3.68,2.88,40,5.16,4.92,10,1.1200000000000001,1.2,47,2.34,6.2,29,2.4,3.5,40,5.16,4.92,13,1.24,1.7,5,0.32,0.91,1,0.22,0.51,8,1.68,1.1299999999999999,19,1.33,2.06,1,0.22,0.51,49,3.94,6.8,14,1.1599999999999999,1.72,23,1.1499999999999999,2.5,20,2.06,2.23,18,1.32,2,32,2.83,3.77,27,4.01,3,21,1.83,2.3199999999999998,5,0.32,0.91,19,1.33,2.06,33,4.28,3.99,28,2.8,3.4,32,2.83,3.77,20,2.06,2.23,44,3.4,5.8,34,3.4,4,32,2.83,3.77,19,1.33,2.06,39,4.1900000000000004,4.8899999999999997,11,0.91,1.3,50,4.5,6.8,13,1.24,1.7,48,7.1,6.2,42,2.97,5.3,3,0.46,0.7,45,5.2,5.8,47,2.34,6.2,8,1.68,1.1299999999999999,5,0.32,0.91,1,0.22,0.51,13,1.24,1.7,43,3.79,5.65,4,0.32,0.75,18,1.32,2,42,2.97,5.3,46,5.9,6.1,31,1.56,3.71,6,0.38,0.96,30,3.4,3.7,9,0.6,1.18,11,0.91,1.3,28,2.8,3.4,16,1.58,1.83,9,0.6,1.18,37,3.7,4.2,3,0.46,0.7,37,3.7,4.2,9,0.6,1.18,11,0.91,1.3,5,0.32,0.91,45,5.2,5.8,20,2.06,2.23,35,2.83,4.0199999999999996,45,5.2,5.8,40,5.16,4.92,34,3.4,4,30,3.4,3.7,46,5.9,6.1,11,0.91,1.3,9,0.6,1.18,9,0.6,1.18,42,2.97,5.3,41,5.95,5.0999999999999996,25,3.68,2.88,9,0.6,1.18,38,3.61,4.7,28,2.8,3.4,43,3.79,5.65,47,2.34,6.2,30,3.4,3.7,10,1.1200000000000001,1.2,42,2.97,5.3,26,2.15,2.91,36,2.2799999999999998,4.0999999999999996,16,1.58,1.83,48,7.1,6.2,12,2.16,1.6,48,7.1,6.2,13,1.24,1.7,45,5.2,5.8,20,2.06,2.23,36,2.2799999999999998,4.0999999999999996,30,3.4,3.7,35,2.83,4.0199999999999996,16,1.58,1.83,18,1.32,2,34,3.4,4,17,1.3,1.89,23,1.1499999999999999,2.5,49,3.94,6.8,28,2.8,3.4,27,4.01,3,50,4.5,6.8,12,2.16,1.6,3,0.46,0.7,38,3.61,4.7,26,2.15,2.91,30,3.4,3.7,4,0.32,0.75,30,3.4,3.7,3,0.46,0.7,33,4.28,3.99,17,1.3,1.89,11,0.91,1.3,11,0.91,1.3,48,7.1,6.2,6,0.38,0.96,11,0.91,1.3,41,5.95,5.0999999999999996,37,3.7,4.2,22,2.75,2.4,35,2.83,4.0199999999999996,22,2.75,2.4,14,1.1599999999999999,1.72,16,1.58,1.83,23,1.1499999999999999,2.5,30,3.4,3.7,10,1.1200000000000001,1.2,28,2.8,3.4,33,4.28,3.99,42,2.97,5.3,8,1.68,1.1299999999999999,22,2.75,2.4,27,4.01,3,13,1.24,1.7,40,5.16,4.92,45,5.2,5.8,26,2.15,2.91,15,1.3,1.8,47,2.34,6.2,45,5.2,5.8,23,1.1499999999999999,2.5,33,4.28,3.99,46,5.9,6.1,49,3.94,6.8,8,1.68,1.1299999999999999,28,2.8,3.4,17,1.3,1.89,10,1.1200000000000001,1.2,16,1.58,1.83,10,1.1200000000000001,1.2,49,3.94,6.8,11,0.91,1.3,19,1.33,2.06,26,2.15,2.91,46,5.9,6.1,29,2.4,3.5,50,4.5,6.8,12,2.16,1.6,1,0.22,0.51,22,2.75,2.4,23,1.1499999999999999,2.5,47,2.34,6.2,27,4.01,3,17,1.3,1.89,28,2.8,3.4,35,2.83,4.0199999999999996,6,0.38,0.96,18,1.32,2,31,1.56,3.71,38,3.61,4.7,44,3.4,5.8,22,2.75,2.4,39,4.1900000000000004,4.8899999999999997,25,3.68,2.88,47,2.34,6.2,3,0.46,0.7,27,4.01,3,37,3.7,4.2,50,4.5,6.8,1,0.22,0.51,30,3.4,3.7,5,0.32,0.91,14,1.1599999999999999,1.72,29,2.4,3.5,42,2.97,5.3,45,5.2,5.8,36,2.2799999999999998,4.0999999999999996,40,5.16,4.92,35,2.83,4.0199999999999996,48,7.1,6.2,21,1.83,2.3199999999999998,12,2.16,1.6,31,1.56,3.71,50,4.5,6.8,12,2.16,1.6,35,2.83,4.0199999999999996,47,2.34,6.2,1,0.22,0.51,39,4.1900000000000004,4.8899999999999997,18,1.32,2,45,5.2,5.8,4,0.32,0.75,27,4.01,3,11,0.91,1.3,46,5.9,6.1,14,1.1599999999999999,1.72,18,1.32,2,30,3.4,3.7,9,0.6,1.18,49,3.94,6.8,50,4.5,6.8,2,0.22,0.56000000000000005,20,2.06,2.23,13,1.24,1.7,10,1.1200000000000001,1.2,24,1.7,2.8,44,3.4,5.8,37,3.7,4.2,38,3.61,4.7,25,3.68,2.88,43,3.79,5.65,24,1.7,2.8,49,3.94,6.8,49,3.94,6.8,47,2.34,6.2,11,0.91,1.3,16,1.58,1.83,50,4.5,6.8,50,4.5,6.8,47,2.34,6.2,19,1.33,2.06,46,5.9,6.1,9,0.6,1.18,26,2.15,2.91,50,4.5,6.8,34,3.4,4,10,1.1200000000000001,1.2,36,2.2799999999999998,4.0999999999999996,36,2.2799999999999998,4.0999999999999996,null,null,null,null,null,null,null,null,null,null,null,null,null,null,null,null,null,null,null,null,null,null,null,null,null,null,null,null,null,null,null,null,{"$error":"#N/A"}]
[null,null,23,1.1499999999999999,2.5,null,null,0,0,null,"y　→　x",null,{"$f":"N23/N21","v":1.2992015999099644},{"$f":"N6-(M27*M6)","v":-7.4085915935127478E-2},null,null,null,null,null,null,null,null,null,null,null,null,null,null,null,-0.35055345939314869,2.2150930489711653,-1.2261298854266451,1.5572464192925746,null,{"$error":"#DIV/0!"},{"$error":"#DIV/0!"},{"$error":"#DIV/0!"},{"$error":"#DIV/0!"},null,40,28,"","",null,1.825,1.35,null,1.825,1.35,null,1.3,1.89,9,0.6,1.18,50,4.5,6.8,44,3.4,5.8,2,0.22,0.56000000000000005,29,2.4,3.5,1,0.22,0.51,26,2.15,2.91,50,4.5,6.8,29,2.4,3.5,17,1.3,1.89,46,5.9,6.1,31,1.56,3.71,4,0.32,0.75,17,1.3,1.89,50,4.5,6.8,6,0.38,0.96,2,0.22,0.56000000000000005,45,5.2,5.8,39,4.1900000000000004,4.8899999999999997,18,1.32,2,11,0.91,1.3,26,2.15,2.91,40,5.16,4.92,9,0.6,1.18,8,1.68,1.1299999999999999,40,5.16,4.92,36,2.2799999999999998,4.0999999999999996,44,3.4,5.8,21,1.83,2.3199999999999998,2,0.22,0.56000000000000005,9,0.6,1.18,5,0.32,0.91,3,0.46,0.7,11,0.91,1.3,46,5.9,6.1,38,3.61,4.7,19,1.33,2.06,8,1.68,1.1299999999999999,5,0.32,0.91,23,1.1499999999999999,2.5,44,3.4,5.8,46,5.9,6.1,48,7.1,6.2,49,3.94,6.8,28,2.8,3.4,26,2.15,2.91,32,2.83,3.77,4,0.32,0.75,15,1.3,1.8,38,3.61,4.7,15,1.3,1.8,27,4.01,3,34,3.4,4,27,4.01,3,25,3.68,2.88,24,1.7,2.8,49,3.94,6.8,8,1.68,1.1299999999999999,39,4.1900000000000004,4.8899999999999997,44,3.4,5.8,14,1.1599999999999999,1.72,2,0.22,0.56000000000000005,28,2.8,3.4,19,1.33,2.06,5,0.32,0.91,31,1.56,3.71,8,1.68,1.1299999999999999,18,1.32,2,3,0.46,0.7,29,2.4,3.5,15,1.3,1.8,9,0.6,1.18,44,3.4,5.8,10,1.1200000000000001,1.2,28,2.8,3.4,40,5.16,4.92,30,3.4,3.7,5,0.32,0.91,19,1.33,2.06,26,2.15,2.91,3,0.46,0.7,5,0.32,0.91,1,0.22,0.51,1,0.22,0.51,33,4.28,3.99,19,1.33,2.06,3,0.46,0.7,36,2.2799999999999998,4.0999999999999996,17,1.3,1.89,1,0.22,0.51,46,5.9,6.1,12,2.16,1.6,41,5.95,5.0999999999999996,25,3.68,2.88,38,3.61,4.7,15,1.3,1.8,1,0.22,0.51,39,4.1900000000000004,4.8899999999999997,29,2.4,3.5,34,3.4,4,44,3.4,5.8,19,1.33,2.06,29,2.4,3.5,26,2.15,2.91,16,1.58,1.83,39,4.1900000000000004,4.8899999999999997,36,2.2799999999999998,4.0999999999999996,47,2.34,6.2,22,2.75,2.4,12,2.16,1.6,34,3.4,4,39,4.1900000000000004,4.8899999999999997,3,0.46,0.7,25,3.68,2.88,44,3.4,5.8,32,2.83,3.77,18,1.32,2,8,1.68,1.1299999999999999,46,5.9,6.1,12,2.16,1.6,1,0.22,0.51,48,7.1,6.2,4,0.32,0.75,43,3.79,5.65,13,1.24,1.7,27,4.01,3,14,1.1599999999999999,1.72,11,0.91,1.3,26,2.15,2.91,16,1.58,1.83,7,0.4,1.05,28,2.8,3.4,1,0.22,0.51,32,2.83,3.77,19,1.33,2.06,40,5.16,4.92,45,5.2,5.8,13,1.24,1.7,18,1.32,2,11,0.91,1.3,15,1.3,1.8,49,3.94,6.8,1,0.22,0.51,10,1.1200000000000001,1.2,50,4.5,6.8,28,2.8,3.4,44,3.4,5.8,13,1.24,1.7,50,4.5,6.8,47,2.34,6.2,28,2.8,3.4,19,1.33,2.06,34,3.4,4,30,3.4,3.7,11,0.91,1.3,26,2.15,2.91,42,2.97,5.3,13,1.24,1.7,28,2.8,3.4,24,1.7,2.8,16,1.58,1.83,40,5.16,4.92,41,5.95,5.0999999999999996,43,3.79,5.65,36,2.2799999999999998,4.0999999999999996,23,1.1499999999999999,2.5,11,0.91,1.3,19,1.33,2.06,16,1.58,1.83,10,1.1200000000000001,1.2,25,3.68,2.88,25,3.68,2.88,20,2.06,2.23,21,1.83,2.3199999999999998,43,3.79,5.65,6,0.38,0.96,30,3.4,3.7,44,3.4,5.8,49,3.94,6.8,35,2.83,4.0199999999999996,41,5.95,5.0999999999999996,42,2.97,5.3,22,2.75,2.4,24,1.7,2.8,3,0.46,0.7,26,2.15,2.91,17,1.3,1.89,6,0.38,0.96,38,3.61,4.7,36,2.2799999999999998,4.0999999999999996,4,0.32,0.75,21,1.83,2.3199999999999998,8,1.68,1.1299999999999999,43,3.79,5.65,29,2.4,3.5,20,2.06,2.23,10,1.1200000000000001,1.2,47,2.34,6.2,27,4.01,3,30,3.4,3.7,17,1.3,1.89,11,0.91,1.3,4,0.32,0.75,31,1.56,3.71,47,2.34,6.2,34,3.4,4,34,3.4,4,45,5.2,5.8,30,3.4,3.7,2,0.22,0.56000000000000005,7,0.4,1.05,41,5.95,5.0999999999999996,1,0.22,0.51,47,2.34,6.2,2,0.22,0.56000000000000005,45,5.2,5.8,45,5.2,5.8,15,1.3,1.8,19,1.33,2.06,24,1.7,2.8,12,2.16,1.6,3,0.46,0.7,16,1.58,1.83,19,1.33,2.06,37,3.7,4.2,2,0.22,0.56000000000000005,19,1.33,2.06,2,0.22,0.56000000000000005,33,4.28,3.99,9,0.6,1.18,40,5.16,4.92,41,5.95,5.0999999999999996,34,3.4,4,46,5.9,6.1,4,0.32,0.75,21,1.83,2.3199999999999998,8,1.68,1.1299999999999999,42,2.97,5.3,47,2.34,6.2,44,3.4,5.8,35,2.83,4.0199999999999996,33,4.28,3.99,16,1.58,1.83,23,1.1499999999999999,2.5,40,5.16,4.92,17,1.3,1.89,42,2.97,5.3,49,3.94,6.8,44,3.4,5.8,27,4.01,3,16,1.58,1.83,22,2.75,2.4,25,3.68,2.88,16,1.58,1.83,36,2.2799999999999998,4.0999999999999996,35,2.83,4.0199999999999996,40,5.16,4.92,48,7.1,6.2,10,1.1200000000000001,1.2,32,2.83,3.77,17,1.3,1.89,13,1.24,1.7,24,1.7,2.8,17,1.3,1.89,1,0.22,0.51,44,3.4,5.8,24,1.7,2.8,38,3.61,4.7,13,1.24,1.7,50,4.5,6.8,6,0.38,0.96,20,2.06,2.23,31,1.56,3.71,15,1.3,1.8,26,2.15,2.91,23,1.1499999999999999,2.5,21,1.83,2.3199999999999998,6,0.38,0.96,14,1.1599999999999999,1.72,3,0.46,0.7,38,3.61,4.7,43,3.79,5.65,7,0.4,1.05,42,2.97,5.3,38,3.61,4.7,31,1.56,3.71,39,4.1900000000000004,4.8899999999999997,37,3.7,4.2,2,0.22,0.56000000000000005,12,2.16,1.6,1,0.22,0.51,50,4.5,6.8,23,1.1499999999999999,2.5,15,1.3,1.8,3,0.46,0.7,27,4.01,3,5,0.32,0.91,34,3.4,4,10,1.1200000000000001,1.2,23,1.1499999999999999,2.5,24,1.7,2.8,12,2.16,1.6,34,3.4,4,39,4.1900000000000004,4.8899999999999997,5,0.32,0.91,29,2.4,3.5,34,3.4,4,33,4.28,3.99,4,0.32,0.75,20,2.06,2.23,43,3.79,5.65,24,1.7,2.8,11,0.91,1.3,41,5.95,5.0999999999999996,40,5.16,4.92,27,4.01,3,12,2.16,1.6,4,0.32,0.75,48,7.1,6.2,42,2.97,5.3,8,1.68,1.1299999999999999,21,1.83,2.3199999999999998,39,4.1900000000000004,4.8899999999999997,50,4.5,6.8,10,1.1200000000000001,1.2,17,1.3,1.89,49,3.94,6.8,38,3.61,4.7,31,1.56,3.71,48,7.1,6.2,13,1.24,1.7,18,1.32,2,1,0.22,0.51,33,4.28,3.99,4,0.32,0.75,21,1.83,2.3199999999999998,41,5.95,5.0999999999999996,4,0.32,0.75,39,4.1900000000000004,4.8899999999999997,46,5.9,6.1,50,4.5,6.8,13,1.24,1.7,1,0.22,0.51,29,2.4,3.5,1,0.22,0.51,2,0.22,0.56000000000000005,13,1.24,1.7,19,1.33,2.06,8,1.68,1.1299999999999999,37,3.7,4.2,36,2.2799999999999998,4.0999999999999996,16,1.58,1.83,46,5.9,6.1,6,0.38,0.96,23,1.1499999999999999,2.5,24,1.7,2.8,42,2.97,5.3,26,2.15,2.91,37,3.7,4.2,17,1.3,1.89,17,1.3,1.89,13,1.24,1.7,31,1.56,3.71,17,1.3,1.89,6,0.38,0.96,17,1.3,1.89,40,5.16,4.92,30,3.4,3.7,27,4.01,3,20,2.06,2.23,40,5.16,4.92,3,0.46,0.7,19,1.33,2.06,39,4.1900000000000004,4.8899999999999997,12,2.16,1.6,36,2.2799999999999998,4.0999999999999996,42,2.97,5.3,4,0.32,0.75,24,1.7,2.8,10,1.1200000000000001,1.2,36,2.2799999999999998,4.0999999999999996,37,3.7,4.2,26,2.15,2.91,27,4.01,3,1,0.22,0.51,48,7.1,6.2,2,0.22,0.56000000000000005,13,1.24,1.7,27,4.01,3,46,5.9,6.1,40,5.16,4.92,31,1.56,3.71,47,2.34,6.2,10,1.1200000000000001,1.2,12,2.16,1.6,11,0.91,1.3,49,3.94,6.8,21,1.83,2.3199999999999998,16,1.58,1.83,35,2.83,4.0199999999999996,48,7.1,6.2,6,0.38,0.96,35,2.83,4.0199999999999996,47,2.34,6.2,23,1.1499999999999999,2.5,4,0.32,0.75,50,4.5,6.8,12,2.16,1.6,20,2.06,2.23,29,2.4,3.5,23,1.1499999999999999,2.5,42,2.97,5.3,9,0.6,1.18,7,0.4,1.05,43,3.79,5.65,43,3.79,5.65,9,0.6,1.18,24,1.7,2.8,24,1.7,2.8,11,0.91,1.3,28,2.8,3.4,32,2.83,3.77,31,1.56,3.71,48,7.1,6.2,8,1.68,1.1299999999999999,19,1.33,2.06,4,0.32,0.75,41,5.95,5.0999999999999996,41,5.95,5.0999999999999996,47,2.34,6.2,4,0.32,0.75,3,0.46,0.7,39,4.1900000000000004,4.8899999999999997,43,3.79,5.65,21,1.83,2.3199999999999998,21,1.83,2.3199999999999998,23,1.1499999999999999,2.5,12,2.16,1.6,37,3.7,4.2,23,1.1499999999999999,2.5,23,1.1499999999999999,2.5,4,0.32,0.75,8,1.68,1.1299999999999999,7,0.4,1.05,36,2.2799999999999998,4.0999999999999996,3,0.46,0.7,9,0.6,1.18,30,3.4,3.7,6,0.38,0.96,16,1.58,1.83,38,3.61,4.7,8,1.68,1.1299999999999999,5,0.32,0.91,38,3.61,4.7,33,4.28,3.99,33,4.28,3.99,36,2.2799999999999998,4.0999999999999996,19,1.33,2.06,5,0.32,0.91,2,0.22,0.56000000000000005,44,3.4,5.8,1,0.22,0.51,29,2.4,3.5,1,0.22,0.51,38,3.61,4.7,10,1.1200000000000001,1.2,49,3.94,6.8,15,1.3,1.8,30,3.4,3.7,17,1.3,1.89,48,7.1,6.2,38,3.61,4.7,35,2.83,4.0199999999999996,11,0.91,1.3,27,4.01,3,48,7.1,6.2,29,2.4,3.5,29,2.4,3.5,48,7.1,6.2,6,0.38,0.96,27,4.01,3,3,0.46,0.7,42,2.97,5.3,48,7.1,6.2,19,1.33,2.06,19,1.33,2.06,21,1.83,2.3199999999999998,6,0.38,0.96,16,1.58,1.83,40,5.16,4.92,16,1.58,1.83,34,3.4,4,17,1.3,1.89,37,3.7,4.2,13,1.24,1.7,47,2.34,6.2,29,2.4,3.5,36,2.2799999999999998,4.0999999999999996,16,1.58,1.83,23,1.1499999999999999,2.5,4,0.32,0.75,null,null,null,null,null,null,null,null,null,null,null,null,null,null,null,null,null,null,null,null,null,null,null,null,null,null,null,null,null,null,null,null,{"$error":"#N/A"}]
[null,null,24,1.7,2.8,null,null,0,0,null,null,null,null,null,null,null,null,null,null,null,null,null,null,null,null,null,null,null,null,-0.29578127748174199,2.2966339099304802,-1.2047354226079703,1.584464290649185,null,{"$error":"#DIV/0!"},{"$error":"#DIV/0!"},{"$error":"#DIV/0!"},{"$error":"#DIV/0!"},null,30,27,"","",null,2.25,1.0999999999999999,null,2.25,1.0999999999999999,null,1.32,2,14,1.1599999999999999,1.72,2,0.22,0.56000000000000005,50,4.5,6.8,38,3.61,4.7,33,4.28,3.99,38,3.61,4.7,18,1.32,2,28,2.8,3.4,10,1.1200000000000001,1.2,47,2.34,6.2,10,1.1200000000000001,1.2,47,2.34,6.2,7,0.4,1.05,4,0.32,0.75,13,1.24,1.7,21,1.83,2.3199999999999998,26,2.15,2.91,12,2.16,1.6,45,5.2,5.8,29,2.4,3.5,50,4.5,6.8,31,1.56,3.71,45,5.2,5.8,7,0.4,1.05,44,3.4,5.8,7,0.4,1.05,36,2.2799999999999998,4.0999999999999996,17,1.3,1.89,22,2.75,2.4,27,4.01,3,43,3.79,5.65,26,2.15,2.91,21,1.83,2.3199999999999998,27,4.01,3,31,1.56,3.71,2,0.22,0.56000000000000005,43,3.79,5.65,21,1.83,2.3199999999999998,44,3.4,5.8,13,1.24,1.7,9,0.6,1.18,33,4.28,3.99,20,2.06,2.23,4,0.32,0.75,19,1.33,2.06,48,7.1,6.2,10,1.1200000000000001,1.2,21,1.83,2.3199999999999998,35,2.83,4.0199999999999996,23,1.1499999999999999,2.5,10,1.1200000000000001,1.2,4,0.32,0.75,15,1.3,1.8,13,1.24,1.7,9,0.6,1.18,47,2.34,6.2,22,2.75,2.4,8,1.68,1.1299999999999999,46,5.9,6.1,12,2.16,1.6,32,2.83,3.77,27,4.01,3,36,2.2799999999999998,4.0999999999999996,10,1.1200000000000001,1.2,17,1.3,1.89,38,3.61,4.7,44,3.4,5.8,46,5.9,6.1,31,1.56,3.71,24,1.7,2.8,41,5.95,5.0999999999999996,21,1.83,2.3199999999999998,14,1.1599999999999999,1.72,27,4.01,3,8,1.68,1.1299999999999999,5,0.32,0.91,7,0.4,1.05,39,4.1900000000000004,4.8899999999999997,5,0.32,0.91,12,2.16,1.6,29,2.4,3.5,25,3.68,2.88,9,0.6,1.18,47,2.34,6.2,17,1.3,1.89,34,3.4,4,9,0.6,1.18,10,1.1200000000000001,1.2,27,4.01,3,47,2.34,6.2,11,0.91,1.3,12,2.16,1.6,2,0.22,0.56000000000000005,19,1.33,2.06,15,1.3,1.8,9,0.6,1.18,45,5.2,5.8,46,5.9,6.1,43,3.79,5.65,44,3.4,5.8,13,1.24,1.7,34,3.4,4,40,5.16,4.92,50,4.5,6.8,17,1.3,1.89,38,3.61,4.7,26,2.15,2.91,22,2.75,2.4,37,3.7,4.2,15,1.3,1.8,27,4.01,3,43,3.79,5.65,1,0.22,0.51,29,2.4,3.5,47,2.34,6.2,32,2.83,3.77,22,2.75,2.4,28,2.8,3.4,25,3.68,2.88,43,3.79,5.65,2,0.22,0.56000000000000005,34,3.4,4,35,2.83,4.0199999999999996,39,4.1900000000000004,4.8899999999999997,48,7.1,6.2,38,3.61,4.7,12,2.16,1.6,22,2.75,2.4,47,2.34,6.2,12,2.16,1.6,34,3.4,4,20,2.06,2.23,7,0.4,1.05,35,2.83,4.0199999999999996,18,1.32,2,49,3.94,6.8,11,0.91,1.3,30,3.4,3.7,31,1.56,3.71,29,2.4,3.5,28,2.8,3.4,11,0.91,1.3,5,0.32,0.91,13,1.24,1.7,43,3.79,5.65,46,5.9,6.1,29,2.4,3.5,30,3.4,3.7,47,2.34,6.2,33,4.28,3.99,36,2.2799999999999998,4.0999999999999996,44,3.4,5.8,38,3.61,4.7,32,2.83,3.77,22,2.75,2.4,19,1.33,2.06,37,3.7,4.2,19,1.33,2.06,5,0.32,0.91,47,2.34,6.2,15,1.3,1.8,46,5.9,6.1,20,2.06,2.23,47,2.34,6.2,31,1.56,3.71,14,1.1599999999999999,1.72,8,1.68,1.1299999999999999,16,1.58,1.83,39,4.1900000000000004,4.8899999999999997,11,0.91,1.3,26,2.15,2.91,49,3.94,6.8,46,5.9,6.1,12,2.16,1.6,21,1.83,2.3199999999999998,18,1.32,2,48,7.1,6.2,38,3.61,4.7,8,1.68,1.1299999999999999,16,1.58,1.83,11,0.91,1.3,33,4.28,3.99,23,1.1499999999999999,2.5,13,1.24,1.7,29,2.4,3.5,50,4.5,6.8,26,2.15,2.91,23,1.1499999999999999,2.5,38,3.61,4.7,49,3.94,6.8,25,3.68,2.88,32,2.83,3.77,41,5.95,5.0999999999999996,10,1.1200000000000001,1.2,7,0.4,1.05,48,7.1,6.2,1,0.22,0.51,7,0.4,1.05,37,3.7,4.2,49,3.94,6.8,41,5.95,5.0999999999999996,44,3.4,5.8,17,1.3,1.89,6,0.38,0.96,9,0.6,1.18,4,0.32,0.75,2,0.22,0.56000000000000005,8,1.68,1.1299999999999999,7,0.4,1.05,14,1.1599999999999999,1.72,41,5.95,5.0999999999999996,14,1.1599999999999999,1.72,29,2.4,3.5,15,1.3,1.8,15,1.3,1.8,48,7.1,6.2,16,1.58,1.83,50,4.5,6.8,4,0.32,0.75,25,3.68,2.88,17,1.3,1.89,13,1.24,1.7,1,0.22,0.51,27,4.01,3,18,1.32,2,15,1.3,1.8,48,7.1,6.2,48,7.1,6.2,35,2.83,4.0199999999999996,50,4.5,6.8,36,2.2799999999999998,4.0999999999999996,48,7.1,6.2,11,0.91,1.3,38,3.61,4.7,7,0.4,1.05,22,2.75,2.4,33,4.28,3.99,25,3.68,2.88,30,3.4,3.7,32,2.83,3.77,13,1.24,1.7,37,3.7,4.2,30,3.4,3.7,46,5.9,6.1,20,2.06,2.23,15,1.3,1.8,42,2.97,5.3,47,2.34,6.2,42,2.97,5.3,42,2.97,5.3,9,0.6,1.18,49,3.94,6.8,41,5.95,5.0999999999999996,48,7.1,6.2,12,2.16,1.6,29,2.4,3.5,38,3.61,4.7,21,1.83,2.3199999999999998,50,4.5,6.8,19,1.33,2.06,50,4.5,6.8,28,2.8,3.4,35,2.83,4.0199999999999996,9,0.6,1.18,40,5.16,4.92,6,0.38,0.96,3,0.46,0.7,22,2.75,2.4,36,2.2799999999999998,4.0999999999999996,8,1.68,1.1299999999999999,33,4.28,3.99,38,3.61,4.7,7,0.4,1.05,17,1.3,1.89,33,4.28,3.99,37,3.7,4.2,1,0.22,0.51,19,1.33,2.06,33,4.28,3.99,9,0.6,1.18,48,7.1,6.2,38,3.61,4.7,46,5.9,6.1,19,1.33,2.06,27,4.01,3,40,5.16,4.92,39,4.1900000000000004,4.8899999999999997,38,3.61,4.7,43,3.79,5.65,40,5.16,4.92,16,1.58,1.83,34,3.4,4,12,2.16,1.6,28,2.8,3.4,13,1.24,1.7,33,4.28,3.99,21,1.83,2.3199999999999998,8,1.68,1.1299999999999999,8,1.68,1.1299999999999999,29,2.4,3.5,35,2.83,4.0199999999999996,41,5.95,5.0999999999999996,41,5.95,5.0999999999999996,23,1.1499999999999999,2.5,33,4.28,3.99,15,1.3,1.8,1,0.22,0.51,8,1.68,1.1299999999999999,37,3.7,4.2,12,2.16,1.6,17,1.3,1.89,31,1.56,3.71,27,4.01,3,48,7.1,6.2,20,2.06,2.23,7,0.4,1.05,44,3.4,5.8,24,1.7,2.8,12,2.16,1.6,50,4.5,6.8,25,3.68,2.88,32,2.83,3.77,1,0.22,0.51,18,1.32,2,40,5.16,4.92,36,2.2799999999999998,4.0999999999999996,50,4.5,6.8,17,1.3,1.89,46,5.9,6.1,5,0.32,0.91,27,4.01,3,17,1.3,1.89,48,7.1,6.2,10,1.1200000000000001,1.2,35,2.83,4.0199999999999996,37,3.7,4.2,31,1.56,3.71,42,2.97,5.3,42,2.97,5.3,35,2.83,4.0199999999999996,48,7.1,6.2,31,1.56,3.71,26,2.15,2.91,13,1.24,1.7,21,1.83,2.3199999999999998,34,3.4,4,35,2.83,4.0199999999999996,37,3.7,4.2,7,0.4,1.05,36,2.2799999999999998,4.0999999999999996,9,0.6,1.18,16,1.58,1.83,26,2.15,2.91,9,0.6,1.18,11,0.91,1.3,44,3.4,5.8,50,4.5,6.8,38,3.61,4.7,25,3.68,2.88,9,0.6,1.18,7,0.4,1.05,7,0.4,1.05,14,1.1599999999999999,1.72,8,1.68,1.1299999999999999,41,5.95,5.0999999999999996,50,4.5,6.8,43,3.79,5.65,29,2.4,3.5,45,5.2,5.8,9,0.6,1.18,9,0.6,1.18,41,5.95,5.0999999999999996,50,4.5,6.8,11,0.91,1.3,38,3.61,4.7,3,0.46,0.7,22,2.75,2.4,6,0.38,0.96,47,2.34,6.2,33,4.28,3.99,34,3.4,4,12,2.16,1.6,11,0.91,1.3,32,2.83,3.77,38,3.61,4.7,31,1.56,3.71,48,7.1,6.2,35,2.83,4.0199999999999996,10,1.1200000000000001,1.2,19,1.33,2.06,18,1.32,2,9,0.6,1.18,46,5.9,6.1,27,4.01,3,26,2.15,2.91,27,4.01,3,31,1.56,3.71,47,2.34,6.2,46,5.9,6.1,45,5.2,5.8,17,1.3,1.89,26,2.15,2.91,6,0.38,0.96,48,7.1,6.2,9,0.6,1.18,39,4.1900000000000004,4.8899999999999997,33,4.28,3.99,50,4.5,6.8,22,2.75,2.4,26,2.15,2.91,9,0.6,1.18,18,1.32,2,42,2.97,5.3,39,4.1900000000000004,4.8899999999999997,47,2.34,6.2,49,3.94,6.8,5,0.32,0.91,9,0.6,1.18,20,2.06,2.23,14,1.1599999999999999,1.72,37,3.7,4.2,15,1.3,1.8,10,1.1200000000000001,1.2,14,1.1599999999999999,1.72,6,0.38,0.96,24,1.7,2.8,15,1.3,1.8,46,5.9,6.1,37,3.7,4.2,37,3.7,4.2,23,1.1499999999999999,2.5,36,2.2799999999999998,4.0999999999999996,38,3.61,4.7,5,0.32,0.91,39,4.1900000000000004,4.8899999999999997,30,3.4,3.7,44,3.4,5.8,1,0.22,0.51,40,5.16,4.92,1,0.22,0.51,14,1.1599999999999999,1.72,3,0.46,0.7,27,4.01,3,15,1.3,1.8,49,3.94,6.8,2,0.22,0.56000000000000005,46,5.9,6.1,14,1.1599999999999999,1.72,17,1.3,1.89,4,0.32,0.75,29,2.4,3.5,6,0.38,0.96,47,2.34,6.2,13,1.24,1.7,29,2.4,3.5,23,1.1499999999999999,2.5,28,2.8,3.4,10,1.1200000000000001,1.2,38,3.61,4.7,40,5.16,4.92,24,1.7,2.8,7,0.4,1.05,3,0.46,0.7,49,3.94,6.8,2,0.22,0.56000000000000005,7,0.4,1.05,13,1.24,1.7,12,2.16,1.6,22,2.75,2.4,31,1.56,3.71,40,5.16,4.92,5,0.32,0.91,40,5.16,4.92,50,4.5,6.8,5,0.32,0.91,48,7.1,6.2,21,1.83,2.3199999999999998,37,3.7,4.2,40,5.16,4.92,25,3.68,2.88,17,1.3,1.89,28,2.8,3.4,30,3.4,3.7,32,2.83,3.77,9,0.6,1.18,48,7.1,6.2,5,0.32,0.91,35,2.83,4.0199999999999996,5,0.32,0.91,45,5.2,5.8,47,2.34,6.2,31,1.56,3.71,10,1.1200000000000001,1.2,41,5.95,5.0999999999999996,17,1.3,1.89,33,4.28,3.99,49,3.94,6.8,43,3.79,5.65,31,1.56,3.71,15,1.3,1.8,9,0.6,1.18,null,null,null,null,null,null,null,null,null,null,null,null,null,null,null,null,null,null,null,null,null,null,null,null,null,null,null,null,null,null,null,null,{"$error":"#N/A"}]
[null,null,25,3.68,2.88,null,null,0,0,null,"Sy･x","→",{"$f":"(($N$23-2*M26*$N$21+M26^2*$N$22)/($M$5-2))^0.5","v":0.98547203734393662},null,{"$f":"(($P$23-2*O26*$P$21+O26^2*$P$22)/($O$5-2))^0.5","v":{"$error":"#NUM!"}},null,null,null,null,null,null,null,null,null,null,null,null,null,null,-0.24100909557033529,2.3770974196356827,-1.182263608535183,1.6107071008634226,null,{"$error":"#DIV/0!"},{"$error":"#DIV/0!"},{"$error":"#DIV/0!"},{"$error":"#DIV/0!"},null,13,26,"","",null,3.2800000000000002,-0.80000000000000027,null,3.2800000000000002,-0.80000000000000027,null,1.33,2.06,46,5.9,6.1,25,3.68,2.88,33,4.28,3.99,36,2.2799999999999998,4.0999999999999996,34,3.4,4,35,2.83,4.0199999999999996,22,2.75,2.4,1,0.22,0.51,6,0.38,0.96,27,4.01,3,25,3.68,2.88,47,2.34,6.2,38,3.61,4.7,23,1.1499999999999999,2.5,9,0.6,1.18,16,1.58,1.83,31,1.56,3.71,6,0.38,0.96,10,1.1200000000000001,1.2,44,3.4,5.8,45,5.2,5.8,50,4.5,6.8,40,5.16,4.92,45,5.2,5.8,45,5.2,5.8,10,1.1200000000000001,1.2,17,1.3,1.89,4,0.32,0.75,1,0.22,0.51,24,1.7,2.8,47,2.34,6.2,42,2.97,5.3,8,1.68,1.1299999999999999,26,2.15,2.91,27,4.01,3,32,2.83,3.77,18,1.32,2,26,2.15,2.91,3,0.46,0.7,33,4.28,3.99,33,4.28,3.99,48,7.1,6.2,47,2.34,6.2,38,3.61,4.7,6,0.38,0.96,34,3.4,4,42,2.97,5.3,31,1.56,3.71,17,1.3,1.89,7,0.4,1.05,33,4.28,3.99,9,0.6,1.18,45,5.2,5.8,49,3.94,6.8,37,3.7,4.2,17,1.3,1.89,15,1.3,1.8,43,3.79,5.65,19,1.33,2.06,39,4.1900000000000004,4.8899999999999997,5,0.32,0.91,20,2.06,2.23,26,2.15,2.91,13,1.24,1.7,12,2.16,1.6,31,1.56,3.71,38,3.61,4.7,48,7.1,6.2,32,2.83,3.77,19,1.33,2.06,32,2.83,3.77,9,0.6,1.18,2,0.22,0.56000000000000005,9,0.6,1.18,1,0.22,0.51,12,2.16,1.6,10,1.1200000000000001,1.2,14,1.1599999999999999,1.72,44,3.4,5.8,34,3.4,4,9,0.6,1.18,46,5.9,6.1,17,1.3,1.89,34,3.4,4,47,2.34,6.2,46,5.9,6.1,39,4.1900000000000004,4.8899999999999997,36,2.2799999999999998,4.0999999999999996,15,1.3,1.8,24,1.7,2.8,22,2.75,2.4,23,1.1499999999999999,2.5,45,5.2,5.8,7,0.4,1.05,5,0.32,0.91,1,0.22,0.51,34,3.4,4,9,0.6,1.18,3,0.46,0.7,14,1.1599999999999999,1.72,23,1.1499999999999999,2.5,6,0.38,0.96,21,1.83,2.3199999999999998,34,3.4,4,38,3.61,4.7,27,4.01,3,24,1.7,2.8,50,4.5,6.8,47,2.34,6.2,5,0.32,0.91,27,4.01,3,32,2.83,3.77,29,2.4,3.5,41,5.95,5.0999999999999996,46,5.9,6.1,49,3.94,6.8,2,0.22,0.56000000000000005,34,3.4,4,5,0.32,0.91,6,0.38,0.96,18,1.32,2,21,1.83,2.3199999999999998,11,0.91,1.3,35,2.83,4.0199999999999996,17,1.3,1.89,25,3.68,2.88,45,5.2,5.8,9,0.6,1.18,46,5.9,6.1,25,3.68,2.88,7,0.4,1.05,10,1.1200000000000001,1.2,41,5.95,5.0999999999999996,30,3.4,3.7,29,2.4,3.5,13,1.24,1.7,14,1.1599999999999999,1.72,20,2.06,2.23,1,0.22,0.51,31,1.56,3.71,17,1.3,1.89,49,3.94,6.8,2,0.22,0.56000000000000005,28,2.8,3.4,2,0.22,0.56000000000000005,8,1.68,1.1299999999999999,8,1.68,1.1299999999999999,33,4.28,3.99,7,0.4,1.05,5,0.32,0.91,47,2.34,6.2,31,1.56,3.71,48,7.1,6.2,1,0.22,0.51,23,1.1499999999999999,2.5,5,0.32,0.91,21,1.83,2.3199999999999998,18,1.32,2,8,1.68,1.1299999999999999,44,3.4,5.8,23,1.1499999999999999,2.5,47,2.34,6.2,36,2.2799999999999998,4.0999999999999996,15,1.3,1.8,33,4.28,3.99,32,2.83,3.77,20,2.06,2.23,50,4.5,6.8,4,0.32,0.75,4,0.32,0.75,18,1.32,2,35,2.83,4.0199999999999996,16,1.58,1.83,38,3.61,4.7,30,3.4,3.7,27,4.01,3,50,4.5,6.8,15,1.3,1.8,39,4.1900000000000004,4.8899999999999997,16,1.58,1.83,12,2.16,1.6,50,4.5,6.8,25,3.68,2.88,18,1.32,2,28,2.8,3.4,32,2.83,3.77,43,3.79,5.65,13,1.24,1.7,4,0.32,0.75,27,4.01,3,3,0.46,0.7,8,1.68,1.1299999999999999,37,3.7,4.2,43,3.79,5.65,27,4.01,3,9,0.6,1.18,49,3.94,6.8,6,0.38,0.96,2,0.22,0.56000000000000005,49,3.94,6.8,31,1.56,3.71,48,7.1,6.2,13,1.24,1.7,42,2.97,5.3,45,5.2,5.8,16,1.58,1.83,22,2.75,2.4,34,3.4,4,48,7.1,6.2,29,2.4,3.5,23,1.1499999999999999,2.5,28,2.8,3.4,13,1.24,1.7,12,2.16,1.6,1,0.22,0.51,20,2.06,2.23,32,2.83,3.77,30,3.4,3.7,7,0.4,1.05,38,3.61,4.7,16,1.58,1.83,46,5.9,6.1,43,3.79,5.65,9,0.6,1.18,11,0.91,1.3,30,3.4,3.7,14,1.1599999999999999,1.72,21,1.83,2.3199999999999998,36,2.2799999999999998,4.0999999999999996,42,2.97,5.3,38,3.61,4.7,17,1.3,1.89,18,1.32,2,18,1.32,2,19,1.33,2.06,31,1.56,3.71,2,0.22,0.56000000000000005,23,1.1499999999999999,2.5,38,3.61,4.7,3,0.46,0.7,18,1.32,2,17,1.3,1.89,48,7.1,6.2,49,3.94,6.8,11,0.91,1.3,33,4.28,3.99,36,2.2799999999999998,4.0999999999999996,42,2.97,5.3,34,3.4,4,13,1.24,1.7,2,0.22,0.56000000000000005,11,0.91,1.3,4,0.32,0.75,15,1.3,1.8,38,3.61,4.7,49,3.94,6.8,20,2.06,2.23,24,1.7,2.8,35,2.83,4.0199999999999996,32,2.83,3.77,43,3.79,5.65,33,4.28,3.99,37,3.7,4.2,7,0.4,1.05,39,4.1900000000000004,4.8899999999999997,31,1.56,3.71,24,1.7,2.8,32,2.83,3.77,34,3.4,4,2,0.22,0.56000000000000005,40,5.16,4.92,40,5.16,4.92,34,3.4,4,47,2.34,6.2,48,7.1,6.2,7,0.4,1.05,2,0.22,0.56000000000000005,5,0.32,0.91,41,5.95,5.0999999999999996,38,3.61,4.7,6,0.38,0.96,48,7.1,6.2,13,1.24,1.7,10,1.1200000000000001,1.2,17,1.3,1.89,27,4.01,3,49,3.94,6.8,33,4.28,3.99,37,3.7,4.2,43,3.79,5.65,24,1.7,2.8,21,1.83,2.3199999999999998,19,1.33,2.06,22,2.75,2.4,12,2.16,1.6,24,1.7,2.8,17,1.3,1.89,4,0.32,0.75,12,2.16,1.6,24,1.7,2.8,41,5.95,5.0999999999999996,45,5.2,5.8,38,3.61,4.7,48,7.1,6.2,19,1.33,2.06,35,2.83,4.0199999999999996,10,1.1200000000000001,1.2,34,3.4,4,37,3.7,4.2,21,1.83,2.3199999999999998,26,2.15,2.91,14,1.1599999999999999,1.72,21,1.83,2.3199999999999998,2,0.22,0.56000000000000005,26,2.15,2.91,16,1.58,1.83,4,0.32,0.75,24,1.7,2.8,37,3.7,4.2,17,1.3,1.89,35,2.83,4.0199999999999996,5,0.32,0.91,18,1.32,2,17,1.3,1.89,11,0.91,1.3,1,0.22,0.51,22,2.75,2.4,22,2.75,2.4,27,4.01,3,5,0.32,0.91,21,1.83,2.3199999999999998,38,3.61,4.7,20,2.06,2.23,45,5.2,5.8,43,3.79,5.65,34,3.4,4,48,7.1,6.2,49,3.94,6.8,21,1.83,2.3199999999999998,7,0.4,1.05,12,2.16,1.6,23,1.1499999999999999,2.5,2,0.22,0.56000000000000005,24,1.7,2.8,5,0.32,0.91,42,2.97,5.3,27,4.01,3,8,1.68,1.1299999999999999,13,1.24,1.7,49,3.94,6.8,13,1.24,1.7,5,0.32,0.91,37,3.7,4.2,25,3.68,2.88,3,0.46,0.7,1,0.22,0.51,19,1.33,2.06,11,0.91,1.3,30,3.4,3.7,7,0.4,1.05,40,5.16,4.92,1,0.22,0.51,36,2.2799999999999998,4.0999999999999996,3,0.46,0.7,21,1.83,2.3199999999999998,43,3.79,5.65,17,1.3,1.89,50,4.5,6.8,43,3.79,5.65,6,0.38,0.96,15,1.3,1.8,9,0.6,1.18,27,4.01,3,3,0.46,0.7,31,1.56,3.71,22,2.75,2.4,29,2.4,3.5,35,2.83,4.0199999999999996,3,0.46,0.7,16,1.58,1.83,43,3.79,5.65,44,3.4,5.8,38,3.61,4.7,2,0.22,0.56000000000000005,17,1.3,1.89,23,1.1499999999999999,2.5,15,1.3,1.8,2,0.22,0.56000000000000005,41,5.95,5.0999999999999996,46,5.9,6.1,45,5.2,5.8,33,4.28,3.99,31,1.56,3.71,9,0.6,1.18,43,3.79,5.65,49,3.94,6.8,41,5.95,5.0999999999999996,32,2.83,3.77,21,1.83,2.3199999999999998,3,0.46,0.7,27,4.01,3,23,1.1499999999999999,2.5,28,2.8,3.4,17,1.3,1.89,30,3.4,3.7,2,0.22,0.56000000000000005,23,1.1499999999999999,2.5,14,1.1599999999999999,1.72,18,1.32,2,50,4.5,6.8,38,3.61,4.7,19,1.33,2.06,41,5.95,5.0999999999999996,1,0.22,0.51,23,1.1499999999999999,2.5,11,0.91,1.3,49,3.94,6.8,14,1.1599999999999999,1.72,40,5.16,4.92,50,4.5,6.8,25,3.68,2.88,46,5.9,6.1,29,2.4,3.5,5,0.32,0.91,24,1.7,2.8,47,2.34,6.2,28,2.8,3.4,5,0.32,0.91,29,2.4,3.5,5,0.32,0.91,14,1.1599999999999999,1.72,46,5.9,6.1,25,3.68,2.88,17,1.3,1.89,48,7.1,6.2,11,0.91,1.3,20,2.06,2.23,14,1.1599999999999999,1.72,39,4.1900000000000004,4.8899999999999997,4,0.32,0.75,45,5.2,5.8,2,0.22,0.56000000000000005,19,1.33,2.06,48,7.1,6.2,6,0.38,0.96,12,2.16,1.6,28,2.8,3.4,39,4.1900000000000004,4.8899999999999997,6,0.38,0.96,16,1.58,1.83,13,1.24,1.7,24,1.7,2.8,20,2.06,2.23,5,0.32,0.91,43,3.79,5.65,27,4.01,3,40,5.16,4.92,31,1.56,3.71,27,4.01,3,1,0.22,0.51,34,3.4,4,2,0.22,0.56000000000000005,9,0.6,1.18,35,2.83,4.0199999999999996,9,0.6,1.18,6,0.38,0.96,9,0.6,1.18,22,2.75,2.4,44,3.4,5.8,31,1.56,3.71,41,5.95,5.0999999999999996,47,2.34,6.2,32,2.83,3.77,9,0.6,1.18,32,2.83,3.77,32,2.83,3.77,38,3.61,4.7,18,1.32,2,15,1.3,1.8,40,5.16,4.92,11,0.91,1.3,45,5.2,5.8,21,1.83,2.3199999999999998,4,0.32,0.75,23,1.1499999999999999,2.5,15,1.3,1.8,47,2.34,6.2,4,0.32,0.75,5,0.32,0.91,28,2.8,3.4,26,2.15,2.91,17,1.3,1.89,4,0.32,0.75,17,1.3,1.89,16,1.58,1.83,24,1.7,2.8,4,0.32,0.75,6,0.38,0.96,48,7.1,6.2,29,2.4,3.5,2,0.22,0.56000000000000005,null,null,null,null,null,null,null,null,null,null,null,null,null,null,null,null,null,null,null,null,null,null,null,null,null,null,null,null,null,null,null,null,{"$error":"#N/A"}]
[null,null,26,2.15,2.91,null,null,0,0,null,"s","→",{"$f":"M29/(1+M26^2)^0.5","v":0.71816120012410434},null,{"$f":"O29/(1+O26^2)^0.5","v":{"$error":"#NUM!"}},null,null,null,null,null,null,null,null,null,null,null,null,null,null,-0.18623691365892858,2.4565354229896119,-1.1587662881111218,1.6360217723758517,null,{"$error":"#DIV/0!"},{"$error":"#DIV/0!"},{"$error":"#DIV/0!"},{"$error":"#DIV/0!"},null,27,25,"","",null,2.5300000000000002,0.76000000000000023,null,2.5300000000000002,0.76000000000000023,null,2.06,2.23,49,3.94,6.8,49,3.94,6.8,3,0.46,0.7,28,2.8,3.4,40,5.16,4.92,3,0.46,0.7,38,3.61,4.7,18,1.32,2,48,7.1,6.2,8,1.68,1.1299999999999999,35,2.83,4.0199999999999996,12,2.16,1.6,25,3.68,2.88,13,1.24,1.7,38,3.61,4.7,19,1.33,2.06,36,2.2799999999999998,4.0999999999999996,24,1.7,2.8,40,5.16,4.92,16,1.58,1.83,20,2.06,2.23,28,2.8,3.4,46,5.9,6.1,48,7.1,6.2,11,0.91,1.3,21,1.83,2.3199999999999998,3,0.46,0.7,37,3.7,4.2,17,1.3,1.89,50,4.5,6.8,37,3.7,4.2,10,1.1200000000000001,1.2,24,1.7,2.8,20,2.06,2.23,8,1.68,1.1299999999999999,32,2.83,3.77,47,2.34,6.2,11,0.91,1.3,22,2.75,2.4,9,0.6,1.18,6,0.38,0.96,10,1.1200000000000001,1.2,10,1.1200000000000001,1.2,48,7.1,6.2,8,1.68,1.1299999999999999,2,0.22,0.56000000000000005,19,1.33,2.06,29,2.4,3.5,41,5.95,5.0999999999999996,25,3.68,2.88,13,1.24,1.7,45,5.2,5.8,39,4.1900000000000004,4.8899999999999997,43,3.79,5.65,36,2.2799999999999998,4.0999999999999996,50,4.5,6.8,44,3.4,5.8,19,1.33,2.06,43,3.79,5.65,21,1.83,2.3199999999999998,46,5.9,6.1,14,1.1599999999999999,1.72,37,3.7,4.2,32,2.83,3.77,30,3.4,3.7,39,4.1900000000000004,4.8899999999999997,23,1.1499999999999999,2.5,38,3.61,4.7,28,2.8,3.4,26,2.15,2.91,22,2.75,2.4,31,1.56,3.71,46,5.9,6.1,4,0.32,0.75,50,4.5,6.8,46,5.9,6.1,47,2.34,6.2,46,5.9,6.1,4,0.32,0.75,34,3.4,4,43,3.79,5.65,24,1.7,2.8,18,1.32,2,6,0.38,0.96,9,0.6,1.18,25,3.68,2.88,27,4.01,3,26,2.15,2.91,49,3.94,6.8,33,4.28,3.99,43,3.79,5.65,22,2.75,2.4,35,2.83,4.0199999999999996,20,2.06,2.23,47,2.34,6.2,17,1.3,1.89,47,2.34,6.2,5,0.32,0.91,40,5.16,4.92,7,0.4,1.05,38,3.61,4.7,20,2.06,2.23,7,0.4,1.05,19,1.33,2.06,49,3.94,6.8,38,3.61,4.7,46,5.9,6.1,15,1.3,1.8,48,7.1,6.2,20,2.06,2.23,8,1.68,1.1299999999999999,21,1.83,2.3199999999999998,21,1.83,2.3199999999999998,20,2.06,2.23,46,5.9,6.1,11,0.91,1.3,35,2.83,4.0199999999999996,49,3.94,6.8,35,2.83,4.0199999999999996,10,1.1200000000000001,1.2,7,0.4,1.05,11,0.91,1.3,46,5.9,6.1,50,4.5,6.8,36,2.2799999999999998,4.0999999999999996,42,2.97,5.3,37,3.7,4.2,1,0.22,0.51,5,0.32,0.91,17,1.3,1.89,2,0.22,0.56000000000000005,50,4.5,6.8,31,1.56,3.71,17,1.3,1.89,44,3.4,5.8,8,1.68,1.1299999999999999,44,3.4,5.8,10,1.1200000000000001,1.2,42,2.97,5.3,17,1.3,1.89,14,1.1599999999999999,1.72,47,2.34,6.2,49,3.94,6.8,24,1.7,2.8,4,0.32,0.75,10,1.1200000000000001,1.2,40,5.16,4.92,20,2.06,2.23,22,2.75,2.4,38,3.61,4.7,29,2.4,3.5,38,3.61,4.7,46,5.9,6.1,3,0.46,0.7,45,5.2,5.8,17,1.3,1.89,7,0.4,1.05,4,0.32,0.75,21,1.83,2.3199999999999998,20,2.06,2.23,34,3.4,4,23,1.1499999999999999,2.5,1,0.22,0.51,28,2.8,3.4,13,1.24,1.7,40,5.16,4.92,49,3.94,6.8,36,2.2799999999999998,4.0999999999999996,10,1.1200000000000001,1.2,20,2.06,2.23,29,2.4,3.5,13,1.24,1.7,2,0.22,0.56000000000000005,49,3.94,6.8,44,3.4,5.8,30,3.4,3.7,23,1.1499999999999999,2.5,43,3.79,5.65,42,2.97,5.3,44,3.4,5.8,25,3.68,2.88,15,1.3,1.8,25,3.68,2.88,48,7.1,6.2,47,2.34,6.2,6,0.38,0.96,30,3.4,3.7,32,2.83,3.77,50,4.5,6.8,28,2.8,3.4,19,1.33,2.06,10,1.1200000000000001,1.2,13,1.24,1.7,20,2.06,2.23,29,2.4,3.5,1,0.22,0.51,38,3.61,4.7,14,1.1599999999999999,1.72,40,5.16,4.92,36,2.2799999999999998,4.0999999999999996,28,2.8,3.4,16,1.58,1.83,49,3.94,6.8,14,1.1599999999999999,1.72,15,1.3,1.8,1,0.22,0.51,11,0.91,1.3,25,3.68,2.88,7,0.4,1.05,17,1.3,1.89,44,3.4,5.8,45,5.2,5.8,48,7.1,6.2,3,0.46,0.7,40,5.16,4.92,24,1.7,2.8,39,4.1900000000000004,4.8899999999999997,19,1.33,2.06,45,5.2,5.8,8,1.68,1.1299999999999999,22,2.75,2.4,39,4.1900000000000004,4.8899999999999997,47,2.34,6.2,6,0.38,0.96,22,2.75,2.4,9,0.6,1.18,29,2.4,3.5,31,1.56,3.71,11,0.91,1.3,11,0.91,1.3,34,3.4,4,47,2.34,6.2,27,4.01,3,46,5.9,6.1,44,3.4,5.8,30,3.4,3.7,8,1.68,1.1299999999999999,26,2.15,2.91,16,1.58,1.83,45,5.2,5.8,35,2.83,4.0199999999999996,32,2.83,3.77,39,4.1900000000000004,4.8899999999999997,32,2.83,3.77,46,5.9,6.1,27,4.01,3,43,3.79,5.65,3,0.46,0.7,3,0.46,0.7,40,5.16,4.92,32,2.83,3.77,5,0.32,0.91,25,3.68,2.88,9,0.6,1.18,22,2.75,2.4,46,5.9,6.1,40,5.16,4.92,36,2.2799999999999998,4.0999999999999996,41,5.95,5.0999999999999996,29,2.4,3.5,36,2.2799999999999998,4.0999999999999996,4,0.32,0.75,49,3.94,6.8,3,0.46,0.7,37,3.7,4.2,8,1.68,1.1299999999999999,7,0.4,1.05,23,1.1499999999999999,2.5,36,2.2799999999999998,4.0999999999999996,48,7.1,6.2,28,2.8,3.4,26,2.15,2.91,39,4.1900000000000004,4.8899999999999997,35,2.83,4.0199999999999996,18,1.32,2,18,1.32,2,24,1.7,2.8,9,0.6,1.18,49,3.94,6.8,20,2.06,2.23,17,1.3,1.89,18,1.32,2,32,2.83,3.77,34,3.4,4,16,1.58,1.83,13,1.24,1.7,11,0.91,1.3,14,1.1599999999999999,1.72,48,7.1,6.2,2,0.22,0.56000000000000005,10,1.1200000000000001,1.2,5,0.32,0.91,18,1.32,2,18,1.32,2,1,0.22,0.51,40,5.16,4.92,38,3.61,4.7,1,0.22,0.51,31,1.56,3.71,3,0.46,0.7,4,0.32,0.75,39,4.1900000000000004,4.8899999999999997,12,2.16,1.6,3,0.46,0.7,46,5.9,6.1,25,3.68,2.88,23,1.1499999999999999,2.5,12,2.16,1.6,37,3.7,4.2,23,1.1499999999999999,2.5,26,2.15,2.91,11,0.91,1.3,11,0.91,1.3,1,0.22,0.51,39,4.1900000000000004,4.8899999999999997,6,0.38,0.96,49,3.94,6.8,23,1.1499999999999999,2.5,32,2.83,3.77,47,2.34,6.2,25,3.68,2.88,3,0.46,0.7,26,2.15,2.91,21,1.83,2.3199999999999998,12,2.16,1.6,25,3.68,2.88,7,0.4,1.05,45,5.2,5.8,8,1.68,1.1299999999999999,24,1.7,2.8,6,0.38,0.96,32,2.83,3.77,15,1.3,1.8,24,1.7,2.8,37,3.7,4.2,13,1.24,1.7,37,3.7,4.2,50,4.5,6.8,48,7.1,6.2,27,4.01,3,38,3.61,4.7,42,2.97,5.3,41,5.95,5.0999999999999996,13,1.24,1.7,15,1.3,1.8,38,3.61,4.7,44,3.4,5.8,32,2.83,3.77,28,2.8,3.4,13,1.24,1.7,2,0.22,0.56000000000000005,31,1.56,3.71,50,4.5,6.8,39,4.1900000000000004,4.8899999999999997,32,2.83,3.77,37,3.7,4.2,23,1.1499999999999999,2.5,50,4.5,6.8,36,2.2799999999999998,4.0999999999999996,3,0.46,0.7,29,2.4,3.5,24,1.7,2.8,26,2.15,2.91,20,2.06,2.23,26,2.15,2.91,25,3.68,2.88,18,1.32,2,42,2.97,5.3,42,2.97,5.3,8,1.68,1.1299999999999999,34,3.4,4,22,2.75,2.4,34,3.4,4,40,5.16,4.92,12,2.16,1.6,12,2.16,1.6,9,0.6,1.18,26,2.15,2.91,39,4.1900000000000004,4.8899999999999997,23,1.1499999999999999,2.5,9,0.6,1.18,6,0.38,0.96,38,3.61,4.7,1,0.22,0.51,4,0.32,0.75,8,1.68,1.1299999999999999,21,1.83,2.3199999999999998,14,1.1599999999999999,1.72,4,0.32,0.75,15,1.3,1.8,3,0.46,0.7,50,4.5,6.8,29,2.4,3.5,1,0.22,0.51,32,2.83,3.77,28,2.8,3.4,40,5.16,4.92,16,1.58,1.83,25,3.68,2.88,25,3.68,2.88,40,5.16,4.92,49,3.94,6.8,23,1.1499999999999999,2.5,9,0.6,1.18,28,2.8,3.4,41,5.95,5.0999999999999996,5,0.32,0.91,42,2.97,5.3,23,1.1499999999999999,2.5,16,1.58,1.83,17,1.3,1.89,39,4.1900000000000004,4.8899999999999997,45,5.2,5.8,26,2.15,2.91,7,0.4,1.05,44,3.4,5.8,16,1.58,1.83,8,1.68,1.1299999999999999,33,4.28,3.99,14,1.1599999999999999,1.72,12,2.16,1.6,44,3.4,5.8,27,4.01,3,23,1.1499999999999999,2.5,38,3.61,4.7,2,0.22,0.56000000000000005,17,1.3,1.89,18,1.32,2,12,2.16,1.6,21,1.83,2.3199999999999998,23,1.1499999999999999,2.5,49,3.94,6.8,11,0.91,1.3,21,1.83,2.3199999999999998,7,0.4,1.05,49,3.94,6.8,25,3.68,2.88,17,1.3,1.89,39,4.1900000000000004,4.8899999999999997,41,5.95,5.0999999999999996,35,2.83,4.0199999999999996,4,0.32,0.75,19,1.33,2.06,42,2.97,5.3,42,2.97,5.3,47,2.34,6.2,26,2.15,2.91,45,5.2,5.8,16,1.58,1.83,38,3.61,4.7,13,1.24,1.7,47,2.34,6.2,50,4.5,6.8,11,0.91,1.3,24,1.7,2.8,7,0.4,1.05,36,2.2799999999999998,4.0999999999999996,27,4.01,3,22,2.75,2.4,50,4.5,6.8,48,7.1,6.2,13,1.24,1.7,30,3.4,3.7,49,3.94,6.8,34,3.4,4,21,1.83,2.3199999999999998,30,3.4,3.7,3,0.46,0.7,30,3.4,3.7,42,2.97,5.3,29,2.4,3.5,43,3.79,5.65,26,2.15,2.91,39,4.1900000000000004,4.8899999999999997,39,4.1900000000000004,4.8899999999999997,43,3.79,5.65,5,0.32,0.91,41,5.95,5.0999999999999996,13,1.24,1.7,40,5.16,4.92,33,4.28,3.99,46,5.9,6.1,1,0.22,0.51,24,1.7,2.8,23,1.1499999999999999,2.5,38,3.61,4.7,12,2.16,1.6,37,3.7,4.2,3,0.46,0.7,23,1.1499999999999999,2.5,41,5.95,5.0999999999999996,35,2.83,4.0199999999999996,1,0.22,0.51,16,1.58,1.83,14,1.1599999999999999,1.72,11,0.91,1.3,40,5.16,4.92,49,3.94,6.8,32,2.83,3.77,31,1.56,3.71,47,2.34,6.2,null,null,null,null,null,null,null,null,null,null,null,null,null,null,null,null,null,null,null,null,null,null,null,null,null,null,null,null,null,null,null,null,{"$error":"#N/A"}]
[null,null,27,4.01,3,null,null,0,0,null,null,null,null,null,null,null,null,null,null,null,null,null,null,null,null,null,null,null,null,-0.13146473174752188,2.5349948241624327,-1.1342903655059529,1.6604507559967991,null,{"$error":"#DIV/0!"},{"$error":"#DIV/0!"},{"$error":"#DIV/0!"},{"$error":"#DIV/0!"},null,9,24,"","",null,3.5049999999999999,-1.0099999999999998,null,3.5049999999999999,-1.0099999999999998,null,1.83,2.3199999999999998,50,4.5,6.8,43,3.79,5.65,17,1.3,1.89,21,1.83,2.3199999999999998,7,0.4,1.05,21,1.83,2.3199999999999998,43,3.79,5.65,35,2.83,4.0199999999999996,42,2.97,5.3,45,5.2,5.8,23,1.1499999999999999,2.5,42,2.97,5.3,34,3.4,4,46,5.9,6.1,34,3.4,4,14,1.1599999999999999,1.72,21,1.83,2.3199999999999998,21,1.83,2.3199999999999998,7,0.4,1.05,15,1.3,1.8,20,2.06,2.23,35,2.83,4.0199999999999996,36,2.2799999999999998,4.0999999999999996,10,1.1200000000000001,1.2,18,1.32,2,22,2.75,2.4,39,4.1900000000000004,4.8899999999999997,28,2.8,3.4,18,1.32,2,12,2.16,1.6,48,7.1,6.2,35,2.83,4.0199999999999996,4,0.32,0.75,13,1.24,1.7,43,3.79,5.65,30,3.4,3.7,9,0.6,1.18,4,0.32,0.75,15,1.3,1.8,46,5.9,6.1,11,0.91,1.3,49,3.94,6.8,28,2.8,3.4,9,0.6,1.18,24,1.7,2.8,15,1.3,1.8,3,0.46,0.7,23,1.1499999999999999,2.5,13,1.24,1.7,5,0.32,0.91,9,0.6,1.18,7,0.4,1.05,18,1.32,2,5,0.32,0.91,20,2.06,2.23,46,5.9,6.1,43,3.79,5.65,44,3.4,5.8,32,2.83,3.77,6,0.38,0.96,50,4.5,6.8,13,1.24,1.7,44,3.4,5.8,15,1.3,1.8,25,3.68,2.88,49,3.94,6.8,1,0.22,0.51,47,2.34,6.2,1,0.22,0.51,31,1.56,3.71,49,3.94,6.8,29,2.4,3.5,45,5.2,5.8,40,5.16,4.92,3,0.46,0.7,4,0.32,0.75,6,0.38,0.96,29,2.4,3.5,27,4.01,3,10,1.1200000000000001,1.2,29,2.4,3.5,7,0.4,1.05,29,2.4,3.5,15,1.3,1.8,25,3.68,2.88,34,3.4,4,15,1.3,1.8,25,3.68,2.88,13,1.24,1.7,31,1.56,3.71,5,0.32,0.91,49,3.94,6.8,17,1.3,1.89,49,3.94,6.8,19,1.33,2.06,18,1.32,2,25,3.68,2.88,6,0.38,0.96,14,1.1599999999999999,1.72,37,3.7,4.2,19,1.33,2.06,31,1.56,3.71,42,2.97,5.3,28,2.8,3.4,4,0.32,0.75,23,1.1499999999999999,2.5,19,1.33,2.06,47,2.34,6.2,17,1.3,1.89,19,1.33,2.06,3,0.46,0.7,15,1.3,1.8,29,2.4,3.5,34,3.4,4,41,5.95,5.0999999999999996,5,0.32,0.91,25,3.68,2.88,2,0.22,0.56000000000000005,18,1.32,2,41,5.95,5.0999999999999996,39,4.1900000000000004,4.8899999999999997,36,2.2799999999999998,4.0999999999999996,33,4.28,3.99,21,1.83,2.3199999999999998,5,0.32,0.91,49,3.94,6.8,22,2.75,2.4,37,3.7,4.2,15,1.3,1.8,40,5.16,4.92,5,0.32,0.91,19,1.33,2.06,47,2.34,6.2,36,2.2799999999999998,4.0999999999999996,43,3.79,5.65,33,4.28,3.99,50,4.5,6.8,1,0.22,0.51,50,4.5,6.8,4,0.32,0.75,42,2.97,5.3,13,1.24,1.7,31,1.56,3.71,33,4.28,3.99,24,1.7,2.8,39,4.1900000000000004,4.8899999999999997,17,1.3,1.89,44,3.4,5.8,4,0.32,0.75,37,3.7,4.2,29,2.4,3.5,35,2.83,4.0199999999999996,32,2.83,3.77,14,1.1599999999999999,1.72,37,3.7,4.2,41,5.95,5.0999999999999996,1,0.22,0.51,44,3.4,5.8,49,3.94,6.8,14,1.1599999999999999,1.72,6,0.38,0.96,5,0.32,0.91,48,7.1,6.2,8,1.68,1.1299999999999999,24,1.7,2.8,23,1.1499999999999999,2.5,50,4.5,6.8,39,4.1900000000000004,4.8899999999999997,43,3.79,5.65,31,1.56,3.71,21,1.83,2.3199999999999998,42,2.97,5.3,17,1.3,1.89,41,5.95,5.0999999999999996,8,1.68,1.1299999999999999,4,0.32,0.75,26,2.15,2.91,27,4.01,3,33,4.28,3.99,50,4.5,6.8,49,3.94,6.8,21,1.83,2.3199999999999998,45,5.2,5.8,49,3.94,6.8,3,0.46,0.7,21,1.83,2.3199999999999998,43,3.79,5.65,26,2.15,2.91,39,4.1900000000000004,4.8899999999999997,13,1.24,1.7,1,0.22,0.51,40,5.16,4.92,9,0.6,1.18,5,0.32,0.91,17,1.3,1.89,23,1.1499999999999999,2.5,34,3.4,4,23,1.1499999999999999,2.5,12,2.16,1.6,35,2.83,4.0199999999999996,44,3.4,5.8,16,1.58,1.83,4,0.32,0.75,28,2.8,3.4,28,2.8,3.4,33,4.28,3.99,34,3.4,4,20,2.06,2.23,45,5.2,5.8,3,0.46,0.7,10,1.1200000000000001,1.2,40,5.16,4.92,45,5.2,5.8,32,2.83,3.77,15,1.3,1.8,27,4.01,3,12,2.16,1.6,10,1.1200000000000001,1.2,22,2.75,2.4,43,3.79,5.65,7,0.4,1.05,36,2.2799999999999998,4.0999999999999996,25,3.68,2.88,8,1.68,1.1299999999999999,34,3.4,4,46,5.9,6.1,34,3.4,4,30,3.4,3.7,13,1.24,1.7,15,1.3,1.8,28,2.8,3.4,16,1.58,1.83,14,1.1599999999999999,1.72,11,0.91,1.3,23,1.1499999999999999,2.5,30,3.4,3.7,11,0.91,1.3,19,1.33,2.06,6,0.38,0.96,25,3.68,2.88,42,2.97,5.3,22,2.75,2.4,23,1.1499999999999999,2.5,32,2.83,3.77,29,2.4,3.5,50,4.5,6.8,38,3.61,4.7,8,1.68,1.1299999999999999,21,1.83,2.3199999999999998,37,3.7,4.2,49,3.94,6.8,9,0.6,1.18,40,5.16,4.92,42,2.97,5.3,20,2.06,2.23,10,1.1200000000000001,1.2,43,3.79,5.65,32,2.83,3.77,23,1.1499999999999999,2.5,47,2.34,6.2,47,2.34,6.2,29,2.4,3.5,45,5.2,5.8,22,2.75,2.4,14,1.1599999999999999,1.72,21,1.83,2.3199999999999998,1,0.22,0.51,15,1.3,1.8,3,0.46,0.7,28,2.8,3.4,23,1.1499999999999999,2.5,10,1.1200000000000001,1.2,28,2.8,3.4,38,3.61,4.7,45,5.2,5.8,41,5.95,5.0999999999999996,35,2.83,4.0199999999999996,6,0.38,0.96,11,0.91,1.3,37,3.7,4.2,40,5.16,4.92,7,0.4,1.05,47,2.34,6.2,42,2.97,5.3,24,1.7,2.8,11,0.91,1.3,34,3.4,4,38,3.61,4.7,47,2.34,6.2,17,1.3,1.89,8,1.68,1.1299999999999999,41,5.95,5.0999999999999996,23,1.1499999999999999,2.5,46,5.9,6.1,12,2.16,1.6,47,2.34,6.2,6,0.38,0.96,1,0.22,0.51,12,2.16,1.6,49,3.94,6.8,38,3.61,4.7,40,5.16,4.92,34,3.4,4,18,1.32,2,14,1.1599999999999999,1.72,6,0.38,0.96,49,3.94,6.8,36,2.2799999999999998,4.0999999999999996,1,0.22,0.51,28,2.8,3.4,34,3.4,4,6,0.38,0.96,31,1.56,3.71,23,1.1499999999999999,2.5,39,4.1900000000000004,4.8899999999999997,8,1.68,1.1299999999999999,44,3.4,5.8,23,1.1499999999999999,2.5,16,1.58,1.83,36,2.2799999999999998,4.0999999999999996,6,0.38,0.96,7,0.4,1.05,12,2.16,1.6,29,2.4,3.5,26,2.15,2.91,43,3.79,5.65,28,2.8,3.4,32,2.83,3.77,49,3.94,6.8,5,0.32,0.91,30,3.4,3.7,1,0.22,0.51,3,0.46,0.7,34,3.4,4,36,2.2799999999999998,4.0999999999999996,40,5.16,4.92,11,0.91,1.3,31,1.56,3.71,9,0.6,1.18,34,3.4,4,12,2.16,1.6,46,5.9,6.1,5,0.32,0.91,5,0.32,0.91,4,0.32,0.75,41,5.95,5.0999999999999996,49,3.94,6.8,25,3.68,2.88,38,3.61,4.7,8,1.68,1.1299999999999999,14,1.1599999999999999,1.72,43,3.79,5.65,31,1.56,3.71,5,0.32,0.91,9,0.6,1.18,29,2.4,3.5,41,5.95,5.0999999999999996,2,0.22,0.56000000000000005,40,5.16,4.92,19,1.33,2.06,5,0.32,0.91,38,3.61,4.7,26,2.15,2.91,37,3.7,4.2,34,3.4,4,41,5.95,5.0999999999999996,29,2.4,3.5,19,1.33,2.06,30,3.4,3.7,17,1.3,1.89,48,7.1,6.2,2,0.22,0.56000000000000005,5,0.32,0.91,41,5.95,5.0999999999999996,21,1.83,2.3199999999999998,28,2.8,3.4,21,1.83,2.3199999999999998,15,1.3,1.8,1,0.22,0.51,10,1.1200000000000001,1.2,41,5.95,5.0999999999999996,45,5.2,5.8,26,2.15,2.91,4,0.32,0.75,34,3.4,4,18,1.32,2,21,1.83,2.3199999999999998,7,0.4,1.05,6,0.38,0.96,2,0.22,0.56000000000000005,48,7.1,6.2,1,0.22,0.51,35,2.83,4.0199999999999996,4,0.32,0.75,26,2.15,2.91,25,3.68,2.88,17,1.3,1.89,41,5.95,5.0999999999999996,11,0.91,1.3,47,2.34,6.2,32,2.83,3.77,20,2.06,2.23,39,4.1900000000000004,4.8899999999999997,7,0.4,1.05,14,1.1599999999999999,1.72,41,5.95,5.0999999999999996,33,4.28,3.99,17,1.3,1.89,42,2.97,5.3,50,4.5,6.8,17,1.3,1.89,29,2.4,3.5,38,3.61,4.7,14,1.1599999999999999,1.72,2,0.22,0.56000000000000005,10,1.1200000000000001,1.2,25,3.68,2.88,49,3.94,6.8,23,1.1499999999999999,2.5,30,3.4,3.7,6,0.38,0.96,23,1.1499999999999999,2.5,50,4.5,6.8,20,2.06,2.23,50,4.5,6.8,9,0.6,1.18,2,0.22,0.56000000000000005,31,1.56,3.71,38,3.61,4.7,11,0.91,1.3,30,3.4,3.7,16,1.58,1.83,27,4.01,3,43,3.79,5.65,7,0.4,1.05,16,1.58,1.83,26,2.15,2.91,26,2.15,2.91,37,3.7,4.2,14,1.1599999999999999,1.72,29,2.4,3.5,1,0.22,0.51,22,2.75,2.4,2,0.22,0.56000000000000005,16,1.58,1.83,44,3.4,5.8,39,4.1900000000000004,4.8899999999999997,3,0.46,0.7,15,1.3,1.8,3,0.46,0.7,38,3.61,4.7,16,1.58,1.83,27,4.01,3,43,3.79,5.65,44,3.4,5.8,18,1.32,2,11,0.91,1.3,7,0.4,1.05,29,2.4,3.5,24,1.7,2.8,32,2.83,3.77,34,3.4,4,35,2.83,4.0199999999999996,19,1.33,2.06,27,4.01,3,41,5.95,5.0999999999999996,24,1.7,2.8,46,5.9,6.1,27,4.01,3,27,4.01,3,34,3.4,4,11,0.91,1.3,41,5.95,5.0999999999999996,22,2.75,2.4,38,3.61,4.7,43,3.79,5.65,10,1.1200000000000001,1.2,16,1.58,1.83,36,2.2799999999999998,4.0999999999999996,25,3.68,2.88,15,1.3,1.8,35,2.83,4.0199999999999996,39,4.1900000000000004,4.8899999999999997,33,4.28,3.99,5,0.32,0.91,44,3.4,5.8,29,2.4,3.5,37,3.7,4.2,28,2.8,3.4,3,0.46,0.7,28,2.8,3.4,19,1.33,2.06,36,2.2799999999999998,4.0999999999999996,37,3.7,4.2,23,1.1499999999999999,2.5,47,2.34,6.2,43,3.79,5.65,20,2.06,2.23,15,1.3,1.8,16,1.58,1.83,3,0.46,0.7,null,null,null,null,null,null,null,null,null,null,null,null,null,null,null,null,null,null,null,null,null,null,null,null,null,null,null,null,null,null,null,null,{"$error":"#N/A"}]
[null,null,53,null,null,null,null,"","",null,null,null,null,null,null,null,null,null,null,null,null,null,null,null,null,null,null,null,null,1.2926119979490527,4.3211693773418887,-0.24414650045766839,2.0659288686529043,null,{"$error":"#DIV/0!"},{"$error":"#DIV/0!"},{"$error":"#DIV/0!"},{"$error":"#DIV/0!"},null,"","","","",null,"","",null,"","",null,2.34,6.2,2,0.22,0.56000000000000005,36,2.2799999999999998,4.0999999999999996,47,2.34,6.2,46,5.9,6.1,19,1.33,2.06,40,5.16,4.92,37,3.7,4.2,23,1.1499999999999999,2.5,31,1.56,3.71,27,4.01,3,16,1.58,1.83,2,0.22,0.56000000000000005,44,3.4,5.8,23,1.1499999999999999,2.5,17,1.3,1.89,39,4.1900000000000004,4.8899999999999997,3,0.46,0.7,33,4.28,3.99,7,0.4,1.05,28,2.8,3.4,32,2.83,3.77,34,3.4,4,10,1.1200000000000001,1.2,7,0.4,1.05,38,3.61,4.7,28,2.8,3.4,41,5.95,5.0999999999999996,10,1.1200000000000001,1.2,37,3.7,4.2,3,0.46,0.7,9,0.6,1.18,39,4.1900000000000004,4.8899999999999997,24,1.7,2.8,12,2.16,1.6,25,3.68,2.88,50,4.5,6.8,23,1.1499999999999999,2.5,14,1.1599999999999999,1.72,31,1.56,3.71,48,7.1,6.2,41,5.95,5.0999999999999996,28,2.8,3.4,30,3.4,3.7,43,3.79,5.65,36,2.2799999999999998,4.0999999999999996,43,3.79,5.65,43,3.79,5.65,26,2.15,2.91,44,3.4,5.8,47,2.34,6.2,15,1.3,1.8,49,3.94,6.8,27,4.01,3,20,2.06,2.23,41,5.95,5.0999999999999996,22,2.75,2.4,27,4.01,3,33,4.28,3.99,2,0.22,0.56000000000000005,21,1.83,2.3199999999999998,32,2.83,3.77,13,1.24,1.7,18,1.32,2,11,0.91,1.3,7,0.4,1.05,25,3.68,2.88,3,0.46,0.7,27,4.01,3,40,5.16,4.92,2,0.22,0.56000000000000005,45,5.2,5.8,23,1.1499999999999999,2.5,45,5.2,5.8,9,0.6,1.18,40,5.16,4.92,27,4.01,3,27,4.01,3,49,3.94,6.8,43,3.79,5.65,15,1.3,1.8,20,2.06,2.23,44,3.4,5.8,27,4.01,3,46,5.9,6.1,22,2.75,2.4,26,2.15,2.91,10,1.1200000000000001,1.2,2,0.22,0.56000000000000005,7,0.4,1.05,37,3.7,4.2,39,4.1900000000000004,4.8899999999999997,3,0.46,0.7,38,3.61,4.7,44,3.4,5.8,43,3.79,5.65,24,1.7,2.8,50,4.5,6.8,17,1.3,1.89,40,5.16,4.92,32,2.83,3.77,44,3.4,5.8,20,2.06,2.23,16,1.58,1.83,27,4.01,3,39,4.1900000000000004,4.8899999999999997,10,1.1200000000000001,1.2,7,0.4,1.05,8,1.68,1.1299999999999999,42,2.97,5.3,8,1.68,1.1299999999999999,3,0.46,0.7,36,2.2799999999999998,4.0999999999999996,30,3.4,3.7,17,1.3,1.89,5,0.32,0.91,23,1.1499999999999999,2.5,40,5.16,4.92,22,2.75,2.4,4,0.32,0.75,27,4.01,3,27,4.01,3,34,3.4,4,14,1.1599999999999999,1.72,10,1.1200000000000001,1.2,29,2.4,3.5,11,0.91,1.3,21,1.83,2.3199999999999998,9,0.6,1.18,2,0.22,0.56000000000000005,31,1.56,3.71,49,3.94,6.8,19,1.33,2.06,7,0.4,1.05,34,3.4,4,30,3.4,3.7,42,2.97,5.3,22,2.75,2.4,26,2.15,2.91,42,2.97,5.3,41,5.95,5.0999999999999996,4,0.32,0.75,37,3.7,4.2,8,1.68,1.1299999999999999,17,1.3,1.89,23,1.1499999999999999,2.5,8,1.68,1.1299999999999999,10,1.1200000000000001,1.2,34,3.4,4,5,0.32,0.91,23,1.1499999999999999,2.5,9,0.6,1.18,26,2.15,2.91,35,2.83,4.0199999999999996,15,1.3,1.8,36,2.2799999999999998,4.0999999999999996,47,2.34,6.2,29,2.4,3.5,32,2.83,3.77,37,3.7,4.2,44,3.4,5.8,10,1.1200000000000001,1.2,9,0.6,1.18,40,5.16,4.92,44,3.4,5.8,4,0.32,0.75,14,1.1599999999999999,1.72,22,2.75,2.4,46,5.9,6.1,43,3.79,5.65,46,5.9,6.1,4,0.32,0.75,32,2.83,3.77,35,2.83,4.0199999999999996,4,0.32,0.75,45,5.2,5.8,38,3.61,4.7,46,5.9,6.1,8,1.68,1.1299999999999999,2,0.22,0.56000000000000005,35,2.83,4.0199999999999996,39,4.1900000000000004,4.8899999999999997,47,2.34,6.2,11,0.91,1.3,30,3.4,3.7,31,1.56,3.71,23,1.1499999999999999,2.5,17,1.3,1.89,18,1.32,2,11,0.91,1.3,24,1.7,2.8,28,2.8,3.4,9,0.6,1.18,24,1.7,2.8,43,3.79,5.65,23,1.1499999999999999,2.5,10,1.1200000000000001,1.2,7,0.4,1.05,25,3.68,2.88,29,2.4,3.5,19,1.33,2.06,49,3.94,6.8,15,1.3,1.8,7,0.4,1.05,35,2.83,4.0199999999999996,11,0.91,1.3,25,3.68,2.88,49,3.94,6.8,30,3.4,3.7,49,3.94,6.8,11,0.91,1.3,42,2.97,5.3,31,1.56,3.71,16,1.58,1.83,11,0.91,1.3,45,5.2,5.8,17,1.3,1.89,11,0.91,1.3,50,4.5,6.8,18,1.32,2,28,2.8,3.4,49,3.94,6.8,4,0.32,0.75,29,2.4,3.5,35,2.83,4.0199999999999996,41,5.95,5.0999999999999996,25,3.68,2.88,11,0.91,1.3,23,1.1499999999999999,2.5,40,5.16,4.92,34,3.4,4,37,3.7,4.2,40,5.16,4.92,41,5.95,5.0999999999999996,23,1.1499999999999999,2.5,10,1.1200000000000001,1.2,4,0.32,0.75,3,0.46,0.7,18,1.32,2,6,0.38,0.96,21,1.83,2.3199999999999998,30,3.4,3.7,8,1.68,1.1299999999999999,42,2.97,5.3,25,3.68,2.88,11,0.91,1.3,33,4.28,3.99,48,7.1,6.2,18,1.32,2,25,3.68,2.88,39,4.1900000000000004,4.8899999999999997,50,4.5,6.8,32,2.83,3.77,15,1.3,1.8,40,5.16,4.92,27,4.01,3,50,4.5,6.8,10,1.1200000000000001,1.2,47,2.34,6.2,13,1.24,1.7,37,3.7,4.2,26,2.15,2.91,10,1.1200000000000001,1.2,32,2.83,3.77,40,5.16,4.92,15,1.3,1.8,14,1.1599999999999999,1.72,24,1.7,2.8,44,3.4,5.8,36,2.2799999999999998,4.0999999999999996,1,0.22,0.51,2,0.22,0.56000000000000005,42,2.97,5.3,37,3.7,4.2,42,2.97,5.3,13,1.24,1.7,23,1.1499999999999999,2.5,45,5.2,5.8,29,2.4,3.5,5,0.32,0.91,12,2.16,1.6,22,2.75,2.4,30,3.4,3.7,24,1.7,2.8,34,3.4,4,33,4.28,3.99,48,7.1,6.2,6,0.38,0.96,34,3.4,4,30,3.4,3.7,2,0.22,0.56000000000000005,42,2.97,5.3,7,0.4,1.05,39,4.1900000000000004,4.8899999999999997,19,1.33,2.06,48,7.1,6.2,48,7.1,6.2,20,2.06,2.23,29,2.4,3.5,10,1.1200000000000001,1.2,10,1.1200000000000001,1.2,33,4.28,3.99,39,4.1900000000000004,4.8899999999999997,24,1.7,2.8,23,1.1499999999999999,2.5,19,1.33,2.06,4,0.32,0.75,14,1.1599999999999999,1.72,29,2.4,3.5,43,3.79,5.65,17,1.3,1.89,3,0.46,0.7,29,2.4,3.5,48,7.1,6.2,17,1.3,1.89,1,0.22,0.51,40,5.16,4.92,27,4.01,3,46,5.9,6.1,4,0.32,0.75,18,1.32,2,49,3.94,6.8,32,2.83,3.77,7,0.4,1.05,38,3.61,4.7,3,0.46,0.7,28,2.8,3.4,24,1.7,2.8,44,3.4,5.8,6,0.38,0.96,11,0.91,1.3,30,3.4,3.7,7,0.4,1.05,18,1.32,2,1,0.22,0.51,7,0.4,1.05,42,2.97,5.3,24,1.7,2.8,37,3.7,4.2,8,1.68,1.1299999999999999,48,7.1,6.2,28,2.8,3.4,14,1.1599999999999999,1.72,27,4.01,3,48,7.1,6.2,4,0.32,0.75,41,5.95,5.0999999999999996,41,5.95,5.0999999999999996,4,0.32,0.75,21,1.83,2.3199999999999998,1,0.22,0.51,6,0.38,0.96,30,3.4,3.7,15,1.3,1.8,29,2.4,3.5,19,1.33,2.06,34,3.4,4,40,5.16,4.92,4,0.32,0.75,43,3.79,5.65,7,0.4,1.05,19,1.33,2.06,1,0.22,0.51,43,3.79,5.65,38,3.61,4.7,13,1.24,1.7,4,0.32,0.75,37,3.7,4.2,30,3.4,3.7,1,0.22,0.51,33,4.28,3.99,5,0.32,0.91,34,3.4,4,23,1.1499999999999999,2.5,38,3.61,4.7,14,1.1599999999999999,1.72,50,4.5,6.8,38,3.61,4.7,46,5.9,6.1,6,0.38,0.96,30,3.4,3.7,36,2.2799999999999998,4.0999999999999996,30,3.4,3.7,48,7.1,6.2,1,0.22,0.51,27,4.01,3,35,2.83,4.0199999999999996,40,5.16,4.92,50,4.5,6.8,25,3.68,2.88,16,1.58,1.83,43,3.79,5.65,18,1.32,2,10,1.1200000000000001,1.2,43,3.79,5.65,12,2.16,1.6,10,1.1200000000000001,1.2,43,3.79,5.65,14,1.1599999999999999,1.72,50,4.5,6.8,16,1.58,1.83,48,7.1,6.2,34,3.4,4,15,1.3,1.8,43,3.79,5.65,3,0.46,0.7,4,0.32,0.75,48,7.1,6.2,14,1.1599999999999999,1.72,47,2.34,6.2,22,2.75,2.4,7,0.4,1.05,23,1.1499999999999999,2.5,48,7.1,6.2,1,0.22,0.51,16,1.58,1.83,10,1.1200000000000001,1.2,33,4.28,3.99,42,2.97,5.3,31,1.56,3.71,40,5.16,4.92,30,3.4,3.7,29,2.4,3.5,9,0.6,1.18,5,0.32,0.91,25,3.68,2.88,27,4.01,3,47,2.34,6.2,26,2.15,2.91,30,3.4,3.7,49,3.94,6.8,32,2.83,3.77,30,3.4,3.7,13,1.24,1.7,33,4.28,3.99,1,0.22,0.51,29,2.4,3.5,39,4.1900000000000004,4.8899999999999997,31,1.56,3.71,17,1.3,1.89,19,1.33,2.06,31,1.56,3.71,13,1.24,1.7,4,0.32,0.75,38,3.61,4.7,29,2.4,3.5,30,3.4,3.7,46,5.9,6.1,37,3.7,4.2,32,2.83,3.77,43,3.79,5.65,2,0.22,0.56000000000000005,10,1.1200000000000001,1.2,29,2.4,3.5,12,2.16,1.6,27,4.01,3,49,3.94,6.8,14,1.1599999999999999,1.72,47,2.34,6.2,9,0.6,1.18,42,2.97,5.3,49,3.94,6.8,27,4.01,3,19,1.33,2.06,2,0.22,0.56000000000000005,45,5.2,5.8,21,1.83,2.3199999999999998,23,1.1499999999999999,2.5,47,2.34,6.2,7,0.4,1.05,36,2.2799999999999998,4.0999999999999996,6,0.38,0.96,46,5.9,6.1,37,3.7,4.2,10,1.1200000000000001,1.2,8,1.68,1.1299999999999999,30,3.4,3.7,4,0.32,0.75,35,2.83,4.0199999999999996,24,1.7,2.8,11,0.91,1.3,22,2.75,2.4,29,2.4,3.5,15,1.3,1.8,14,1.1599999999999999,1.72,45,5.2,5.8,30,3.4,3.7,34,3.4,4,29,2.4,3.5,25,3.68,2.88,44,3.4,5.8,9,0.6,1.18,11,0.91,1.3,22,2.75,2.4,13,1.24,1.7,47,2.34,6.2,11,0.91,1.3,42,2.97,5.3,41,5.95,5.0999999999999996,42,2.97,5.3,1,0.22,0.51,29,2.4,3.5,null,null,null,null,null,null,null,null,null,null,null,null,null,null,null,null,null,null,null,null,null,null,null,null,null,null,null,null,null,null,null,null,""]
[null,null,98,null,null,null,null,"","",null,null,null,null,null,null,null,null,null,null,null,null,null,null,null,null,null,null,null,null,3.7573601839623518,6.627201968537455,2.0819104783563098,2.0568672918496116,null,{"$error":"#DIV/0!"},{"$error":"#DIV/0!"},{"$error":"#DIV/0!"},{"$error":"#DIV/0!"},null,{"$f":"IF(D102<>\"\",RANK(D102,$D$5:$D$1304),\"\")","v":""},{"$f":"IF(E102<>\"\",RANK(E102,$E$5:$E$1304),\"\")","v":""},"","",null,"","",null,"","",null,"","",null,null,null,null,null,null,null,null,null,null,null,null,null,null,null,null,null,null,null,null,null,null,null,null,null,null,null,null,null,null,null,null,null,null,null,null,null,null,null,null,null,null,null,null,null,null,null,null,null,null,null,null,null,null,null,null,null,null,null,null,null,null,null,null,null,null,null,null,null,null,null,null,null,null,null,null,null,null,null,null,null,null,null,null,null,null,null,null,null,null,null,null,null,null,null,null,null,null,null,null,null,null,null,null,null,null,null,null,null,null,null,null,null,null,null,null,null,null,null,null,null,null,null,null,null,null,null,null,null,null,null,null,null,null,null,null,null,null,null,null,null,null,null,null,null,null,null,null,null,null,null,null,null,null,null,null,null,null,null,null,null,null,null,null,null,null,null,null,null,null,null,null,null,null,null,null,null,null,null,null,null,null,null,null,null,null,null,null,null,null,null,null,null,null,null,null,null,null,null,null,null,null,null,null,null,null,null,null,null,null,null,null,null,null,null,null,null,null,null,null,null,null,null,null,null,null,null,null,null,null,null,null,null,null,null,null,null,null,null,null,null,null,null,null,null,null,null,null,null,null,null,null,null,null,null,null,null,null,null,null,null,null,null,null,null,null,null,null,null,null,null,null,null,null,null,null,null,null,null,null,null,null,null,null,null,null,null,null,null,null,null,null,null,null,null,null,null,null,null,null,null,null,null,null,null,null,null,null,null,null,null,null,null,null,null,null,null,null,null,null,null,null,null,null,null,null,null,null,null,null,null,null,null,null,null,null,null,null,null,null,null,null,null,null,null,null,null,null,null,null,null,null,null,null,null,null,null,null,null,null,null,null,null,null,null,null,null,null,null,null,null,null,null,null,null,null,null,null,null,null,null,null,null,null,null,null,null,null,null,null,null,null,null,null,null,null,null,null,null,null,null,null,null,null,null,null,null,null,null,null,null,null,null,null,null,null,null,null,null,null,null,null,null,null,null,null,null,null,null,null,null,null,null,null,null,null,null,null,null,null,null,null,null,null,null,null,null,null,null,null,null,null,null,null,null,null,null,null,null,null,null,null,null,null,null,null,null,null,null,null,null,null,null,null,null,null,null,null,null,null,null,null,null,null,null,null,null,null,null,null,null,null,null,null,null,null,null,null,null,null,null,null,null,null,null,null,null,null,null,null,null,null,null,null,null,null,null,null,null,null,null,null,null,null,null,null,null,null,null,null,null,null,null,null,null,null,null,null,null,null,null,null,null,null,null,null,null,null,null,null,null,null,null,null,null,null,null,null,null,null,null,null,null,null,null,null,null,null,null,null,null,null,null,null,null,null,null,null,null,null,null,null,null,null,null,null,null,null,null,null,null,null,null,null,null,null,null,null,null,null,null,null,null,null,null,null,null,null,null,null,null,null,null,null,null,null,null,null,null,null,null,null,null,null,null,null,null,null,null,null,null,null,null,null,null,null,null,null,null,null,null,null,null,null,null,null,null,null,null,null,null,null,null,null,null,null,null,null,null,null,null,null,null,null,null,null,null,null,null,null,null,null,null,null,null,null,null,null,null,null,null,null,null,null,null,null,null,null,null,null,null,null,null,null,null,null,null,null,null,null,null,null,null,null,null,null,null,null,null,null,null,null,null,null,null,null,null,null,null,null,null,null,null,null,null,null,null,null,null,null,null,null,null,null,null,null,null,null,null,null,null,null,null,null,null,null,null,null,null,null,null,null,null,null,null,null,null,null,null,null,null,null,null,null,null,null,null,null,null,null,null,null,null,null,null,null,null,null,null,null,null,null,null,null,null,null,null,null,null,null,null,null,null,null,null,null,null,null,null,null,null,null,null,null,null,null,null,null,null,null,null,null,null,null,null,null,null,null,null,null,null,null,null,null,null,null,null,null,null,null,null,null,null,null,null,null,null,null,null,null,null,null,null,null,null,null,null,null,null,null,null,null,null,null,null,null,null,null,null,null,null,null,null,null,null,null,null,null,null,null,null,null,null,null,null,null,null,null,null,null,null,null,null,null,null,null,null,null,null,null,null,null,null,null,null,null,null,null,null,null,null,null,null,null,null,null,null,null,null,null,null,null,null,null,null,null,null,null,null,null,null,null,null,null,null,null,null,null,null,null,null,null,null,null,null,null,null,null,null,null,null,null,null,null,null,null,null,null,null,null,null,null,null,null,null,null,null,null,null,null,null,null,null,null,null,null,null,null,null,null,null,null,null,null,null,null,null,null,null,null,null,null,null,null,null,null,null,null,null,null,null,null,null,null,null,null,null,null,null,null,null,null,null,null,null,null,null,null,null,null,null,null,null,null,null,null,null,null,null,null,null,null,null,null,null,null,null,null,null,null,null,null,null,null,null,null,null,null,null,null,null,null,null,null,null,null,null,null,null,null,null,null,null,null,null,null,null,null,null,null,null,null,null,null,null,null,null,null,null,null,null,null,null,null,null,null,null,null,null,null,null,null,null,null,null,null,null,null,null,null,null,null,null,null,null,null,null,null,null,null,null,null,null,null,null,null,null,null,null,null,null,null,null,null,null,null,null,null,null,null,null,null,null,null,null,null,null,null,null,null,null,null,null,null,null,null,null,null,null,null,null,null,null,null,null,null,null,null,null,null,null,null,null,null,null,null,null,null,null,null,null,null,null,null,null,null,null,null,null,null,null,null,null,null,null,null,null,null,null,null,null,null,null,null,null,null,null,null,null,null,null,null,null,null,null,null,null,null,null,null,null,null,null,null,null,null,null,null,null,null,null,null,null,null,null,null,null,null,null,null,null,null,null,null,null,null,null,null,null,null,null,null,null,null,null,null,null,null,null,null,null,null,null,null,null,null,null,null,null,null,null,null,null,null,null,null,null,null,null,null,null,null,null,null,null,null,null,null,null,null,null,null,null,null,null,null,null,null,null,null,null,null,null,null,null,null,null,null,null,null,null,null,null,null,null,null,null,null,null,null,null,null,null,null,null,null,null,null,null,null,null,null,null,null,null,null,null,null,null,null,null,null,null,null,null,null,null,null,null,null,null,null,null,null,null,null,null,null,null,null,null,null,null,null,null,null,null,null,null,null,null,null,null,null,null,null,null,null,null,null,null,null,null,null,null,null,null,null,null,null,null,null,null,null,null,null,null,null,null,null,null,null,null,null,null,null,null,null,null,null,null,null,null,null,null,null,null,null,null,null,null,null,null,null,null,null,null,null,null,null,null,null,null,null,null,null,null,null,null,null,null,null,null,null,null,null,null,null,null,null,null,null,null,null,null,null,null,null,null,null,null,null,null,null,null,null,null,null,null,null,null,null,null,null,null,null,null,null,null,null,null,null,null,null,null,null,null,null,null,null,null,null,null,null,null,null,null,null,null,null,null,null,null,null,null,null,null,null,null,null,null,null,null,null,null,null,null,null,null,null,null,null,null,null,null,null,null,null,null,null,null,null,null,null,null,null,null,null,null,null,null,null,null,null,null,null,null,null,null,null,null,null,null,null,null,""]
[null,null,128,null,null,null,null,"","",null,null,null,null,null,null,null,null,null,null,null,null,null,null,null,null,null,null,null,null,5.4005256413045517,{"$f":"(Y1SD/X1SD*(相関係数1*AD132+AG132))+切片1","v":7.5879894639342087},{"$f":"(Y1SD/X1SD*(相関係数1*AD132-AG132))+切片1","v":4.2091826962992549},{"$f":"IF((1-相関係数1^2)*((X1SD*t1_0.05)^2-(AD132-X1m)^2)>0,SQRT((1-相関係数1^2)*((X1SD*t1_0.05)^2-(AD132-X1m)^2)),0)","v":1.5290014162659293},null,{"$error":"#DIV/0!"},{"$f":"(Y2SD/X2SD*(相関係数2*AI132+AL132))+切片2","v":{"$error":"#DIV/0!"}},{"$f":"(Y2SD/X2SD*(相関係数2*AI132-AL132))+切片2","v":{"$error":"#DIV/0!"}},{"$f":"IF((1-相関係数2^2)*((X2SD*t1_0.05)^2-(AI132-X2m)^2)>0,SQRT((1-相関係数2^2)*((X2SD*t1_0.05)^2-(AI132-X2m)^2)),0)","v":{"$error":"#DIV/0!"}},null,"","","","",null,"","",null,"","",null,"","",null,null,null,null,null,null,null,null,null,null,null,null,null,null,null,null,null,null,null,null,null,null,null,null,null,null,null,null,null,null,null,null,null,null,null,null,null,null,null,null,null,null,null,null,null,null,null,null,null,null,null,null,null,null,null,null,null,null,null,null,null,null,null,null,null,null,null,null,null,null,null,null,null,null,null,null,null,null,null,null,null,null,null,null,null,null,null,null,null,null,null,null,null,null,null,null,null,null,null,null,null,null,null,null,null,null,null,null,null,null,null,null,null,null,null,null,null,null,null,null,null,null,null,null,null,null,null,null,null,null,null,null,null,null,null,null,null,null,null,null,null,null,null,null,null,null,null,null,null,null,null,null,null,null,null,null,null,null,null,null,null,null,null,null,null,null,null,null,null,null,null,null,null,null,null,null,null,null,null,null,null,null,null,null,null,null,null,null,null,null,null,null,null,null,null,null,null,null,null,null,null,null,null,null,null,null,null,null,null,null,null,null,null,null,null,null,null,null,null,null,null,null,null,null,null,null,null,null,null,null,null,null,null,null,null,null,null,null,null,null,null,null,null,null,null,null,null,null,null,null,null,null,null,null,null,null,null,null,null,null,null,null,null,null,null,null,null,null,null,null,null,null,null,null,null,null,null,null,null,null,null,null,null,null,null,null,null,null,null,null,null,null,null,null,null,null,null,null,null,null,null,null,null,null,null,null,null,null,null,null,null,null,null,null,null,null,null,null,null,null,null,null,null,null,null,null,null,null,null,null,null,null,null,null,null,null,null,null,null,null,null,null,null,null,null,null,null,null,null,null,null,null,null,null,null,null,null,null,null,null,null,null,null,null,null,null,null,null,null,null,null,null,null,null,null,null,null,null,null,null,null,null,null,null,null,null,null,null,null,null,null,null,null,null,null,null,null,null,null,null,null,null,null,null,null,null,null,null,null,null,null,null,null,null,null,null,null,null,null,null,null,null,null,null,null,null,null,null,null,null,null,null,null,null,null,null,null,null,null,null,null,null,null,null,null,null,null,null,null,null,null,null,null,null,null,null,null,null,null,null,null,null,null,null,null,null,null,null,null,null,null,null,null,null,null,null,null,null,null,null,null,null,null,null,null,null,null,null,null,null,null,null,null,null,null,null,null,null,null,null,null,null,null,null,null,null,null,null,null,null,null,null,null,null,null,null,null,null,null,null,null,null,null,null,null,null,null,null,null,null,null,null,null,null,null,null,null,null,null,null,null,null,null,null,null,null,null,null,null,null,null,null,null,null,null,null,null,null,null,null,null,null,null,null,null,null,null,null,null,null,null,null,null,null,null,null,null,null,null,null,null,null,null,null,null,null,null,null,null,null,null,null,null,null,null,null,null,null,null,null,null,null,null,null,null,null,null,null,null,null,null,null,null,null,null,null,null,null,null,null,null,null,null,null,null,null,null,null,null,null,null,null,null,null,null,null,null,null,null,null,null,null,null,null,null,null,null,null,null,null,null,null,null,null,null,null,null,null,null,null,null,null,null,null,null,null,null,null,null,null,null,null,null,null,null,null,null,null,null,null,null,null,null,null,null,null,null,null,null,null,null,null,null,null,null,null,null,null,null,null,null,null,null,null,null,null,null,null,null,null,null,null,null,null,null,null,null,null,null,null,null,null,null,null,null,null,null,null,null,null,null,null,null,null,null,null,null,null,null,null,null,null,null,null,null,null,null,null,null,null,null,null,null,null,null,null,null,null,null,null,null,null,null,null,null,null,null,null,null,null,null,null,null,null,null,null,null,null,null,null,null,null,null,null,null,null,null,null,null,null,null,null,null,null,null,null,null,null,null,null,null,null,null,null,null,null,null,null,null,null,null,null,null,null,null,null,null,null,null,null,null,null,null,null,null,null,null,null,null,null,null,null,null,null,null,null,null,null,null,null,null,null,null,null,null,null,null,null,null,null,null,null,null,null,null,null,null,null,null,null,null,null,null,null,null,null,null,null,null,null,null,null,null,null,null,null,null,null,null,null,null,null,null,null,null,null,null,null,null,null,null,null,null,null,null,null,null,null,null,null,null,null,null,null,null,null,null,null,null,null,null,null,null,null,null,null,null,null,null,null,null,null,null,null,null,null,null,null,null,null,null,null,null,null,null,null,null,null,null,null,null,null,null,null,null,null,null,null,null,null,null,null,null,null,null,null,null,null,null,null,null,null,null,null,null,null,null,null,null,null,null,null,null,null,null,null,null,null,null,null,null,null,null,null,null,null,null,null,null,null,null,null,null,null,null,null,null,null,null,null,null,null,null,null,null,null,null,null,null,null,null,null,null,null,null,null,null,null,null,null,null,null,null,null,null,null,null,null,null,null,null,null,null,null,null,null,null,null,null,null,null,null,null,null,null,null,null,null,null,null,null,null,null,null,null,null,null,null,null,null,null,null,null,null,null,null,null,null,null,null,null,null,null,null,null,null,null,null,null,null,null,null,null,null,null,null,null,null,null,null,null,null,null,null,null,null,null,null,null,null,null,null,null,null,null,null,null,null,null,null,null,null,null,null,null,null,null,null,null,null,null,null,null,null,null,null,null,null,null,null,null,null,null,null,null,null,null,null,null,null,null,null,null,null,null,null,null,null,null,null,null,null,null,null,null,null,null,null,null,null,null,null,null,null,null,null,null,null,null,null,null,null,null,null,null,null,null,null,null,null,null,null,null,null,null,null,null,null,null,null,null,null,null,null,null,null,null,null,null,null,null,null,null,null,null,null,null,null,null,null,null,null,null,null,null,null,null,null,null,null,null,null,null,null,null,null,null,null,null,null,null,null,null,null,null,null,null,null,null,null,null,null,null,null,null,null,null,null,null,null,null,null,null,null,null,null,null,null,null,null,null,null,null,null,null,null,null,null,null,null,null,null,null,null,null,null,null,null,null,null,null,null,null,null,null,null,null,null,null,null,null,null,null,null,null,null,null,null,null,null,null,null,null,null,null,null,null,null,null,null,null,null,null,null,null,null,null,null,null,null,null,null,null,null,null,null,null,null,null,null,null,null,null,null,null,null,null,null,null,null,null,null,null,null,null,null,null,null,null,null,null,null,null,null,null,null,null,null,null,null,null,null,null,null,null,null,null,null,null,null,null,null,null,null,null,null,null,null,null,null,null,null,null,null,null,null,null,null,null,null,null,null,null,null,null,null,null,null,null,null,null,null,null,null,null,null,null,null,null,null,null,null,null,null,null,null,null,null,null,null,null,null,null,null,null,null,null,null,null,null,null,null,null,null,null,null,null,null,null,null,null,null,null,null,null,null,null,null,null,null,null,null,null,null,null,null,null,null,null,null,null,null,null,null,null,null,null,null,null,null,null,null,null,null,null,null,null,null,null,null,null,null,null,null,null,null,null,null,null,null,null,null,null,null,null,null,null,null,null,null,null,null,null,null,null,null,null,null,null,null,null,null,null,null,null,null,null,null,null,null,null,null,null,null,null,null,null,null,null,null,null,null,null,null,null,""]
[null,null,154,null,null,null,null,"","",null,null,null,null,null,null,null,null,null,null,null,null,null,null,null,null,null,null,null,null,null,null,null,null,null,null,null,null,null,null,"","","","",null,"","",null,"","",null,"","",null,null,null,null,null,null,null,null,null,null,null,null,null,null,null,null,null,null,null,null,null,null,null,null,null,null,null,null,null,null,null,null,null,null,null,null,null,null,null,null,null,null,null,null,null,null,null,null,null,null,null,null,null,null,null,null,null,null,null,null,null,null,null,null,null,null,null,null,null,null,null,null,null,null,null,null,null,null,null,null,null,null,null,null,null,null,null,null,null,null,null,null,null,null,null,null,null,null,null,null,null,null,null,null,null,null,null,null,null,null,null,null,null,null,null,null,null,null,null,null,null,null,null,null,null,null,null,null,null,null,null,null,null,null,null,null,null,null,null,null,null,null,null,null,null,null,null,null,null,null,null,null,null,null,null,null,null,null,null,null,null,null,null,null,null,null,null,null,null,null,null,null,null,null,null,null,null,null,null,null,null,null,null,null,null,null,null,null,null,null,null,null,null,null,null,null,null,null,null,null,null,null,null,null,null,null,null,null,null,null,null,null,null,null,null,null,null,null,null,null,null,null,null,null,null,null,null,null,null,null,null,null,null,null,null,null,null,null,null,null,null,null,null,null,null,null,null,null,null,null,null,null,null,null,null,null,null,null,null,null,null,null,null,null,null,null,null,null,null,null,null,null,null,null,null,null,null,null,null,null,null,null,null,null,null,null,null,null,null,null,null,null,null,null,null,null,null,null,null,null,null,null,null,null,null,null,null,null,null,null,null,null,null,null,null,null,null,null,null,null,null,null,null,null,null,null,null,null,null,null,null,null,null,null,null,null,null,null,null,null,null,null,null,null,null,null,null,null,null,null,null,null,null,null,null,null,null,null,null,null,null,null,null,null,null,null,null,null,null,null,null,null,null,null,null,null,null,null,null,null,null,null,null,null,null,null,null,null,null,null,null,null,null,null,null,null,null,null,null,null,null,null,null,null,null,null,null,null,null,null,null,null,null,null,null,null,null,null,null,null,null,null,null,null,null,null,null,null,null,null,null,null,null,null,null,null,null,null,null,null,null,null,null,null,null,null,null,null,null,null,null,null,null,null,null,null,null,null,null,null,null,null,null,null,null,null,null,null,null,null,null,null,null,null,null,null,null,null,null,null,null,null,null,null,null,null,null,null,null,null,null,null,null,null,null,null,null,null,null,null,null,null,null,null,null,null,null,null,null,null,null,null,null,null,null,null,null,null,null,null,null,null,null,null,null,null,null,null,null,null,null,null,null,null,null,null,null,null,null,null,null,null,null,null,null,null,null,null,null,null,null,null,null,null,null,null,null,null,null,null,null,null,null,null,null,null,null,null,null,null,null,null,null,null,null,null,null,null,null,null,null,null,null,null,null,null,null,null,null,null,null,null,null,null,null,null,null,null,null,null,null,null,null,null,null,null,null,null,null,null,null,null,null,null,null,null,null,null,null,null,null,null,null,null,null,null,null,null,null,null,null,null,null,null,null,null,null,null,null,null,null,null,null,null,null,null,null,null,null,null,null,null,null,null,null,null,null,null,null,null,null,null,null,null,null,null,null,null,null,null,null,null,null,null,null,null,null,null,null,null,null,null,null,null,null,null,null,null,null,null,null,null,null,null,null,null,null,null,null,null,null,null,null,null,null,null,null,null,null,null,null,null,null,null,null,null,null,null,null,null,null,null,null,null,null,null,null,null,null,null,null,null,null,null,null,null,null,null,null,null,null,null,null,null,null,null,null,null,null,null,null,null,null,null,null,null,null,null,null,null,null,null,null,null,null,null,null,null,null,null,null,null,null,null,null,null,null,null,null,null,null,null,null,null,null,null,null,null,null,null,null,null,null,null,null,null,null,null,null,null,null,null,null,null,null,null,null,null,null,null,null,null,null,null,null,null,null,null,null,null,null,null,null,null,null,null,null,null,null,null,null,null,null,null,null,null,null,null,null,null,null,null,null,null,null,null,null,null,null,null,null,null,null,null,null,null,null,null,null,null,null,null,null,null,null,null,null,null,null,null,null,null,null,null,null,null,null,null,null,null,null,null,null,null,null,null,null,null,null,null,null,null,null,null,null,null,null,null,null,null,null,null,null,null,null,null,null,null,null,null,null,null,null,null,null,null,null,null,null,null,null,null,null,null,null,null,null,null,null,null,null,null,null,null,null,null,null,null,null,null,null,null,null,null,null,null,null,null,null,null,null,null,null,null,null,null,null,null,null,null,null,null,null,null,null,null,null,null,null,null,null,null,null,null,null,null,null,null,null,null,null,null,null,null,null,null,null,null,null,null,null,null,null,null,null,null,null,null,null,null,null,null,null,null,null,null,null,null,null,null,null,null,null,null,null,null,null,null,null,null,null,null,null,null,null,null,null,null,null,null,null,null,null,null,null,null,null,null,null,null,null,null,null,null,null,null,null,null,null,null,null,null,null,null,null,null,null,null,null,null,null,null,null,null,null,null,null,null,null,null,null,null,null,null,null,null,null,null,null,null,null,null,null,null,null,null,null,null,null,null,null,null,null,null,null,null,null,null,null,null,null,null,null,null,null,null,null,null,null,null,null,null,null,null,null,null,null,null,null,null,null,null,null,null,null,null,null,null,null,null,null,null,null,null,null,null,null,null,null,null,null,null,null,null,null,null,null,null,null,null,null,null,null,null,null,null,null,null,null,null,null,null,null,null,null,null,null,null,null,null,null,null,null,null,null,null,null,null,null,null,null,null,null,null,null,null,null,null,null,null,null,null,null,null,null,null,null,null,null,null,null,null,null,null,null,null,null,null,null,null,null,null,null,null,null,null,null,null,null,null,null,null,null,null,null,null,null,null,null,null,null,null,null,null,null,null,null,null,null,null,null,null,null,null,null,null,null,null,null,null,null,null,null,null,null,null,null,null,null,null,null,null,null,null,null,null,null,null,null,null,null,null,null,null,null,null,null,null,null,null,null,null,null,null,null,null,null,null,null,null,null,null,null,null,null,null,null,null,null,null,null,null,null,null,null,null,null,null,null,null,null,null,null,null,null,null,null,null,null,null,null,null,null,null,null,null,null,null,null,null,null,null,null,null,null,null,null,null,null,null,null,null,null,null,null,null,null,null,null,null,null,null,null,null,null,null,null,null,null,null,null,null,null,null,null,null,null,null,null,null,null,null,null,null,null,null,null,null,null,null,null,null,null,null,null,null,null,null,null,null,null,null,null,null,null,null,null,null,null,null,null,null,null,null,null,null,null,null,null,null,null,null,null,null,null,null,null,null,null,null,null,null,null,null,null,null,null,null,null,null,null,null,null,null,null,null,null,null,null,null,null,null,null,null,null,null,null,null,null,null,null,null,null,null,null,null,null,null,null,null,null,null,null,null,null,null,null,null,null,null,null,null,null,null,null,null,null,null,null,null,null,null,null,null,null,null,null,null,null,null,null,null,null,null,null,null,null,null,null,null,null,null,null,null,null,null,null,null,null,null,null,null,null,null,null,null,null,null,null,null,null,null,null,null,null,null,null,null,null,null,null,null,null,null,null,""]
[null,null,225,null,null,null,null,"","",null,null,null,null,null,null,null,null,null,null,null,null,null,null,null,null,null,null,null,null,null,null,null,null,null,null,null,null,null,null,null,null,null,null,null,"","",null,"","",null,"","",null,null,null,null,null,null,null,null,null,null,null,null,null,null,null,null,null,null,null,null,null,null,null,null,null,null,null,null,null,null,null,null,null,null,null,null,null,null,null,null,null,null,null,null,null,null,null,null,null,null,null,null,null,null,null,null,null,null,null,null,null,null,null,null,null,null,null,null,null,null,null,null,null,null,null,null,null,null,null,null,null,null,null,null,null,null,null,null,null,null,null,null,null,null,null,null,null,null,null,null,null,null,null,null,null,null,null,null,null,null,null,null,null,null,null,null,null,null,null,null,null,null,null,null,null,null,null,null,null,null,null,null,null,null,null,null,null,null,null,null,null,null,null,null,null,null,null,null,null,null,null,null,null,null,null,null,null,null,null,null,null,null,null,null,null,null,null,null,null,null,null,null,null,null,null,null,null,null,null,null,null,null,null,null,null,null,null,null,null,null,null,null,null,null,null,null,null,null,null,null,null,null,null,null,null,null,null,null,null,null,null,null,null,null,null,null,null,null,null,null,null,null,null,null,null,null,null,null,null,null,null,null,null,null,null,null,null,null,null,null,null,null,null,null,null,null,null,null,null,null,null,null,null,null,null,null,null,null,null,null,null,null,null,null,null,null,null,null,null,null,null,null,null,null,null,null,null,null,null,null,null,null,null,null,null,null,null,null,null,null,null,null,null,null,null,null,null,null,null,null,null,null,null,null,null,null,null,null,null,null,null,null,null,null,null,null,null,null,null,null,null,null,null,null,null,null,null,null,null,null,null,null,null,null,null,null,null,null,null,null,null,null,null,null,null,null,null,null,null,null,null,null,null,null,null,null,null,null,null,null,null,null,null,null,null,null,null,null,null,null,null,null,null,null,null,null,null,null,null,null,null,null,null,null,null,null,null,null,null,null,null,null,null,null,null,null,null,null,null,null,null,null,null,null,null,null,null,null,null,null,null,null,null,null,null,null,null,null,null,null,null,null,null,null,null,null,null,null,null,null,null,null,null,null,null,null,null,null,null,null,null,null,null,null,null,null,null,null,null,null,null,null,null,null,null,null,null,null,null,null,null,null,null,null,null,null,null,null,null,null,null,null,null,null,null,null,null,null,null,null,null,null,null,null,null,null,null,null,null,null,null,null,null,null,null,null,null,null,null,null,null,null,null,null,null,null,null,null,null,null,null,null,null,null,null,null,null,null,null,null,null,null,null,null,null,null,null,null,null,null,null,null,null,null,null,null,null,null,null,null,null,null,null,null,null,null,null,null,null,null,null,null,null,null,null,null,null,null,null,null,null,null,null,null,null,null,null,null,null,null,null,null,null,null,null,null,null,null,null,null,null,null,null,null,null,null,null,null,null,null,null,null,null,null,null,null,null,null,null,null,null,null,null,null,null,null,null,null,null,null,null,null,null,null,null,null,null,null,null,null,null,null,null,null,null,null,null,null,null,null,null,null,null,null,null,null,null,null,null,null,null,null,null,null,null,null,null,null,null,null,null,null,null,null,null,null,null,null,null,null,null,null,null,null,null,null,null,null,null,null,null,null,null,null,null,null,null,null,null,null,null,null,null,null,null,null,null,null,null,null,null,null,null,null,null,null,null,null,null,null,null,null,null,null,null,null,null,null,null,null,null,null,null,null,null,null,null,null,null,null,null,null,null,null,null,null,null,null,null,null,null,null,null,null,null,null,null,null,null,null,null,null,null,null,null,null,null,null,null,null,null,null,null,null,null,null,null,null,null,null,null,null,null,null,null,null,null,null,null,null,null,null,null,null,null,null,null,null,null,null,null,null,null,null,null,null,null,null,null,null,null,null,null,null,null,null,null,null,null,null,null,null,null,null,null,null,null,null,null,null,null,null,null,null,null,null,null,null,null,null,null,null,null,null,null,null,null,null,null,null,null,null,null,null,null,null,null,null,null,null,null,null,null,null,null,null,null,null,null,null,null,null,null,null,null,null,null,null,null,null,null,null,null,null,null,null,null,null,null,null,null,null,null,null,null,null,null,null,null,null,null,null,null,null,null,null,null,null,null,null,null,null,null,null,null,null,null,null,null,null,null,null,null,null,null,null,null,null,null,null,null,null,null,null,null,null,null,null,null,null,null,null,null,null,null,null,null,null,null,null,null,null,null,null,null,null,null,null,null,null,null,null,null,null,null,null,null,null,null,null,null,null,null,null,null,null,null,null,null,null,null,null,null,null,null,null,null,null,null,null,null,null,null,null,null,null,null,null,null,null,null,null,null,null,null,null,null,null,null,null,null,null,null,null,null,null,null,null,null,null,null,null,null,null,null,null,null,null,null,null,null,null,null,null,null,null,null,null,null,null,null,null,null,null,null,null,null,null,null,null,null,null,null,null,null,null,null,null,null,null,null,null,null,null,null,null,null,null,null,null,null,null,null,null,null,null,null,null,null,null,null,null,null,null,null,null,null,null,null,null,null,null,null,null,null,null,null,null,null,null,null,null,null,null,null,null,null,null,null,null,null,null,null,null,null,null,null,null,null,null,null,null,null,null,null,null,null,null,null,null,null,null,null,null,null,null,null,null,null,null,null,null,null,null,null,null,null,null,null,null,null,null,null,null,null,null,null,null,null,null,null,null,null,null,null,null,null,null,null,null,null,null,null,null,null,null,null,null,null,null,null,null,null,null,null,null,null,null,null,null,null,null,null,null,null,null,null,null,null,null,null,null,null,null,null,null,null,null,null,null,null,null,null,null,null,null,null,null,null,null,null,null,null,null,null,null,null,null,null,null,null,null,null,null,null,null,null,null,null,null,null,null,null,null,null,null,null,null,null,null,null,null,null,null,null,null,null,null,null,null,null,null,null,null,null,null,null,null,null,null,null,null,null,null,null,null,null,null,null,null,null,null,null,null,null,null,null,null,null,null,null,null,null,null,null,null,null,null,null,null,null,null,null,null,null,null,null,null,null,null,null,null,null,null,null,null,null,null,null,null,null,null,null,null,null,null,null,null,null,null,null,null,null,null,null,null,null,null,null,null,null,null,null,null,null,null,null,null,null,null,null,null,null,null,null,null,null,null,null,null,null,null,null,null,null,null,null,null,null,null,null,null,null,null,null,null,null,null,null,null,null,null,null,null,null,null,null,null,null,null,null,null,null,null,null,null,null,null,null,null,null,null,null,null,null,null,null,null,null,null,null,null,null,null,null,null,null,null,null,null,null,null,null,null,null,null,null,null,null,null,null,null,null,null,null,null,null,null,null,null,null,null,null,null,null,null,null,null,null,null,null,null,null,null,null,null,null,null,null,null,null,null,null,null,null,null,null,null,null,null,null,null,null,null,null,null,null,null,null,null,null,null,null,null,null,null,null,null,null,null,null,null,null,null,null,null,null,null,null,null,null,null,null,null,null,null,null,null,null,null,null,null,null,null,null,null,null,null,null,null,null,null,null,null,null,null,null,null,null,null,null,null,null,null,null,null,null,null,null,null,null,null,null,null,null,null,null,null,null,null,null,null,null,null,null,""]
[null,null,255,null,null,null,null,"","",null,null,null,null,null,null,null,null,null,null,null,null,null,null,null,null,null,null,null,null,null,null,null,null,null,null,null,null,null,null,null,null,null,null,null,"","",null,"","",null,"","",null,null,null,null,null,null,null,null,null,null,null,null,null,null,null,null,null,null,null,null,null,null,null,null,null,null,null,null,null,null,null,null,null,null,null,null,null,null,null,null,null,null,null,null,null,null,null,null,null,null,null,null,null,null,null,null,null,null,null,null,null,null,null,null,null,null,null,null,null,null,null,null,null,null,null,null,null,null,null,null,null,null,null,null,null,null,null,null,null,null,null,null,null,null,null,null,null,null,null,null,null,null,null,null,null,null,null,null,null,null,null,null,null,null,null,null,null,null,null,null,null,null,null,null,null,null,null,null,null,null,null,null,null,null,null,null,null,null,null,null,null,null,null,null,null,null,null,null,null,null,null,null,null,null,null,null,null,null,null,null,null,null,null,null,null,null,null,null,null,null,null,null,null,null,null,null,null,null,null,null,null,null,null,null,null,null,null,null,null,null,null,null,null,null,null,null,null,null,null,null,null,null,null,null,null,null,null,null,null,null,null,null,null,null,null,null,null,null,null,null,null,null,null,null,null,null,null,null,null,null,null,null,null,null,null,null,null,null,null,null,null,null,null,null,null,null,null,null,null,null,null,null,null,null,null,null,null,null,null,null,null,null,null,null,null,null,null,null,null,null,null,null,null,null,null,null,null,null,null,null,null,null,null,null,null,null,null,null,null,null,null,null,null,null,null,null,null,null,null,null,null,null,null,null,null,null,null,null,null,null,null,null,null,null,null,null,null,null,null,null,null,null,null,null,null,null,null,null,null,null,null,null,null,null,null,null,null,null,null,null,null,null,null,null,null,null,null,null,null,null,null,null,null,null,null,null,null,null,null,null,null,null,null,null,null,null,null,null,null,null,null,null,null,null,null,null,null,null,null,null,null,null,null,null,null,null,null,null,null,null,null,null,null,null,null,null,null,null,null,null,null,null,null,null,null,null,null,null,null,null,null,null,null,null,null,null,null,null,null,null,null,null,null,null,null,null,null,null,null,null,null,null,null,null,null,null,null,null,null,null,null,null,null,null,null,null,null,null,null,null,null,null,null,null,null,null,null,null,null,null,null,null,null,null,null,null,null,null,null,null,null,null,null,null,null,null,null,null,null,null,null,null,null,null,null,null,null,null,null,null,null,null,null,null,null,null,null,null,null,null,null,null,null,null,null,null,null,null,null,null,null,null,null,null,null,null,null,null,null,null,null,null,null,null,null,null,null,null,null,null,null,null,null,null,null,null,null,null,null,null,null,null,null,null,null,null,null,null,null,null,null,null,null,null,null,null,null,null,null,null,null,null,null,null,null,null,null,null,null,null,null,null,null,null,null,null,null,null,null,null,null,null,null,null,null,null,null,null,null,null,null,null,null,null,null,null,null,null,null,null,null,null,null,null,null,null,null,null,null,null,null,null,null,null,null,null,null,null,null,null,null,null,null,null,null,null,null,null,null,null,null,null,null,null,null,null,null,null,null,null,null,null,null,null,null,null,null,null,null,null,null,null,null,null,null,null,null,null,null,null,null,null,null,null,null,null,null,null,null,null,null,null,null,null,null,null,null,null,null,null,null,null,null,null,null,null,null,null,null,null,null,null,null,null,null,null,null,null,null,null,null,null,null,null,null,null,null,null,null,null,null,null,null,null,null,null,null,null,null,null,null,null,null,null,null,null,null,null,null,null,null,null,null,null,null,null,null,null,null,null,null,null,null,null,null,null,null,null,null,null,null,null,null,null,null,null,null,null,null,null,null,null,null,null,null,null,null,null,null,null,null,null,null,null,null,null,null,null,null,null,null,null,null,null,null,null,null,null,null,null,null,null,null,null,null,null,null,null,null,null,null,null,null,null,null,null,null,null,null,null,null,null,null,null,null,null,null,null,null,null,null,null,null,null,null,null,null,null,null,null,null,null,null,null,null,null,null,null,null,null,null,null,null,null,null,null,null,null,null,null,null,null,null,null,null,null,null,null,null,null,null,null,null,null,null,null,null,null,null,null,null,null,null,null,null,null,null,null,null,null,null,null,null,null,null,null,null,null,null,null,null,null,null,null,null,null,null,null,null,null,null,null,null,null,null,null,null,null,null,null,null,null,null,null,null,null,null,null,null,null,null,null,null,null,null,null,null,null,null,null,null,null,null,null,null,null,null,null,null,null,null,null,null,null,null,null,null,null,null,null,null,null,null,null,null,null,null,null,null,null,null,null,null,null,null,null,null,null,null,null,null,null,null,null,null,null,null,null,null,null,null,null,null,null,null,null,null,null,null,null,null,null,null,null,null,null,null,null,null,null,null,null,null,null,null,null,null,null,null,null,null,null,null,null,null,null,null,null,null,null,null,null,null,null,null,null,null,null,null,null,null,null,null,null,null,null,null,null,null,null,null,null,null,null,null,null,null,null,null,null,null,null,null,null,null,null,null,null,null,null,null,null,null,null,null,null,null,null,null,null,null,null,null,null,null,null,null,null,null,null,null,null,null,null,null,null,null,null,null,null,null,null,null,null,null,null,null,null,null,null,null,null,null,null,null,null,null,null,null,null,null,null,null,null,null,null,null,null,null,null,null,null,null,null,null,null,null,null,null,null,null,null,null,null,null,null,null,null,null,null,null,null,null,null,null,null,null,null,null,null,null,null,null,null,null,null,null,null,null,null,null,null,null,null,null,null,null,null,null,null,null,null,null,null,null,null,null,null,null,null,null,null,null,null,null,null,null,null,null,null,null,null,null,null,null,null,null,null,null,null,null,null,null,null,null,null,null,null,null,null,null,null,null,null,null,null,null,null,null,null,null,null,null,null,null,null,null,null,null,null,null,null,null,null,null,null,null,null,null,null,null,null,null,null,null,null,null,null,null,null,null,null,null,null,null,null,null,null,null,null,null,null,null,null,null,null,null,null,null,null,null,null,null,null,null,null,null,null,null,null,null,null,null,null,null,null,null,null,null,null,null,null,null,null,null,null,null,null,null,null,null,null,null,null,null,null,null,null,null,null,null,null,null,null,null,null,null,null,null,null,null,null,null,null,null,null,null,null,null,null,null,null,null,null,null,null,null,null,null,null,null,null,null,null,null,null,null,null,null,null,null,null,null,null,null,null,null,null,null,null,null,null,null,null,null,null,null,null,null,null,null,null,null,null,null,null,null,null,null,null,null,null,null,null,null,null,null,null,null,null,null,null,null,null,null,null,null,null,null,null,null,null,null,null,null,null,null,null,null,null,null,null,null,null,null,null,null,null,null,null,null,null,null,null,null,null,null,null,null,null,null,null,null,null,null,null,null,null,null,null,null,null,null,null,null,null,null,null,null,null,null,null,null,null,null,null,null,null,null,null,null,null,null,null,null,null,null,null,null,null,null,null,null,null,null,null,null,null,null,null,null,null,null,null,null,null,null,null,null,null,null,null,null,null,null,null,null,null,null,null,null,null,null,null,null,null,null,null,null,null,null,null,null,null,null,null,null,null,null,null,null,null,null,null,null,null,null,null,null,null,null,null,null,null,null,""]
[null,null,296,null,null,null,null,"","",null,null,null,null,null,null,null,null,null,null,null,null,null,null,null,null,null,null,null,null,null,null,null,null,null,null,null,null,null,null,null,null,null,null,null,"","",null,"","",null,"","",null,null,null,null,null,null,null,null,null,null,null,null,null,null,null,null,null,null,null,null,null,null,null,null,null,null,null,null,null,null,null,null,null,null,null,null,null,null,null,null,null,null,null,null,null,null,null,null,null,null,null,null,null,null,null,null,null,null,null,null,null,null,null,null,null,null,null,null,null,null,null,null,null,null,null,null,null,null,null,null,null,null,null,null,null,null,null,null,null,null,null,null,null,null,null,null,null,null,null,null,null,null,null,null,null,null,null,null,null,null,null,null,null,null,null,null,null,null,null,null,null,null,null,null,null,null,null,null,null,null,null,null,null,null,null,null,null,null,null,null,null,null,null,null,null,null,null,null,null,null,null,null,null,null,null,null,null,null,null,null,null,null,null,null,null,null,null,null,null,null,null,null,null,null,null,null,null,null,null,null,null,null,null,null,null,null,null,null,null,null,null,null,null,null,null,null,null,null,null,null,null,null,null,null,null,null,null,null,null,null,null,null,null,null,null,null,null,null,null,null,null,null,null,null,null,null,null,null,null,null,null,null,null,null,null,null,null,null,null,null,null,null,null,null,null,null,null,null,null,null,null,null,null,null,null,null,null,null,null,null,null,null,null,null,null,null,null,null,null,null,null,null,null,null,null,null,null,null,null,null,null,null,null,null,null,null,null,null,null,null,null,null,null,null,null,null,null,null,null,null,null,null,null,null,null,null,null,null,null,null,null,null,null,null,null,null,null,null,null,null,null,null,null,null,null,null,null,null,null,null,null,null,null,null,null,null,null,null,null,null,null,null,null,null,null,null,null,null,null,null,null,null,null,null,null,null,null,null,null,null,null,null,null,null,null,null,null,null,null,null,null,null,null,null,null,null,null,null,null,null,null,null,null,null,null,null,null,null,null,null,null,null,null,null,null,null,null,null,null,null,null,null,null,null,null,null,null,null,null,null,null,null,null,null,null,null,null,null,null,null,null,null,null,null,null,null,null,null,null,null,null,null,null,null,null,null,null,null,null,null,null,null,null,null,null,null,null,null,null,null,null,null,null,null,null,null,null,null,null,null,null,null,null,null,null,null,null,null,null,null,null,null,null,null,null,null,null,null,null,null,null,null,null,null,null,null,null,null,null,null,null,null,null,null,null,null,null,null,null,null,null,null,null,null,null,null,null,null,null,null,null,null,null,null,null,null,null,null,null,null,null,null,null,null,null,null,null,null,null,null,null,null,null,null,null,null,null,null,null,null,null,null,null,null,null,null,null,null,null,null,null,null,null,null,null,null,null,null,null,null,null,null,null,null,null,null,null,null,null,null,null,null,null,null,null,null,null,null,null,null,null,null,null,null,null,null,null,null,null,null,null,null,null,null,null,null,null,null,null,null,null,null,null,null,null,null,null,null,null,null,null,null,null,null,null,null,null,null,null,null,null,null,null,null,null,null,null,null,null,null,null,null,null,null,null,null,null,null,null,null,null,null,null,null,null,null,null,null,null,null,null,null,null,null,null,null,null,null,null,null,null,null,null,null,null,null,null,null,null,null,null,null,null,null,null,null,null,null,null,null,null,null,null,null,null,null,null,null,null,null,null,null,null,null,null,null,null,null,null,null,null,null,null,null,null,null,null,null,null,null,null,null,null,null,null,null,null,null,null,null,null,null,null,null,null,null,null,null,null,null,null,null,null,null,null,null,null,null,null,null,null,null,null,null,null,null,null,null,null,null,null,null,null,null,null,null,null,null,null,null,null,null,null,null,null,null,null,null,null,null,null,null,null,null,null,null,null,null,null,null,null,null,null,null,null,null,null,null,null,null,null,null,null,null,null,null,null,null,null,null,null,null,null,null,null,null,null,null,null,null,null,null,null,null,null,null,null,null,null,null,null,null,null,null,null,null,null,null,null,null,null,null,null,null,null,null,null,null,null,null,null,null,null,null,null,null,null,null,null,null,null,null,null,null,null,null,null,null,null,null,null,null,null,null,null,null,null,null,null,null,null,null,null,null,null,null,null,null,null,null,null,null,null,null,null,null,null,null,null,null,null,null,null,null,null,null,null,null,null,null,null,null,null,null,null,null,null,null,null,null,null,null,null,null,null,null,null,null,null,null,null,null,null,null,null,null,null,null,null,null,null,null,null,null,null,null,null,null,null,null,null,null,null,null,null,null,null,null,null,null,null,null,null,null,null,null,null,null,null,null,null,null,null,null,null,null,null,null,null,null,null,null,null,null,null,null,null,null,null,null,null,null,null,null,null,null,null,null,null,null,null,null,null,null,null,null,null,null,null,null,null,null,null,null,null,null,null,null,null,null,null,null,null,null,null,null,null,null,null,null,null,null,null,null,null,null,null,null,null,null,null,null,null,null,null,null,null,null,null,null,null,null,null,null,null,null,null,null,null,null,null,null,null,null,null,null,null,null,null,null,null,null,null,null,null,null,null,null,null,null,null,null,null,null,null,null,null,null,null,null,null,null,null,null,null,null,null,null,null,null,null,null,null,null,null,null,null,null,null,null,null,null,null,null,null,null,null,null,null,null,null,null,null,null,null,null,null,null,null,null,null,null,null,null,null,null,null,null,null,null,null,null,null,null,null,null,null,null,null,null,null,null,null,null,null,null,null,null,null,null,null,null,null,null,null,null,null,null,null,null,null,null,null,null,null,null,null,null,null,null,null,null,null,null,null,null,null,null,null,null,null,null,null,null,null,null,null,null,null,null,null,null,null,null,null,null,null,null,null,null,null,null,null,null,null,null,null,null,null,null,null,null,null,null,null,null,null,null,null,null,null,null,null,null,null,null,null,null,null,null,null,null,null,null,null,null,null,null,null,null,null,null,null,null,null,null,null,null,null,null,null,null,null,null,null,null,null,null,null,null,null,null,null,null,null,null,null,null,null,null,null,null,null,null,null,null,null,null,null,null,null,null,null,null,null,null,null,null,null,null,null,null,null,null,null,null,null,null,null,null,null,null,null,null,null,null,null,null,null,null,null,null,null,null,null,null,null,null,null,null,null,null,null,null,null,null,null,null,null,null,null,null,null,null,null,null,null,null,null,null,null,null,null,null,null,null,null,null,null,null,null,null,null,null,null,null,null,null,null,null,null,null,null,null,null,null,null,null,null,null,null,null,null,null,null,null,null,null,null,null,null,null,null,null,null,null,null,null,null,null,null,null,null,null,null,null,null,null,null,null,null,null,null,null,null,null,null,null,null,null,null,null,null,null,null,null,null,null,null,null,null,null,null,null,null,null,null,null,null,null,null,null,null,null,null,null,null,null,null,null,null,null,null,null,null,null,null,null,null,null,null,null,null,null,null,null,null,null,null,null,null,null,null,null,null,null,null,null,null,null,null,null,null,null,null,null,null,null,null,null,null,null,null,null,null,null,null,null,null,null,null,null,null,null,null,null,null,null,null,null,null,null,null,null,null,null,null,null,null,null,null,null,null,null,null,null,null,null,null,null,null,null,null,null,null,null,null,null,null,null,null,null,null,null,null,""]
[null,null,351,null,null,null,null,"","",null,null,null,null,null,null,null,null,null,null,null,null,null,null,null,null,null,null,null,null,null,null,null,null,null,null,null,null,null,null,null,null,null,null,null,"","",null,"","",null,"","",null,null,null,null,null,null,null,null,null,null,null,null,null,null,null,null,null,null,null,null,null,null,null,null,null,null,null,null,null,null,null,null,null,null,null,null,null,null,null,null,null,null,null,null,null,null,null,null,null,null,null,null,null,null,null,null,null,null,null,null,null,null,null,null,null,null,null,null,null,null,null,null,null,null,null,null,null,null,null,null,null,null,null,null,null,null,null,null,null,null,null,null,null,null,null,null,null,null,null,null,null,null,null,null,null,null,null,null,null,null,null,null,null,null,null,null,null,null,null,null,null,null,null,null,null,null,null,null,null,null,null,null,null,null,null,null,null,null,null,null,null,null,null,null,null,null,null,null,null,null,null,null,null,null,null,null,null,null,null,null,null,null,null,null,null,null,null,null,null,null,null,null,null,null,null,null,null,null,null,null,null,null,null,null,null,null,null,null,null,null,null,null,null,null,null,null,null,null,null,null,null,null,null,null,null,null,null,null,null,null,null,null,null,null,null,null,null,null,null,null,null,null,null,null,null,null,null,null,null,null,null,null,null,null,null,null,null,null,null,null,null,null,null,null,null,null,null,null,null,null,null,null,null,null,null,null,null,null,null,null,null,null,null,null,null,null,null,null,null,null,null,null,null,null,null,null,null,null,null,null,null,null,null,null,null,null,null,null,null,null,null,null,null,null,null,null,null,null,null,null,null,null,null,null,null,null,null,null,null,null,null,null,null,null,null,null,null,null,null,null,null,null,null,null,null,null,null,null,null,null,null,null,null,null,null,null,null,null,null,null,null,null,null,null,null,null,null,null,null,null,null,null,null,null,null,null,null,null,null,null,null,null,null,null,null,null,null,null,null,null,null,null,null,null,null,null,null,null,null,null,null,null,null,null,null,null,null,null,null,null,null,null,null,null,null,null,null,null,null,null,null,null,null,null,null,null,null,null,null,null,null,null,null,null,null,null,null,null,null,null,null,null,null,null,null,null,null,null,null,null,null,null,null,null,null,null,null,null,null,null,null,null,null,null,null,null,null,null,null,null,null,null,null,null,null,null,null,null,null,null,null,null,null,null,null,null,null,null,null,null,null,null,null,null,null,null,null,null,null,null,null,null,null,null,null,null,null,null,null,null,null,null,null,null,null,null,null,null,null,null,null,null,null,null,null,null,null,null,null,null,null,null,null,null,null,null,null,null,null,null,null,null,null,null,null,null,null,null,null,null,null,null,null,null,null,null,null,null,null,null,null,null,null,null,null,null,null,null,null,null,null,null,null,null,null,null,null,null,null,null,null,null,null,null,null,null,null,null,null,null,null,null,null,null,null,null,null,null,null,null,null,null,null,null,null,null,null,null,null,null,null,null,null,null,null,null,null,null,null,null,null,null,null,null,null,null,null,null,null,null,null,null,null,null,null,null,null,null,null,null,null,null,null,null,null,null,null,null,null,null,null,null,null,null,null,null,null,null,null,null,null,null,null,null,null,null,null,null,null,null,null,null,null,null,null,null,null,null,null,null,null,null,null,null,null,null,null,null,null,null,null,null,null,null,null,null,null,null,null,null,null,null,null,null,null,null,null,null,null,null,null,null,null,null,null,null,null,null,null,null,null,null,null,null,null,null,null,null,null,null,null,null,null,null,null,null,null,null,null,null,null,null,null,null,null,null,null,null,null,null,null,null,null,null,null,null,null,null,null,null,null,null,null,null,null,null,null,null,null,null,null,null,null,null,null,null,null,null,null,null,null,null,null,null,null,null,null,null,null,null,null,null,null,null,null,null,null,null,null,null,null,null,null,null,null,null,null,null,null,null,null,null,null,null,null,null,null,null,null,null,null,null,null,null,null,null,null,null,null,null,null,null,null,null,null,null,null,null,null,null,null,null,null,null,null,null,null,null,null,null,null,null,null,null,null,null,null,null,null,null,null,null,null,null,null,null,null,null,null,null,null,null,null,null,null,null,null,null,null,null,null,null,null,null,null,null,null,null,null,null,null,null,null,null,null,null,null,null,null,null,null,null,null,null,null,null,null,null,null,null,null,null,null,null,null,null,null,null,null,null,null,null,null,null,null,null,null,null,null,null,null,null,null,null,null,null,null,null,null,null,null,null,null,null,null,null,null,null,null,null,null,null,null,null,null,null,null,null,null,null,null,null,null,null,null,null,null,null,null,null,null,null,null,null,null,null,null,null,null,null,null,null,null,null,null,null,null,null,null,null,null,null,null,null,null,null,null,null,null,null,null,null,null,null,null,null,null,null,null,null,null,null,null,null,null,null,null,null,null,null,null,null,null,null,null,null,null,null,null,null,null,null,null,null,null,null,null,null,null,null,null,null,null,null,null,null,null,null,null,null,null,null,null,null,null,null,null,null,null,null,null,null,null,null,null,null,null,null,null,null,null,null,null,null,null,null,null,null,null,null,null,null,null,null,null,null,null,null,null,null,null,null,null,null,null,null,null,null,null,null,null,null,null,null,null,null,null,null,null,null,null,null,null,null,null,null,null,null,null,null,null,null,null,null,null,null,null,null,null,null,null,null,null,null,null,null,null,null,null,null,null,null,null,null,null,null,null,null,null,null,null,null,null,null,null,null,null,null,null,null,null,null,null,null,null,null,null,null,null,null,null,null,null,null,null,null,null,null,null,null,null,null,null,null,null,null,null,null,null,null,null,null,null,null,null,null,null,null,null,null,null,null,null,null,null,null,null,null,null,null,null,null,null,null,null,null,null,null,null,null,null,null,null,null,null,null,null,null,null,null,null,null,null,null,null,null,null,null,null,null,null,null,null,null,null,null,null,null,null,null,null,null,null,null,null,null,null,null,null,null,null,null,null,null,null,null,null,null,null,null,null,null,null,null,null,null,null,null,null,null,null,null,null,null,null,null,null,null,null,null,null,null,null,null,null,null,null,null,null,null,null,null,null,null,null,null,null,null,null,null,null,null,null,null,null,null,null,null,null,null,null,null,null,null,null,null,null,null,null,null,null,null,null,null,null,null,null,null,null,null,null,null,null,null,null,null,null,null,null,null,null,null,null,null,null,null,null,null,null,null,null,null,null,null,null,null,null,null,null,null,null,null,null,null,null,null,null,null,null,null,null,null,null,null,null,null,null,null,null,null,null,null,null,null,null,null,null,null,null,null,null,null,null,null,null,null,null,null,null,null,null,null,null,null,null,null,null,null,null,null,null,null,null,null,null,null,null,null,null,null,null,null,null,null,null,null,null,null,null,null,null,null,null,null,null,null,null,null,null,null,null,null,null,null,null,null,null,null,null,null,null,null,null,null,null,null,null,null,null,null,null,null,null,null,null,null,null,null,null,null,null,null,null,null,null,null,null,null,null,null,null,null,null,null,null,null,null,null,null,null,null,null,null,null,null,null,null,null,null,null,null,null,null,null,null,null,null,null,null,null,null,null,null,null,null,null,null,null,null,null,null,null,null,null,null,null,null,null,null,null,null,null,null,null,null,null,null,null,null,null,null,null,null,null,null,""]
[null,null,377,null,null,null,null,"","",null,null,null,null,null,null,null,null,null,null,null,null,null,null,null,null,null,null,null,null,null,null,null,null,null,null,null,null,null,null,null,null,null,null,null,"","",null,"","",null,"","",null,null,null,null,null,null,null,null,null,null,null,null,null,null,null,null,null,null,null,null,null,null,null,null,null,null,null,null,null,null,null,null,null,null,null,null,null,null,null,null,null,null,null,null,null,null,null,null,null,null,null,null,null,null,null,null,null,null,null,null,null,null,null,null,null,null,null,null,null,null,null,null,null,null,null,null,null,null,null,null,null,null,null,null,null,null,null,null,null,null,null,null,null,null,null,null,null,null,null,null,null,null,null,null,null,null,null,null,null,null,null,null,null,null,null,null,null,null,null,null,null,null,null,null,null,null,null,null,null,null,null,null,null,null,null,null,null,null,null,null,null,null,null,null,null,null,null,null,null,null,null,null,null,null,null,null,null,null,null,null,null,null,null,null,null,null,null,null,null,null,null,null,null,null,null,null,null,null,null,null,null,null,null,null,null,null,null,null,null,null,null,null,null,null,null,null,null,null,null,null,null,null,null,null,null,null,null,null,null,null,null,null,null,null,null,null,null,null,null,null,null,null,null,null,null,null,null,null,null,null,null,null,null,null,null,null,null,null,null,null,null,null,null,null,null,null,null,null,null,null,null,null,null,null,null,null,null,null,null,null,null,null,null,null,null,null,null,null,null,null,null,null,null,null,null,null,null,null,null,null,null,null,null,null,null,null,null,null,null,null,null,null,null,null,null,null,null,null,null,null,null,null,null,null,null,null,null,null,null,null,null,null,null,null,null,null,null,null,null,null,null,null,null,null,null,null,null,null,null,null,null,null,null,null,null,null,null,null,null,null,null,null,null,null,null,null,null,null,null,null,null,null,null,null,null,null,null,null,null,null,null,null,null,null,null,null,null,null,null,null,null,null,null,null,null,null,null,null,null,null,null,null,null,null,null,null,null,null,null,null,null,null,null,null,null,null,null,null,null,null,null,null,null,null,null,null,null,null,null,null,null,null,null,null,null,null,null,null,null,null,null,null,null,null,null,null,null,null,null,null,null,null,null,null,null,null,null,null,null,null,null,null,null,null,null,null,null,null,null,null,null,null,null,null,null,null,null,null,null,null,null,null,null,null,null,null,null,null,null,null,null,null,null,null,null,null,null,null,null,null,null,null,null,null,null,null,null,null,null,null,null,null,null,null,null,null,null,null,null,null,null,null,null,null,null,null,null,null,null,null,null,null,null,null,null,null,null,null,null,null,null,null,null,null,null,null,null,null,null,null,null,null,null,null,null,null,null,null,null,null,null,null,null,null,null,null,null,null,null,null,null,null,null,null,null,null,null,null,null,null,null,null,null,null,null,null,null,null,null,null,null,null,null,null,null,null,null,null,null,null,null,null,null,null,null,null,null,null,null,null,null,null,null,null,null,null,null,null,null,null,null,null,null,null,null,null,null,null,null,null,null,null,null,null,null,null,null,null,null,null,null,null,null,null,null,null,null,null,null,null,null,null,null,null,null,null,null,null,null,null,null,null,null,null,null,null,null,null,null,null,null,null,null,null,null,null,null,null,null,null,null,null,null,null,null,null,null,null,null,null,null,null,null,null,null,null,null,null,null,null,null,null,null,null,null,null,null,null,null,null,null,null,null,null,null,null,null,null,null,null,null,null,null,null,null,null,null,null,null,null,null,null,null,null,null,null,null,null,null,null,null,null,null,null,null,null,null,null,null,null,null,null,null,null,null,null,null,null,null,null,null,null,null,null,null,null,null,null,null,null,null,null,null,null,null,null,null,null,null,null,null,null,null,null,null,null,null,null,null,null,null,null,null,null,null,null,null,null,null,null,null,null,null,null,null,null,null,null,null,null,null,null,null,null,null,null,null,null,null,null,null,null,null,null,null,null,null,null,null,null,null,null,null,null,null,null,null,null,null,null,null,null,null,null,null,null,null,null,null,null,null,null,null,null,null,null,null,null,null,null,null,null,null,null,null,null,null,null,null,null,null,null,null,null,null,null,null,null,null,null,null,null,null,null,null,null,null,null,null,null,null,null,null,null,null,null,null,null,null,null,null,null,null,null,null,null,null,null,null,null,null,null,null,null,null,null,null,null,null,null,null,null,null,null,null,null,null,null,null,null,null,null,null,null,null,null,null,null,null,null,null,null,null,null,null,null,null,null,null,null,null,null,null,null,null,null,null,null,null,null,null,null,null,null,null,null,null,null,null,null,null,null,null,null,null,null,null,null,null,null,null,null,null,null,null,null,null,null,null,null,null,null,null,null,null,null,null,null,null,null,null,null,null,null,null,null,null,null,null,null,null,null,null,null,null,null,null,null,null,null,null,null,null,null,null,null,null,null,null,null,null,null,null,null,null,null,null,null,null,null,null,null,null,null,null,null,null,null,null,null,null,null,null,null,null,null,null,null,null,null,null,null,null,null,null,null,null,null,null,null,null,null,null,null,null,null,null,null,null,null,null,null,null,null,null,null,null,null,null,null,null,null,null,null,null,null,null,null,null,null,null,null,null,null,null,null,null,null,null,null,null,null,null,null,null,null,null,null,null,null,null,null,null,null,null,null,null,null,null,null,null,null,null,null,null,null,null,null,null,null,null,null,null,null,null,null,null,null,null,null,null,null,null,null,null,null,null,null,null,null,null,null,null,null,null,null,null,null,null,null,null,null,null,null,null,null,null,null,null,null,null,null,null,null,null,null,null,null,null,null,null,null,null,null,null,null,null,null,null,null,null,null,null,null,null,null,null,null,null,null,null,null,null,null,null,null,null,null,null,null,null,null,null,null,null,null,null,null,null,null,null,null,null,null,null,null,null,null,null,null,null,null,null,null,null,null,null,null,null,null,null,null,null,null,null,null,null,null,null,null,null,null,null,null,null,null,null,null,null,null,null,null,null,null,null,null,null,null,null,null,null,null,null,null,null,null,null,null,null,null,null,null,null,null,null,null,null,null,null,null,null,null,null,null,null,null,null,null,null,null,null,null,null,null,null,null,null,null,null,null,null,null,null,null,null,null,null,null,null,null,null,null,null,null,null,null,null,null,null,null,null,null,null,null,null,null,null,null,null,null,null,null,null,null,null,null,null,null,null,null,null,null,null,null,null,null,null,null,null,null,null,null,null,null,null,null,null,null,null,null,null,null,null,null,null,null,null,null,null,null,null,null,null,null,null,null,null,null,null,null,null,null,null,null,null,null,null,null,null,null,null,null,null,null,null,null,null,null,null,null,null,null,null,null,null,null,null,null,null,null,null,null,null,null,null,null,null,null,null,null,null,null,null,null,null,null,null,null,null,null,null,null,null,null,null,null,null,null,null,null,null,null,null,null,null,null,null,null,null,null,null,null,null,null,null,null,null,null,null,null,null,null,null,null,null,null,null,null,null,null,null,null,null,null,null,null,null,null,null,null,null,null,null,null,null,null,null,null,null,null,null,null,null,null,null,null,null,null,null,null,null,null,null,null,null,null,null,null,null,null,null,null,null,null,null,null,null,null,null,null,null,null,null,null,null,null,null,null,null,null,null,null,null,null,null,""]
[null,null,407,null,null,null,null,"","",null,null,null,null,null,null,null,null,null,null,null,null,null,null,null,null,null,null,null,null,null,null,null,null,null,null,null,null,null,null,null,null,null,null,null,"","",null,"","",null,"","",null,null,null,null,null,null,null,null,null,null,null,null,null,null,null,null,null,null,null,null,null,null,null,null,null,null,null,null,null,null,null,null,null,null,null,null,null,null,null,null,null,null,null,null,null,null,null,null,null,null,null,null,null,null,null,null,null,null,null,null,null,null,null,null,null,null,null,null,null,null,null,null,null,null,null,null,null,null,null,null,null,null,null,null,null,null,null,null,null,null,null,null,null,null,null,null,null,null,null,null,null,null,null,null,null,null,null,null,null,null,null,null,null,null,null,null,null,null,null,null,null,null,null,null,null,null,null,null,null,null,null,null,null,null,null,null,null,null,null,null,null,null,null,null,null,null,null,null,null,null,null,null,null,null,null,null,null,null,null,null,null,null,null,null,null,null,null,null,null,null,null,null,null,null,null,null,null,null,null,null,null,null,null,null,null,null,null,null,null,null,null,null,null,null,null,null,null,null,null,null,null,null,null,null,null,null,null,null,null,null,null,null,null,null,null,null,null,null,null,null,null,null,null,null,null,null,null,null,null,null,null,null,null,null,null,null,null,null,null,null,null,null,null,null,null,null,null,null,null,null,null,null,null,null,null,null,null,null,null,null,null,null,null,null,null,null,null,null,null,null,null,null,null,null,null,null,null,null,null,null,null,null,null,null,null,null,null,null,null,null,null,null,null,null,null,null,null,null,null,null,null,null,null,null,null,null,null,null,null,null,null,null,null,null,null,null,null,null,null,null,null,null,null,null,null,null,null,null,null,null,null,null,null,null,null,null,null,null,null,null,null,null,null,null,null,null,null,null,null,null,null,null,null,null,null,null,null,null,null,null,null,null,null,null,null,null,null,null,null,null,null,null,null,null,null,null,null,null,null,null,null,null,null,null,null,null,null,null,null,null,null,null,null,null,null,null,null,null,null,null,null,null,null,null,null,null,null,null,null,null,null,null,null,null,null,null,null,null,null,null,null,null,null,null,null,null,null,null,null,null,null,null,null,null,null,null,null,null,null,null,null,null,null,null,null,null,null,null,null,null,null,null,null,null,null,null,null,null,null,null,null,null,null,null,null,null,null,null,null,null,null,null,null,null,null,null,null,null,null,null,null,null,null,null,null,null,null,null,null,null,null,null,null,null,null,null,null,null,null,null,null,null,null,null,null,null,null,null,null,null,null,null,null,null,null,null,null,null,null,null,null,null,null,null,null,null,null,null,null,null,null,null,null,null,null,null,null,null,null,null,null,null,null,null,null,null,null,null,null,null,null,null,null,null,null,null,null,null,null,null,null,null,null,null,null,null,null,null,null,null,null,null,null,null,null,null,null,null,null,null,null,null,null,null,null,null,null,null,null,null,null,null,null,null,null,null,null,null,null,null,null,null,null,null,null,null,null,null,null,null,null,null,null,null,null,null,null,null,null,null,null,null,null,null,null,null,null,null,null,null,null,null,null,null,null,null,null,null,null,null,null,null,null,null,null,null,null,null,null,null,null,null,null,null,null,null,null,null,null,null,null,null,null,null,null,null,null,null,null,null,null,null,null,null,null,null,null,null,null,null,null,null,null,null,null,null,null,null,null,null,null,null,null,null,null,null,null,null,null,null,null,null,null,null,null,null,null,null,null,null,null,null,null,null,null,null,null,null,null,null,null,null,null,null,null,null,null,null,null,null,null,null,null,null,null,null,null,null,null,null,null,null,null,null,null,null,null,null,null,null,null,null,null,null,null,null,null,null,null,null,null,null,null,null,null,null,null,null,null,null,null,null,null,null,null,null,null,null,null,null,null,null,null,null,null,null,null,null,null,null,null,null,null,null,null,null,null,null,null,null,null,null,null,null,null,null,null,null,null,null,null,null,null,null,null,null,null,null,null,null,null,null,null,null,null,null,null,null,null,null,null,null,null,null,null,null,null,null,null,null,null,null,null,null,null,null,null,null,null,null,null,null,null,null,null,null,null,null,null,null,null,null,null,null,null,null,null,null,null,null,null,null,null,null,null,null,null,null,null,null,null,null,null,null,null,null,null,null,null,null,null,null,null,null,null,null,null,null,null,null,null,null,null,null,null,null,null,null,null,null,null,null,null,null,null,null,null,null,null,null,null,null,null,null,null,null,null,null,null,null,null,null,null,null,null,null,null,null,null,null,null,null,null,null,null,null,null,null,null,null,null,null,null,null,null,null,null,null,null,null,null,null,null,null,null,null,null,null,null,null,null,null,null,null,null,null,null,null,null,null,null,null,null,null,null,null,null,null,null,null,null,null,null,null,null,null,null,null,null,null,null,null,null,null,null,null,null,null,null,null,null,null,null,null,null,null,null,null,null,null,null,null,null,null,null,null,null,null,null,null,null,null,null,null,null,null,null,null,null,null,null,null,null,null,null,null,null,null,null,null,null,null,null,null,null,null,null,null,null,null,null,null,null,null,null,null,null,null,null,null,null,null,null,null,null,null,null,null,null,null,null,null,null,null,null,null,null,null,null,null,null,null,null,null,null,null,null,null,null,null,null,null,null,null,null,null,null,null,null,null,null,null,null,null,null,null,null,null,null,null,null,null,null,null,null,null,null,null,null,null,null,null,null,null,null,null,null,null,null,null,null,null,null,null,null,null,null,null,null,null,null,null,null,null,null,null,null,null,null,null,null,null,null,null,null,null,null,null,null,null,null,null,null,null,null,null,null,null,null,null,null,null,null,null,null,null,null,null,null,null,null,null,null,null,null,null,null,null,null,null,null,null,null,null,null,null,null,null,null,null,null,null,null,null,null,null,null,null,null,null,null,null,null,null,null,null,null,null,null,null,null,null,null,null,null,null,null,null,null,null,null,null,null,null,null,null,null,null,null,null,null,null,null,null,null,null,null,null,null,null,null,null,null,null,null,null,null,null,null,null,null,null,null,null,null,null,null,null,null,null,null,null,null,null,null,null,null,null,null,null,null,null,null,null,null,null,null,null,null,null,null,null,null,null,null,null,null,null,null,null,null,null,null,null,null,null,null,null,null,null,null,null,null,null,null,null,null,null,null,null,null,null,null,null,null,null,null,null,null,null,null,null,null,null,null,null,null,null,null,null,null,null,null,null,null,null,null,null,null,null,null,null,null,null,null,null,null,null,null,null,null,null,null,null,null,null,null,null,null,null,null,null,null,null,null,null,null,null,null,null,null,null,null,null,null,null,null,null,null,null,null,null,null,null,null,null,null,null,null,null,null,null,null,null,null,null,null,null,null,null,null,null,null,null,null,null,null,null,null,null,null,null,null,null,null,null,null,null,null,null,null,null,null,null,null,null,null,null,null,null,null,null,null,null,null,null,null,null,null,null,null,null,null,null,null,null,null,null,null,null,null,null,null,null,null,null,null,null,null,null,null,null,null,null,null,null,null,null,null,null,null,null,null,null,null,null,null,null,null,null,null,null,null,null,null,null,null,null,null,null,null,null,null,null,null,null,null,null,null,null,null,null,null,null,null,null,null,null,null,null,null,null,null,null,null,""]
[null,null,437,null,null,null,null,"","",null,null,null,null,null,null,null,null,null,null,null,null,null,null,null,null,null,null,null,null,null,null,null,null,null,null,null,null,null,null,null,null,null,null,null,"","",null,"","",null,"","",null,null,null,null,null,null,null,null,null,null,null,null,null,null,null,null,null,null,null,null,null,null,null,null,null,null,null,null,null,null,null,null,null,null,null,null,null,null,null,null,null,null,null,null,null,null,null,null,null,null,null,null,null,null,null,null,null,null,null,null,null,null,null,null,null,null,null,null,null,null,null,null,null,null,null,null,null,null,null,null,null,null,null,null,null,null,null,null,null,null,null,null,null,null,null,null,null,null,null,null,null,null,null,null,null,null,null,null,null,null,null,null,null,null,null,null,null,null,null,null,null,null,null,null,null,null,null,null,null,null,null,null,null,null,null,null,null,null,null,null,null,null,null,null,null,null,null,null,null,null,null,null,null,null,null,null,null,null,null,null,null,null,null,null,null,null,null,null,null,null,null,null,null,null,null,null,null,null,null,null,null,null,null,null,null,null,null,null,null,null,null,null,null,null,null,null,null,null,null,null,null,null,null,null,null,null,null,null,null,null,null,null,null,null,null,null,null,null,null,null,null,null,null,null,null,null,null,null,null,null,null,null,null,null,null,null,null,null,null,null,null,null,null,null,null,null,null,null,null,null,null,null,null,null,null,null,null,null,null,null,null,null,null,null,null,null,null,null,null,null,null,null,null,null,null,null,null,null,null,null,null,null,null,null,null,null,null,null,null,null,null,null,null,null,null,null,null,null,null,null,null,null,null,null,null,null,null,null,null,null,null,null,null,null,null,null,null,null,null,null,null,null,null,null,null,null,null,null,null,null,null,null,null,null,null,null,null,null,null,null,null,null,null,null,null,null,null,null,null,null,null,null,null,null,null,null,null,null,null,null,null,null,null,null,null,null,null,null,null,null,null,null,null,null,null,null,null,null,null,null,null,null,null,null,null,null,null,null,null,null,null,null,null,null,null,null,null,null,null,null,null,null,null,null,null,null,null,null,null,null,null,null,null,null,null,null,null,null,null,null,null,null,null,null,null,null,null,null,null,null,null,null,null,null,null,null,null,null,null,null,null,null,null,null,null,null,null,null,null,null,null,null,null,null,null,null,null,null,null,null,null,null,null,null,null,null,null,null,null,null,null,null,null,null,null,null,null,null,null,null,null,null,null,null,null,null,null,null,null,null,null,null,null,null,null,null,null,null,null,null,null,null,null,null,null,null,null,null,null,null,null,null,null,null,null,null,null,null,null,null,null,null,null,null,null,null,null,null,null,null,null,null,null,null,null,null,null,null,null,null,null,null,null,null,null,null,null,null,null,null,null,null,null,null,null,null,null,null,null,null,null,null,null,null,null,null,null,null,null,null,null,null,null,null,null,null,null,null,null,null,null,null,null,null,null,null,null,null,null,null,null,null,null,null,null,null,null,null,null,null,null,null,null,null,null,null,null,null,null,null,null,null,null,null,null,null,null,null,null,null,null,null,null,null,null,null,null,null,null,null,null,null,null,null,null,null,null,null,null,null,null,null,null,null,null,null,null,null,null,null,null,null,null,null,null,null,null,null,null,null,null,null,null,null,null,null,null,null,null,null,null,null,null,null,null,null,null,null,null,null,null,null,null,null,null,null,null,null,null,null,null,null,null,null,null,null,null,null,null,null,null,null,null,null,null,null,null,null,null,null,null,null,null,null,null,null,null,null,null,null,null,null,null,null,null,null,null,null,null,null,null,null,null,null,null,null,null,null,null,null,null,null,null,null,null,null,null,null,null,null,null,null,null,null,null,null,null,null,null,null,null,null,null,null,null,null,null,null,null,null,null,null,null,null,null,null,null,null,null,null,null,null,null,null,null,null,null,null,null,null,null,null,null,null,null,null,null,null,null,null,null,null,null,null,null,null,null,null,null,null,null,null,null,null,null,null,null,null,null,null,null,null,null,null,null,null,null,null,null,null,null,null,null,null,null,null,null,null,null,null,null,null,null,null,null,null,null,null,null,null,null,null,null,null,null,null,null,null,null,null,null,null,null,null,null,null,null,null,null,null,null,null,null,null,null,null,null,null,null,null,null,null,null,null,null,null,null,null,null,null,null,null,null,null,null,null,null,null,null,null,null,null,null,null,null,null,null,null,null,null,null,null,null,null,null,null,null,null,null,null,null,null,null,null,null,null,null,null,null,null,null,null,null,null,null,null,null,null,null,null,null,null,null,null,null,null,null,null,null,null,null,null,null,null,null,null,null,null,null,null,null,null,null,null,null,null,null,null,null,null,null,null,null,null,null,null,null,null,null,null,null,null,null,null,null,null,null,null,null,null,null,null,null,null,null,null,null,null,null,null,null,null,null,null,null,null,null,null,null,null,null,null,null,null,null,null,null,null,null,null,null,null,null,null,null,null,null,null,null,null,null,null,null,null,null,null,null,null,null,null,null,null,null,null,null,null,null,null,null,null,null,null,null,null,null,null,null,null,null,null,null,null,null,null,null,null,null,null,null,null,null,null,null,null,null,null,null,null,null,null,null,null,null,null,null,null,null,null,null,null,null,null,null,null,null,null,null,null,null,null,null,null,null,null,null,null,null,null,null,null,null,null,null,null,null,null,null,null,null,null,null,null,null,null,null,null,null,null,null,null,null,null,null,null,null,null,null,null,null,null,null,null,null,null,null,null,null,null,null,null,null,null,null,null,null,null,null,null,null,null,null,null,null,null,null,null,null,null,null,null,null,null,null,null,null,null,null,null,null,null,null,null,null,null,null,null,null,null,null,null,null,null,null,null,null,null,null,null,null,null,null,null,null,null,null,null,null,null,null,null,null,null,null,null,null,null,null,null,null,null,null,null,null,null,null,null,null,null,null,null,null,null,null,null,null,null,null,null,null,null,null,null,null,null,null,null,null,null,null,null,null,null,null,null,null,null,null,null,null,null,null,null,null,null,null,null,null,null,null,null,null,null,null,null,null,null,null,null,null,null,null,null,null,null,null,null,null,null,null,null,null,null,null,null,null,null,null,null,null,null,null,null,null,null,null,null,null,null,null,null,null,null,null,null,null,null,null,null,null,null,null,null,null,null,null,null,null,null,null,null,null,null,null,null,null,null,null,null,null,null,null,null,null,null,null,null,null,null,null,null,null,null,null,null,null,null,null,null,null,null,null,null,null,null,null,null,null,null,null,null,null,null,null,null,null,null,null,null,null,null,null,null,null,null,null,null,null,null,null,null,null,null,null,null,null,null,null,null,null,null,null,null,null,null,null,null,null,null,null,null,null,null,null,null,null,null,null,null,null,null,null,null,null,null,null,null,null,null,null,null,null,null,null,null,null,null,null,null,null,null,null,null,null,null,null,null,null,null,null,null,null,null,null,null,null,null,null,null,null,null,null,null,null,null,null,null,null,null,null,null,null,null,null,null,null,null,null,null,null,null,null,null,null,null,null,null,null,null,null,null,null,null,null,null,null,null,null,null,null,null,null,null,null,null,null,null,null,null,null,null,null,null,null,null,null,null,null,null,null,null,null,null,null,null,null,null,null,null,null,null,null,null,null,null,null,""]
[null,null,null,null,null,null,null,null,null,null,null,null,null,null,null,null,null,null,null,null,null,null,null,null,null,null,null,null,null,null,null,null,null,null,null,null,null,null,null,"","",null,null,null,0,{"$f":"AT505","v":0.67319999999999991},null,{"$f":"AV505","v":2.8342000000000001},{"$f":"AW505","v":0.67319999999999991},null,null,null,null,null,null,null,null,null,null,null,null,null,null,null,null,null,null,null,null,null,null,null,null,null,null,null,null,null,null,null,null,null,null,null,null,null,null,null,null,null,null,null,null,null,null,null,null,null,null,null,null,null,null,null,null,null,null,null,null,null,null,null,null,null,null,null,null,null,null,null,null,null,null,null,null,null,null,null,null,null,null,null,null,null,null,null,null,null,null,null,null,null,null,null,null,null,null,null,null,null,null,null,null,null,null,null,null,null,null,null,null,null,null,null,null,null,null,null,null,null,null,null,null,null,null,null,null,null,null,null,null,null,null,null,null,null,null,null,null,null,null,null,null,null,null,null,null,null,null,null,null,null,null,null,null,null,null,null,null,null,null,null,null,null,null,null,null,null,null,null,null,null,null,null,null,null,null,null,null,null,null,null,null,null,null,null,null,null,null,null,null,null,null,null,null,null,null,null,null,null,null,null,null,null,null,null,null,null,null,null,null,null,null,null,null,null,null,null,null,null,null,null,null,null,null,null,null,null,null,null,null,null,null,null,null,null,null,null,null,null,null,null,null,null,null,null,null,null,null,null,null,null,null,null,null,null,null,null,null,null,null,null,null,null,null,null,null,null,null,null,null,null,null,null,null,null,null,null,null,null,null,null,null,null,null,null,null,null,null,null,null,null,null,null,null,null,null,null,null,null,null,null,null,null,null,null,null,null,null,null,null,null,null,null,null,null,null,null,null,null,null,null,null,null,null,null,null,null,null,null,null,null,null,null,null,null,null,null,null,null,null,null,null,null,null,null,null,null,null,null,null,null,null,null,null,null,null,null,null,null,null,null,null,null,null,null,null,null,null,null,null,null,null,null,null,null,null,null,null,null,null,null,null,null,null,null,null,null,null,null,null,null,null,null,null,null,null,null,null,null,null,null,null,null,null,null,null,null,null,null,null,null,null,null,null,null,null,null,null,null,null,null,null,null,null,null,null,null,null,null,null,null,null,null,null,null,null,null,null,null,null,null,null,null,null,null,null,null,null,null,null,null,null,null,null,null,null,null,null,null,null,null,null,null,null,null,null,null,null,null,null,null,null,null,null,null,null,null,null,null,null,null,null,null,null,null,null,null,null,null,null,null,null,null,null,null,null,null,null,null,null,null,null,null,null,null,null,null,null,null,null,null,null,null,null,null,null,null,null,null,null,null,null,null,null,null,null,null,null,null,null,null,null,null,null,null,null,null,null,null,null,null,null,null,null,null,null,null,null,null,null,null,null,null,null,null,null,null,null,null,null,null,null,null,null,null,null,null,null,null,null,null,null,null,null,null,null,null,null,null,null,null,null,null,null,null,null,null,null,null,null,null,null,null,null,null,null,null,null,null,null,null,null,null,null,null,null,null,null,null,null,null,null,null,null,null,null,null,null,null,null,null,null,null,null,null,null,null,null,null,null,null,null,null,null,null,null,null,null,null,null,null,null,null,null,null,null,null,null,null,null,null,null,null,null,null,null,null,null,null,null,null,null,null,null,null,null,null,null,null,null,null,null,null,null,null,null,null,null,null,null,null,null,null,null,null,null,null,null,null,null,null,null,null,null,null,null,null,null,null,null,null,null,null,null,null,null,null,null,null,null,null,null,null,null,null,null,null,null,null,null,null,null,null,null,null,null,null,null,null,null,null,null,null,null,null,null,null,null,null,null,null,null,null,null,null,null,null,null,null,null,null,null,null,null,null,null,null,null,null,null,null,null,null,null,null,null,null,null,null,null,null,null,null,null,null,null,null,null,null,null,null,null,null,null,null,null,null,null,null,null,null,null,null,null,null,null,null,null,null,null,null,null,null,null,null,null,null,null,null,null,null,null,null,null,null,null,null,null,null,null,null,null,null,null,null,null,null,null,null,null,null,null,null,null,null,null,null,null,null,null,null,null,null,null,null,null,null,null,null,null,null,null,null,null,null,null,null,null,null,null,null,null,null,null,null,null,null,null,null,null,null,null,null,null,null,null,null,null,null,null,null,null,null,null,null,null,null,null,null,null,null,null,null,null,null,null,null,null,null,null,null,null,null,null,null,null,null,null,null,null,null,null,null,null,null,null,null,null,null,null,null,null,null,null,null,null,null,null,null,null,null,null,null,null,null,null,null,null,null,null,null,null,null,null,null,null,null,null,null,null,null,null,null,null,null,null,null,null,null,null,null,null,null,null,null,null,null,null,null,null,null,null,null,null,null,null,null,null,null,null,null,null,null,null,null,null,null,null,null,null,null,null,null,null,null,null,null,null,null,null,null,null,null,null,null,null,null,null,null,null,null,null,null,null,null,null,null,null,null,null,null,null,null,null,null,null,null,null,null,null,null,null,null,null,null,null,null,null,null,null,null,null,null,null,null,null,null,null,null,null,null,null,null,null,null,null,null,null,null,null,null,null,null,null,null,null,null,null,null,null,null,null,null,null,null,null,null,null,null,null,null,null,null,null,null,null,null,null,null,null,null,null,null,null,null,null,null,null,null,null,null,null,null,null,null,null,null,null,null,null,null,null,null,null,null,null,null,null,null,null,null,null,null,null,null,null,null,null,null,null,null,null,null,null,null,null,null,null,null,null,null,null,null,null,null,null,null,null,null,null,null,null,null,null,null,null,null,null,null,null,null,null,null,null,null,null,null,null,null,null,null,null,null,null,null,null,null,null,null,null,null,null,null,null,null,null,null,null,null,null,null,null,null,null,null,null,null,null,null,null,null,null,null,null,null,null,null,null,null,null,null,null,null,null,null,null,null,null,null,null,null,null,null,null,null,null,null,null,null,null,null,null,null,null,null,null,null,null,null,null,null,null,null,null,null,null,null,null,null,null,null,null,null,null,null,null,null,null,null,null,null,null,null,null,null,null,null,null,null,null,null,null,null,null,null,null,null,null,null,null,null,null,null,null,null,null,null,null,null,null,null,null,null,null,null,null,null,null,null,null,null,null,null,null,null,null,null,null,null,null,null,null,null,null,null,null,null,null,null,null,null,null,null,null,null,null,null,null,null,null,null,null,null,null,null,null,null,null,null,null,null,null,null,null,null,null,null,null,null,null,null,null,null,null,null,null,null,null,null,null,null,null,null,null,null,null,null,null,null,null,null,null,null,null,null,null,null,null,null,null,null,null,null,null,null,null,null,null,null,null,null,null,null,null,null,null,null,null,null,null,null,null,null,null,null,null,null,null,null,null,null,null,null,null,null,null,null,null,null,null,null,null,null,null,null,null,null,null,null,null,null,null,null,null,null,null,null,null,null,null,null,null,null,null,null,null,null,null,null,null,null,null,null,null,null,null,null,null,null,null,null,null,null,null,null,null,null,null,null,null,null,null,null,null,null,null,null,null,null,null,null,null,null,null,null,null,null,null,null,null,null,null,null,null,null,null,null,null,null,null,null,null,null,null,null,null,null,null,null,null,null,null,null,null,null,null,null,null,null,null,null,null,null,null,null,null,null,null,null,null,null,null,null,null,null,null,"Sｘｘ="]
[null,null,null,null,null,null,null,null,null,null,null,null,null,null,null,null,null,null,null,null,null,null,null,null,null,null,null,null,null,null,null,null,null,null,null,null,null,null,null,"",""]
[null,null,null,null,null,null,null,null,null,null,null,null,null,null,null,null,null,null,null,null,null,null,null,null,null,null,null,null,null,null,null,null,null,null,null,null,null,null,null,"",""]
[null,null,null,null,null,null,null,null,null,null,null,null,null,null,null,null,null,null,null,null,null,null,null,null,null,null,null,null,null,null,null,null,null,null,null,null,null,null,null,"",""]
[null,null,null,null,null,null,null,null,null,null,null,null,null,null,null,null,null,null,null,null,null,null,null,null,null,null,null,null,null,null,null,null,null,null,null,null,null,null,null,"",""]
[null,null,null,null,null,null,null,null,null,null,null,null,null,null,null,null,null,null,null,null,null,null,null,null,null,null,null,null,null,null,null,null,null,null,null,null,null,null,null,"",""]
[null,null,null,null,null,null,null,null,null,null,null,null,null,null,null,null,null,null,null,null,null,null,null,null,null,null,null,null,null,null,null,null,null,null,null,null,null,null,null,{"$f":"IF(D761<>\"\",RANK(D761,$D$5:$D$1304),\"\")","v":""},{"$f":"IF(E761<>\"\",RANK(E761,$E$5:$E$1304),\"\")","v":""}]
[null,null,null,null,null,null,null,null,null,null,null,null,null,null,null,null,null,null,null,null,null,null,null,null,null,null,null,null,null,null,null,null,null,null,null,null,null,null,null,"",""]
[null,null,null,null,null,null,null,null,null,null,null,null,null,null,null,null,null,null,null,null,null,null,null,null,null,null,null,null,null,null,null,null,null,null,null,null,null,null,null,"",""]
[null,null,null,null,null,null,null,null,null,null,null,null,null,null,null,null,null,null,null,null,null,null,null,null,null,null,null,null,null,null,null,null,null,null,null,null,null,null,null,"",""]
[null,null,null,null,null,null,null,null,null,null,null,null,null,null,null,null,null,null,null,null,null,null,null,null,null,null,null,null,null,null,null,null,null,null,null,null,null,null,null,"",""]
[null,null,null,null,null,null,null,null,null,null,null,null,null,null,null,null,null,null,null,null,null,null,null,null,null,null,null,null,null,null,null,null,null,null,null,null,null,null,null,"",""]
[null,null,null,null,null,null,null,null,null,null,null,null,null,null,null,null,null,null,null,null,null,null,null,null,null,null,null,null,null,null,null,null,null,null,null,null,null,null,null,"",""]
[null,null,null,null,null,null,null,null,null,null,null,null,null,null,null,null,null,null,null,null,null,null,null,null,null,null,null,null,null,null,null,null,null,null,null,null,null,null,null,"",""]
[null,null,null,null,null,null,null,null,null,null,null,null,null,null,null,null,null,null,null,null,null,null,null,null,null,null,null,null,null,null,null,null,null,null,null,null,null,null,null,"",""]
[null,null,null,null,null,null,null,null,null,null,null,null,null,null,null,null,null,null,null,null,null,null,null,null,null,null,null,null,null,null,null,null,null,null,null,null,null,null,null,"",""]
[null,null,null,null,null,null,null,null,null,null,null,null,null,null,null,null,null,null,null,null,null,null,null,null,null,null,null,null,null,null,null,null,null,null,null,null,null,null,null,"",""]
[null,null,null,null,null,null,null,null,null,null,null,null,null,null,null,null,null,null,null,null,null,null,null,null,null,null,null,null,null,null,null,null,null,null,null,null,null,null,null,"",""]
[null,null,null,null,null,null,null,null,null,null,null,null,null,null,null,null,null,null,null,null,null,null,null,null,null,null,null,null,null,null,null,null,null,null,null,null,null,null,null,"",""]
[null,null,null,null,null,null,null,null,null,null,null,null,null,null,null,null,null,null,null,null,null,null,null,null,null,null,null,null,null,null,null,null,null,null,null,null,null,null,null,"",""]
[null,null,null,null,null,null,null,null,null,null,null,null,null,null,null,null,null,null,null,null,null,null,null,null,null,null,null,null,null,null,null,null,null,null,null,null,null,null,null,"",""]
[null,null,null,null,null,null,null,null,null,null,null,null,null,null,null,null,null,null,null,null,null,null,null,null,null,null,null,null,null,null,null,null,null,null,null,null,null,null,null,"",""]
[null,null,null,null,null,null,null,null,null,null,null,null,null,null,null,null,null,null,null,null,null,null,null,null,null,null,null,null,null,null,null,null,null,null,null,null,null,null,null,"",""]
[null,null,null,null,null,null,null,null,null,null,null,null,null,null,null,null,null,null,null,null,null,null,null,null,null,null,null,null,null,null,null,null,null,null,null,null,null,null,null,"",""]
[null,null,null,null,null,null,null,null,null,null,null,null,null,null,null,null,null,null,null,null,null,null,null,null,null,null,null,null,null,null,null,null,null,null,null,null,null,null,null,"",""]
[null,null,null,null,null,null,null,null,null,null,null,null,null,null,null,null,null,null,null,null,null,null,null,null,null,null,null,null,null,null,null,null,null,null,null,null,null,null,null,"",""]
[null,null,null,null,null,null,null,null,null,null,null,null,null,null,null,null,null,null,null,null,null,null,null,null,null,null,null,null,null,null,null,null,null,null,null,null,null,null,null,"",""]

{"sheet":"併行精度","index":4,"n_rows":70,"n_cols":69,"rows_kept":70,"cut":false,"hidden":false,"merged":[[0,1,0,3],[0,29,0,30],[1,9,1,10]]}
["タイトル","血糖値",null,null,"解説",null,null,null,null,null,null,null,null,null,null,null,null,null,null,null,null,null,null,null,null,null,null,null,null,"カーネル曲線"]
[null,"基準範囲下限","基準範囲上限","異常濃度１","異常濃度２","予備１","予備２","予備３","予備４","階級数(Max9)→",null,6,null,null,null,null,null,null,null,null,null,null,null,null,null,null,null,null,null,{"$f":"S12","v":66},{"$f":"S13","v":67.333333333333343},{"$f":"S14","v":68.666666666666671},{"$f":"S15","v":70},{"$f":"S16","v":71.333333333333343},{"$f":"S17","v":72.666666666666671},{"$f":"S18","v":74},{"$f":"S19","v":75.333333333333343},{"$f":"S20","v":76.666666666666671},{"$f":"S21","v":78},{"$f":"S27","v":106},{"$f":"S28","v":106.83333333333334},{"$f":"S29","v":107.66666666666667},{"$f":"S30","v":108.5},{"$f":"S31","v":109.33333333333334},{"$f":"S32","v":110.16666666666667},{"$f":"S33","v":111},{"$f":"S34","v":111.83333333333334},{"$f":"S35","v":112.66666666666667},{"$f":"S36","v":113.5},{"$f":"S46","v":200},{"$f":"S47","v":200.66666666666669},{"$f":"S48","v":201.33333333333334},{"$f":"S49","v":202},{"$f":"S50","v":202.66666666666669},{"$f":"S51","v":203.33333333333334},{"$f":"S52","v":204},{"$f":"S53","v":204.66666666666669},{"$f":"S54","v":205.33333333333334},{"$f":"S55","v":206},{"$f":"S61","v":398},{"$f":"S62","v":399},{"$f":"S63","v":400},{"$f":"S64","v":401},{"$f":"S65","v":402},{"$f":"S66","v":403},{"$f":"S67","v":404},{"$f":"S68","v":405},{"$f":"S69","v":406},{"$f":"S70","v":407}]
[1,74,109,203,403,null,null,null,null,null,null,null,null,null,null,null,null,null,null,null,null,null,null,null,null,null,null,null,null,{"$f":"EXP(-((($B3-AD$2)/$S$10)^2/2))/SQRT(2*PI())","v":6.0758828498232861E-9},{"$f":"EXP(-((($B3-AE$2)/$S$10)^2/2))/SQRT(2*PI())","v":1.4867195147343508E-6},1.3383022576488726E-4,4.4318484119380075E-3,5.3990966513188826E-2,0.24197072451914423,0.3989422804014327,0.24197072451914164,5.3990966513187674E-2,4.4318484119380075E-3,{"$f":"EXP(-((($C3-AN$2)/$S$25)^2/2))/SQRT(2*PI())","v":6.1190193011377309E-4},{"$f":"EXP(-((($C3-AO$2)/$S$25)^2/2))/SQRT(2*PI())","v":1.3582969233686024E-2},0.11092083467945657,0.33322460289179967,0.36827014030332167,0.14972746563574366,2.2394530294842899E-2,1.2322191684729729E-3,2.4942471290052956E-5,1.8573618445552997E-7,{"$f":"EXP(-((($D3-AX$2)/$S$44)^2/2))/SQRT(2*PI())","v":1.5983741106905478E-5},8.72682695045847E-4,1.7528300493569165E-2,0.12951759566589174,0.35206532676430452,0.35206532676429703,0.12951759566589174,1.7528300493567295E-2,8.7268269504571668E-4,1.5983741106905478E-5,{"$f":"EXP(-((($E3-BH$2)/$S$59)^2/2))/SQRT(2*PI())","v":1.4867195147342979E-6},1.3383022576488537E-4,4.4318484119380075E-3,5.3990966513188063E-2,0.24197072451914337,0.3989422804014327,0.24197072451914337,5.3990966513188063E-2,4.4318484119380075E-3,1.3383022576488537E-4]
[2,71,111,203,401,null,null,null,null,null,null,null,null,null,null,null,null,null,null,null,null,null,null,null,null,null,null,null,null,{"$f":"EXP(-((($B4-AD$2)/$S$10)^2/2))/SQRT(2*PI())","v":3.5259568236744546E-4},9.0935625015912316E-3,8.6277318826512059E-2,0.30113743215480443,0.38666811680284857,0.18264908538902111,3.1739651835667418E-2,2.0290480572997208E-3,4.7718636541204274E-5,4.1284709886299984E-7,{"$f":"EXP(-((($C4-AN$2)/$S$25)^2/2))/SQRT(2*PI())","v":6.0758828498232861E-9},1.4867195147343824E-6,1.3383022576488846E-4,4.4318484119380075E-3,5.3990966513189305E-2,0.24197072451914478,0.3989422804014327,0.24197072451914062,5.3990966513187431E-2,4.4318484119380075E-3,1.5983741106905478E-5,8.72682695045847E-4,1.7528300493569165E-2,0.12951759566589174,0.35206532676430452,0.35206532676429703,0.12951759566589174,1.7528300493567295E-2,8.7268269504571668E-4,1.5983741106905478E-5,4.4318484119380075E-3,5.3990966513188063E-2,0.24197072451914337,0.3989422804014327,0.24197072451914337,5.3990966513188063E-2,4.4318484119380075E-3,1.3383022576488537E-4,1.4867195147342979E-6,6.0758828498232861E-9]
[3,71,107,204,402,null,null,null,null,null,null,null,null,null,null,null,null,null,null,null,null,null,null,null,null,null,null,null,null,3.5259568236744546E-4,9.0935625015912316E-3,8.6277318826512059E-2,0.30113743215480443,0.38666811680284857,0.18264908538902111,3.1739651835667418E-2,2.0290480572997208E-3,4.7718636541204274E-5,4.1284709886299984E-7,0.19418605498321298,0.39104269397545682,0.28969155276148145,7.8950158300894191E-2,7.9154515829797118E-3,2.9194692579145404E-4,3.9612990910320753E-6,1.9773196406243408E-8,3.6309615017916589E-11,2.4528552856964324E-14,6.0758828498232861E-9,1.4867195147345092E-6,1.3383022576489296E-4,4.4318484119380075E-3,5.399096651319113E-2,0.24197072451914683,0.3989422804014327,0.24197072451913651,5.3990966513186522E-2,4.4318484119380075E-3,1.3383022576488537E-4,4.4318484119380075E-3,5.3990966513188063E-2,0.24197072451914337,0.3989422804014327,0.24197072451914337,5.3990966513188063E-2,4.4318484119380075E-3,1.3383022576488537E-4,1.4867195147342979E-6]
[4,72,108,203,404,null,null,null,null,null,null,null,null,null,null,null,null,null,null,null,null,null,null,null,null,null,null,null,null,1.5983741106905478E-5,8.7268269504578195E-4,1.7528300493568696E-2,0.12951759566589174,0.3520653267643008,0.35206532676429886,0.12951759566589174,1.7528300493568228E-2,8.726826950457492E-4,1.5983741106905478E-5,2.2394530294842899E-2,0.14972746563574726,0.36827014030332417,0.33322460289179967,0.11092083467945357,1.3582969233685425E-2,6.1190193011377309E-4,1.014085206548622E-5,6.1826205001656376E-8,1.3866799941653172E-10,1.5983741106905478E-5,8.72682695045847E-4,1.7528300493569165E-2,0.12951759566589174,0.35206532676430452,0.35206532676429703,0.12951759566589174,1.7528300493567295E-2,8.7268269504571668E-4,1.5983741106905478E-5,6.0758828498232861E-9,1.4867195147342979E-6,1.3383022576488537E-4,4.4318484119380075E-3,5.3990966513188063E-2,0.24197072451914337,0.3989422804014327,0.24197072451914337,5.3990966513188063E-2,4.4318484119380075E-3]
[5,70,110,202,401,null,null,null,null,null,null,null,null,null,null,null,null,"基準範囲下限ヒストグラム用データ",null,null,null,null,null,null,null,null,null,null,null,4.4318484119380075E-3,5.3990966513188826E-2,0.24197072451914423,0.3989422804014327,0.24197072451914164,5.3990966513187674E-2,4.4318484119380075E-3,1.3383022576488157E-4,1.4867195147342714E-6,6.0758828498232861E-9,3.9612990910320753E-6,2.9194692579147323E-4,7.9154515829800952E-3,7.8950158300894191E-2,0.28969155276148539,0.39104269397545544,0.19418605498321298,3.5474592846230557E-2,2.3840882014648005E-3,5.8943067756539855E-5,4.4318484119380075E-3,5.399096651319113E-2,0.24197072451914683,0.3989422804014327,0.24197072451913651,5.3990966513186522E-2,4.4318484119380075E-3,1.3383022576487013E-4,1.4867195147341922E-6,6.0758828498232861E-9,4.4318484119380075E-3,5.3990966513188063E-2,0.24197072451914337,0.3989422804014327,0.24197072451914337,5.3990966513188063E-2,4.4318484119380075E-3,1.3383022576488537E-4,1.4867195147342979E-6,6.0758828498232861E-9]
[6,71,108,203,400,null,null,null,null,null,null,null,null,null,null,null,null,"Max",{"$f":"B41","v":74},null,"歪度",{"$f":"SKEW(B3:B32)","v":-2.0998257649283159},null,null,null,null,null,null,null,3.5259568236744546E-4,9.0935625015912316E-3,8.6277318826512059E-2,0.30113743215480443,0.38666811680284857,0.18264908538902111,3.1739651835667418E-2,2.0290480572997208E-3,4.7718636541204274E-5,4.1284709886299984E-7,2.2394530294842899E-2,0.14972746563574726,0.36827014030332417,0.33322460289179967,0.11092083467945357,1.3582969233685425E-2,6.1190193011377309E-4,1.014085206548622E-5,6.1826205001656376E-8,1.3866799941653172E-10,1.5983741106905478E-5,8.72682695045847E-4,1.7528300493569165E-2,0.12951759566589174,0.35206532676430452,0.35206532676429703,0.12951759566589174,1.7528300493567295E-2,8.7268269504571668E-4,1.5983741106905478E-5,5.3990966513188063E-2,0.24197072451914337,0.3989422804014327,0.24197072451914337,5.3990966513188063E-2,4.4318484119380075E-3,1.3383022576488537E-4,1.4867195147342979E-6,6.0758828498232861E-9,9.1347204083645953E-12]
[7,71,107,203,398,null,null,null,null,null,null,null,null,null,null,null,null,"Min",{"$f":"B42","v":66},null,"尖度",{"$f":"KURT(B3:B32)","v":8.1159400040518683},"ｔ分布百分率",null,"ｔ分布",null,"ｔ分布百分率",null,"ｔ分布",3.5259568236744546E-4,9.0935625015912316E-3,8.6277318826512059E-2,0.30113743215480443,0.38666811680284857,0.18264908538902111,3.1739651835667418E-2,2.0290480572997208E-3,4.7718636541204274E-5,4.1284709886299984E-7,0.19418605498321298,0.39104269397545682,0.28969155276148145,7.8950158300894191E-2,7.9154515829797118E-3,2.9194692579145404E-4,3.9612990910320753E-6,1.9773196406243408E-8,3.6309615017916589E-11,2.4528552856964324E-14,1.5983741106905478E-5,8.72682695045847E-4,1.7528300493569165E-2,0.12951759566589174,0.35206532676430452,0.35206532676429703,0.12951759566589174,1.7528300493567295E-2,8.7268269504571668E-4,1.5983741106905478E-5,0.3989422804014327,0.24197072451914337,5.3990966513188063E-2,4.4318484119380075E-3,1.3383022576488537E-4,1.4867195147342979E-6,6.0758828498232861E-9,9.1347204083645953E-12,5.0522710835368927E-15,1.0279773571668917E-18]
[8,72,107,201,399,null,null,null,null,null,null,null,null,null,null,null,null,"級間隔",{"$f":"(S8-S9)/$L$2","v":1.3333333333333333},null,null,null,null,{"$f":"(($S$9-$S$10)-(($S$9+$S$8)/2))/$B$34","v":-3.7975168756879021},{"$f":"TDIST(ABS(X10),$B$36,1)","v":3.320106218458593E-4},null,null,{"$f":"(($S$9-$S$10)-(($S$9+$S$8)/2))/$B$34","v":-3.7975168756879021},{"$f":"TDIST(ABS(AB10),$B$36,1)","v":3.320106218458593E-4},1.5983741106905478E-5,8.7268269504578195E-4,1.7528300493568696E-2,0.12951759566589174,0.3520653267643008,0.35206532676429886,0.12951759566589174,1.7528300493568228E-2,8.726826950457492E-4,1.5983741106905478E-5,0.19418605498321298,0.39104269397545682,0.28969155276148145,7.8950158300894191E-2,7.9154515829797118E-3,2.9194692579145404E-4,3.9612990910320753E-6,1.9773196406243408E-8,3.6309615017916589E-11,2.4528552856964324E-14,0.12951759566589174,0.35206532676430452,0.35206532676429703,0.12951759566589174,1.7528300493567295E-2,8.7268269504571668E-4,1.5983741106905478E-5,1.0769760042541593E-7,2.6695566147626058E-10,2.4343205330290101E-13,0.24197072451914337,0.3989422804014327,0.24197072451914337,5.3990966513188063E-2,4.4318484119380075E-3,1.3383022576488537E-4,1.4867195147342979E-6,6.0758828498232861E-9,9.1347204083645953E-12,5.0522710835368927E-15]
[9,71,106,202,400,null,null,null,null,null,null,null,null,null,null,null,null,"ＮＯ．","階級値","累積度数","度数","ﾃﾞｰﾀ百分率",null,{"$f":"($S$9-(($S$9+$S$8)/2))/$B$34","v":-2.8481376567659291},{"$f":"TDIST(ABS(X11),$B$36,1)","v":3.9332915509317536E-3},null,null,{"$f":"($S$9-(($S$9+$S$8)/2))/$B$34","v":-2.8481376567659291},{"$f":"TDIST(ABS(AB11),$B$36,1)","v":3.9332915509317536E-3},3.5259568236744546E-4,9.0935625015912316E-3,8.6277318826512059E-2,0.30113743215480443,0.38666811680284857,0.18264908538902111,3.1739651835667418E-2,2.0290480572997208E-3,4.7718636541204274E-5,4.1284709886299984E-7,0.3989422804014327,0.24197072451914062,5.3990966513187431E-2,4.4318484119380075E-3,1.3383022576487919E-4,1.4867195147342583E-6,6.0758828498232861E-9,9.1347204083639135E-12,5.0522710835366774E-15,1.0279773571668917E-18,4.4318484119380075E-3,5.399096651319113E-2,0.24197072451914683,0.3989422804014327,0.24197072451913651,5.3990966513186522E-2,4.4318484119380075E-3,1.3383022576487013E-4,1.4867195147341922E-6,6.0758828498232861E-9,5.3990966513188063E-2,0.24197072451914337,0.3989422804014327,0.24197072451914337,5.3990966513188063E-2,4.4318484119380075E-3,1.3383022576488537E-4,1.4867195147342979E-6,6.0758828498232861E-9,9.1347204083645953E-12]
[10,70,108,202,401,null,null,null,null,null,null,null,null,null,null,null,null,1,{"$f":"$S$10*R12+$S$9-$S$10","v":66},{"$f":"FREQUENCY($B$3:$B$32,S12)","v":1},{"$f":"T12","v":1},{"$f":"U12/$T$21*100","v":3.3333333333333335},{"$f":"(Y12/$Y$22)*100","v":0.423046059753373},{"$f":"($S12-(($S$8+$S$9)/2))/$B$34","v":-2.8481376567659291},3.9332915509317536E-3,1,{"$f":"(AC12/$AC$31)*100","v":0.22367999788631285},{"$f":"($S12-(($S$8+$S$9)/2))/$B$34","v":-2.8481376567659291},{"$f":"TDIST(ABS(AB12),$B$36,1)","v":3.9332915509317536E-3},4.4318484119380075E-3,5.3990966513188826E-2,0.24197072451914423,0.3989422804014327,0.24197072451914164,5.3990966513187674E-2,4.4318484119380075E-3,1.3383022576488157E-4,1.4867195147342714E-6,6.0758828498232861E-9,2.2394530294842899E-2,0.14972746563574726,0.36827014030332417,0.33322460289179967,0.11092083467945357,1.3582969233685425E-2,6.1190193011377309E-4,1.014085206548622E-5,6.1826205001656376E-8,1.3866799941653172E-10,4.4318484119380075E-3,5.399096651319113E-2,0.24197072451914683,0.3989422804014327,0.24197072451913651,5.3990966513186522E-2,4.4318484119380075E-3,1.3383022576487013E-4,1.4867195147341922E-6,6.0758828498232861E-9,4.4318484119380075E-3,5.3990966513188063E-2,0.24197072451914337,0.3989422804014327,0.24197072451914337,5.3990966513188063E-2,4.4318484119380075E-3,1.3383022576488537E-4,1.4867195147342979E-6,6.0758828498232861E-9]
[11,72,108,203,402,null,null,null,null,null,null,null,null,null,null,null,null,2,{"$f":"$S$10*R13+$S$9-$S$10","v":67.333333333333343},{"$f":"FREQUENCY($B$3:$B$32,S13)","v":1},{"$f":"T13-T12","v":0},0,{"$f":"(Y13/$Y$22)*100","v":3.6166477865587709},-1.8987584378439459,3.3625960704753315E-2,1.5,{"$f":"(AC13/$AC$31)*100","v":0.68884710746371824},{"$f":"((S12+$S13)/2-(($S$8+$S$9)/2))/$B$34","v":-2.3734480473049375},{"$f":"TDIST(ABS(AB13),$B$36,1)","v":1.2113003099400572E-2},1.5983741106905478E-5,8.7268269504578195E-4,1.7528300493568696E-2,0.12951759566589174,0.3520653267643008,0.35206532676429886,0.12951759566589174,1.7528300493568228E-2,8.726826950457492E-4,1.5983741106905478E-5,2.2394530294842899E-2,0.14972746563574726,0.36827014030332417,0.33322460289179967,0.11092083467945357,1.3582969233685425E-2,6.1190193011377309E-4,1.014085206548622E-5,6.1826205001656376E-8,1.3866799941653172E-10,{"$f":"EXP(-((($D13-AX$2)/$S$44)^2/2))/SQRT(2*PI())","v":1.5983741106905478E-5},8.72682695045847E-4,1.7528300493569165E-2,0.12951759566589174,0.35206532676430452,0.35206532676429703,0.12951759566589174,1.7528300493567295E-2,8.7268269504571668E-4,1.5983741106905478E-5,{"$f":"EXP(-((($E13-BH$2)/$S$59)^2/2))/SQRT(2*PI())","v":1.3383022576488537E-4},4.4318484119380075E-3,5.3990966513188063E-2,0.24197072451914337,0.3989422804014327,0.24197072451914337,5.3990966513188063E-2,4.4318484119380075E-3,1.3383022576488537E-4,1.4867195147342979E-6]
[12,71,107,203,400,null,null,null,null,null,null,null,null,null,null,null,null,3,68.666666666666671,1,{"$f":"T14-T13","v":0},0,18.822900336225846,-0.94937921892197297,0.17500684180741216,2,1.9122545893102458,{"$f":"($S13-(($S$8+$S$9)/2))/$B$34","v":-1.8987584378439459},{"$f":"TDIST(ABS(AB14),$B$36,1)","v":3.3625960704753315E-2},3.5259568236744546E-4,9.0935625015912316E-3,8.6277318826512059E-2,0.30113743215480443,0.38666811680284857,0.18264908538902111,3.1739651835667418E-2,2.0290480572997208E-3,4.7718636541204274E-5,4.1284709886299984E-7,0.19418605498321298,0.39104269397545682,0.28969155276148145,7.8950158300894191E-2,7.9154515829797118E-3,2.9194692579145404E-4,3.9612990910320753E-6,1.9773196406243408E-8,3.6309615017916589E-11,2.4528552856964324E-14,1.5983741106905478E-5,8.72682695045847E-4,1.7528300493569165E-2,0.12951759566589174,0.35206532676430452,0.35206532676429703,0.12951759566589174,1.7528300493567295E-2,8.7268269504571668E-4,1.5983741106905478E-5,5.3990966513188063E-2,0.24197072451914337,0.3989422804014327,0.24197072451914337,5.3990966513188063E-2,4.4318484119380075E-3,1.3383022576488537E-4,1.4867195147342979E-6,6.0758828498232861E-9,9.1347204083645953E-12]
[13,72,107,201,401,null,null,null,null,null,null,null,null,null,null,null,null,4,70,3,2,6.666666666666667,53.777612754533543,0,0.5,2.5,4.6844107031589877,{"$f":"((S13+$S14)/2-(($S$8+$S$9)/2))/$B$34","v":-1.4240688283829646},{"$f":"TDIST(ABS(AB15),$B$36,1)","v":8.2372823739001705E-2},1.5983741106905478E-5,8.7268269504578195E-4,1.7528300493568696E-2,0.12951759566589174,0.3520653267643008,0.35206532676429886,0.12951759566589174,1.7528300493568228E-2,8.726826950457492E-4,1.5983741106905478E-5,0.19418605498321298,0.39104269397545682,0.28969155276148145,7.8950158300894191E-2,7.9154515829797118E-3,2.9194692579145404E-4,3.9612990910320753E-6,1.9773196406243408E-8,3.6309615017916589E-11,2.4528552856964324E-14,0.12951759566589174,0.35206532676430452,0.35206532676429703,0.12951759566589174,1.7528300493567295E-2,8.7268269504571668E-4,1.5983741106905478E-5,1.0769760042541593E-7,2.6695566147626058E-10,2.4343205330290101E-13,4.4318484119380075E-3,5.3990966513188063E-2,0.24197072451914337,0.3989422804014327,0.24197072451914337,5.3990966513188063E-2,4.4318484119380075E-3,1.3383022576488537E-4,1.4867195147342979E-6,6.0758828498232861E-9]
[14,72,106,202,401,null,null,null,null,null,null,null,null,null,null,null,null,5,71.333333333333343,12,9,30,18.822900336225576,0.94937921892198307,0.17500684180740966,3,9.9523591116196553,{"$f":"($S14-(($S$8+$S$9)/2))/$B$34","v":-0.94937921892197297},0.17500684180741216,1.5983741106905478E-5,8.7268269504578195E-4,1.7528300493568696E-2,0.12951759566589174,0.3520653267643008,0.35206532676429886,0.12951759566589174,1.7528300493568228E-2,8.726826950457492E-4,1.5983741106905478E-5,0.3989422804014327,0.24197072451914062,5.3990966513187431E-2,4.4318484119380075E-3,1.3383022576487919E-4,1.4867195147342583E-6,6.0758828498232861E-9,9.1347204083639135E-12,5.0522710835366774E-15,1.0279773571668917E-18,4.4318484119380075E-3,5.399096651319113E-2,0.24197072451914683,0.3989422804014327,0.24197072451913651,5.3990966513186522E-2,4.4318484119380075E-3,1.3383022576487013E-4,1.4867195147341922E-6,6.0758828498232861E-9,4.4318484119380075E-3,5.3990966513188063E-2,0.24197072451914337,0.3989422804014327,0.24197072451914337,5.3990966513188063E-2,4.4318484119380075E-3,1.3383022576488537E-4,1.4867195147342979E-6,6.0758828498232861E-9]
[15,72,107,201,400,null,null,null,null,null,null,null,null,null,null,null,null,6,72.666666666666671,24,12,40,3.616647786558711,1.8987584378439561,3.362596070475276E-2,3.5,18.153691695635207,{"$f":"((S14+$S15)/2-(($S$8+$S$9)/2))/$B$34","v":-0.47468960946098143},0.31922283100589727,1.5983741106905478E-5,8.7268269504578195E-4,1.7528300493568696E-2,0.12951759566589174,0.3520653267643008,0.35206532676429886,0.12951759566589174,1.7528300493568228E-2,8.726826950457492E-4,1.5983741106905478E-5,0.19418605498321298,0.39104269397545682,0.28969155276148145,7.8950158300894191E-2,7.9154515829797118E-3,2.9194692579145404E-4,3.9612990910320753E-6,1.9773196406243408E-8,3.6309615017916589E-11,2.4528552856964324E-14,0.12951759566589174,0.35206532676430452,0.35206532676429703,0.12951759566589174,1.7528300493567295E-2,8.7268269504571668E-4,1.5983741106905478E-5,1.0769760042541593E-7,2.6695566147626058E-10,2.4343205330290101E-13,5.3990966513188063E-2,0.24197072451914337,0.3989422804014327,0.24197072451914337,5.3990966513188063E-2,4.4318484119380075E-3,1.3383022576488537E-4,1.4867195147342979E-6,6.0758828498232861E-9,9.1347204083645953E-12]
[16,72,108,202,402,null,null,null,null,null,null,null,null,null,null,null,null,7,74,30,6,20,0.423046059753373,2.8481376567659291,3.9332915509317536E-3,4,28.434200082793954,{"$f":"($S15-(($S$8+$S$9)/2))/$B$34","v":0},0.5,1.5983741106905478E-5,8.7268269504578195E-4,1.7528300493568696E-2,0.12951759566589174,0.3520653267643008,0.35206532676429886,0.12951759566589174,1.7528300493568228E-2,8.726826950457492E-4,1.5983741106905478E-5,2.2394530294842899E-2,0.14972746563574726,0.36827014030332417,0.33322460289179967,0.11092083467945357,1.3582969233685425E-2,6.1190193011377309E-4,1.014085206548622E-5,6.1826205001656376E-8,1.3866799941653172E-10,4.4318484119380075E-3,5.399096651319113E-2,0.24197072451914683,0.3989422804014327,0.24197072451913651,5.3990966513186522E-2,4.4318484119380075E-3,1.3383022576487013E-4,1.4867195147341922E-6,6.0758828498232861E-9,1.3383022576488537E-4,4.4318484119380075E-3,5.3990966513188063E-2,0.24197072451914337,0.3989422804014327,0.24197072451914337,5.3990966513188063E-2,4.4318484119380075E-3,1.3383022576488537E-4,1.4867195147342979E-6]
[17,73,108,200,398,null,null,null,null,null,null,null,null,null,null,null,null,8,75.333333333333343,30,0,0,3.5709477304035953E-2,3.7975168756879123,3.3201062184584965E-4,4.5,18.153691695635001,{"$f":"((S15+$S16)/2-(($S$8+$S$9)/2))/$B$34","v":0.47468960946099154},0.31922283100589366,4.1284709886299984E-7,4.7718636541206395E-5,2.0290480572997911E-3,3.1739651835667418E-2,0.18264908538902355,0.38666811680284957,0.30113743215480443,8.6277318826510449E-2,9.0935625015909644E-3,3.5259568236744546E-4,2.2394530294842899E-2,0.14972746563574726,0.36827014030332417,0.33322460289179967,0.11092083467945357,1.3582969233685425E-2,6.1190193011377309E-4,1.014085206548622E-5,6.1826205001656376E-8,1.3866799941653172E-10,0.3989422804014327,0.24197072451913651,5.3990966513186522E-2,4.4318484119380075E-3,1.3383022576487013E-4,1.4867195147341922E-6,6.0758828498232861E-9,9.1347204083627777E-12,5.0522710835363184E-15,1.0279773571668917E-18,0.3989422804014327,0.24197072451914337,5.3990966513188063E-2,4.4318484119380075E-3,1.3383022576488537E-4,1.4867195147342979E-6,6.0758828498232861E-9,9.1347204083645953E-12,5.0522710835368927E-15,1.0279773571668917E-18]
[18,72,108,203,400,null,null,null,null,null,null,null,null,null,null,null,null,9,76.666666666666671,30,0,0,2.5581461724139042E-3,4.7468960946098848,2.3784489877697745E-5,5,9.9523591116195114,{"$f":"($S16-(($S$8+$S$9)/2))/$B$34","v":0.94937921892198307},0.17500684180740966,1.5983741106905478E-5,8.7268269504578195E-4,1.7528300493568696E-2,0.12951759566589174,0.3520653267643008,0.35206532676429886,0.12951759566589174,1.7528300493568228E-2,8.726826950457492E-4,1.5983741106905478E-5,2.2394530294842899E-2,0.14972746563574726,0.36827014030332417,0.33322460289179967,0.11092083467945357,1.3582969233685425E-2,6.1190193011377309E-4,1.014085206548622E-5,6.1826205001656376E-8,1.3866799941653172E-10,1.5983741106905478E-5,8.72682695045847E-4,1.7528300493569165E-2,0.12951759566589174,0.35206532676430452,0.35206532676429703,0.12951759566589174,1.7528300493567295E-2,8.7268269504571668E-4,1.5983741106905478E-5,5.3990966513188063E-2,0.24197072451914337,0.3989422804014327,0.24197072451914337,5.3990966513188063E-2,4.4318484119380075E-3,1.3383022576488537E-4,1.4867195147342979E-6,6.0758828498232861E-9,9.1347204083645953E-12]
[19,73,108,203,400,null,null,null,null,null,null,null,null,null,null,null,null,10,78,30,0,0,1.7571985694637718E-4,5.6962753135318582,1.6337640139256992E-6,5.5,4.6844107031589877,{"$f":"((S16+$S17)/2-(($S$8+$S$9)/2))/$B$34","v":1.4240688283829646},8.2372823739001705E-2,4.1284709886299984E-7,4.7718636541206395E-5,2.0290480572997911E-3,3.1739651835667418E-2,0.18264908538902355,0.38666811680284957,0.30113743215480443,8.6277318826510449E-2,9.0935625015909644E-3,3.5259568236744546E-4,2.2394530294842899E-2,0.14972746563574726,0.36827014030332417,0.33322460289179967,0.11092083467945357,1.3582969233685425E-2,6.1190193011377309E-4,1.014085206548622E-5,6.1826205001656376E-8,1.3866799941653172E-10,1.5983741106905478E-5,8.72682695045847E-4,1.7528300493569165E-2,0.12951759566589174,0.35206532676430452,0.35206532676429703,0.12951759566589174,1.7528300493567295E-2,8.7268269504571668E-4,1.5983741106905478E-5,5.3990966513188063E-2,0.24197072451914337,0.3989422804014327,0.24197072451914337,5.3990966513188063E-2,4.4318484119380075E-3,1.3383022576488537E-4,1.4867195147342979E-6,6.0758828498232861E-9,9.1347204083645953E-12]
[20,72,107,202,401,null,null,null,null,null,null,null,null,null,null,null,null,"基準範囲上限ヒストグラム用データ",null,null,null,null,{"$f":"SUM(W12:W21)","v":99.541244462942586},null,{"$f":"SUM(Y10:Y21)","v":0.92975491917470654},6,1.9122545893102143,{"$f":"($S17-(($S$8+$S$9)/2))/$B$34","v":1.8987584378439561},3.362596070475276E-2,1.5983741106905478E-5,8.7268269504578195E-4,1.7528300493568696E-2,0.12951759566589174,0.3520653267643008,0.35206532676429886,0.12951759566589174,1.7528300493568228E-2,8.726826950457492E-4,1.5983741106905478E-5,0.19418605498321298,0.39104269397545682,0.28969155276148145,7.8950158300894191E-2,7.9154515829797118E-3,2.9194692579145404E-4,3.9612990910320753E-6,1.9773196406243408E-8,3.6309615017916589E-11,2.4528552856964324E-14,4.4318484119380075E-3,5.399096651319113E-2,0.24197072451914683,0.3989422804014327,0.24197072451913651,5.3990966513186522E-2,4.4318484119380075E-3,1.3383022576487013E-4,1.4867195147341922E-6,6.0758828498232861E-9,4.4318484119380075E-3,5.3990966513188063E-2,0.24197072451914337,0.3989422804014327,0.24197072451914337,5.3990966513188063E-2,4.4318484119380075E-3,1.3383022576488537E-4,1.4867195147342979E-6,6.0758828498232861E-9]
[21,71,108,202,402,null,null,null,null,null,null,null,null,null,null,null,null,"Max",{"$f":"C41","v":111},null,"歪度",{"$f":"SKEW(C3:C32)","v":0.92420087092256897},null,null,null,6.5,0.68884710746370326,{"$f":"((S17+$S18)/2-(($S$8+$S$9)/2))/$B$34","v":2.3734480473049477},1.2113003099400308E-2,3.5259568236744546E-4,9.0935625015912316E-3,8.6277318826512059E-2,0.30113743215480443,0.38666811680284857,0.18264908538902111,3.1739651835667418E-2,2.0290480572997208E-3,4.7718636541204274E-5,4.1284709886299984E-7,2.2394530294842899E-2,0.14972746563574726,0.36827014030332417,0.33322460289179967,0.11092083467945357,1.3582969233685425E-2,6.1190193011377309E-4,1.014085206548622E-5,6.1826205001656376E-8,1.3866799941653172E-10,{"$f":"EXP(-((($D23-AX$2)/$S$44)^2/2))/SQRT(2*PI())","v":4.4318484119380075E-3},5.399096651319113E-2,0.24197072451914683,0.3989422804014327,0.24197072451913651,5.3990966513186522E-2,4.4318484119380075E-3,1.3383022576487013E-4,1.4867195147341922E-6,6.0758828498232861E-9,{"$f":"EXP(-((($E23-BH$2)/$S$59)^2/2))/SQRT(2*PI())","v":1.3383022576488537E-4},4.4318484119380075E-3,5.3990966513188063E-2,0.24197072451914337,0.3989422804014327,0.24197072451914337,5.3990966513188063E-2,4.4318484119380075E-3,1.3383022576488537E-4,1.4867195147342979E-6]
[22,73,108,204,402,null,null,null,null,null,null,null,null,null,null,null,null,"Min",{"$f":"C42","v":106},null,"尖度",{"$f":"KURT(C3:C32)","v":2.0102016161507996},null,null,null,7,0.22367999788631285,{"$f":"($S18-(($S$8+$S$9)/2))/$B$34","v":2.8481376567659291},3.9332915509317536E-3,4.1284709886299984E-7,4.7718636541206395E-5,2.0290480572997911E-3,3.1739651835667418E-2,0.18264908538902355,0.38666811680284957,0.30113743215480443,8.6277318826510449E-2,9.0935625015909644E-3,3.5259568236744546E-4,2.2394530294842899E-2,0.14972746563574726,0.36827014030332417,0.33322460289179967,0.11092083467945357,1.3582969233685425E-2,6.1190193011377309E-4,1.014085206548622E-5,6.1826205001656376E-8,1.3866799941653172E-10,6.0758828498232861E-9,1.4867195147345092E-6,1.3383022576489296E-4,4.4318484119380075E-3,5.399096651319113E-2,0.24197072451914683,0.3989422804014327,0.24197072451913651,5.3990966513186522E-2,4.4318484119380075E-3,1.3383022576488537E-4,4.4318484119380075E-3,5.3990966513188063E-2,0.24197072451914337,0.3989422804014327,0.24197072451914337,5.3990966513188063E-2,4.4318484119380075E-3,1.3383022576488537E-4,1.4867195147342979E-6]
[23,72,109,201,403,null,null,null,null,null,null,null,null,null,null,null,null,"級間隔",{"$f":"(S23-S24)/$L$2","v":0.83333333333333337},null,null,null,null,null,null,7.5,6.6958328618254764E-2,{"$f":"((S18+$S19)/2-(($S$8+$S$9)/2))/$B$34","v":3.3228272662269207},1.1774259241210808E-3,1.5983741106905478E-5,8.7268269504578195E-4,1.7528300493568696E-2,0.12951759566589174,0.3520653267643008,0.35206532676429886,0.12951759566589174,1.7528300493568228E-2,8.726826950457492E-4,1.5983741106905478E-5,6.1190193011377309E-4,1.3582969233686024E-2,0.11092083467945657,0.33322460289179967,0.36827014030332167,0.14972746563574366,2.2394530294842899E-2,1.2322191684729729E-3,2.4942471290052956E-5,1.8573618445552997E-7,0.12951759566589174,0.35206532676430452,0.35206532676429703,0.12951759566589174,1.7528300493567295E-2,8.7268269504571668E-4,1.5983741106905478E-5,1.0769760042541593E-7,2.6695566147626058E-10,2.4343205330290101E-13,1.4867195147342979E-6,1.3383022576488537E-4,4.4318484119380075E-3,5.3990966513188063E-2,0.24197072451914337,0.3989422804014327,0.24197072451914337,5.3990966513188063E-2,4.4318484119380075E-3,1.3383022576488537E-4]
[24,72,109,202,399,null,null,null,null,null,null,null,null,null,null,null,null,"ＮＯ．","階級値","累積度数","度数","ﾃﾞｰﾀ百分率",null,null,null,8,1.8880912902355461E-2,{"$f":"($S19-(($S$8+$S$9)/2))/$B$34","v":3.7975168756879123},3.3201062184584965E-4,1.5983741106905478E-5,8.7268269504578195E-4,1.7528300493568696E-2,0.12951759566589174,0.3520653267643008,0.35206532676429886,0.12951759566589174,1.7528300493568228E-2,8.726826950457492E-4,1.5983741106905478E-5,6.1190193011377309E-4,1.3582969233686024E-2,0.11092083467945657,0.33322460289179967,0.36827014030332167,0.14972746563574366,2.2394530294842899E-2,1.2322191684729729E-3,2.4942471290052956E-5,1.8573618445552997E-7,4.4318484119380075E-3,5.399096651319113E-2,0.24197072451914683,0.3989422804014327,0.24197072451913651,5.3990966513186522E-2,4.4318484119380075E-3,1.3383022576487013E-4,1.4867195147341922E-6,6.0758828498232861E-9,0.24197072451914337,0.3989422804014327,0.24197072451914337,5.3990966513188063E-2,4.4318484119380075E-3,1.3383022576488537E-4,1.4867195147342979E-6,6.0758828498232861E-9,9.1347204083645953E-12,5.0522710835368927E-15]
[25,73,108,200,403,null,null,null,null,null,null,null,null,null,null,null,null,1,{"$f":"$S$25*R27+$S$24-$S$25","v":106},{"$f":"FREQUENCY($C$3:$C$32,S27)","v":2},{"$f":"T27","v":2},{"$f":"U27/$T$36*100","v":6.666666666666667},null,null,null,8.5,5.1135844164516848E-3,{"$f":"((S19+$S20)/2-(($S$8+$S$9)/2))/$B$34","v":4.2722064851488932},8.9919610918578411E-5,4.1284709886299984E-7,4.7718636541206395E-5,2.0290480572997911E-3,3.1739651835667418E-2,0.18264908538902355,0.38666811680284957,0.30113743215480443,8.6277318826510449E-2,9.0935625015909644E-3,3.5259568236744546E-4,2.2394530294842899E-2,0.14972746563574726,0.36827014030332417,0.33322460289179967,0.11092083467945357,1.3582969233685425E-2,6.1190193011377309E-4,1.014085206548622E-5,6.1826205001656376E-8,1.3866799941653172E-10,0.3989422804014327,0.24197072451913651,5.3990966513186522E-2,4.4318484119380075E-3,1.3383022576487013E-4,1.4867195147341922E-6,6.0758828498232861E-9,9.1347204083627777E-12,5.0522710835363184E-15,1.0279773571668917E-18,1.4867195147342979E-6,1.3383022576488537E-4,4.4318484119380075E-3,5.3990966513188063E-2,0.24197072451914337,0.3989422804014327,0.24197072451914337,5.3990966513188063E-2,4.4318484119380075E-3,1.3383022576488537E-4]
[26,71,108,203,400,null,null,null,null,null,null,null,null,null,null,null,null,2,{"$f":"$S$25*R28+$S$24-$S$25","v":106.83333333333334},{"$f":"FREQUENCY($C$3:$C$32,S28)","v":2},{"$f":"T28-T27","v":0},0,null,null,null,9,1.3525858880992902E-3,{"$f":"($S20-(($S$8+$S$9)/2))/$B$34","v":4.7468960946098848},2.3784489877697745E-5,3.5259568236744546E-4,9.0935625015912316E-3,8.6277318826512059E-2,0.30113743215480443,0.38666811680284857,0.18264908538902111,3.1739651835667418E-2,2.0290480572997208E-3,4.7718636541204274E-5,4.1284709886299984E-7,2.2394530294842899E-2,0.14972746563574726,0.36827014030332417,0.33322460289179967,0.11092083467945357,1.3582969233685425E-2,6.1190193011377309E-4,1.014085206548622E-5,6.1826205001656376E-8,1.3866799941653172E-10,1.5983741106905478E-5,8.72682695045847E-4,1.7528300493569165E-2,0.12951759566589174,0.35206532676430452,0.35206532676429703,0.12951759566589174,1.7528300493567295E-2,8.7268269504571668E-4,1.5983741106905478E-5,5.3990966513188063E-2,0.24197072451914337,0.3989422804014327,0.24197072451914337,5.3990966513188063E-2,4.4318484119380075E-3,1.3383022576488537E-4,1.4867195147342979E-6,6.0758828498232861E-9,9.1347204083645953E-12]
[27,73,108,203,400,null,null,null,null,null,null,null,null,null,null,null,null,3,107.66666666666667,11,{"$f":"T29-T28","v":9},30,null,null,null,9.5,3.5427489863071326E-4,{"$f":"((S20+$S21)/2-(($S$8+$S$9)/2))/$B$34","v":5.2215857040708764},6.2297321113156866E-6,4.1284709886299984E-7,4.7718636541206395E-5,2.0290480572997911E-3,3.1739651835667418E-2,0.18264908538902355,0.38666811680284957,0.30113743215480443,8.6277318826510449E-2,9.0935625015909644E-3,3.5259568236744546E-4,2.2394530294842899E-2,0.14972746563574726,{"$f":"EXP(-((($C29-AP$2)/$S$25)^2/2))/SQRT(2*PI())","v":0.36827014030332417},0.33322460289179967,0.11092083467945357,1.3582969233685425E-2,6.1190193011377309E-4,1.014085206548622E-5,6.1826205001656376E-8,1.3866799941653172E-10,1.5983741106905478E-5,8.72682695045847E-4,1.7528300493569165E-2,0.12951759566589174,0.35206532676430452,0.35206532676429703,0.12951759566589174,1.7528300493567295E-2,8.7268269504571668E-4,1.5983741106905478E-5,5.3990966513188063E-2,0.24197072451914337,0.3989422804014327,0.24197072451914337,5.3990966513188063E-2,4.4318484119380075E-3,1.3383022576488537E-4,1.4867195147342979E-6,6.0758828498232861E-9,9.1347204083645953E-12]
[28,71,107,202,399,null,null,null,null,null,null,null,null,null,null,null,null,4,108.5,25,14,46.666666666666664,null,null,null,10,9.2909545720063798E-5,{"$f":"($S21-(($S$8+$S$9)/2))/$B$34","v":5.6962753135318582},1.6337640139256992E-6,3.5259568236744546E-4,9.0935625015912316E-3,8.6277318826512059E-2,0.30113743215480443,0.38666811680284857,0.18264908538902111,3.1739651835667418E-2,2.0290480572997208E-3,4.7718636541204274E-5,4.1284709886299984E-7,0.19418605498321298,0.39104269397545682,0.28969155276148145,7.8950158300894191E-2,7.9154515829797118E-3,2.9194692579145404E-4,3.9612990910320753E-6,1.9773196406243408E-8,3.6309615017916589E-11,2.4528552856964324E-14,4.4318484119380075E-3,5.399096651319113E-2,0.24197072451914683,0.3989422804014327,0.24197072451913651,5.3990966513186522E-2,4.4318484119380075E-3,1.3383022576487013E-4,1.4867195147341922E-6,6.0758828498232861E-9,0.24197072451914337,0.3989422804014327,0.24197072451914337,5.3990966513188063E-2,4.4318484119380075E-3,1.3383022576488537E-4,1.4867195147342979E-6,6.0758828498232861E-9,9.1347204083645953E-12,5.0522710835368927E-15]
[29,72,107,202,401,null,null,null,null,null,null,null,null,null,null,null,null,5,109.33333333333334,28,3,10,null,null,null,null,null,null,{"$f":"SUM(AC10:AC30)","v":1.7584458101304528},1.5983741106905478E-5,8.7268269504578195E-4,1.7528300493568696E-2,0.12951759566589174,0.3520653267643008,0.35206532676429886,0.12951759566589174,1.7528300493568228E-2,8.726826950457492E-4,1.5983741106905478E-5,0.19418605498321298,0.39104269397545682,0.28969155276148145,7.8950158300894191E-2,7.9154515829797118E-3,2.9194692579145404E-4,3.9612990910320753E-6,1.9773196406243408E-8,3.6309615017916589E-11,2.4528552856964324E-14,4.4318484119380075E-3,5.399096651319113E-2,0.24197072451914683,0.3989422804014327,0.24197072451913651,5.3990966513186522E-2,4.4318484119380075E-3,1.3383022576487013E-4,1.4867195147341922E-6,6.0758828498232861E-9,4.4318484119380075E-3,5.3990966513188063E-2,0.24197072451914337,0.3989422804014327,0.24197072451914337,5.3990966513188063E-2,4.4318484119380075E-3,1.3383022576488537E-4,1.4867195147342979E-6,6.0758828498232861E-9]
[30,66,108,203,402,null,null,null,null,null,null,null,null,null,null,null,null,6,110.16666666666667,29,1,3.3333333333333335,null,null,null,null,null,null,null,0.3989422804014327,0.24197072451914164,5.3990966513187674E-2,4.4318484119380075E-3,1.3383022576488157E-4,1.4867195147342714E-6,6.0758828498232861E-9,9.1347204083641397E-12,5.0522710835367492E-15,1.0279773571668917E-18,2.2394530294842899E-2,0.14972746563574726,0.36827014030332417,0.33322460289179967,0.11092083467945357,1.3582969233685425E-2,6.1190193011377309E-4,1.014085206548622E-5,6.1826205001656376E-8,1.3866799941653172E-10,1.5983741106905478E-5,8.72682695045847E-4,1.7528300493569165E-2,0.12951759566589174,0.35206532676430452,0.35206532676429703,0.12951759566589174,1.7528300493567295E-2,8.7268269504571668E-4,1.5983741106905478E-5,1.3383022576488537E-4,4.4318484119380075E-3,5.3990966513188063E-2,0.24197072451914337,0.3989422804014327,0.24197072451914337,5.3990966513188063E-2,4.4318484119380075E-3,1.3383022576488537E-4,1.4867195147342979E-6]
["平　均",{"$f":"IF(B36<>\"\",AVERAGE(B3:B32),\"\")","v":71.599999999999994},{"$f":"IF(C36<>\"\",AVERAGE(C3:C32),\"\")","v":107.83333333333333},202.26666666666668,400.83333333333331,"","","","",null,null,null,null,null,null,null,null,7,111,30,1,3.3333333333333335,null,null,null,null,null,null,null,{"$f":"SUM(AD3:AD32)/($S$10*$B$36)*100","v":1.0279330339281894},{"$f":"SUM(AE3:AE32)/($S$10*$B$36)*100","v":1.1062674807565265},3.8376174035629305,13.074736385472544,22.890271612799001,20.379801044880143,9.3834028964673042,2.255565043877187,0.27590853132399207,1.5975898731783931E-2,{"$f":"SUM(AN3:AN32)/($S$25*$C$36)*100","v":11.443688611779594},{"$f":"SUM(AO3:AO32)/($S$25*$C$36)*100","v":24.562210220256876},32.847198631893448,25.8704615096214,12.291565401581352,5.0999515217783191,2.6756568685374083,1.125136499106975,0.22580299208875632,{"$f":"SUM(AW3:AW32)/($S$25*$C$36)*100","v":1.796540251928266E-2},{"$f":"SUM(AX3:AX32)/($S$44*$D$36)*100","v":6.8023262231543065},12.21293793503491,20.732788758246944,30.397158641581733,34.114269809075992,26.260643697804674,11.982390700145702,3.4780989401370013,0.59234496814950854,4.527781238480557E-2,{"$f":"SUM(BH3:BH32)/($S$59*$E$36)*100","v":6.625182843127944},13.404883066188289,20.188675319899936,21.724758167976603,17.709476106353563,11.014726432808155,4.9363276867932866,1.438278127042419,0.22699982924890547,1.6141006701979814E-2]
["Ｓ　Ｄ",{"$f":"IF(B36<>\"\",STDEV(B3:B32),\"\")","v":1.4044264997156124},{"$f":"IF(C36<>\"\",STDEV(C3:C32),\"\")","v":1.0531834608931387},1.0148325268098499,1.4874957741657355,"","","","",null,null,null,null,null,null,null,null,8,111.83333333333334,30,0,0,null,null,null,null,null,null,null,{"$f":"SUM(AD33:AM33)","v":74.247479331799596},null,null,null,null,null,null,null,null,null,{"$f":"SUM(AN33:AW33)","v":116.15963765916341},null,null,null,null,null,null,null,null,null,{"$f":"SUM(AX33:BG33)","v":146.61823748571558},null,null,null,null,null,null,null,null,null,{"$f":"SUM(BH33:BQ33)","v":97.285448586141101}]
["ＣＶ（％）",{"$f":"IF(B36<>\"\",B34/B33*100,\"\")","v":1.9614895247424755},{"$f":"IF(C36<>\"\",C34/C33*100,\"\")","v":0.97667708892717664},0.50172999018285258,0.37110081683968454,"","","","",null,null,null,null,null,null,null,null,9,112.66666666666667,30,0,0,null,null,null,null,null,null,null,{"$f":"AD33/$AD$34*100","v":1.384468595000415},{"$f":"AE33/$AD$34*100","v":1.4899731151987015},5.1686837561356915,17.60967039304288,30.829695255385296,27.448475326423154,12.638008698631293,3.0379011707554993,0.37160659702803228,2.1517092399043349E-2,{"$f":"AN33/$AN$34*100","v":9.8516910369140103},{"$f":"AO33/$AN$34*100","v":21.145219385349257},28.27763523873411,22.271472286725555,10.581614792607539,4.3904678290600732,2.3034307978717559,0.96861226651580989,0.19439023454197521,1.5466131679918714E-2,{"$f":"AX33/$AX$34*100","v":4.6394816496256333},{"$f":"AY33/$AX$34*100","v":8.3297536135126204},14.140661566926049,20.732181182128318,23.267412290643318,17.910898499487928,8.1725103954500184,2.3722143982776074,0.40400497121459278,3.0881432733916751E-2,{"$f":"BH33/$BH$34*100","v":6.8100450164051987},{"$f":"BI33/$BH$34*100","v":13.778918904114398},20.751999002218646,22.330943099615236,18.203622806624324,11.322069839720376,5.0740658120339868,1.4784103357131566,0.2333337950823233,1.6591388472334389E-2]
["データ数",{"$f":"IF(COUNTA(B3:B32)<>0,COUNTA(B3:B32),\"\")","v":30},{"$f":"IF(COUNTA(C3:C32)<>0,COUNTA(C3:C32),\"\")","v":30},30,30,"","","","",null,null,null,null,null,null,null,null,10,113.5,30,0,0]
["t0.05(n-1)",{"$f":"IF(B36<>\"\",TINV(0.05,B36-1),\"\")","v":2.0452296421327048},{"$f":"IF(C36<>\"\",TINV(0.05,C36-1),\"\")","v":2.0452296421327048},2.0452296421327048,2.0452296421327048,"","","",""]
["Ｓ　Ｅ",{"$f":"IF(B36<>\"\",B37*B34/B36^0.5,\"\")","v":0.52442147361950797},{"$f":"IF(C36<>\"\",C37*C34/C36^0.5,\"\")","v":0.39326516742963269},0.37894469329252722,0.55544005047522682,"","","",""]
["平均値の信頼区間下限",{"$f":"IF(B36<>\"\",B33-B37*B34/B36^0.5,\"\")","v":71.075578526380482},{"$f":"IF(C36<>\"\",C33-C37*C34/C36^0.5,\"\")","v":107.4400681659037},201.88772197337414,400.27789328285809,"","","",""]
["平均値の信頼区間上限",{"$f":"IF(B36<>\"\",B33+B37*B34/B36^0.5,\"\")","v":72.124421473619506},{"$f":"IF(C36<>\"\",C33+C37*C34/C36^0.5,\"\")","v":108.22659850076296},202.64561135995922,401.38877338380854,"","","",""]
["最大値",{"$f":"IF(B36<>\"\",MAX(B3:B32),\"\")","v":74},{"$f":"IF(C36<>\"\",MAX(C3:C32),\"\")","v":111},204,404,"","","","",null,null,null,null,null,null,null,null,"異常濃度１ヒストグラム用データ"]
["最小値",{"$f":"IF(B36<>\"\",MIN(B3:B32),\"\")","v":66},{"$f":"IF(C36<>\"\",MIN(C3:C32),\"\")","v":106},200,398,"","","","",null,null,null,null,null,null,null,null,"Max",{"$f":"D41","v":204},null,"歪度",{"$f":"SKEW(D3:D32)","v":-0.58192973607801257}]
["不偏分散",{"$f":"IF(B36<>\"\",VAR(B3:B32),\"\")","v":1.9724137931034473},{"$f":"IF(C36<>\"\",VAR(C3:C32),\"\")","v":1.1091954022988497},1.0298850574712646,2.2126436781609207,"","","","",null,null,null,null,null,null,null,null,"Min",{"$f":"D42","v":200},null,"尖度",{"$f":"KURT(D3:D32)","v":4.8714240160382616E-2}]
["母分散の推定値下限",{"$f":"IF(B36<>\"\",ROUNDDOWN((B36-1)*B43/CHIINV(0.025,(B36-1)),2),\"\")","v":1.25},{"$f":"IF(C36<>\"\",ROUNDDOWN((C36-1)*C43/CHIINV(0.025,(C36-1)),2),\"\")","v":0.7},0.65,1.4,"","","","",null,null,null,null,null,null,null,null,"級間隔",{"$f":"(S42-S43)/$L$2","v":0.66666666666666663}]
["母分散の推定値上限",{"$f":"IF(B36<>\"\",ROUNDUP((B36-1)*B43/CHIINV(0.975,(B36-1)),2),\"\")","v":3.57},{"$f":"IF(C36<>\"\",ROUNDUP((C36-1)*C43/CHIINV(0.975,(C36-1)),2),\"\")","v":2.0099999999999998},1.87,4,"","","","",null,null,null,null,null,null,null,null,"ＮＯ．","階級値","累積度数","度数","ﾃﾞｰﾀ百分率"]
["母標準偏差の推定値下限",{"$f":"IF(B36<>\"\",B44^0.5,\"\")","v":1.1180339887498949},{"$f":"IF(C36<>\"\",C44^0.5,\"\")","v":0.83666002653407556},0.80622577482985502,1.1832159566199232,"","","","",null,null,null,null,null,null,null,null,1,{"$f":"$S$44*R46+$S$43-$S$44","v":200},{"$f":"FREQUENCY($D$3:$D$32,S46)","v":2},{"$f":"T46","v":2},{"$f":"U46/$T$55*100","v":6.666666666666667}]
["母標準偏差の推定値上限",{"$f":"IF(B36<>\"\",B45^0.5,\"\")","v":1.8894443627691184},{"$f":"IF(C36<>\"\",C45^0.5,\"\")","v":1.4177446878757824},1.3674794331177345,2,"","","","",null,null,null,null,null,null,null,null,2,200.66666666666669,{"$f":"FREQUENCY($D$3:$D$32,S47)","v":2},{"$f":"T47-T46","v":0},0]
[null,null,null,null,null,null,null,null,null,null,null,null,null,null,null,null,null,3,201.33333333333334,6,{"$f":"T48-T47","v":4},13.333333333333334]
[null,null,null,null,null,null,null,null,null,null,null,null,null,null,null,null,null,4,202,16,10,33.333333333333329]
[null,null,null,null,null,null,null,null,null,null,null,null,null,null,null,null,null,5,202.66666666666669,16,0,0]
[null,null,null,null,null,null,null,null,null,null,null,null,null,null,null,null,null,6,203.33333333333334,28,12,40]
[null,null,null,null,null,null,null,null,null,null,null,null,null,null,null,null,null,7,204,30,2,6.666666666666667]
[null,null,null,null,null,null,null,null,null,null,null,null,null,null,null,null,null,8,204.66666666666669,30,0,0]
[null,null,null,null,null,null,null,null,null,null,null,null,null,null,null,null,null,9,205.33333333333334,30,0,0]
[null,null,null,null,null,null,null,null,null,null,null,null,null,null,null,null,null,10,206,30,0,0]
[null,null,null,null,null,null,null,null,null,null,null,null,null,null,null,null,null,"異常濃度２ヒストグラム用データ"]
[null,null,null,null,null,null,null,null,null,null,null,null,null,null,null,null,null,"Max",{"$f":"E41","v":404},null,"歪度",{"$f":"SKEW(E3:E32)","v":3.6170415037220391E-2}]
[null,null,null,null,null,null,null,null,null,null,null,null,null,null,null,null,null,"Min",{"$f":"E42","v":398},null,"尖度",{"$f":"KURT(E3:E32)","v":-0.35300580680914795}]
[null,null,null,null,null,null,null,null,null,null,null,null,null,null,null,null,null,"級間隔",{"$f":"(S57-S58)/$L$2","v":1}]
[null,null,null,null,null,null,null,null,null,null,null,null,null,null,null,null,null,"ＮＯ．","階級値","累積度数","度数","ﾃﾞｰﾀ百分率"]
[null,null,null,null,null,null,null,null,null,null,null,null,null,null,null,null,null,1,{"$f":"$S$59*R61+$S$58-$S$59","v":398},{"$f":"FREQUENCY($E$3:$E$32,S61)","v":2},{"$f":"T61","v":2},{"$f":"U61/$T$70*100","v":6.666666666666667}]
[null,null,null,null,null,null,null,null,null,null,null,null,null,null,null,null,null,2,399,{"$f":"FREQUENCY($E$3:$E$32,S62)","v":5},{"$f":"T62-T61","v":3},10]
[null,null,null,null,null,null,null,null,null,null,null,null,null,null,null,null,null,3,400,13,{"$f":"T63-T62","v":8},26.666666666666668]
[null,null,null,null,null,null,null,null,null,null,null,null,null,null,null,null,null,4,401,20,7,23.333333333333332]
[null,null,null,null,null,null,null,null,null,null,null,null,null,null,null,null,null,5,402,26,6,20]
[null,null,null,null,null,null,null,null,null,null,null,null,null,null,null,null,null,6,403,29,3,10]
[null,null,null,null,null,null,null,null,null,null,null,null,null,null,null,null,null,7,404,30,1,3.3333333333333335]
[null,null,null,null,null,null,null,null,null,null,null,null,null,null,null,null,null,8,405,30,0,0]
[null,null,null,null,null,null,null,null,null,null,null,null,null,null,null,null,null,9,406,30,0,0]
[null,null,null,null,null,null,null,null,null,null,null,null,null,null,null,null,null,10,407,30,0,0]

{"sheet":"室内精度1","index":5,"n_rows":205,"n_cols":37,"rows_kept":205,"cut":false,"hidden":false,"merged":[[64,8,64,10],[65,8,65,10],[107,8,107,10],[102,8,102,10],[103,8,103,10],[106,8,106,10],[104,8,104,10],[105,8,105,10],[0,2,0,4],[0,6,0,7],[93,18,93,19],[0,17,0,19],[58,8,58,10],[53,8,53,10],[54,8,54,10],[55,8,55,10],[56,8,56,10],[57,8,57,10],[33,9,33,10],[8,8,8,9],[60,8,60,10],[61,8,61,10],[62,8,62,10],[63,8,63,10]]}
[null,"タイトル","AMY",null,null,"解　説","不確かさについて",null,null,null,null,null,null,null,null,null,null,"管理図用データ"]
["日","ＮＯ．１","ＮＯ．２","ＮＯ．３","ＮＯ．４","ＮＯ．５","平均","偏差平方",null,null,null,null,null,null,null,"２ＳＤ",null,"MAX","MIN","Ｒ",null,null,{"$f":"SUM(W3:W92)","v":256},{"$f":"SUM(X3:X92)","v":322.875},null,"Max",{"$f":"MAX(B3:F92)","v":261},null,"歪度",{"$f":"SKEW(B3:F92)","v":0.13782204299950918}]
[1,254,256,null,null,null,{"$f":"IF(ISERROR(AVERAGE(B3:F3)),\"\",AVERAGE(B3:F3))","v":255},{"$f":"IF(ISERROR(DEVSQ(B3:F3)),\"\",DEVSQ(B3:F3))","v":2},null,null,null,null,null,null,null,{"$f":"IF(COUNTA(B3:F3)<>0,STDEV(B3:F3)*2,\"\")","v":2.8284271247461903},null,{"$f":"IF(B3<>\"\",MAX(B3:F3),\"\")","v":256},{"$f":"IF(B3<>\"\",MIN(B3:F3),\"\")","v":254},{"$f":"IF(R3<>\"\",R3-S3,\"\")","v":2},null,null,{"$f":"COUNTA(B3:F3)^2","v":4},{"$f":"IF(G3<>\"\",W3^0.5*(G3-$B$95)^2,\"\")","v":0.861328125},null,"Min",{"$f":"MIN(B3:F92)","v":251},null,"尖度",{"$f":"KURT(B3:F92)","v":-0.44324744311626896},null,null,"Rs","Rs'"]
[2,252,255,null,null,null,253.5,{"$f":"IF(ISERROR(DEVSQ(B4:F4)),\"\",DEVSQ(B4:F4))","v":4.5},null,null,null,"ｸﾞﾙｰﾌﾟ間（日差）の精密度は純日差変動を表す",null,null,null,{"$f":"IF(COUNTA(B4:F4)<>0,STDEV(B4:F4)*2,\"\")","v":4.2426406871192848},null,255,252,3,null,null,{"$f":"COUNTA(B4:F4)^2","v":4},{"$f":"IF(G4<>\"\",W4^0.5*(G4-$B$95)^2,\"\")","v":9.298828125},null,"級間隔",{"$f":"(AA2-AA3)/10","v":1},null,null,null,null,null,"-",{"$f":"IF($R3<>\"\",ABS(B3-C3),\"\")","v":2},{"$f":"IF($R3<>\"\",ABS(C3-D3),\"\")","v":256},{"$f":"IF($R3<>\"\",ABS(D3-E3),\"\")","v":0},{"$f":"IF($R3<>\"\",ABS(E3-F3),\"\")","v":0}]
[3,258,256,null,null,null,257,2,"分散分析表",null,null,null,"↓",null,null,2.8284271247461903,null,258,256,2,null,null,4,3.611328125,null,"ＮＯ．","階級値","累積度数","度数","ﾃﾞｰﾀ百分率",null,null,{"$f":"IF(R4<>\"\",ABS(G3-G4),\"\")","v":1.5},3,255,0,0]
[4,256,253,null,null,null,254.5,4.5,"変動要因","変動","自由度","分散","精密度(SD)","変動係数(CV)",null,4.2426406871192848,null,256,253,3,null,null,4,2.673828125,null,1,{"$f":"$AA$3+($AA$4*(Z6-1))","v":251},{"$f":"FREQUENCY($B$3:$F$92,AA6)","v":1},{"$f":"AB6","v":1},{"$f":"AC6/$AB$16*100","v":0.78125},null,null,3.5,2,256,0,0]
[5,255,254,null,null,null,254.5,0.5,"ｸﾞﾙｰﾌﾟ間（日間）",{"$f":"X2","v":322.875},{"$f":"COUNT(G3:G92)-1","v":63},{"$f":"J7/K7","v":5.125},{"$f":"IF(L7-L8>0,((L7-L8)/K9)^0.5,0)","v":1.0155048005794951},{"$f":"M7/B95","v":3.9721493238655233E-3},null,1.4142135623730951,null,255,254,1,null,null,4,2.673828125,null,2,252,{"$f":"FREQUENCY($B$3:$F$92,AA7)","v":7},{"$f":"AB7-AB6","v":6},4.6875,null,null,2.5,3,253,0,0]
[6,254,257,null,null,null,255.5,4.5,"ｸﾞﾙｰﾌﾟ内（日内）",{"$f":"SUM(H3:H92)","v":196},{"$f":"K10-K7","v":64},{"$f":"J8/K8","v":3.0625},{"$f":"L8^0.5","v":1.75},{"$f":"M8/B95","v":6.8451289573401783E-3},null,4.2426406871192848,null,257,254,3,null,null,4,4.8828125E-2,null,3,253,19,{"$f":"AB8-AB7","v":12},9.375,null,null,0,1,254,0,0]
[7,254,259,null,null,null,256.5,12.5,"n0 = 1日あたりの平均的な反復測定数",null,{"$f":"(1/K7)*(K10+1-W2/(K10+1))","v":2},null,null,null,null,7.0710678118654755,null,259,254,5,null,null,4,1.423828125,null,4,254,38,19,14.84375,null,null,1,3,257,0,0]
[8,253,255,null,null,null,254,2,"合計(室内精密度）",{"$f":"DEVSQ(B3:F92)","v":518.875},{"$f":"COUNT(B3:F92)-1","v":127},null,{"$f":"IF(J13<0.05,(M7^2+M8^2)^0.5,(J10/K10)^0.5)","v":2.0233017570298308},{"$f":"M10/B95","v":7.9141493979898048E-3},null,2.8284271247461903,null,255,253,2,null,null,4,5.486328125,null,5,255,61,23,17.96875,null,null,1,5,259,0,0]
[9,251,256,null,null,null,253.5,12.5,null,null,null,null,"↑総合精密度","↑総変動係数",null,7.0710678118654755,null,256,251,5,null,null,4,9.298828125,null,6,256,87,26,20.3125,null,null,2.5,2,255,0,0]
[10,253,257,null,null,null,255,8,"観測された分散比","P-値","F 境界値",null,null,null,null,5.6568542494923806,null,257,253,4,null,null,4,0.861328125,null,7,257,104,17,13.28125,null,null,0.5,5,256,0,0]
[11,255,256,null,null,null,255.5,0.5,{"$f":"L7/L8","v":1.6734693877551021},{"$f":"FDIST(I13,K7,K8)","v":2.0958385712452739E-2},{"$f":"FINV(0.05,K7,K8)","v":1.5152122312004259},null,null,null,null,1.4142135623730951,null,256,255,1,null,null,4,4.8828125E-2,null,8,258,114,10,7.8125,null,null,1.5,4,257,0,0]
[12,258,257,null,null,null,257.5,0.5,null,"↓",null,null,null,null,null,1.4142135623730951,null,258,257,1,null,null,4,6.798828125,null,9,259,126,12,9.375,null,null,0.5,1,256,0,0]
[13,255,259,null,null,null,257,8,{"$f":"IF(J13<0.05,\"P-値　より　有意水準０．０５以下から日内精密度に対し有意な日間精密度が存在する！\",\"P-値　より　有意水準０．０５以下から日内精密度と日間精密度の差があるとはいえない！\")","v":"P-値　より　有意水準０．０５以下から日内精密度に対し有意な日間精密度が存在する！"},null,null,null,null,null,null,5.6568542494923806,null,259,255,4,null,null,4,3.611328125,null,10,260,127,1,0.78125,null,null,2,1,257,0,0]
[14,256,259,null,null,null,257.5,4.5,null,null,null,null,null,null,null,4.2426406871192848,null,259,256,3,null,null,4,6.798828125,null,11,261,128,1,0.78125,null,null,0.5,4,259,0,0]
[15,256,256,null,null,null,256,0,null,null,null,null,null,null,null,0,null,256,256,0,null,null,4,0.236328125,null,null,null,null,null,null,null,null,0.5,3,259,0,0]
[16,256,258,null,null,null,257,2,null,null,null,null,null,null,null,2.8284271247461903,null,258,256,2,null,null,4,3.611328125,null,null,null,null,null,null,null,null,1.5,0,256,0,0]
[17,257,254,null,null,null,255.5,4.5,null,null,null,null,null,null,null,4.2426406871192848,null,257,254,3,null,null,4,4.8828125E-2,null,null,null,null,null,null,null,null,1,2,258,0,0]
[18,255,258,null,null,null,256.5,4.5,null,null,null,null,null,null,null,4.2426406871192848,null,258,255,3,null,null,4,1.423828125,null,null,null,null,null,null,null,null,1.5,3,254,0,0]
[19,255,254,null,null,null,254.5,0.5,null,null,null,null,null,null,null,1.4142135623730951,null,255,254,1,null,null,4,2.673828125,null,null,null,null,null,null,null,null,1,3,258,0,0]
[20,255,259,null,null,null,257,8,null,null,null,null,null,null,null,5.6568542494923806,null,259,255,4,null,null,4,3.611328125,null,null,null,null,null,null,null,null,2,1,254,0,0]
[21,256,259,null,null,null,257.5,4.5,null,null,null,null,null,null,null,4.2426406871192848,null,259,256,3,null,null,4,6.798828125,null,null,null,null,null,null,null,null,2.5,4,259,0,0]
[22,256,259,null,null,null,257.5,4.5,null,null,null,null,null,null,null,4.2426406871192848,null,259,256,3,null,null,4,6.798828125,null,null,null,null,null,null,null,null,0.5,3,259,0,0]
[23,257,258,null,null,null,257.5,0.5,null,null,null,null,null,null,null,1.4142135623730951,null,258,257,1,null,null,4,6.798828125,null,null,null,null,null,null,null,null,0,3,259,0,0]
[24,256,260,null,null,null,258,8,null,null,null,null,null,null,null,5.6568542494923806,null,260,256,4,null,null,4,10.986328125,null,null,null,null,null,null,null,null,0,1,258,0,0]
[25,253,257,null,null,null,255,8,null,null,null,null,null,null,null,5.6568542494923806,null,257,253,4,null,null,4,0.861328125,null,null,null,null,null,null,null,null,0.5,4,260,0,0]
[26,254,257,null,null,null,255.5,4.5,null,null,null,null,null,null,null,4.2426406871192848,null,257,254,3,null,null,4,4.8828125E-2,null,null,null,null,null,null,null,null,3,4,257,0,0]
[27,252,255,null,null,null,253.5,4.5,null,null,null,null,null,null,null,4.2426406871192848,null,255,252,3,null,null,4,9.298828125,null,null,null,null,null,null,null,null,0.5,3,257,0,0]
[28,256,255,null,null,null,255.5,0.5,null,null,null,null,null,null,null,1.4142135623730951,null,{"$f":"IF(B30<>\"\",MAX(B30:F30),\"\")","v":256},{"$f":"IF(B30<>\"\",MIN(B30:F30),\"\")","v":255},{"$f":"IF(R30<>\"\",R30-S30,\"\")","v":1},null,null,4,4.8828125E-2,null,null,null,null,null,null,null,null,2,3,255,0,0]
[29,255,257,null,null,null,256,2,null,null,null,null,null,null,null,2.8284271247461903,null,257,255,2,null,null,4,0.236328125,null,null,null,null,null,null,null,null,2,1,255,0,0]
[30,257,257,null,null,null,257,0,null,"標準物質の表示値",null,255,"←使用した管理物質の表示値を入力",null,null,0,null,257,257,0,null,null,4,3.611328125,null,null,null,null,null,null,null,null,0.5,2,257,0,0]
[31,259,259,null,null,null,259,0,null,"標準物質の拡張不確かさ",null,8,"←使用した管理物質の拡張不確かさを入力",null,null,0,null,259,259,0,null,null,4,22.361328125,null,null,null,null,null,null,null,null,1,0,257,0,0]
[32,257,258,null,null,null,257.5,0.5,null,"包含係数 ",null,2,"←包含係数の入力（通常k = 2）",null,null,1.4142135623730951,null,258,257,1,null,null,4,6.798828125,null,null,null,null,null,null,null,null,2,0,259,0,0]
[33,256,253,null,null,null,254.5,4.5,null,"標準物質の拡張不確かさ（％）",null,{"$f":"(L33)/L32","v":3.1372549019607843E-2},null,null,null,4.2426406871192848,null,256,{"$f":"IF(B35<>\"\",MIN(B35:F35),\"\")","v":253},{"$f":"IF(R35<>\"\",R35-S35,\"\")","v":3},null,null,4,2.673828125,null,null,null,null,null,null,null,null,1.5,1,258,0,0]
[34,254,257,null,null,null,255.5,4.5,null,null,null,null,null,null,null,4.2426406871192848,null,257,{"$f":"IF(B36<>\"\",MIN(B36:F36),\"\")","v":254},{"$f":"IF(R36<>\"\",R36-S36,\"\")","v":3},null,null,4,4.8828125E-2,null,null,null,null,null,null,null,null,3,{"$f":"IF($R35<>\"\",ABS(B35-C35),\"\")","v":3},{"$f":"IF($R35<>\"\",ABS(C35-D35),\"\")","v":253},{"$f":"IF($R35<>\"\",ABS(D35-E35),\"\")","v":0},{"$f":"IF($R35<>\"\",ABS(E35-F35),\"\")","v":0}]
[35,259,258,null,null,null,258.5,0.5,null,"日常検査の平均値",null,{"$f":"B95","v":255.65625},null,null,null,1.4142135623730951,null,259,{"$f":"IF(B37<>\"\",MIN(B37:F37),\"\")","v":258},{"$f":"IF(R37<>\"\",R37-S37,\"\")","v":1},null,null,4,16.173828125,null,null,null,null,null,null,null,null,{"$f":"IF(R36<>\"\",ABS(G35-G36),\"\")","v":1},3,257,0,0]
[36,254,256,null,null,null,255,2,null,"日常検査の総変動（％）",null,{"$f":"N10","v":7.9141493979898048E-3},null,null,null,2.8284271247461903,null,256,{"$f":"IF(B38<>\"\",MIN(B38:F38),\"\")","v":254},{"$f":"IF(R38<>\"\",R38-S38,\"\")","v":2},null,null,4,0.861328125,null,null,null,null,null,null,null,null,3,1,258,0,0]
[37,253,252,null,null,null,252.5,0.5,null,"日常検査の拡張不確かさ",null,{"$f":"L37*L41","v":8.9835870141129277},null,null,null,1.4142135623730951,null,253,252,1,null,null,4,19.923828125,null,null,null,null,null,null,null,null,3.5,2,256,0,0]
[38,253,253,null,null,null,253,0,null,"日常検査の合成不確かさ（％）",null,{"$f":"(((L35/2)^2+L38^2)^0.5)","v":1.7569660460311311E-2},null,null,null,0,null,253,253,0,null,null,4,14.111328125,null,null,null,null,null,null,null,null,2.5,1,252,0,0]
[39,255,256,null,null,null,255.5,0.5,null,"日常検査の拡張不確かさ（％）",null,{"$f":"L40*L34","v":3.5139320920622621E-2},"←合成不確かさ×包含係数(2)",null,null,1.4142135623730951,null,256,255,1,null,null,4,4.8828125E-2,null,null,null,null,null,null,null,null,0.5,0,253,0,0]
[40,255,256,null,null,null,255.5,0.5,null,null,null,null,null,null,null,1.4142135623730951,null,256,255,1,null,null,4,4.8828125E-2,null,null,null,null,null,null,null,null,2.5,1,256,0,0]
[41,255,255,null,null,null,255,0,null,null,null,null,null,null,null,0,null,255,255,0,null,null,4,0.861328125,null,null,null,null,null,null,null,null,0,1,256,0,0]
[42,253,254,null,null,null,253.5,0.5,null,null,null,null,null,null,null,1.4142135623730951,null,254,253,1,null,null,4,9.298828125,null,null,null,null,null,null,null,null,0.5,0,255,0,0]
[43,257,258,null,null,null,257.5,0.5,null,null,null,null,null,null,null,1.4142135623730951,null,258,257,1,null,null,4,6.798828125,null,null,null,null,null,null,null,null,1.5,1,254,0,0]
[44,256,258,null,null,null,257,2,null,null,null,null,null,null,null,2.8284271247461903,null,258,256,2,null,null,4,3.611328125,null,null,null,null,null,null,null,null,4,1,258,0,0]
[45,259,259,null,null,null,259,0,null,null,null,null,null,null,null,0,null,259,259,0,null,null,4,22.361328125,null,null,null,null,null,null,null,null,0.5,2,258,0,0]
[46,254,255,null,null,null,254.5,0.5,null,null,null,null,null,null,null,1.4142135623730951,null,{"$f":"IF(B48<>\"\",MAX(B48:F48),\"\")","v":255},{"$f":"IF(B48<>\"\",MIN(B48:F48),\"\")","v":254},{"$f":"IF(R48<>\"\",R48-S48,\"\")","v":1},null,null,4,2.673828125,null,null,null,null,null,null,null,null,2,0,259,0,0]
[47,254,254,null,null,null,254,0,null,null,null,null,null,null,null,0,null,254,254,0,null,null,4,5.486328125,null,null,null,null,null,null,null,null,4.5,1,255,0,0]
[48,256,255,null,null,null,255.5,0.5,null,null,null,null,null,null,null,1.4142135623730951,null,256,255,1,null,null,4,4.8828125E-2,null,null,null,null,null,null,null,null,0.5,0,254,0,0]
[49,256,261,null,null,null,258.5,12.5,null,null,null,null,null,null,null,7.0710678118654755,null,261,256,5,null,null,4,16.173828125,null,null,null,null,null,null,null,null,1.5,1,255,0,0]
[50,256,258,null,null,null,257,2,"＿",null,null,null,null,null,null,2.8284271247461903,null,258,256,2,null,null,4,3.611328125,null,null,null,null,null,null,null,null,3,5,261,0,0]
[51,256,257,null,null,null,256.5,0.5,"ｘ - Ｒ管理図を作成するためのデータ",null,null,"3σ管理図",null,null,null,1.4142135623730951,null,257,256,1,null,null,4,1.423828125,null,null,null,null,null,null,null,null,1.5,2,258,0,0]
[52,259,256,null,null,null,257.5,4.5,"１日のデータ数",null,null,{"$f":"COUNT(B3:F3)","v":2},null,null,null,4.2426406871192848,null,259,256,3,null,null,4,6.798828125,null,null,null,null,null,null,null,null,0.5,1,257,0,0]
[53,255,254,null,null,null,254.5,0.5,"データの平均値",null,null,{"$f":"AVERAGE(B3:F92)","v":255.65625},null,null,null,1.4142135623730951,null,255,254,1,null,null,4,2.673828125,null,null,null,null,null,null,null,null,1,3,256,0,0]
[54,257,254,null,null,null,255.5,4.5,"平均値に対する上方管理限界（ＵＣＬ）",null,null,{"$f":"$L$55+(3*(1/(SQRT($L$54)*$S$96))*$T$93)","v":259.53499397924804},null,null,null,4.2426406871192848,null,257,254,3,null,null,4,4.8828125E-2,null,null,null,null,null,null,null,null,3,1,254,0,0]
[55,256,253,null,null,null,254.5,4.5,"平均値に対する下方管理限界（ＬＣＬ）",null,null,{"$f":"$L$55-3*(1/(SQRT($L$54)*$S$96)*$T$93)","v":251.77750602075199},null,null,null,4.2426406871192848,null,256,253,3,null,null,4,2.673828125,null,null,null,null,null,null,null,null,1,3,254,0,0]
[56,253,257,null,null,null,255,8,"Ｒの平均",null,null,{"$f":"T93","v":2.0625},null,null,null,5.6568542494923806,null,257,253,4,null,null,4,0.861328125,null,null,null,null,null,null,null,null,1,3,253,0,0]
[57,254,257,null,null,null,255.5,4.5,"Ｒに対する上方管理限界（ＵＣＬ）",null,null,{"$f":"((1+3*($T$96/$S$96))*$L$58)","v":6.7415226063829792},null,null,null,4.2426406871192848,null,257,254,3,null,null,4,4.8828125E-2,null,null,null,null,null,null,null,null,0.5,4,257,0,0]
[58,253,254,null,null,null,253.5,0.5,"xbar - Rs - R 管理図を作成するためのデータ(2SD)",null,null,null,null,null,null,1.4142135623730951,null,254,253,1,null,null,4,9.298828125,null,null,null,null,null,null,null,null,0.5,3,257,0,0]
[59,255,252,null,null,null,253.5,4.5,"平均値に対する上方管理限界（ＵＣＬ）",null,null,{"$f":"L55+1.773*L63","v":258.24539285714286},null,null,null,4.2426406871192848,null,255,252,3,null,null,4,9.298828125,null,null,null,null,null,null,null,null,2,1,254,0,0]
[60,254,252,null,null,null,253,2,"平均値に対する下方管理限界（ＬＣＬ）",null,null,{"$f":"L55-1.773*L63","v":253.06710714285714},null,null,null,2.8284271247461903,null,254,252,2,null,null,4,14.111328125,null,null,null,null,null,null,null,null,0,3,252,0,0]
[61,255,256,null,null,null,255.5,0.5,"Rs の平均",null,null,{"$f":"AG94","v":1.4603174603174602},null,null,null,1.4142135623730951,null,{"$f":"IF(B63<>\"\",MAX(B63:F63),\"\")","v":256},{"$f":"IF(B63<>\"\",MIN(B63:F63),\"\")","v":255},{"$f":"IF(R63<>\"\",R63-S63,\"\")","v":1},null,null,4,4.8828125E-2,null,null,null,null,null,null,null,null,0.5,2,252,0,0]
[62,256,254,null,null,null,255,2,"Rs' の平均",null,null,{"$f":"AK94","v":64.5390625},null,null,null,2.8284271247461903,null,256,254,2,null,null,4,0.861328125,null,null,null,null,null,null,null,null,2.5,1,256,0,0]
[63,255,252,null,null,null,253.5,4.5,"Rs に対する上方管理限界（ＵＣＬ）",null,null,{"$f":"U96*L63","v":3.6683174603174602},null,null,null,4.2426406871192848,null,255,252,3,null,null,4,9.298828125,null,null,null,null,null,null,null,null,0.5,2,254,0,0]
[64,255,255,null,null,null,255,0,"Rに対する上方管理限界（ＵＣＬ）",null,null,{"$f":"L58*U96","v":5.181},null,null,null,0,null,255,255,0,null,null,4,0.861328125,null,null,null,null,null,null,null,null,1.5,3,252,0,0]
[65,null,null,null,null,null,{"$f":"IF(ISERROR(AVERAGE(B67:F67)),\"\",AVERAGE(B67:F67))","v":""},"",null,null,null,null,null,null,null,{"$f":"IF(COUNTA(B67:F67)<>0,STDEV(B67:F67)*2,\"\")","v":""},null,"","","",null,null,0,"",null,null,null,null,null,null,null,null,1.5,0,255,0,0]
[66,null,null,null,null,null,"",{"$f":"IF(ISERROR(DEVSQ(B68:F68)),\"\",DEVSQ(B68:F68))","v":""},null,null,null,null,null,null,null,"",null,"","","",null,null,{"$f":"COUNTA(B68:F68)^2","v":0},{"$f":"IF(G68<>\"\",W68^0.5*(G68-$B$95)^2,\"\")","v":""},null,null,null,null,null,null,null,null,"",{"$f":"IF($R67<>\"\",ABS(B67-C67),\"\")","v":""},{"$f":"IF($R67<>\"\",ABS(C67-D67),\"\")","v":""},{"$f":"IF($R67<>\"\",ABS(D67-E67),\"\")","v":""},{"$f":"IF($R67<>\"\",ABS(E67-F67),\"\")","v":""}]
[67,null,null,null,null,null,"","",null,null,null,null,null,null,null,"",null,"","","",null,null,0,"",null,null,null,null,null,null,null,null,{"$f":"IF(R68<>\"\",ABS(G67-G68),\"\")","v":""},"","","",""]
[68,null,null,null,null,null,"","",null,null,null,null,null,null,null,"",null,"","","",null,null,0,"",null,null,null,null,null,null,null,null,"","","","",""]
[69,null,null,null,null,null,"","",null,null,null,null,null,null,null,"",null,"","","",null,null,0,"",null,null,null,null,null,null,null,null,"","","","",""]
[70,null,null,null,null,null,"","",null,null,null,null,null,null,null,"",null,"","","",null,null,0,"",null,null,null,null,null,null,null,null,"","","","",""]
[71,null,null,null,null,null,"","",null,null,null,null,null,null,null,"",null,"","","",null,null,0,"",null,null,null,null,null,null,null,null,"","","","",""]
[72,null,null,null,null,null,"","",null,null,null,null,null,null,null,"",null,"","","",null,null,0,"",null,null,null,null,null,null,null,null,"","","","",""]
[73,null,null,null,null,null,"","",null,null,null,null,null,null,null,"",null,"","","",null,null,0,"",null,null,null,null,null,null,null,null,"","","","",""]
[74,null,null,null,null,null,"","",null,null,null,null,null,null,null,"",null,"","","",null,null,0,"",null,null,null,null,null,null,null,null,"","","","",""]
[75,null,null,null,null,null,"","",null,null,null,null,null,null,null,"",null,"","","",null,null,0,"",null,null,null,null,null,null,null,null,"","","","",""]
[76,null,null,null,null,null,{"$f":"IF(ISERROR(AVERAGE(B78:F78)),\"\",AVERAGE(B78:F78))","v":""},"",null,null,null,null,null,null,null,"",null,"","","",null,null,0,"",null,null,null,null,null,null,null,null,"","","","",""]
[77,null,null,null,null,null,{"$f":"IF(ISERROR(AVERAGE(B79:F79)),\"\",AVERAGE(B79:F79))","v":""},"",null,null,null,null,null,null,null,"",null,"","","",null,null,0,"",null,null,null,null,null,null,null,null,"","","","",""]
[78,null,null,null,null,null,"","",null,null,null,null,null,null,null,"",null,"","","",null,null,0,"",null,null,null,null,null,null,null,null,"","","","",""]
[79,null,null,null,null,null,"","",null,null,null,null,null,null,null,"",null,"","","",null,null,0,"",null,null,null,null,null,null,null,null,"","","","",""]
[80,null,null,null,null,null,"","",null,null,null,null,null,null,null,"",null,"","","",null,null,0,"",null,null,null,null,null,null,null,null,"","","","",""]
[81,null,null,null,null,null,"","",null,null,null,null,null,null,null,"",null,"","","",null,null,0,"",null,null,null,null,null,null,null,null,"","","","",""]
[82,null,null,null,null,null,"","",null,null,null,null,null,null,null,"",null,"","","",null,null,0,"",null,null,null,null,null,null,null,null,"","","","",""]
[83,null,null,null,null,null,"","",null,null,null,null,null,null,null,"",null,"","","",null,null,0,"",null,null,null,null,null,null,null,null,"","","","",""]
[84,null,null,null,null,null,"","",null,null,null,null,null,null,null,"",null,"","","",null,null,0,"",null,null,null,null,null,null,null,null,"","","","",""]
[85,null,null,null,null,null,"","",null,null,null,null,null,null,null,"",null,"","","",null,null,0,"",null,null,null,null,null,null,null,null,"","","","",""]
[86,null,null,null,null,null,"","",null,null,null,null,null,null,null,"",null,"","","",null,null,0,"",null,null,null,null,null,null,null,null,"","","","",""]
[87,null,null,null,null,null,"","",null,null,null,null,null,null,null,"",null,"","","",null,null,0,"",null,null,null,null,null,null,null,null,"","","","",""]
[88,null,null,null,null,null,"","",null,null,null,null,null,null,null,"",null,"","","",null,null,0,"",null,null,null,null,null,null,null,null,"","","","",""]
[89,null,null,null,null,null,"","",null,null,null,null,null,null,null,"",null,"","","",null,null,0,"",null,null,null,null,null,null,null,null,"","","","",""]
[90,null,null,null,null,null,"","",null,null,null,null,null,null,null,"",null,"","","",null,null,0,"",null,null,null,null,null,null,null,null,"","","","",""]
["最大値",{"$f":"IF(COUNTA(B3:B92)<>0,MAX(B3:B92),\"\")","v":259},261,"","","",259,12.5,null,null,null,null,null,null,null,null,null,null,"平均",{"$f":"AVERAGE(T3:T92)","v":2.0625},null,null,null,null,null,null,null,null,null,null,null,null,"","","","",""]
["最小値",{"$f":"IF(COUNTA(B3:B92)<>0,MIN(B3:B92),\"\")","v":251},252,"","","",252.5,0,null,null,null,null,null,null,null,null,null,null,"管理限界係数",null,null,null,null,null,null,null,null,null,null,null,null,"平均",{"$f":"AVERAGE(AG4:AG93)","v":1.4603174603174602},null,null,null,{"$f":"AVERAGE(AH4:AK93)","v":64.5390625}]
["全平均",{"$f":"AVERAGE(B3:F92)","v":255.65625},null,null,null,"合計",{"$f":"SUM(G3:G92)/2","v":8181},{"$f":"SUM(H3:H92)","v":196},null,null,null,null,null,null,null,null,null,null,"d2","d3","D4(2)","D4"]
[null,{"$f":"COUNT(B3:B92)","v":64},null,null,null,"分散",{"$f":"VAR(G3:G92)","v":2.5625},null,null,null,null,null,null,null,null,null,null,null,{"$f":"CHOOSE(L54,\"0\",\"1.128\",\"1.693\",\"2.059\",\"2.326\")","v":"1.128"},{"$f":"CHOOSE(L54,\"0\",\"0.853\",\"0.888\",\"0.88\",\"0.864\")","v":"0.853"},{"$f":"CHOOSE(L54,\"0\",\"2.512\",\"2.049\",\"1.855\",\"1.743\")","v":"2.512"},{"$f":"CHOOSE(L54,\"0\",\"3.267\",\"2.575\",\"2.282\",\"2.115\")","v":"3.267"}]
[null,3,{"$f":"MIN(IF(B96=A3:A92,ROW(B3:B92)))","v":66},null,null,null,null,null,null,null,null,null,null,null,null,null,null,null,"SD",{"$f":"_xlfn.STDEV.S(T3:T92)","v":1.3786927325527072}]
[null,{"$f":"\"b\"&B97&\":b\"&C97","v":"b3:b66"},{"$f":"\"c\"&B97&\":c\"&C97","v":"c3:c66"},{"$f":"\"d\"&B97&\":d\"&C97","v":"d3:d66"},{"$f":"\"e\"&B97&\":e\"&C97","v":"e3:e66"},{"$f":"\"f\"&B97&\":f\"&C97","v":"f3:f66"}]
[]
[null,null,null,null,null,null,null,null,null,null,null,null,null,null,null,null,null,"n","d2","d3","A2(2σ)","A2","D4(2σ)","D4"]
[null,null,null,null,null,null,null,null,null,null,null,null,null,null,null,null,null,2,1.1279999999999999,0.85299999999999998,1.254,1.88,2.512,3.2669999999999999]
[null,null,null,null,null,null,null,null,null,null,null,null,null,null,null,null,null,3,1.6930000000000001,0.88800000000000001,0.68200000000000005,1.0229999999999999,2.0489999999999999,2.5750000000000002]
[null,null,null,null,null,null,null,null,null,null,null,null,null,null,null,null,null,4,2.0590000000000002,0.88,0.48599999999999999,7.2900000000000006E-2,1.855,2.282]
[null,null,null,null,null,null,null,null,null,null,null,null,null,null,null,null,null,5,2.3260000000000001,0.86399999999999999,0.38400000000000001,0.57699999999999996,1.7430000000000001,2.1150000000000002]
[]
[]
[]
[]
[]
[]
[]
[]
[]
[]
[]
[]
[]
[]
[]
[]
[]
[]
[null,0,null,"偏差",0]
[null,1,"線グラフ","倍率",{"$f":"M7/M8","v":0.58028845747399715}]
[null,-4,{"$f":"(1/(SQRT(2*3.1416))*$B$124)*EXP(-((B125-$B$123)^2)/2*$B$124^2)","v":1.3383006928851802E-4},{"$f":"(B125*$E$124)+$E$123","v":-2.3211538298959886},{"$f":"C125","v":1.3383006928851802E-4}]
[null,{"$f":"B125+0.1","v":-3.9},{"$f":"(1/(SQRT(2*3.1416))*$B$124)*EXP(-((B126-$B$123)^2)/2*$B$124^2)","v":1.9865523912172676E-4},{"$f":"(B126*$E$124)+$E$123","v":-2.2631249841485888},{"$f":"C126","v":1.9865523912172676E-4}]
[null,{"$f":"B126+0.1","v":-3.8},2.9194658444260468E-4,-2.2050961384011889,2.9194658444260468E-4]
[null,-3.6999999999999997,4.2477977389109793E-4,-2.1470672926537895,4.2477977389109793E-4]
[null,-3.5999999999999996,6.1190121466858378E-4,-2.0890384469063896,6.1190121466858378E-4]
[null,-3.4999999999999996,8.7268167469167356E-4,-2.0310096011589898,8.7268167469167356E-4]
[null,-3.3999999999999995,1.232217727743334E-3,-1.9729807554115901,1.232217727743334E-3]
[null,-3.2999999999999994,1.7225669249994707E-3,-1.9149519096641903,1.7225669249994707E-3]
[null,-3.1999999999999993,2.3840854139520946E-3,-1.8569230639167904,2.3840854139520946E-3]
[null,-3.0999999999999992,3.2668152365846214E-3,-1.7988942181693908,3.2668152365846214E-3]
[null,-2.9999999999999991,4.4318432301523932E-3,-1.7408653724219909,4.4318432301523932E-3]
[null,-2.899999999999999,5.9525254599830111E-3,-1.6828365266745913,5.9525254599830111E-3]
[null,-2.7999999999999989,7.9154423281117218E-3,-1.6248076809271914,7.9154423281117218E-3]
[null,-2.6999999999999988,1.0420922630104662E-2,-1.5667788351797916,1.0420922630104662E-2]
[null,-2.5999999999999988,1.3582953352268204E-2,-1.5087499894323919,1.3582953352268204E-2]
[null,-2.4999999999999987,1.752827999920889E-2,-1.4507211436849921,1.752827999920889E-2]
[null,-2.3999999999999986,2.2394504110812202E-2,-1.3926922979375924,2.2394504110812202E-2]
[null,-2.2999999999999985,2.8327004621191157E-2,-1.3346634521901926,2.8327004621191157E-2]
[null,-2.1999999999999984,3.5474551368789603E-2,-1.2766346064427929,3.5474551368789603E-2]
[null,-2.0999999999999983,4.3983544554127479E-2,-1.2186057606953931,4.3983544554127479E-2]
[null,-1.9999999999999982,5.399090338611616E-2,-1.1605769149479932,5.399090338611616E-2]
[null,-1.8999999999999981,6.5615738055652573E-2,-1.1025480692005936,6.5615738055652573E-2]
[null,-1.799999999999998,7.8950065991149732E-2,-1.0445192234531937,7.8950065991149732E-2]
[null,-1.699999999999998,9.4048967413253137E-2,-0.98649037770579395,9.4048967413253137E-2]
[null,-1.5999999999999979,0.11092070498910253,-0.9284615319583942,0.11092070498910253]
[null,-1.4999999999999978,0.12951744423191855,-0.87043268621099446,0.12951744423191855]
[null,-1.3999999999999977,0.14972729057207956,-0.81240384046359471,0.14972729057207956]
[null,-1.2999999999999976,0.17136839168100279,-0.75437499471619496,0.17136839168100279]
[null,-1.1999999999999975,0.19418582793787831,-0.6963461489687951,0.19418582793787831]
[null,-1.0999999999999974,0.21785192231642042,-0.63831730322139535,0.21785192231642042]
[null,-0.99999999999999745,0.24197044160323494,-0.58028845747399571,0.24197044160323494]
[null,-0.89999999999999747,0.26608493878777084,-0.52225961172659596,0.26608493878777084]
[null,-0.79999999999999749,0.28969121404964476,-0.46423076597919627,0.28969121404964476]
[null,-0.69999999999999751,0.31225356827463929,-0.40620192023179658,0.31225356827463929]
[null,-0.59999999999999754,0.33322421328044682,-0.34817307448439688,0.33322421328044682]
[null,-0.49999999999999756,0.35206491512408122,-0.29014422873699713,0.35206491512408122]
[null,-0.39999999999999758,0.36826970971618667,-0.23211538298959747,0.36826970971618667]
[null,-0.2999999999999976,0.38138736953599894,-0.17408653724219775,0.38138736953599894]
[null,-0.1999999999999976,0.39104223676229755,-0.11605769149479804,0.39104223676229755]
[null,-9.9999999999997591E-2,0.39695208335396132,-5.8028845747398319E-2,0.39695208335396132]
[null,2.4147350785597155E-15,0.39894181395195566,1.4012428939457686E-15,0.39894181395195566]
[null,0.10000000000000242,0.39695208335396115,5.8028845747401123E-2,0.39695208335396115]
[null,0.20000000000000243,0.39104223676229716,0.11605769149480084,0.39104223676229716]
[null,0.30000000000000243,0.38138736953599839,0.17408653724220055,0.38138736953599839]
[null,0.40000000000000246,0.36826970971618594,0.2321153829896003,0.36826970971618594]
[null,0.50000000000000244,0.35206491512408039,0.29014422873700002,0.35206491512408039]
[null,0.60000000000000242,0.33322421328044588,0.34817307448439971,0.33322421328044588]
[null,0.7000000000000024,0.31225356827463818,0.40620192023179941,0.31225356827463818]
[null,0.80000000000000238,0.2896912140496436,0.4642307659791991,0.2896912140496436]
[null,0.90000000000000235,0.26608493878776962,0.52225961172659885,0.26608493878776962]
[null,1.0000000000000024,0.24197044160323375,0.5802884574739986,0.24197044160323375]
[null,1.1000000000000025,0.21785192231641923,0.63831730322139835,0.21785192231641923]
[null,1.2000000000000026,0.19418582793787709,0.6963461489687981,0.19418582793787709]
[null,1.3000000000000027,0.17136839168100168,0.75437499471619784,0.17136839168100168]
[null,1.4000000000000028,0.14972729057207848,0.81240384046359759,0.14972729057207848]
[null,1.5000000000000029,0.12951744423191755,0.87043268621099745,0.12951744423191755]
[null,1.600000000000003,0.11092070498910164,0.9284615319583972,0.11092070498910164]
[null,1.7000000000000031,9.4048967413252318E-2,0.98649037770579695,9.4048967413252318E-2]
[null,1.8000000000000032,7.8950065991149024E-2,1.0445192234531968,7.8950065991149024E-2]
[null,1.9000000000000032,6.5615738055651934E-2,1.1025480692005964,6.5615738055651934E-2]
[null,2.0000000000000031,5.3990903386115625E-2,1.1605769149479961,5.3990903386115625E-2]
[null,2.1000000000000032,4.3983544554127028E-2,1.2186057606953959,4.3983544554127028E-2]
[null,2.2000000000000033,3.5474551368789221E-2,1.2766346064427956,3.5474551368789221E-2]
[null,2.3000000000000034,2.8327004621190841E-2,1.3346634521901954,2.8327004621190841E-2]
[null,2.4000000000000035,2.2394504110811942E-2,1.3926922979375951,2.2394504110811942E-2]
[null,2.5000000000000036,{"$f":"(1/(SQRT(2*3.1416))*$B$124)*EXP(-((B190-$B$123)^2)/2*$B$124^2)","v":1.7528279999208671E-2},{"$f":"(B190*$E$124)+$E$123","v":1.4507211436849949},{"$f":"C190","v":1.7528279999208671E-2}]
[null,{"$f":"B190+0.1","v":2.6000000000000036},1.3582953352268031E-2,1.5087499894323948,1.3582953352268031E-2]
[null,2.7000000000000037,1.0420922630104522E-2,1.5667788351797944,1.0420922630104522E-2]
[null,2.8000000000000038,7.9154423281116125E-3,1.6248076809271943,7.9154423281116125E-3]
[null,2.9000000000000039,5.9525254599829261E-3,1.6828365266745939,5.9525254599829261E-3]
[null,3.000000000000004,4.4318432301523273E-3,1.7408653724219938,4.4318432301523273E-3]
[null,3.1000000000000041,3.2668152365845724E-3,1.7988942181693937,3.2668152365845724E-3]
[null,3.2000000000000042,2.3840854139520564E-3,1.8569230639167933,2.3840854139520564E-3]
[null,3.3000000000000043,1.7225669249994417E-3,1.9149519096641932,1.7225669249994417E-3]
[null,3.4000000000000044,1.2322177277433143E-3,1.9729807554115928,1.2322177277433143E-3]
[null,3.5000000000000044,8.7268167469165795E-4,2.0310096011589924,8.7268167469165795E-4]
[null,3.6000000000000045,6.1190121466857283E-4,2.0890384469063923,6.1190121466857283E-4]
[null,3.7000000000000046,4.2477977389109001E-4,2.1470672926537921,4.2477977389109001E-4]
[null,3.8000000000000047,2.9194658444259953E-4,2.205096138401192,2.9194658444259953E-4]
[null,3.9000000000000048,1.9865523912172288E-4,2.2631249841485919,1.9865523912172288E-4]
[null,4.0000000000000044,1.3383006928851564E-4,2.3211538298959913,1.3383006928851564E-4]

{"sheet":"室内精度2","index":6,"n_rows":205,"n_cols":37,"rows_kept":205,"cut":false,"hidden":false,"merged":[[93,18,93,19],[94,8,94,10],[95,8,95,10],[96,8,96,10],[0,6,0,7],[0,17,0,19],[54,8,54,10],[55,8,55,10],[56,8,56,10],[57,8,57,10],[8,8,8,9],[0,2,0,4],[97,8,97,10],[98,8,98,10],[99,8,99,10],[58,8,58,10],[59,8,59,10]]}
[null,"タイトル","CRP",null,null,null,null,null,null,null,null,null,null,null,null,null,null,"管理図用データ"]
["日","ＮＯ．１","ＮＯ．２","ＮＯ．３","ＮＯ．４","ＮＯ．５","平均","偏差平方和",null,null,null,null,null,null,null,"２ＳＤ",null,"MAX","MIN","Ｒ",null,null,{"$f":"SUM(W3:W92)","v":360},null,null,"Max",{"$f":"MAX(B3:F92)","v":3.8},null,"歪度",{"$f":"SKEW(B3:F92)","v":0.10903251550509382}]
[1,3.6,3.69,null,null,null,{"$f":"IF(ISERROR(AVERAGE(B3:F3)),\"\",AVERAGE(B3:F3))","v":3.645},{"$f":"IF(ISERROR(DEVSQ(B3:F3)),\"\",DEVSQ(B3:F3))","v":4.0499999999999876E-3},null,null,null,null,null,null,null,{"$f":"IF(COUNTA(B3:F3)<>0,STDEV(B3:F3)*2,\"\")","v":0.12727922061357835},null,{"$f":"IF(B3<>\"\",MAX(B3:F3),\"\")","v":3.69},{"$f":"IF(B3<>\"\",MIN(B3:F3),\"\")","v":3.6},{"$f":"IF(R3<>\"\",R3-S3,\"\")","v":8.9999999999999858E-2},null,null,{"$f":"COUNTA(B3:F3)^2","v":4},null,null,"Min",{"$f":"MIN(B3:F92)","v":3.49},null,"尖度",{"$f":"KURT(B3:F92)","v":-0.4371493172445744},null,null,"Rs","Rs'"]
[2,3.54,3.74,null,null,null,3.64,{"$f":"IF(ISERROR(DEVSQ(B4:F4)),\"\",DEVSQ(B4:F4))","v":2.0000000000000035E-2},null,null,null,"ｸﾞﾙｰﾌﾟ間（日差）の精密度は純日差変動を表す",null,null,null,{"$f":"IF(COUNTA(B4:F4)<>0,STDEV(B4:F4)*2,\"\")","v":0.28284271247461928},null,3.74,3.54,0.20000000000000018,null,null,{"$f":"COUNTA(B4:F4)^2","v":4},null,null,"級間隔",{"$f":"(AA2-AA3)/10","v":3.0999999999999962E-2},null,null,null,null,null,"-",{"$f":"IF($R3<>\"\",ABS(B3-C3),\"\")","v":8.9999999999999858E-2},{"$f":"IF($R3<>\"\",ABS(C3-D3),\"\")","v":3.69},{"$f":"IF($R3<>\"\",ABS(D3-E3),\"\")","v":0},{"$f":"IF($R3<>\"\",ABS(E3-F3),\"\")","v":0}]
[3,3.6,3.74,null,null,null,3.67,9.800000000000017E-3,"分散分析表",null,null,null,"↓",null,null,0.19798989873223347,null,3.74,3.6,0.14000000000000012,null,null,4,null,null,"ＮＯ．","階級値","累積度数","度数","ﾃﾞｰﾀ百分率",null,null,{"$f":"IF(R4<>\"\",ABS(G3-G4),\"\")","v":4.9999999999998934E-3},0.20000000000000018,3.74,0,0]
[4,3.63,3.73,null,null,null,3.6799999999999997,5.0000000000000088E-3,"変動要因","変動","自由度","分散","精密度(SD)","変動係数(CV)",null,0.14142135623730964,null,3.73,3.63,0.10000000000000009,null,null,4,null,null,1,{"$f":"$AA$3+($AA$4*(Z6-1))","v":3.49},{"$f":"FREQUENCY($B$3:$F$92,AA6)","v":1},{"$f":"AB6","v":1},{"$f":"AC6/$AB$16*100","v":0.55555555555555558},null,null,2.9999999999999805E-2,0.14000000000000012,3.74,0,0]
[5,3.6,3.65,null,null,null,3.625,1.2499999999999911E-3,"ｸﾞﾙｰﾌﾟ間（日間）",{"$f":"G96*K7*K9","v":0.36335777777777822},{"$f":"COUNT(G3:G92)-1","v":89},{"$f":"J7/K7","v":4.0826716604244742E-3},{"$f":"IF(L7-L8>0,((L7-L8)/K9)^0.5,0)","v":1.8064767648996616E-2},{"$f":"M7/B95","v":4.9722585124768945E-3},null,7.0710678118654502E-2,null,3.65,3.6,4.9999999999999822E-2,null,null,4,null,null,2,3.5210000000000004,{"$f":"FREQUENCY($B$3:$F$92,AA7)","v":5},{"$f":"AB7-AB6","v":4},2.2222222222222223,null,null,9.9999999999997868E-3,0.10000000000000009,3.73,0,0]
[6,3.6,3.65,null,null,null,3.625,1.2499999999999911E-3,"ｸﾞﾙｰﾌﾟ内（日内）",{"$f":"SUM(H3:H92)","v":0.30870000000000042},{"$f":"COUNT(G3:G92)*(COUNT(B3:F3)-1)","v":90},{"$f":"J8/K8","v":3.4300000000000047E-3},{"$f":"L8^0.5","v":5.8566201857385328E-2},{"$f":"M8/B95","v":1.6120124066195726E-2},null,7.0710678118654502E-2,null,3.65,3.6,4.9999999999999822E-2,null,null,4,null,null,3,3.552,19,{"$f":"AB8-AB7","v":14},7.7777777777777777,null,null,5.4999999999999716E-2,4.9999999999999822E-2,3.65,0,0]
[7,3.64,3.6,null,null,null,3.62,8.0000000000000145E-4,"n0 = 1日あたりの平均的な反復測定数",null,{"$f":"(1/K7)*(K10+1-W2/(K10+1))","v":2},null,null,null,null,5.6568542494923851E-2,null,3.64,3.6,4.0000000000000036E-2,null,null,4,null,null,4,3.5830000000000002,37,18,10,null,null,0,4.9999999999999822E-2,3.65,0,0]
[8,3.58,3.55,null,null,null,3.5649999999999999,4.5000000000000747E-4,"合計(室内精密度）",{"$f":"DEVSQ(B3:F92)","v":0.67205777777777842},{"$f":"COUNT(B3:F92)-1","v":179},null,{"$f":"IF(J13<0.05,(M7^2+M8^2)^0.5,(J10/K10)^0.5)","v":6.1274078736571161E-2},{"$f":"M10/B95","v":1.6865456866754551E-2},null,4.2426406871193201E-2,null,3.58,3.55,3.0000000000000249E-2,null,null,4,null,null,5,3.6139999999999999,75,38,21.111111111111111,null,null,4.9999999999998934E-3,4.0000000000000036E-2,3.6,0,0]
[9,3.64,3.53,null,null,null,3.585,6.0500000000000354E-3,null,null,null,null,"↑総合精密度","↑総変動係数",null,0.1555634918610409,null,3.64,3.53,0.11000000000000032,null,null,4,null,null,6,3.645,106,31,17.222222222222221,null,null,5.500000000000016E-2,3.0000000000000249E-2,3.55,0,0]
[10,3.63,3.55,null,null,null,3.59,3.2000000000000058E-3,"観測された分散比","P-値","F 境界値",null,null,null,null,0.1131370849898477,null,3.63,3.55,8.0000000000000071E-2,null,null,4,null,null,7,3.6760000000000002,130,24,13.333333333333334,null,null,2.0000000000000018E-2,0.11000000000000032,3.53,0,0]
[11,3.66,3.64,null,null,null,3.6500000000000004,2.0000000000000036E-4,{"$f":"L7/L8","v":1.1902832829225856},{"$f":"FDIST(I13,K7,K8)","v":0.20563447295551487},{"$f":"FINV(0.05,K7,K8)","v":1.4182091828182439},null,null,null,null,2.8284271247461926E-2,null,3.66,3.64,2.0000000000000018E-2,null,null,4,null,null,8,3.7069999999999999,156,26,14.444444444444443,null,null,4.9999999999998934E-3,8.0000000000000071E-2,3.55,0,0]
[12,3.65,3.59,null,null,null,3.62,1.8000000000000032E-3,null,"↓",null,null,null,null,null,8.4852813742385777E-2,null,3.65,3.59,6.0000000000000053E-2,null,null,4,null,null,9,3.738,169,13,7.2222222222222214,null,null,6.0000000000000497E-2,2.0000000000000018E-2,3.64,0,0]
[13,3.68,3.66,null,null,null,3.67,2.0000000000000036E-4,{"$f":"IF(J13<0.05,\"P-値　より　有意水準０．０５以下から日内精密度に対し有意な日間精密度が存在する！\",\"P-値　より　有意水準０．０５以下から日内精密度と日間精密度の差があるとはいえない！\")","v":"P-値　より　有意水準０．０５以下から日内精密度と日間精密度の差があるとはいえない！"},null,null,null,null,null,null,2.8284271247461926E-2,null,3.68,3.66,2.0000000000000018E-2,null,null,4,null,null,10,3.7689999999999997,178,9,5,null,null,3.0000000000000249E-2,6.0000000000000053E-2,3.59,0,0]
[14,3.69,3.65,null,null,null,3.67,8.0000000000000145E-4,null,null,null,null,null,null,null,5.6568542494923851E-2,null,3.69,3.65,4.0000000000000036E-2,null,null,4,null,null,11,3.8,180,2,1.1111111111111112,null,null,4.9999999999999822E-2,2.0000000000000018E-2,3.66,0,0]
[15,3.64,3.71,null,null,null,3.6749999999999998,2.4499999999999886E-3,null,null,null,null,null,null,null,9.8994949366116428E-2,null,3.71,3.64,6.999999999999984E-2,null,null,4,null,null,null,null,null,null,null,null,null,0,4.0000000000000036E-2,3.65,0,0]
[16,3.62,3.68,null,null,null,3.6500000000000004,1.8000000000000032E-3,null,null,null,null,null,null,null,8.4852813742385777E-2,null,3.68,3.62,6.0000000000000053E-2,null,null,4,null,null,null,null,null,null,null,null,null,4.9999999999998934E-3,6.999999999999984E-2,3.71,0,0]
[17,3.6,3.68,null,null,null,3.64,3.2000000000000058E-3,null,null,null,null,null,null,null,0.1131370849898477,null,3.68,3.6,8.0000000000000071E-2,null,null,4,null,null,null,null,null,null,null,null,null,2.4999999999999467E-2,6.0000000000000053E-2,3.68,0,0]
[18,3.59,3.61,null,null,null,3.5999999999999996,2.0000000000000036E-4,null,null,null,null,null,null,null,2.8284271247461926E-2,null,3.61,3.59,2.0000000000000018E-2,null,null,4,null,null,null,null,null,null,null,null,null,1.0000000000000231E-2,8.0000000000000071E-2,3.68,0,0]
[19,3.57,3.69,null,null,null,3.63,7.2000000000000128E-3,null,null,null,null,null,null,null,0.16970562748477155,null,3.69,3.57,0.12000000000000011,null,null,4,null,null,null,null,null,null,null,null,null,4.000000000000048E-2,2.0000000000000018E-2,3.61,0,0]
[20,3.71,3.75,null,null,null,3.73,8.0000000000000145E-4,null,null,null,null,null,null,null,5.6568542494923851E-2,null,3.75,3.71,4.0000000000000036E-2,null,null,4,null,null,null,null,null,null,null,null,null,3.0000000000000249E-2,0.12000000000000011,3.69,0,0]
[21,3.57,3.72,null,null,null,3.645,1.1250000000000053E-2,null,null,null,null,null,null,null,0.21213203435596475,null,3.72,3.57,0.15000000000000036,null,null,4,null,null,null,null,null,null,null,null,null,0.10000000000000009,4.0000000000000036E-2,3.75,0,0]
[22,3.5,3.67,null,null,null,3.585,1.4449999999999987E-2,null,null,null,null,null,null,null,0.24041630560342606,null,3.67,3.5,0.16999999999999993,null,null,4,null,null,null,null,null,null,null,null,null,8.4999999999999964E-2,0.15000000000000036,3.72,0,0]
[23,3.59,3.68,null,null,null,3.6349999999999998,4.0500000000000275E-3,null,null,null,null,null,null,null,0.12727922061357899,null,3.68,3.59,9.0000000000000302E-2,null,null,4,null,null,null,null,null,null,null,null,null,6.0000000000000053E-2,0.16999999999999993,3.67,0,0]
[24,3.61,3.65,null,null,null,3.63,8.0000000000000145E-4,null,null,null,null,null,null,null,5.6568542494923851E-2,null,3.65,3.61,4.0000000000000036E-2,null,null,4,null,null,null,null,null,null,null,null,null,4.9999999999999822E-2,9.0000000000000302E-2,3.68,0,0]
[25,3.53,3.63,null,null,null,3.58,5.0000000000000088E-3,null,null,null,null,null,null,null,0.14142135623730964,null,3.63,3.53,0.10000000000000009,null,null,4,null,null,null,null,null,null,null,null,null,4.9999999999998934E-3,4.0000000000000036E-2,3.65,0,0]
[26,3.57,3.68,null,null,null,3.625,6.0500000000000354E-3,null,null,null,null,null,null,null,0.1555634918610409,null,3.68,3.57,0.11000000000000032,null,null,4,null,null,null,null,null,null,null,null,null,4.9999999999999822E-2,0.10000000000000009,3.63,0,0]
[27,3.56,3.56,null,null,null,3.56,0,null,null,null,null,null,null,null,0,null,3.56,3.56,0,null,null,4,null,null,null,null,null,null,null,null,null,4.4999999999999929E-2,0.11000000000000032,3.68,0,0]
[28,3.62,3.63,null,null,null,3.625,4.9999999999997868E-5,null,null,null,null,null,null,null,1.4142135623730649E-2,null,3.63,3.62,9.9999999999997868E-3,null,null,4,null,null,null,null,null,null,null,null,null,6.4999999999999947E-2,0,3.56,0,0]
[29,3.57,3.58,null,null,null,3.5750000000000002,5.0000000000002313E-5,null,null,null,null,null,null,null,1.4142135623731277E-2,null,3.58,3.57,1.0000000000000231E-2,null,null,4,null,null,null,null,null,null,null,null,null,6.4999999999999947E-2,9.9999999999997868E-3,3.63,0,0]
[30,3.56,3.7,null,null,null,3.63,9.800000000000017E-3,null,"標準物質の表示値 入力",null,3.6,"←使用した標準物質の表示値を入力",null,null,0.19798989873223347,null,3.7,3.56,0.14000000000000012,null,null,4,null,null,null,null,null,null,null,null,null,4.9999999999999822E-2,1.0000000000000231E-2,3.58,0,0]
[31,3.7,3.68,null,null,null,3.6900000000000004,2.0000000000000036E-4,null,"標準物質の拡張不確かさ 入力",null,0.3,"←使用した標準物質の拡張不確かさを入力",null,null,2.8284271247461926E-2,null,3.7,3.68,2.0000000000000018E-2,null,null,4,null,null,null,null,null,null,null,null,null,5.4999999999999716E-2,0.14000000000000012,3.7,0,0]
[32,3.65,3.73,null,null,null,3.69,3.2000000000000058E-3,null,"包含係数 入力",null,2,"←包含係数の入力（通常k = 2）",null,null,0.1131370849898477,null,3.73,3.65,8.0000000000000071E-2,null,null,4,null,null,null,null,null,null,null,null,null,6.0000000000000497E-2,2.0000000000000018E-2,3.68,0,0]
[33,3.61,3.66,null,null,null,3.6349999999999998,1.2500000000000133E-3,null,"標準物質の拡張不確かさ（％）",null,{"$f":"(L33)/L32","v":8.3333333333333329E-2},null,null,null,7.0710678118655126E-2,null,3.66,3.61,5.0000000000000266E-2,null,null,4,null,null,null,null,null,null,null,null,null,4.4408920985006262E-16,8.0000000000000071E-2,3.73,0,0]
[34,3.63,3.68,null,null,null,3.6550000000000002,1.2500000000000133E-3,null,null,null,null,null,null,null,7.0710678118655126E-2,null,3.68,3.63,5.0000000000000266E-2,null,null,4,null,null,null,null,null,null,null,null,null,5.500000000000016E-2,{"$f":"IF($R35<>\"\",ABS(B35-C35),\"\")","v":5.0000000000000266E-2},{"$f":"IF($R35<>\"\",ABS(C35-D35),\"\")","v":3.66},{"$f":"IF($R35<>\"\",ABS(D35-E35),\"\")","v":0},{"$f":"IF($R35<>\"\",ABS(E35-F35),\"\")","v":0}]
[35,3.59,3.66,null,null,null,3.625,2.4500000000000199E-3,null,"日常検査の平均値",null,{"$f":"B95","v":3.6331111111111118},null,null,null,9.8994949366117052E-2,null,3.66,3.59,7.0000000000000284E-2,null,null,4,null,null,null,null,null,null,null,null,null,{"$f":"IF(R36<>\"\",ABS(G35-G36),\"\")","v":2.0000000000000462E-2},5.0000000000000266E-2,3.68,0,0]
[36,3.61,3.74,null,null,null,3.6749999999999998,8.4500000000000443E-3,null,"日常検査の総変動（％）",null,{"$f":"N10","v":1.6865456866754551E-2},null,null,null,0.18384776310850284,null,3.74,3.61,0.13000000000000034,null,null,4,null,null,null,null,null,null,null,null,null,3.0000000000000249E-2,7.0000000000000284E-2,3.66,0,0]
[37,3.63,3.7,null,null,null,3.665,2.4500000000000199E-3,null,"日常検査の拡張不確かさ",null,{"$f":"L37*L41","v":0.32662091171153979},null,null,null,9.8994949366117052E-2,null,3.7,3.63,7.0000000000000284E-2,null,null,4,null,null,null,null,null,null,null,null,null,4.9999999999999822E-2,0.13000000000000034,3.74,0,0]
[38,3.57,3.71,null,null,null,3.6399999999999997,9.800000000000017E-3,null,"日常検査の合成不確かさ（％）",null,{"$f":"(((L35/2)^2+L38^2)^0.5)","v":4.4950581157927973E-2},null,null,null,0.19798989873223347,null,3.71,3.57,0.14000000000000012,null,null,4,null,null,null,null,null,null,null,null,null,9.9999999999997868E-3,7.0000000000000284E-2,3.7,0,0]
[39,3.69,3.67,null,null,null,3.6799999999999997,2.0000000000000036E-4,null,"日常検査の拡張不確かさ（％）",null,{"$f":"L40*L34","v":8.9901162315855945E-2},"←合成不確かさ×包含係数",null,null,2.8284271247461926E-2,null,3.69,3.67,2.0000000000000018E-2,null,null,4,null,null,null,null,null,null,null,null,null,2.5000000000000355E-2,0.14000000000000012,3.71,0,0]
[40,3.71,3.63,null,null,null,3.67,3.2000000000000058E-3,null,null,null,null,null,null,null,0.1131370849898477,null,3.71,3.63,8.0000000000000071E-2,null,null,4,null,null,null,null,null,null,null,null,null,4.0000000000000036E-2,2.0000000000000018E-2,3.67,0,0]
[41,3.57,3.7,null,null,null,3.6349999999999998,8.4500000000000443E-3,null,null,null,null,null,null,null,0.18384776310850284,null,3.7,3.57,0.13000000000000034,null,null,4,null,null,null,null,null,null,null,null,null,9.9999999999997868E-3,8.0000000000000071E-2,3.63,0,0]
[42,3.59,3.62,null,null,null,3.605,4.5000000000000747E-4,null,null,null,null,null,null,null,4.2426406871193201E-2,null,3.62,3.59,3.0000000000000249E-2,null,null,4,null,null,null,null,null,null,null,null,null,3.5000000000000142E-2,0.13000000000000034,3.7,0,0]
[43,3.55,3.7,null,null,null,3.625,1.1250000000000053E-2,null,null,null,null,null,null,null,0.21213203435596475,null,3.7,3.55,0.15000000000000036,null,null,4,null,null,null,null,null,null,null,null,null,2.9999999999999805E-2,3.0000000000000249E-2,3.62,0,0]
[44,3.54,3.51,null,null,null,3.5249999999999999,4.5000000000000747E-4,null,null,null,null,null,null,null,4.2426406871193201E-2,null,3.54,3.51,3.0000000000000249E-2,null,null,4,null,null,null,null,null,null,null,null,null,2.0000000000000018E-2,0.15000000000000036,3.7,0,0]
[45,3.62,3.65,null,null,null,3.6349999999999998,4.4999999999999413E-4,null,null,null,null,null,null,null,4.2426406871192576E-2,null,3.65,3.62,2.9999999999999805E-2,null,null,4,null,null,null,null,null,null,null,null,null,0.10000000000000009,3.0000000000000249E-2,3.51,0,0]
[46,3.59,3.71,null,null,null,3.65,7.2000000000000128E-3,null,null,null,null,null,null,null,0.16970562748477155,null,3.71,3.59,0.12000000000000011,null,null,4,null,null,null,null,null,null,null,null,null,0.10999999999999988,2.9999999999999805E-2,3.65,0,0]
[47,3.64,3.74,null,null,null,3.6900000000000004,5.0000000000000088E-3,null,null,null,null,null,null,null,0.14142135623730964,null,3.74,3.64,0.10000000000000009,null,null,4,null,null,null,null,null,null,null,null,null,1.5000000000000124E-2,0.12000000000000011,3.71,0,0]
[48,3.61,3.62,null,null,null,3.6150000000000002,5.0000000000002313E-5,null,null,null,null,null,null,null,1.4142135623731277E-2,null,3.62,3.61,1.0000000000000231E-2,null,null,4,null,null,null,null,null,null,null,null,null,4.000000000000048E-2,0.10000000000000009,3.74,0,0]
[49,3.6,3.8,null,null,null,3.7,1.9999999999999948E-2,null,null,null,null,null,null,null,0.28284271247461862,null,3.8,3.6,0.19999999999999973,null,null,4,null,null,null,null,null,null,null,null,null,7.5000000000000178E-2,1.0000000000000231E-2,3.62,0,0]
[50,3.54,3.5,null,null,null,3.52,8.0000000000000145E-4,null,null,null,"3σ管理図",null,null,null,5.6568542494923851E-2,null,3.54,3.5,4.0000000000000036E-2,null,null,4,null,null,null,null,null,null,null,null,null,8.4999999999999964E-2,0.19999999999999973,3.8,0,0]
[51,3.64,3.61,null,null,null,3.625,4.5000000000000747E-4,"＿",null,null,null,null,null,null,4.2426406871193201E-2,null,3.64,3.61,3.0000000000000249E-2,null,null,4,null,null,null,null,null,null,null,null,null,0.18000000000000016,4.0000000000000036E-2,3.5,0,0]
[52,3.59,3.68,null,null,null,3.6349999999999998,4.0500000000000275E-3,"ｘ - Ｒ管理図を作成するためのデータ",null,null,null,null,null,null,0.12727922061357899,null,3.68,3.59,9.0000000000000302E-2,null,null,4,null,null,null,null,null,null,null,null,null,0.10499999999999998,3.0000000000000249E-2,3.61,0,0]
[53,3.66,3.64,null,null,null,3.6500000000000004,2.0000000000000036E-4,"１日のデータ数",null,null,{"$f":"COUNT(B3:F3)","v":2},null,null,null,2.8284271247461926E-2,null,3.66,3.64,2.0000000000000018E-2,null,null,4,null,null,null,null,null,null,null,null,null,9.9999999999997868E-3,9.0000000000000302E-2,3.68,0,0]
[54,3.69,3.74,null,null,null,3.7149999999999999,1.2500000000000133E-3,"データの平均値",null,null,{"$f":"AVERAGE(B3:F92)","v":3.6331111111111118},null,null,null,7.0710678118655126E-2,null,3.74,3.69,5.0000000000000266E-2,null,null,4,null,null,null,null,null,null,null,null,null,1.5000000000000568E-2,2.0000000000000018E-2,3.64,0,0]
[55,3.68,3.76,null,null,null,3.7199999999999998,3.1999999999999702E-3,"平均値に対する上方管理限界（ＵＣＬ）",null,null,{"$f":"$L$56+(3*(1/(SQRT($L$55)*$S$96))*$T$93)","v":3.7626637719668032},null,null,null,0.11313708498984708,null,3.76,3.68,7.9999999999999627E-2,null,null,4,null,null,null,null,null,null,null,null,null,6.4999999999999503E-2,5.0000000000000266E-2,3.74,0,0]
[56,3.63,3.67,null,null,null,3.65,8.0000000000000145E-4,"平均値に対する下方管理限界（ＬＣＬ）",null,null,{"$f":"$L$56-3*(1/(SQRT($L$55)*$S$96)*$T$93)","v":3.5035584502554205},null,null,null,5.6568542494923851E-2,null,3.67,3.63,4.0000000000000036E-2,null,null,4,null,null,null,null,null,null,null,null,null,4.9999999999998934E-3,7.9999999999999627E-2,3.76,0,0]
[57,3.65,3.54,null,null,null,3.5949999999999998,6.0499999999999859E-3,"Ｒの平均",null,null,{"$f":"T93","v":6.8888888888888958E-2},null,null,null,0.15556349186104027,null,3.65,3.54,0.10999999999999988,null,null,4,null,null,null,null,null,null,null,null,null,6.999999999999984E-2,4.0000000000000036E-2,3.67,0,0]
[58,3.6,3.49,null,null,null,3.5449999999999999,6.0499999999999859E-3,"Ｒに対する上方管理限界（ＵＣＬ）",null,null,{"$f":"((1+3*($T$96/$S$96))*$L$59)","v":0.22517139479905462},null,null,null,0.15556349186104027,null,3.6,3.49,0.10999999999999988,null,null,4,null,null,null,null,null,null,null,null,null,5.500000000000016E-2,0.10999999999999988,3.54,0,0]
[59,3.58,3.59,null,null,null,3.585,4.9999999999997868E-5,null,null,null,null,null,null,null,1.4142135623730649E-2,null,3.59,3.58,9.9999999999997868E-3,null,null,4,null,null,null,null,null,null,null,null,null,4.9999999999999822E-2,0.10999999999999988,3.49,0,0]
[60,3.66,3.6,null,null,null,3.63,1.8000000000000032E-3,null,null,null,null,null,null,null,8.4852813742385777E-2,null,3.66,3.6,6.0000000000000053E-2,null,null,4,null,null,null,null,null,null,null,null,null,4.0000000000000036E-2,9.9999999999997868E-3,3.59,0,0]
[61,3.67,3.6,null,null,null,3.6349999999999998,2.4499999999999886E-3,null,null,null,null,null,null,null,9.8994949366116428E-2,null,3.67,3.6,6.999999999999984E-2,null,null,4,null,null,null,null,null,null,null,null,null,4.4999999999999929E-2,6.0000000000000053E-2,3.6,0,0]
[62,3.6,3.59,null,null,null,3.5949999999999998,5.0000000000002313E-5,null,null,null,null,null,null,null,1.4142135623731277E-2,null,3.6,3.59,1.0000000000000231E-2,null,null,4,null,null,null,null,null,null,null,null,null,4.9999999999998934E-3,6.999999999999984E-2,3.6,0,0]
[63,3.65,3.61,null,null,null,3.63,8.0000000000000145E-4,null,null,null,null,null,null,null,5.6568542494923851E-2,null,3.65,3.61,4.0000000000000036E-2,null,null,4,null,null,null,null,null,null,null,null,null,4.0000000000000036E-2,1.0000000000000231E-2,3.59,0,0]
[64,3.62,3.67,null,null,null,3.645,1.2499999999999911E-3,null,null,null,null,null,null,null,7.0710678118654502E-2,null,3.67,3.62,4.9999999999999822E-2,null,null,4,null,null,null,null,null,null,null,null,null,3.5000000000000142E-2,4.0000000000000036E-2,3.61,0,0]
[65,3.7,3.62,null,null,null,{"$f":"IF(ISERROR(AVERAGE(B67:F67)),\"\",AVERAGE(B67:F67))","v":3.66},3.2000000000000058E-3,null,null,null,null,null,null,null,0.1131370849898477,null,{"$f":"IF(B67<>\"\",MAX(B67:F67),\"\")","v":3.7},{"$f":"IF(B67<>\"\",MIN(B67:F67),\"\")","v":3.62},{"$f":"IF(R67<>\"\",R67-S67,\"\")","v":8.0000000000000071E-2},null,null,4,null,null,null,null,null,null,null,null,null,1.5000000000000124E-2,4.9999999999999822E-2,3.67,0,0]
[66,3.62,3.65,null,null,null,3.6349999999999998,{"$f":"IF(ISERROR(DEVSQ(B68:F68)),\"\",DEVSQ(B68:F68))","v":4.4999999999999413E-4},null,null,null,null,null,null,null,{"$f":"IF(COUNTA(B68:F68)<>0,STDEV(B68:F68)*2,\"\")","v":4.2426406871192576E-2},null,3.65,3.62,2.9999999999999805E-2,null,null,{"$f":"COUNTA(B68:F68)^2","v":4},null,null,null,null,null,null,null,null,null,1.5000000000000124E-2,{"$f":"IF($R67<>\"\",ABS(B67-C67),\"\")","v":8.0000000000000071E-2},{"$f":"IF($R67<>\"\",ABS(C67-D67),\"\")","v":3.62},{"$f":"IF($R67<>\"\",ABS(D67-E67),\"\")","v":0},{"$f":"IF($R67<>\"\",ABS(E67-F67),\"\")","v":0}]
[67,3.61,3.59,null,null,null,3.5999999999999996,2.0000000000000036E-4,null,null,null,null,null,null,null,2.8284271247461926E-2,null,3.61,3.59,2.0000000000000018E-2,null,null,4,null,null,null,null,null,null,null,null,null,{"$f":"IF(R68<>\"\",ABS(G67-G68),\"\")","v":2.5000000000000355E-2},2.9999999999999805E-2,3.65,0,0]
[68,3.64,3.61,null,null,null,3.625,4.5000000000000747E-4,null,null,null,null,null,null,null,4.2426406871193201E-2,null,3.64,3.61,3.0000000000000249E-2,null,null,4,null,null,null,null,null,null,null,null,null,3.5000000000000142E-2,2.0000000000000018E-2,3.59,0,0]
[69,3.54,3.61,null,null,null,3.5750000000000002,2.4499999999999886E-3,null,null,null,null,null,null,null,9.8994949366116428E-2,null,3.61,3.54,6.999999999999984E-2,null,null,4,null,null,null,null,null,null,null,null,null,2.5000000000000355E-2,3.0000000000000249E-2,3.61,0,0]
[70,3.57,3.68,null,null,null,3.625,6.0500000000000354E-3,null,null,null,null,null,null,null,0.1555634918610409,null,3.68,3.57,0.11000000000000032,null,null,4,null,null,null,null,null,null,null,null,null,4.9999999999999822E-2,6.999999999999984E-2,3.61,0,0]
[71,3.56,3.64,null,null,null,3.6,3.2000000000000058E-3,null,null,null,null,null,null,null,0.1131370849898477,null,3.64,3.56,8.0000000000000071E-2,null,null,4,null,null,null,null,null,null,null,null,null,4.9999999999999822E-2,0.11000000000000032,3.68,0,0]
[72,3.6,3.62,null,null,null,3.6100000000000003,2.0000000000000036E-4,null,null,null,null,null,null,null,2.8284271247461926E-2,null,3.62,3.6,2.0000000000000018E-2,null,null,4,null,null,null,null,null,null,null,null,null,2.4999999999999911E-2,8.0000000000000071E-2,3.64,0,0]
[73,3.54,3.62,null,null,null,3.58,3.2000000000000058E-3,null,null,null,null,null,null,null,0.1131370849898477,null,3.62,3.54,8.0000000000000071E-2,null,null,4,null,null,null,null,null,null,null,null,null,1.0000000000000231E-2,2.0000000000000018E-2,3.62,0,0]
[74,3.56,3.62,null,null,null,3.59,1.8000000000000032E-3,null,null,null,null,null,null,null,8.4852813742385777E-2,null,3.62,3.56,6.0000000000000053E-2,null,null,4,null,null,null,null,null,null,null,null,null,3.0000000000000249E-2,8.0000000000000071E-2,3.62,0,0]
[75,3.58,3.68,null,null,null,3.63,5.0000000000000088E-3,null,null,null,null,null,null,null,0.14142135623730964,null,3.68,3.58,0.10000000000000009,null,null,4,null,null,null,null,null,null,null,null,null,9.9999999999997868E-3,6.0000000000000053E-2,3.62,0,0]
[76,3.6,3.59,null,null,null,{"$f":"IF(ISERROR(AVERAGE(B78:F78)),\"\",AVERAGE(B78:F78))","v":3.5949999999999998},5.0000000000002313E-5,null,null,null,null,null,null,null,1.4142135623731277E-2,null,3.6,3.59,1.0000000000000231E-2,null,null,4,null,null,null,null,null,null,null,null,null,4.0000000000000036E-2,0.10000000000000009,3.68,0,0]
[77,3.61,3.67,null,null,null,{"$f":"IF(ISERROR(AVERAGE(B79:F79)),\"\",AVERAGE(B79:F79))","v":3.6399999999999997},1.8000000000000032E-3,null,null,null,null,null,null,null,8.4852813742385777E-2,null,3.67,3.61,6.0000000000000053E-2,null,null,4,null,null,null,null,null,null,null,null,null,3.5000000000000142E-2,1.0000000000000231E-2,3.59,0,0]
[78,3.59,3.74,null,null,null,3.665,1.1250000000000053E-2,null,null,null,null,null,null,null,0.21213203435596475,null,3.74,3.59,0.15000000000000036,null,null,4,null,null,null,null,null,null,null,null,null,4.4999999999999929E-2,6.0000000000000053E-2,3.67,0,0]
[79,3.55,3.72,null,null,null,3.6349999999999998,1.4450000000000063E-2,null,null,null,null,null,null,null,0.24041630560342669,null,3.72,3.55,0.17000000000000037,null,null,4,null,null,null,null,null,null,null,null,null,2.5000000000000355E-2,0.15000000000000036,3.74,0,0]
[80,3.61,3.51,null,null,null,3.5599999999999996,5.0000000000000088E-3,null,null,null,null,null,null,null,0.14142135623730964,null,3.61,3.51,0.10000000000000009,null,null,4,null,null,null,null,null,null,null,null,null,3.0000000000000249E-2,0.17000000000000037,3.72,0,0]
[81,3.57,3.54,null,null,null,3.5549999999999997,4.4999999999999413E-4,null,null,null,null,null,null,null,4.2426406871192576E-2,null,3.57,3.54,2.9999999999999805E-2,null,null,4,null,null,null,null,null,null,null,null,null,7.5000000000000178E-2,0.10000000000000009,3.51,0,0]
[82,3.55,3.62,null,null,null,3.585,2.4500000000000199E-3,null,null,null,null,null,null,null,9.8994949366117052E-2,null,3.62,3.55,7.0000000000000284E-2,null,null,4,null,null,null,null,null,null,null,null,null,4.9999999999998934E-3,2.9999999999999805E-2,3.54,0,0]
[83,3.58,3.6,null,null,null,3.59,2.0000000000000036E-4,null,null,null,null,null,null,null,2.8284271247461926E-2,null,3.6,3.58,2.0000000000000018E-2,null,null,4,null,null,null,null,null,null,null,null,null,3.0000000000000249E-2,7.0000000000000284E-2,3.62,0,0]
[84,3.69,3.64,null,null,null,3.665,1.2499999999999911E-3,null,null,null,null,null,null,null,7.0710678118654502E-2,null,3.69,3.64,4.9999999999999822E-2,null,null,4,null,null,null,null,null,null,null,null,null,4.9999999999998934E-3,2.0000000000000018E-2,3.6,0,0]
[85,3.73,3.71,null,null,null,3.7199999999999998,2.0000000000000036E-4,null,null,null,null,null,null,null,2.8284271247461926E-2,null,3.73,3.71,2.0000000000000018E-2,null,null,4,null,null,null,null,null,null,null,null,null,7.5000000000000178E-2,4.9999999999999822E-2,3.64,0,0]
[86,3.7,3.67,null,null,null,3.6850000000000001,4.5000000000000747E-4,null,null,null,null,null,null,null,4.2426406871193201E-2,null,3.7,3.67,3.0000000000000249E-2,null,null,4,null,null,null,null,null,null,null,null,null,5.4999999999999716E-2,2.0000000000000018E-2,3.71,0,0]
[87,3.72,3.77,null,null,null,3.7450000000000001,1.2499999999999911E-3,null,null,null,null,null,null,null,7.0710678118654502E-2,null,3.77,3.72,4.9999999999999822E-2,null,null,4,null,null,null,null,null,null,null,null,null,3.4999999999999698E-2,3.0000000000000249E-2,3.67,0,0]
[88,3.68,3.74,null,null,null,3.71,1.8000000000000032E-3,null,null,null,null,null,null,null,8.4852813742385777E-2,null,3.74,3.68,6.0000000000000053E-2,null,null,4,null,null,null,null,null,null,null,null,null,6.0000000000000053E-2,4.9999999999999822E-2,3.77,0,0]
[89,3.73,3.66,null,null,null,3.6950000000000003,2.4499999999999886E-3,null,null,null,null,null,null,null,9.8994949366116428E-2,null,3.73,3.66,6.999999999999984E-2,null,null,4,null,null,null,null,null,null,null,null,null,3.5000000000000142E-2,6.0000000000000053E-2,3.74,0,0]
[90,3.69,3.62,null,null,null,3.6550000000000002,2.4499999999999886E-3,null,null,null,null,null,null,null,9.8994949366116428E-2,null,3.69,3.62,6.999999999999984E-2,null,null,4,null,null,null,null,null,null,null,null,null,1.499999999999968E-2,6.999999999999984E-2,3.66,0,0]
["最大値",{"$f":"IF(COUNTA(B3:B62)<>0,MAX(B3:B62),\"\")","v":3.71},3.8,"","","",3.73,2.0000000000000035E-2,null,null,null,null,null,null,null,null,null,null,"平均",{"$f":"AVERAGE(T3:T92)","v":6.8888888888888958E-2},null,null,null,null,null,null,null,null,null,null,null,null,4.0000000000000036E-2,6.999999999999984E-2,3.62,0,0]
["最小値",{"$f":"IF(COUNTA(B3:B62)<>0,MIN(B3:B62),\"\")","v":3.5},3.49,"","","",3.52,0,null,null,null,null,null,null,null,null,null,null,"管理限界係数",null,null,null,null,null,null,null,null,null,null,null,null,"平均",{"$f":"AVERAGE(AG4:AG93)","v":3.9213483146067443E-2},null,null,null,{"$f":"AVERAGE(AH4:AK93)","v":0.92980555555555577}]
["全平均",{"$f":"AVERAGE(B3:F92)","v":3.6331111111111118},null,null,null,"合計",{"$f":"SUM(G3:G92)/2","v":163.48999999999995},{"$f":"SUM(H3:H92)","v":0.30870000000000042},null,null,null,null,null,null,null,null,null,null,"d2","d3"]
[null,{"$f":"COUNT(B3:B92)","v":90},null,null,null,"分散",{"$f":"VAR(G3:G92)","v":2.0413358302122371E-3},null,null,null,null,null,null,null,null,null,null,null,{"$f":"CHOOSE(L55,\"0\",\"1.128\",\"1.693\",\"2.059\",\"2.326\")","v":"1.128"},{"$f":"CHOOSE(L55,\"0\",\"0.853\",\"0.888\",\"0.88\",\"0.864\")","v":"0.853"}]
[null,3,{"$f":"MIN(IF(B96=A3:A92,ROW(B3:B92)))","v":92}]
[null,{"$f":"\"b\"&B97&\":b\"&C97","v":"b3:b92"},{"$f":"\"c\"&B97&\":c\"&C97","v":"c3:c92"},{"$f":"\"d\"&B97&\":d\"&C97","v":"d3:d92"},{"$f":"\"e\"&B97&\":e\"&C97","v":"e3:e92"},{"$f":"\"f\"&B97&\":f\"&C97","v":"f3:f92"}]
[]
[]
[]
[]
[]
[]
[]
[]
[]
[]
[]
[]
[]
[]
[]
[]
[]
[]
[]
[]
[]
[]
[]
[]
[null,0,null,"偏差",0]
[null,1,"線グラフ","倍率",{"$f":"M7/M8","v":0.30845038735798791}]
[null,-4,{"$f":"(1/(SQRT(2*3.1416))*$B$124)*EXP(-((B125-$B$123)^2)/2*$B$124^2)","v":1.3383006928851802E-4},{"$f":"(B125*$E$124)+$E$123","v":-1.2338015494319516},{"$f":"C125","v":1.3383006928851802E-4}]
[null,{"$f":"B125+0.1","v":-3.9},{"$f":"(1/(SQRT(2*3.1416))*$B$124)*EXP(-((B126-$B$123)^2)/2*$B$124^2)","v":1.9865523912172676E-4},{"$f":"(B126*$E$124)+$E$123","v":-1.2029565106961528},{"$f":"C126","v":1.9865523912172676E-4}]
[null,{"$f":"B126+0.1","v":-3.8},2.9194658444260468E-4,-1.172111471960354,2.9194658444260468E-4]
[null,-3.6999999999999997,4.2477977389109793E-4,-1.1412664332245552,4.2477977389109793E-4]
[null,-3.5999999999999996,6.1190121466858378E-4,-1.1104213944887564,6.1190121466858378E-4]
[null,-3.4999999999999996,8.7268167469167356E-4,-1.0795763557529576,8.7268167469167356E-4]
[null,-3.3999999999999995,1.232217727743334E-3,-1.0487313170171588,1.232217727743334E-3]
[null,-3.2999999999999994,1.7225669249994707E-3,-1.0178862782813598,1.7225669249994707E-3]
[null,-3.1999999999999993,2.3840854139520946E-3,-0.98704123954556111,2.3840854139520946E-3]
[null,-3.0999999999999992,3.2668152365846214E-3,-0.95619620080976231,3.2668152365846214E-3]
[null,-2.9999999999999991,4.4318432301523932E-3,-0.92535116207396351,4.4318432301523932E-3]
[null,-2.899999999999999,5.9525254599830111E-3,-0.89450612333816459,5.9525254599830111E-3]
[null,-2.7999999999999989,7.9154423281117218E-3,-0.86366108460236579,7.9154423281117218E-3]
[null,-2.6999999999999988,1.0420922630104662E-2,-0.83281604586656699,1.0420922630104662E-2]
[null,-2.5999999999999988,1.3582953352268204E-2,-0.80197100713076819,1.3582953352268204E-2]
[null,-2.4999999999999987,1.752827999920889E-2,-0.77112596839496939,1.752827999920889E-2]
[null,-2.3999999999999986,2.2394504110812202E-2,-0.74028092965917058,2.2394504110812202E-2]
[null,-2.2999999999999985,2.8327004621191157E-2,-0.70943589092337178,2.8327004621191157E-2]
[null,-2.1999999999999984,3.5474551368789603E-2,-0.67859085218757287,3.5474551368789603E-2]
[null,-2.0999999999999983,4.3983544554127479E-2,-0.64774581345177407,4.3983544554127479E-2]
[null,-1.9999999999999982,5.399090338611616E-2,-0.61690077471597526,5.399090338611616E-2]
[null,-1.8999999999999981,6.5615738055652573E-2,-0.58605573598017646,6.5615738055652573E-2]
[null,-1.799999999999998,7.8950065991149732E-2,-0.55521069724437766,7.8950065991149732E-2]
[null,-1.699999999999998,9.4048967413253137E-2,-0.52436565850857886,9.4048967413253137E-2]
[null,-1.5999999999999979,0.11092070498910253,-0.49352061977278,0.11092070498910253]
[null,-1.4999999999999978,0.12951744423191855,-0.4626755810369812,0.12951744423191855]
[null,-1.3999999999999977,0.14972729057207956,-0.43183054230118234,0.14972729057207956]
[null,-1.2999999999999976,0.17136839168100279,-0.40098550356538354,0.17136839168100279]
[null,-1.1999999999999975,0.19418582793787831,-0.37014046482958474,0.19418582793787831]
[null,-1.0999999999999974,0.21785192231642042,-0.33929542609378588,0.21785192231642042]
[null,-0.99999999999999745,0.24197044160323494,-0.30845038735798713,0.24197044160323494]
[null,-0.89999999999999747,0.26608493878777084,-0.27760534862218833,0.26608493878777084]
[null,-0.79999999999999749,0.28969121404964476,-0.24676030988638956,0.28969121404964476]
[null,-0.69999999999999751,0.31225356827463929,-0.21591527115059078,0.31225356827463929]
[null,-0.59999999999999754,0.33322421328044682,-0.18507023241479198,0.33322421328044682]
[null,-0.49999999999999756,0.35206491512408122,-0.15422519367899321,0.35206491512408122]
[null,-0.39999999999999758,0.36826970971618667,-0.12338015494319442,0.36826970971618667]
[null,-0.2999999999999976,0.38138736953599894,-9.2535116207395629E-2,0.38138736953599894]
[null,-0.1999999999999976,0.39104223676229755,-6.1690077471596841E-2,0.39104223676229755]
[null,-9.9999999999997591E-2,0.39695208335396132,-3.0845038735798049E-2,0.39695208335396132]
[null,2.4147350785597155E-15,0.39894181395195566,7.4482597034866563E-16,0.39894181395195566]
[null,0.10000000000000242,0.39695208335396115,3.0845038735799538E-2,0.39695208335396115]
[null,0.20000000000000243,0.39104223676229716,6.1690077471598333E-2,0.39104223676229716]
[null,0.30000000000000243,0.38138736953599839,9.2535116207397128E-2,0.38138736953599839]
[null,0.40000000000000246,0.36826970971618594,0.12338015494319593,0.36826970971618594]
[null,0.50000000000000244,0.35206491512408039,0.1542251936789947,0.35206491512408039]
[null,0.60000000000000242,0.33322421328044588,0.18507023241479348,0.33322421328044588]
[null,0.7000000000000024,0.31225356827463818,0.21591527115059228,0.31225356827463818]
[null,0.80000000000000238,0.2896912140496436,0.24676030988639105,0.2896912140496436]
[null,0.90000000000000235,0.26608493878776962,0.27760534862218983,0.26608493878776962]
[null,1.0000000000000024,0.24197044160323375,0.30845038735798869,0.24197044160323375]
[null,1.1000000000000025,0.21785192231641923,0.33929542609378749,0.21785192231641923]
[null,1.2000000000000026,0.19418582793787709,0.37014046482958629,0.19418582793787709]
[null,1.3000000000000027,0.17136839168100168,0.40098550356538509,0.17136839168100168]
[null,1.4000000000000028,0.14972729057207848,0.43183054230118395,0.14972729057207848]
[null,1.5000000000000029,0.12951744423191755,0.46267558103698275,0.12951744423191755]
[null,1.600000000000003,0.11092070498910164,0.49352061977278155,0.11092070498910164]
[null,1.7000000000000031,9.4048967413252318E-2,0.52436565850858041,9.4048967413252318E-2]
[null,1.8000000000000032,7.8950065991149024E-2,0.55521069724437921,7.8950065991149024E-2]
[null,1.9000000000000032,6.5615738055651934E-2,0.58605573598017802,6.5615738055651934E-2]
[null,2.0000000000000031,5.3990903386115625E-2,0.61690077471597682,5.3990903386115625E-2]
[null,2.1000000000000032,4.3983544554127028E-2,0.64774581345177562,4.3983544554127028E-2]
[null,2.2000000000000033,3.5474551368789221E-2,0.67859085218757442,3.5474551368789221E-2]
[null,2.3000000000000034,2.8327004621190841E-2,0.70943589092337322,2.8327004621190841E-2]
[null,2.4000000000000035,2.2394504110811942E-2,0.74028092965917203,2.2394504110811942E-2]
[null,2.5000000000000036,{"$f":"(1/(SQRT(2*3.1416))*$B$124)*EXP(-((B190-$B$123)^2)/2*$B$124^2)","v":1.7528279999208671E-2},{"$f":"(B190*$E$124)+$E$123","v":0.77112596839497083},{"$f":"C190","v":1.7528279999208671E-2}]
[null,{"$f":"B190+0.1","v":2.6000000000000036},1.3582953352268031E-2,0.80197100713076974,1.3582953352268031E-2]
[null,2.7000000000000037,1.0420922630104522E-2,0.83281604586656854,1.0420922630104522E-2]
[null,2.8000000000000038,7.9154423281116125E-3,0.86366108460236735,7.9154423281116125E-3]
[null,2.9000000000000039,5.9525254599829261E-3,0.89450612333816615,5.9525254599829261E-3]
[null,3.000000000000004,4.4318432301523273E-3,0.92535116207396495,4.4318432301523273E-3]
[null,3.1000000000000041,3.2668152365845724E-3,0.95619620080976375,3.2668152365845724E-3]
[null,3.2000000000000042,2.3840854139520564E-3,0.98704123954556255,2.3840854139520564E-3]
[null,3.3000000000000043,1.7225669249994417E-3,1.0178862782813614,1.7225669249994417E-3]
[null,3.4000000000000044,1.2322177277433143E-3,1.0487313170171602,1.2322177277433143E-3]
[null,3.5000000000000044,8.7268167469165795E-4,1.079576355752959,8.7268167469165795E-4]
[null,3.6000000000000045,6.1190121466857283E-4,1.1104213944887578,6.1190121466857283E-4]
[null,3.7000000000000046,4.2477977389109001E-4,1.1412664332245568,4.2477977389109001E-4]
[null,3.8000000000000047,2.9194658444259953E-4,1.1721114719603556,2.9194658444259953E-4]
[null,3.9000000000000048,1.9865523912172288E-4,1.2029565106961544,1.9865523912172288E-4]
[null,4.0000000000000044,1.3383006928851564E-4,1.233801549431953,1.3383006928851564E-4]

{"sheet":"室内精度3","index":7,"n_rows":205,"n_cols":37,"rows_kept":205,"cut":false,"hidden":false,"merged":[[97,8,97,10],[98,8,98,10],[99,8,99,10],[58,8,58,10],[59,8,59,10],[0,2,0,4],[93,18,93,19],[94,8,94,10],[95,8,95,10],[96,8,96,10],[0,6,0,7],[0,17,0,19],[54,8,54,10],[55,8,55,10],[56,8,56,10],[57,8,57,10],[33,9,33,10],[8,8,8,9]]}
[null,"タイトル","ＡＳＴ",null,null,null,null,null,null,null,null,null,null,null,null,null,null,"管理図用データ"]
["日","ＮＯ．１","ＮＯ．２","ＮＯ．３","ＮＯ．４","ＮＯ．５","平均","偏差平方和",null,null,null,null,null,null,null,"２ＳＤ",null,"MAX","MIN","Ｒ",null,null,{"$f":"SUM(W3:W92)","v":360},null,null,"Max",{"$f":"MAX(B3:F92)","v":111.04153852793388},null,"歪度",{"$f":"SKEW(B3:F92)","v":-9.2855506183543348E-3}]
[1,91.719960235059261,99.288655772033962,null,null,null,{"$f":"IF(ISERROR(AVERAGE(B3:F3)),\"\",AVERAGE(B3:F3))","v":95.504308003546612},{"$f":"IF(ISERROR(DEVSQ(B3:F3)),\"\",DEVSQ(B3:F3))","v":28.642576065710379},null,null,null,null,null,null,null,{"$f":"IF(COUNTA(B3:F3)<>0,STDEV(B3:F3)*2,\"\")","v":10.703751877862338},null,{"$f":"IF(B3<>\"\",MAX(B3:F3),\"\")","v":99.288655772033962},{"$f":"IF(B3<>\"\",MIN(B3:F3),\"\")","v":91.719960235059261},{"$f":"IF(R3<>\"\",R3-S3,\"\")","v":7.5686955369747011},null,null,{"$f":"COUNTA(B3:F3)^2","v":4},null,null,"Min",{"$f":"MIN(B3:F92)","v":91.689674061490223},null,"尖度",{"$f":"KURT(B3:F92)","v":-0.56095944282326338},null,null,"Rs","Rs'"]
[2,99.4290419635945,109.59944372880273,null,null,null,104.51424284619861,{"$f":"IF(ISERROR(DEVSQ(B4:F4)),\"\",DEVSQ(B4:F4))","v":51.718536032875299},null,null,null,"ｸﾞﾙｰﾌﾟ間（日差）の精密度は純日差変動を表す",null,null,null,{"$f":"IF(COUNTA(B4:F4)<>0,STDEV(B4:F4)*2,\"\")","v":14.383120111140739},null,109.59944372880273,99.4290419635945,10.170401765208226,null,null,{"$f":"COUNTA(B4:F4)^2","v":4},null,null,"級間隔",{"$f":"(AA2-AA3)/10","v":1.9351864466443658},null,null,null,null,null,"-",{"$f":"IF($R3<>\"\",ABS(B3-C3),\"\")","v":7.5686955369747011},{"$f":"IF($R3<>\"\",ABS(C3-D3),\"\")","v":99.288655772033962},{"$f":"IF($R3<>\"\",ABS(D3-E3),\"\")","v":0},{"$f":"IF($R3<>\"\",ABS(E3-F3),\"\")","v":0}]
[3,107.96389940660447,99.288274921127595,null,null,null,103.62608716386603,37.633230106502936,"分散分析表",null,null,null,"↓",null,null,12.2691858094175,null,107.96389940660447,99.288274921127595,8.6756244854768738,null,null,4,null,null,"ＮＯ．","階級値","累積度数","度数","ﾃﾞｰﾀ百分率",null,null,{"$f":"IF(R4<>\"\",ABS(G3-G4),\"\")","v":9.009934842652001},10.170401765208226,109.59944372880273,0,0]
[4,102.14454871638736,103.9994006328925,null,null,null,103.07197467463993,1.7202378160813958,"変動要因","変動","自由度","分散","精密度(SD)","変動係数(CV)",null,2.623156736515297,null,103.9994006328925,102.14454871638736,1.8548519165051403,null,null,4,null,null,1,{"$f":"$AA$3+($AA$4*(Z6-1))","v":91.689674061490223},{"$f":"FREQUENCY($B$3:$F$92,AA6)","v":1},{"$f":"AB6","v":1},{"$f":"AC6/$AB$16*100","v":0.55555555555555558},null,null,0.88815568233258091,8.6756244854768738,99.288274921127595,0,0]
[5,108.09441189630888,101.51877657117439,null,null,null,104.80659423374163,21.619489964578346,"ｸﾞﾙｰﾌﾟ間（日間）",{"$f":"G96*K7*K9","v":2168.4290867126588},{"$f":"COUNT(G3:G92)-1","v":89},{"$f":"J7/K7","v":24.36437176081639},{"$f":"IF(L7-L8>0,((L7-L8)/K9)^0.5,0)","v":1.866581588763867},{"$f":"M7/B95","v":1.8540409491396743E-2},null,9.2993526580248247,null,108.09441189630888,101.51877657117439,6.575635325134499,null,null,4,null,null,2,93.624860508134589,{"$f":"FREQUENCY($B$3:$F$92,AA7)","v":15},{"$f":"AB7-AB6","v":14},7.7777777777777777,null,null,0.55411248922609957,1.8548519165051403,103.9994006328925,0,0]
[6,93.047424595715711,101.93667801795527,null,null,null,97.492051306835492,39.509413202398889,"ｸﾞﾙｰﾌﾟ内（日内）",{"$f":"SUM(H3:H92)","v":1565.6506295212716},{"$f":"COUNT(G3:G92)*(COUNT(B3:F3)-1)","v":90},{"$f":"J8/K8","v":17.396118105791906},{"$f":"L8^0.5","v":4.1708653905145283},{"$f":"M8/B95","v":4.1428434063171489E-2},null,12.571302749102639,null,101.93667801795527,93.047424595715711,8.8892534222395625,null,null,4,null,null,3,95.560046954778954,30,{"$f":"AB8-AB7","v":15},8.3333333333333321,null,null,1.7346195591017022,6.575635325134499,101.51877657117439,0,0]
[7,92.942298376874533,102.63390234067629,null,null,null,97.788100358775409,46.963593695588933,"n0 = 1日あたりの平均的な反復測定数",null,{"$f":"(1/K7)*(K10+1-W2/(K10+1))","v":2},null,null,null,null,13.705997766757287,null,102.63390234067629,92.942298376874533,9.6916039638017537,null,null,4,null,null,4,97.49523340142332,43,13,7.2222222222222214,null,null,7.3145429269061424,8.8892534222395625,101.93667801795527,0,0]
[8,101.09438360595959,91.982599567563739,null,null,null,96.538491586761666,41.512304181182728,"合計(室内精密度）",{"$f":"DEVSQ(B3:F92)","v":3734.0797162339304},{"$f":"COUNT(B3:F92)-1","v":179},null,{"$f":"IF(J13<0.05,(M7^2+M8^2)^0.5,(J10/K10)^0.5)","v":4.5673603468108057},{"$f":"M10/B95","v":4.5366745088662057E-2},null,12.886008564514107,null,101.09438360595959,91.982599567563739,9.1117840383958537,null,null,4,null,null,5,99.430419848067686,70,27,15,null,null,0.29604905193991726,9.6916039638017537,102.63390234067629,0,0]
[9,108.7902890300029,103.5,null,null,null,106.14514451500145,13.99357901048449,null,null,null,null,"↑総合精密度","↑総変動係数",null,7.4815984951037011,null,108.7902890300029,103.5,5.2902890300028957,null,null,4,null,null,6,101.36560629471205,100,30,16.666666666666664,null,null,1.2496087720137439,9.1117840383958537,91.982599567563739,0,0]
[10,99.415177853734349,104.06985236622859,null,null,null,101.74251510998147,10.832997408631741,"観測された分散比","P-値","F 境界値",null,null,null,null,6.5827038240017268,null,104.06985236622859,99.415177853734349,4.654674512494239,null,null,4,null,null,7,103.30079274135642,131,31,17.222222222222221,null,null,9.6066529282397823,5.2902890300028957,103.5,0,0]
[11,99.106933046277845,102.44116336034494,null,null,null,100.77404820331139,5.5585458936219938,{"$f":"L7/L8","v":1.4005637127000452},{"$f":"FDIST(I13,K7,K8)","v":5.6348288475461833E-2},{"$f":"FINV(0.05,K7,K8)","v":1.4182091828182439},null,null,null,null,4.7153137302291963,null,102.44116336034494,99.106933046277845,3.3342303140670992,null,null,4,null,null,8,105.23597918800078,152,21,11.666666666666666,null,null,4.4026294050199795,4.654674512494239,104.06985236622859,0,0]
[12,99.883141299505951,102.3288748707273,null,null,null,101.10600808511663,2.9908063506995775,null,"↓",null,null,null,null,null,3.4587895863724221,null,102.3288748707273,99.883141299505951,2.4457335712213535,null,null,4,null,null,9,107.17116563464515,161,9,5,null,null,0.96846690667007351,3.3342303140670992,102.44116336034494,0,0]
[13,104.35960600952967,97.732766132685356,null,null,null,101.04618607110751,21.957503376666988,{"$f":"IF(J13<0.05,\"P-値　より　有意水準０．０５以下から日内精密度に対し有意な日間精密度が存在する！\",\"P-値　より　有意水準０．０５以下から日内精密度と日間精密度の差があるとはいえない！\")","v":"P-値　より　有意水準０．０５以下から日内精密度と日間精密度の差があるとはいえない！"},null,null,null,null,null,null,9.3717668295080809,null,104.35960600952967,97.732766132685356,6.6268398768443149,null,null,4,null,null,10,109.10635208128951,174,13,7.2222222222222214,null,null,0.33195988180523273,2.4457335712213535,102.3288748707273,0,0]
[14,101.29748514154926,107.19606987331645,null,null,null,104.24677750743285,17.396650918918489,null,null,null,null,null,null,null,8.3418585264720218,null,107.19606987331645,101.29748514154926,5.8985847317671869,null,null,4,null,null,11,111.04153852793388,180,6,3.3333333333333335,null,null,5.9822014009114355E-2,6.6268398768443149,97.732766132685356,0,0]
[15,100.80730160334497,105.4404154070653,null,null,null,103.12385850520513,10.732871759111953,null,null,null,null,null,null,null,6.5522123772392948,null,105.4404154070653,100.80730160334497,4.6331138037203345,null,null,4,null,null,null,null,null,null,null,null,null,3.2005914363253396,5.8985847317671869,107.19606987331645,0,0]
[16,98.36383608453616,93.526739672233816,null,null,null,95.945287878384988,11.698750850954104,null,null,null,null,null,null,null,6.8406873487842157,null,98.36383608453616,93.526739672233816,4.8370964123023441,null,null,4,null,null,null,null,null,null,null,null,null,1.122919002227718,4.6331138037203345,105.4404154070653,0,0]
[17,104.71885641672998,103.21504103339976,null,null,null,103.96694872506487,1.1307303535703088,null,null,null,null,null,null,null,2.1267161104108925,null,104.71885641672998,103.21504103339976,1.5038153833302204,null,null,4,null,null,null,null,null,null,null,null,null,7.1785706268201466,4.8370964123023441,93.526739672233816,0,0]
[18,96.027406723442255,104.03267677029362,null,null,null,100.03004174686794,32.042174261507824,null,null,null,null,null,null,null,11.321161470716302,null,104.03267677029362,96.027406723442255,8.0052700468513649,null,null,4,null,null,null,null,null,null,null,null,null,8.0216608466798789,1.5038153833302204,103.21504103339976,0,0]
[19,107.87010776548414,101.10378550743917,null,null,null,104.48694663646165,22.89155844985736,null,null,null,null,null,null,null,9.5690247047141348,null,107.87010776548414,101.10378550743917,6.7663222580449656,null,null,4,null,null,null,null,null,null,null,null,null,3.9369069781969301,8.0052700468513649,104.03267677029362,0,0]
[20,102.62731418843032,106.866116564197,null,null,null,104.74671537631366,8.9837227904026324,null,null,null,null,null,null,null,5.994571808028538,null,106.866116564197,102.62731418843032,4.2388023757666815,null,null,4,null,null,null,null,null,null,null,null,null,4.4569048895937158,6.7663222580449656,101.10378550743917,0,0]
[21,106.92950834491057,105.77767877985025,null,null,null,106.35359356238041,0.66335567347352864,null,null,null,null,null,null,null,1.6289329924506148,null,106.92950834491057,105.77767877985025,1.151829565060325,null,null,4,null,null,null,null,null,null,null,null,null,0.25976873985200655,4.2388023757666815,106.866116564197,0,0]
[22,99.509049075641087,95.763812421500916,null,null,null,97.636430748571001,7.0133987977575334,null,null,null,null,null,null,null,5.2965644705818633,null,99.509049075641087,95.763812421500916,3.7452366541401716,null,null,4,null,null,null,null,null,null,null,null,null,1.6068781860667514,1.151829565060325,105.77767877985025,0,0]
[23,100.60061893236707,93.426399669260718,null,null,null,97.013509300813894,25.734711017563122,null,null,null,null,null,null,null,10.145878181323315,null,100.60061893236707,93.426399669260718,7.1742192631063517,null,null,4,null,null,null,null,null,null,null,null,null,8.7171628138094093,3.7452366541401716,95.763812421500916,0,0]
[24,104.3,109.62127160164528,null,null,null,106.96063580082264,14.157965729238256,null,null,null,null,null,null,null,7.525414468117555,null,109.62127160164528,104.3,5.3212716016452788,null,null,4,null,null,null,null,null,null,null,null,null,0.62292144775710767,7.1742192631063517,93.426399669260718,0,0]
[25,95.313282852293923,97.410372998274397,null,null,null,96.36182792528416,2.1988935401842022,null,null,null,null,null,null,null,2.9657333259645595,null,97.410372998274397,95.313282852293923,2.0970901459804736,null,null,4,null,null,null,null,null,null,null,null,null,9.9471265000087499,5.3212716016452788,109.62127160164528,0,0]
[26,99.779805648358888,103.2,null,null,null,101.48990282417944,5.8488647014988935,null,null,null,null,null,null,null,4.8368852380427194,null,103.2,99.779805648358888,3.4201943516411148,null,null,4,null,null,null,null,null,null,null,null,null,10.598807875538483,2.0970901459804736,97.410372998274397,0,0]
[27,101.79601329364232,93.804908626771066,null,null,null,97.800460960206692,31.928876898445747,null,null,null,null,null,null,null,null,null,null,null,null,null,null,4,null,null,null,null,null,null,null,null,null,5.128074898895278,3.4201943516411148,103.2,0,0]
[28,104.79100208394811,102.34764456763514,null,null,null,103.56932332579163,2.9849979762615471,null,null,null,null,null,null,null,null,null,null,null,null,null,null,4,null,null,null,null,null,null,null,null,null,"","","","",""]
[29,95.534813024278264,101.58661350724287,null,null,null,98.560713265760569,18.312144542805335,null,null,null,null,null,null,null,null,null,null,null,null,null,null,4,null,null,null,null,null,null,null,null,null,"","","","",""]
[30,97.830263964715414,100.27725945983548,null,null,null,99.053761712275445,2.993893476568942,null,"標準物質の表示値 入力",null,100,"←使用した標準物質の表示値を入力",null,null,{"$f":"IF(COUNTA(B29:F29)<>0,STDEV(B29:F29)*2,\"\")","v":11.301128598232257},null,{"$f":"IF(B29<>\"\",MAX(B29:F29),\"\")","v":101.79601329364232},{"$f":"IF(B29<>\"\",MIN(B29:F29),\"\")","v":93.804908626771066},{"$f":"IF(R32<>\"\",R32-S32,\"\")","v":7.9911046668712515},null,null,4,null,null,null,null,null,null,null,null,null,"","","","",""]
[31,104.83294115838362,99.819999629835365,null,null,null,102.32647039410949,12.56479138432185,null,"標準物質の拡張不確かさ 入力",null,4,"←使用した標準物質の拡張不確かさを入力",null,null,3.4554293372960454,null,104.79100208394811,102.34764456763514,2.4433575163129717,null,null,4,null,null,null,null,null,null,null,null,null,0.49304844651487656,2.4469954951200634,100.27725945983548,0,0]
[32,95.841608324553818,97.888949110347312,null,null,null,96.865278717450565,2.0958021465867618,null,"包含係数 入力",null,2,"←包含係数の入力（通常k = 2）",null,null,8.5585383197845957,null,101.58661350724287,95.534813024278264,6.0518004829646088,null,null,4,null,null,null,null,null,null,null,null,null,3.2727086818340467,5.0129415285482537,99.819999629835365,0,0]
[33,99.355441104853526,93.64604263973888,null,null,null,96.500741872296203,16.298615416726737,null,"標準物質の拡張不確かさ（％）",null,{"$f":"(L33)/L32","v":0.04},null,null,null,3.4605742162646602,null,100.27725945983548,97.830263964715414,2.4469954951200634,null,null,4,null,null,null,null,null,null,null,null,null,5.4611916766589275,2.0473407857934944,97.888949110347312,0,0]
[34,103.45149828717695,103.82383404939901,null,null,null,103.63766616828798,6.9316959914742932E-2,null,null,null,null,null,null,null,7.0893698970562538,null,104.83294115838362,99.819999629835365,5.0129415285482537,null,null,4,null,null,null,null,null,null,null,null,null,0.3645368451543618,{"$f":"IF($R35<>\"\",ABS(B35-C35),\"\")","v":5.7093984651146457},{"$f":"IF($R35<>\"\",ABS(C35-D35),\"\")","v":93.64604263973888},{"$f":"IF($R35<>\"\",ABS(D35-E35),\"\")","v":0},{"$f":"IF($R35<>\"\",ABS(E35-F35),\"\")","v":0}]
[35,96.168480720371008,102.78272977993765,null,null,null,99.475605250154331,21.874145310989128,null,"日常検査の平均値",null,{"$f":"B95","v":100.67639496473969},null,null,null,2.8953771060687497,null,97.888949110347312,95.841608324553818,2.0473407857934944,null,null,4,null,null,null,null,null,null,null,null,null,{"$f":"IF(R36<>\"\",ABS(G35-G36),\"\")","v":7.1369242959917756},0.37233576222206466,103.82383404939901,0,0]
[36,104.15784597862512,101.92925995179394,null,null,null,103.04355296520953,2.4832978394935941,null,"日常検査の総変動（％）",null,{"$f":"N10","v":4.5366745088662057E-2},null,null,null,8.0743087423572639,null,99.355441104853526,93.64604263973888,5.7093984651146457,null,null,4,null,null,null,null,null,null,null,null,null,4.1620609181336476,6.6142490595666459,102.78272977993765,0,0]
[37,106.00039129494689,109.81071934802458,null,null,null,107.90555532148574,7.2592999360353829,null,"日常検査の拡張不確かさ",null,{"$f":"L37*L41","v":9.9830005787555134},null,null,null,0.52656228469096766,null,103.82383404939901,103.45149828717695,0.37233576222206466,null,null,4,null,null,null,null,null,null,null,null,null,3.5679477150551975,2.2285860268311808,101.92925995179394,0,0]
[38,101.62768856171169,98.22069867150276,null,null,null,99.924193616607226,5.8037900559929403,null,"日常検査の合成不確かさ（％）",null,{"$f":"(((L35/2)^2+L38^2)^0.5)","v":4.9579648646795017E-2},null,null,null,9.3539607249526391,null,102.78272977993765,96.168480720371008,6.6142490595666459,null,null,4,null,null,null,null,null,null,null,null,null,4.8620023562762071,3.8103280530776829,109.81071934802458,0,0]
[39,103.84230816052877,101.01342720881803,null,null,null,102.4278676846734,4.0012837194759419,null,"日常検査の拡張不確かさ（％）",null,{"$f":"L40*L34","v":9.9159297293590035E-2},"←合成不確かさ×包含係数",null,null,3.1516965840598261,null,104.15784597862512,101.92925995179394,2.2285860268311808,null,null,4,null,null,null,null,null,null,null,null,null,7.981361704878509,3.4069898902089335,98.22069867150276,0,0]
[40,97.481847913149977,102.3,null,null,null,99.890923956574994,11.6072947660086,null,null,null,null,null,null,null,6.8138960267995285,null,102.3,97.481847913149977,4.8181520868500201,null,null,4,null,null,null,null,null,null,null,null,null,2.5036740680661751,2.8288809517107438,101.01342720881803,0,0]
[41,107.09937921783421,93.634014572307933,null,null,null,100.36669689507107,90.658022518494519,null,null,null,null,null,null,null,19.042901304002445,null,107.09937921783421,93.634014572307933,13.465364645526279,null,null,4,null,null,null,null,null,null,null,null,null,2.5369437280984073,4.8181520868500201,102.3,0,0]
[42,98.850307747488841,100.60793468037446,null,null,null,99.729121213931649,1.5446262176024457,null,null,null,null,null,null,null,2.4856598460790611,null,100.60793468037446,98.850307747488841,1.7576269328856142,null,null,4,null,null,null,null,null,null,null,null,null,0.47577293849607827,13.465364645526279,93.634014572307933,0,0]
[43,103.15646957460558,107.49889750295551,null,null,null,105.32768353878055,9.4283401564567519,null,null,null,null,null,null,null,6.14112046990018,null,107.49889750295551,103.15646957460558,4.3424279283499345,null,null,4,null,null,null,null,null,null,null,null,null,0.63757568113942398,1.7576269328856142,100.60793468037446,0,0]
[44,100.75348225436755,110.67028279067017,null,null,null,105.71188252251886,49.171466438405936,null,null,null,null,null,null,null,14.024473813787944,null,110.67028279067017,100.75348225436755,9.9168005363026168,null,null,4,null,null,null,null,null,null,null,null,null,5.5985623248488992,4.3424279283499345,107.49889750295551,0,0]
[45,100,109.2,null,null,null,104.6,42.320000000000022,null,null,null,null,null,null,null,13.010764773832477,null,109.2,100,9.2000000000000028,null,null,4,null,null,null,null,null,null,null,null,null,0.38419898373831529,9.9168005363026168,110.67028279067017,0,0]
[46,99.30565763861523,103.3196897675225,null,null,null,101.31267370306887,8.0562269659499322,null,null,null,null,null,null,null,5.6766986765020153,null,103.3196897675225,99.30565763861523,4.0140321289072745,null,null,4,null,null,null,null,null,null,null,null,null,1.1118825225188687,9.2000000000000028,109.2,0,0]
[47,95.244593264942523,103.6503593037196,null,null,null,99.44747628433106,35.328451349329008,null,null,null,null,null,null,null,11.887548334173704,null,103.6503593037196,95.244593264942523,8.4057660387770738,null,null,4,null,null,null,null,null,null,null,null,null,3.287326296931127,4.0140321289072745,103.3196897675225,0,0]
[48,94.949507708952297,108.1676262198016,null,null,null,101.55856696437695,87.35932848342857,null,null,null,null,null,null,null,18.693242467097949,null,108.1676262198016,94.949507708952297,13.218118510849308,null,null,4,null,null,null,null,null,null,null,null,null,1.8651974187378073,8.4057660387770738,103.6503593037196,0,0]
[49,102.88287651528663,104.84149040858028,null,null,null,103.86218346193345,1.9180841915014728,null,null,null,null,null,null,null,2.769898331348263,null,104.84149040858028,102.88287651528663,1.9586138932936592,null,null,4,null,null,null,null,null,null,null,null,null,2.1110906800458906,13.218118510849308,108.1676262198016,0,0]
[50,99.596991528960643,98.251234956114786,null,null,null,98.924113242537715,0.90553037667891401,null,null,null,"3σ管理図",null,null,null,1.9031871969713479,null,99.596991528960643,98.251234956114786,1.3457565728458576,null,null,4,null,null,null,null,null,null,null,null,null,2.3036164975565043,1.9586138932936592,104.84149040858028,0,0]
[51,100.21062191990495,101.03138972917804,null,null,null,100.6210058245415,0.33682989836947619,"＿",null,null,null,null,null,null,1.1607409674332618,null,101.03138972917804,100.21062191990495,0.82076780927309301,null,null,4,null,null,null,null,null,null,null,null,null,4.9380702193957404,1.3457565728458576,98.251234956114786,0,0]
[52,98.98657279118197,99.336921518988675,null,null,null,99.161747155085322,6.1372115537888024E-2,"ｘ - Ｒ管理図を作成するためのデータ",null,null,null,null,null,null,0.49546792242440085,null,99.336921518988675,98.98657279118197,0.35034872780670412,null,null,4,null,null,null,null,null,null,null,null,null,1.6968925820037839,0.82076780927309301,101.03138972917804,0,0]
[53,98.146336110949051,101.54643657879205,null,null,null,99.846386344870552,5.7803415957131055,"１日のデータ数",null,null,{"$f":"COUNT(B3:F3)","v":2},null,null,null,4.8084681950546813,null,101.54643657879205,98.146336110949051,3.4001004678430036,null,null,4,null,null,null,null,null,null,null,null,null,1.459258669456176,0.35034872780670412,99.336921518988675,0,0]
[54,94.633662936394103,100.68584995460697,null,null,null,97.659756445500534,18.314483851712147,"データの平均値",null,null,{"$f":"AVERAGE(B3:F92)","v":100.67639496473969},null,null,null,8.5590849631750121,null,100.68584995460697,94.633662936394103,6.0521870182128623,null,null,4,null,null,null,null,null,null,null,null,null,0.68463918978522997,3.4001004678430036,101.54643657879205,0,0]
[55,96.096767063136213,97.258260009402875,null,null,null,96.677513536269544,0.67453293211360588,"平均値に対する上方管理限界（ＵＣＬ）",null,null,{"$f":"$L$56+(3*(1/(SQRT($L$55)*$S$96))*$T$93)","v":109.93346140045377},null,null,null,1.6425990772109984,null,97.258260009402875,96.096767063136213,1.1614929462666623,null,null,4,null,null,null,null,null,null,null,null,null,2.1866298993700184,6.0521870182128623,100.68584995460697,0,0]
[56,103.275954441051,101.32400828078971,null,null,null,102.29998136092036,1.9050469062793898,"平均値に対する下方管理限界（ＬＣＬ）",null,null,{"$f":"$L$56-3*(1/(SQRT($L$55)*$S$96)*$T$93)","v":91.419328529025606},null,null,null,2.7604687328635982,null,103.275954441051,101.32400828078971,1.9519461602612864,null,null,4,null,null,null,null,null,null,null,null,null,0.98224290923099034,1.1614929462666623,97.258260009402875,0,0]
[57,108.94510776561219,107.92874743638095,null,null,null,108.43692760099657,0.51649415941752475,"Ｒの平均",null,null,{"$f":"T93","v":4.9223923068420339},null,null,null,1.4373505618568141,null,108.94510776561219,107.92874743638095,1.0163603292312473,null,null,4,null,null,null,null,null,null,null,null,null,5.622467824650812,1.9519461602612864,101.32400828078971,0,0]
[58,111.04153852793388,104.56176394436625,null,null,null,107.80165123615006,20.99373932692454,"Ｒに対する上方管理限界（ＵＣＬ）",null,null,{"$f":"((1+3*($T$96/$S$96))*$L$59)","v":16.089415279544841},null,null,null,9.1637850972018189,null,111.04153852793388,104.56176394436625,6.4797745835676324,null,null,4,null,null,null,null,null,null,null,null,null,6.1369462400762131,1.0163603292312473,107.92874743638095,0,0]
[59,96.47532149538165,100.76470314525068,null,null,null,98.620012320316164,9.1993974691165743,null,null,null,null,null,null,null,6.0661017034390623,null,100.76470314525068,96.47532149538165,4.2893816498690285,null,null,4,null,null,null,null,null,null,null,null,null,0.63527636484650429,6.4797745835676324,104.56176394436625,0,0]
[60,107.55233031668467,102.06680397241144,null,null,null,104.80956714454805,15.045499636857866,null,null,null,null,null,null,null,7.7577057528261193,null,107.55233031668467,102.06680397241144,5.4855263442732394,null,null,4,null,null,null,null,null,null,null,null,null,9.1816389158339007,4.2893816498690285,100.76470314525068,0,0]
[61,96.834185367333703,100.7879293661972,null,null,null,98.811057366765453,7.8160458042745757,null,null,null,null,null,null,null,5.5914383853439986,null,100.7879293661972,96.834185367333703,3.9537439988635015,null,null,4,null,null,null,null,null,null,null,null,null,6.189554824231891,5.4855263442732394,102.06680397241144,0,0]
[62,100.44600483306567,106.59453007756383,null,null,null,103.52026745531475,18.902181341115579,null,null,null,null,null,null,null,8.6953277893626488,null,106.59453007756383,100.44600483306567,6.1485252444981597,null,null,4,null,null,null,null,null,null,null,null,null,5.9985097777826013,3.9537439988635015,100.7879293661972,0,0]
[63,102.22491962631466,106.17044406681089,null,null,null,104.19768184656277,7.7835815552765393,null,null,null,null,null,null,null,5.5798141744242846,null,106.17044406681089,102.22491962631466,3.9455244404962286,null,null,4,null,null,null,null,null,null,null,null,null,4.7092100885492982,6.1485252444981597,106.59453007756383,0,0]
[64,101.79315975401551,91.982599567563739,null,null,null,96.887879660789622,48.123545585996261,null,null,null,null,null,null,null,13.874227270157608,null,101.79315975401551,91.982599567563739,9.8105601864517666,null,null,4,null,null,null,null,null,null,null,null,null,0.67741439124802127,3.9455244404962286,106.17044406681089,0,0]
[65,92.495190781482961,98.180709326334181,null,null,null,{"$f":"IF(ISERROR(AVERAGE(B67:F67)),\"\",AVERAGE(B67:F67))","v":95.337950053908571},16.16256056192357,null,null,null,null,null,null,null,8.0405374352523395,null,{"$f":"IF(B67<>\"\",MAX(B67:F67),\"\")","v":98.180709326334181},{"$f":"IF(B67<>\"\",MIN(B67:F67),\"\")","v":92.495190781482961},{"$f":"IF(R67<>\"\",R67-S67,\"\")","v":5.6855185448512202},null,null,4,null,null,null,null,null,null,null,null,null,7.309802185773151,9.8105601864517666,91.982599567563739,0,0]
[66,92.355424183188006,95.3,null,null,null,93.827712091594009,{"$f":"IF(ISERROR(DEVSQ(B68:F68)),\"\",DEVSQ(B68:F68))","v":4.3352633704770014},null,null,null,null,null,null,null,{"$f":"IF(COUNTA(B68:F68)<>0,STDEV(B68:F68)*2,\"\")","v":4.1642590555713515},null,95.3,92.355424183188006,2.9445758168119909,null,null,{"$f":"COUNTA(B68:F68)^2","v":4},null,null,null,null,null,null,null,null,null,1.5499296068810509,{"$f":"IF($R67<>\"\",ABS(B67-C67),\"\")","v":5.6855185448512202},{"$f":"IF($R67<>\"\",ABS(C67-D67),\"\")","v":98.180709326334181},{"$f":"IF($R67<>\"\",ABS(D67-E67),\"\")","v":0},{"$f":"IF($R67<>\"\",ABS(E67-F67),\"\")","v":0}]
[67,93.867868397501297,97.66131395517732,null,null,null,95.764591176339309,7.1951145995259758,null,null,null,null,null,null,null,5.3647421557894006,null,97.66131395517732,93.867868397501297,3.7934455576760229,null,null,4,null,null,null,null,null,null,null,null,null,{"$f":"IF(R68<>\"\",ABS(G67-G68),\"\")","v":1.5102379623145623},2.9445758168119909,95.3,0,0]
[68,99.532485617237398,99.567819486401277,null,null,null,99.550152551819338,6.2424115504503355E-4,null,null,null,null,null,null,null,4.9969636982673128E-2,null,99.567819486401277,99.532485617237398,3.5333869163878262E-2,null,null,4,null,null,null,null,null,null,null,null,null,1.9368790847452999,3.7934455576760229,97.66131395517732,0,0]
[69,99.103823711266159,103.10714085571817,null,null,null,101.10548228349217,8.0132740795317066,null,null,null,null,null,null,null,5.6615454001647665,null,103.10714085571817,99.103823711266159,4.0033171444520121,null,null,4,null,null,null,null,null,null,null,null,null,3.7855613754800288,3.5333869163878262E-2,99.567819486401277,0,0]
[70,103.03369915855001,102.58437466982286,null,null,null,102.80903691418644,0.10094624808495424,null,null,null,null,null,null,null,0.63544078586428254,null,103.03369915855001,102.58437466982286,0.44932448872714303,null,null,4,null,null,null,null,null,null,null,null,null,1.5553297316728276,4.0033171444520121,103.10714085571817,0,0]
[71,92.85739704646403,92.171842677635141,null,null,null,92.514619862049585,0.23499239631018817,null,null,null,null,null,null,null,0.96952028614194175,null,92.85739704646403,92.171842677635141,0.68555436882888898,null,null,4,null,null,null,null,null,null,null,null,null,1.7035546306942706,0.44932448872714303,102.58437466982286,0,0]
[72,105.10107156515005,100.32017624107539,null,null,null,102.71062390311272,11.428480049879489,null,null,null,null,null,null,null,6.7612070075925024,null,105.10107156515005,100.32017624107539,4.7808953240746632,null,null,4,null,null,null,null,null,null,null,null,null,10.294417052136851,0.68555436882888898,92.171842677635141,0,0]
[73,94.144820902874926,92.870107234921306,null,null,null,93.507464068898116,0.81244746763388553,null,null,null,null,null,null,null,1.8027173573623632,null,94.144820902874926,92.870107234921306,1.2747136679536197,null,null,4,null,null,null,null,null,null,null,null,null,10.196004041063134,4.7808953240746632,100.32017624107539,0,0]
[74,99.713168108428363,101.2943246474606,null,null,null,100.50374637794448,1.2500280004621991,null,null,null,null,null,null,null,2.236093021734292,null,101.2943246474606,99.713168108428363,1.5811565390322357,null,null,4,null,null,null,null,null,null,null,null,null,9.2031598342146026,1.2747136679536197,92.870107234921306,0,0]
[75,95.10073394048959,107.33009528630646,null,null,null,101.21541461339802,74.778639463279887,null,null,null,null,null,null,null,17.294928674415502,null,107.33009528630646,95.10073394048959,12.229361345816869,null,null,4,null,null,null,null,null,null,null,null,null,6.9962823090463644,1.5811565390322357,101.2943246474606,0,0]
[76,97.81680912747106,99.062981714814669,null,null,null,{"$f":"IF(ISERROR(AVERAGE(B78:F78)),\"\",AVERAGE(B78:F78))","v":98.439895421142865},0.77647305872333117,null,null,null,null,null,null,null,1.7623541740789008,null,99.062981714814669,97.81680912747106,1.246172587343608,null,null,4,null,null,null,null,null,null,null,null,null,0.71166823545354418,12.229361345816869,107.33009528630646,0,0]
[77,98.505643361568218,98.481627017099527,null,null,null,{"$f":"IF(ISERROR(AVERAGE(B79:F79)),\"\",AVERAGE(B79:F79))","v":98.493635189333872},2.8839240081942165E-4,null,null,null,null,null,null,null,3.3964240066247424E-2,null,98.505643361568218,98.481627017099527,2.4016344468691386E-2,null,null,4,null,null,null,null,null,null,null,null,null,2.7755191922551603,1.246172587343608,99.062981714814669,0,0]
[78,100.66963821154786,96.606516106112394,null,null,null,98.638077158830129,8.2544806218391766,null,null,null,null,null,null,null,5.746122387084764,null,100.66963821154786,96.606516106112394,4.0631221054354683,null,null,4,null,null,null,null,null,null,null,null,null,5.3739768191007897E-2,2.4016344468691386E-2,98.481627017099527,0,0]
[79,94.507436440471793,107.28114173398353,null,null,null,100.89428908722766,81.583773462744915,null,null,null,null,null,null,null,18.064747267841298,null,107.28114173398353,94.507436440471793,12.773705293511739,null,null,4,null,null,null,null,null,null,null,null,null,0.14444196949625621,4.0631221054354683,96.606516106112394,0,0]
[80,97.014435848541325,94.465997588122264,null,null,null,95.740216718331794,3.2472687835838658,null,null,null,null,null,null,null,3.6040359507551343,null,97.014435848541325,94.465997588122264,2.5484382604190614,null,null,4,null,null,null,null,null,null,null,null,null,2.2562119283975335,12.773705293511739,107.28114173398353,0,0]
[81,99.104602466104552,101.17090621643001,null,null,null,100.13775434126728,2.1348055943045305,null,null,null,null,null,null,null,2.9221947876926553,null,101.17090621643001,99.104602466104552,2.06630375032546,null,null,4,null,null,null,null,null,null,null,null,null,5.1540723688958678,2.5484382604190614,94.465997588122264,0,0]
[82,103,92.914217727957293,null,null,null,97.957108863978647,50.861502019525467,null,null,null,null,null,null,null,14.263450076264924,null,103,92.914217727957293,10.085782272042707,null,null,4,null,null,null,null,null,null,null,null,null,4.3975376229354879,2.06630375032546,101.17090621643001,0,0]
[83,102.7368514565751,103.77889364244766,null,null,null,103.25787254951138,0.54292595856903181,null,null,null,null,null,null,null,1.4736701918258803,null,103.77889364244766,102.7368514565751,1.0420421858725604,null,null,4,null,null,null,null,null,null,null,null,null,2.1806454772886354,10.085782272042707,92.914217727957293,0,0]
[84,101.63212803272472,99.299086539394921,null,null,null,100.46560728605982,2.7215413047992754,null,null,null,null,null,null,null,3.299418921446184,null,101.63212803272472,99.299086539394921,2.3330414933298016,null,null,4,null,null,null,null,null,null,null,null,null,5.3007636855327291,1.0420421858725604,103.77889364244766,0,0]
[85,102.28674821300956,104.48230821348261,null,null,null,103.38452821324609,2.4102418578386127,null,null,null,null,null,null,null,3.1049907296728683,null,104.48230821348261,102.28674821300956,2.1955600004730513,null,null,4,null,null,null,null,null,null,null,null,null,2.7922652634515543,2.3330414933298016,99.299086539394921,0,0]
[86,101.96722567125107,93.125038599828258,null,null,null,97.546132135539665,39.092136103018376,null,null,null,null,null,null,null,12.504740877446181,null,101.96722567125107,93.125038599828258,8.8421870714228135,null,null,4,null,null,null,null,null,null,null,null,null,2.9189209271862637,2.1955600004730513,104.48230821348261,0,0]
[87,95.994278378930176,103.92453216591093,null,null,null,99.959405272420554,31.444462562961316,null,null,null,null,null,null,null,11.215072458608784,null,103.92453216591093,95.994278378930176,7.9302537869807566,null,null,4,null,null,null,null,null,null,null,null,null,5.8383960777064203,8.8421870714228135,93.125038599828258,0,0]
[88,105.34394075657474,100.88490423877374,null,null,null,103.11442249767424,9.9415033335414158,null,null,null,null,null,null,null,6.3060299185910678,null,105.34394075657474,100.88490423877374,4.4590365178009961,null,null,4,null,null,null,null,null,null,null,null,null,2.4132731368808891,7.9302537869807566,103.92453216591093,0,0]
[89,94.985057583107846,107.44053068046924,null,null,null,101.21279413178854,77.56940503954668,null,null,null,null,null,null,null,17.6146989800617,null,107.44053068046924,94.985057583107846,12.455473097361391,null,null,4,null,null,null,null,null,null,null,null,null,3.1550172252536868,4.4590365178009961,100.88490423877374,0,0]
[90,98.5,91.689674061490223,null,null,null,95.094837030745111,23.19026969436954,null,null,null,null,null,null,null,9.6312553064218047,null,98.5,91.689674061490223,6.8103259385097772,null,null,4,null,null,null,null,null,null,null,null,null,1.9016283658856992,12.455473097361391,107.44053068046924,0,0]
["最大値",{"$f":"IF(COUNTA(B3:B62)<>0,MAX(B3:B62),\"\")","v":111.04153852793388},110.67028279067017,"","","",108.43692760099657,90.658022518494519,null,null,null,null,null,null,null,null,null,null,"平均",{"$f":"AVERAGE(T3:T92)","v":4.9223923068420339},null,null,null,null,null,null,null,null,null,null,null,null,6.1179571010434302,6.8103259385097772,91.689674061490223,0,0]
["最小値",{"$f":"IF(COUNTA(B3:B62)<>0,MIN(B3:B62),\"\")","v":91.719960235059261},91.982599567563739,"","","",95.504308003546612,6.1372115537888024E-2,null,null,null,null,null,null,null,null,null,null,"管理限界係数",null,null,null,null,null,null,null,null,null,null,null,null,"平均",{"$f":"AVERAGE(AG4:AG93)","v":3.6812144248686094},null,null,null,{"$f":"AVERAGE(AH4:AK93)","v":26.514654982274564}]
["全平均",{"$f":"AVERAGE(B3:F92)","v":100.67639496473969},null,null,null,"合計",{"$f":"SUM(G3:G92)/2","v":4530.4377734132859},{"$f":"SUM(H3:H92)","v":1565.6506295212716},null,null,null,null,null,null,null,null,null,null,"d2","d3"]
[null,{"$f":"COUNT(B3:B92)","v":90},null,null,null,"分散",{"$f":"VAR(G3:G92)","v":12.182185880408195},null,null,null,null,null,null,null,null,null,null,null,{"$f":"CHOOSE(L55,\"0\",\"1.128\",\"1.693\",\"2.059\",\"2.326\")","v":"1.128"},{"$f":"CHOOSE(L55,\"0\",\"0.853\",\"0.888\",\"0.88\",\"0.864\")","v":"0.853"}]
[null,3,{"$f":"MIN(IF(B96=A3:A92,ROW(B3:B92)))","v":92}]
[null,{"$f":"\"b\"&B97&\":b\"&C97","v":"b3:b92"},{"$f":"\"c\"&B97&\":c\"&C97","v":"c3:c92"},{"$f":"\"d\"&B97&\":d\"&C97","v":"d3:d92"},{"$f":"\"e\"&B97&\":e\"&C97","v":"e3:e92"},{"$f":"\"f\"&B97&\":f\"&C97","v":"f3:f92"}]
[]
[]
[]
[]
[]
[]
[]
[]
[]
[]
[]
[]
[]
[]
[]
[]
[]
[]
[]
[]
[]
[]
[]
[]
[null,0,null,"偏差",0]
[null,1,"線グラフ","倍率",{"$f":"M7/M8","v":0.44752860953242152}]
[null,-4,{"$f":"(1/(SQRT(2*3.1416))*$B$124)*EXP(-((B125-$B$123)^2)/2*$B$124^2)","v":1.3383006928851802E-4},{"$f":"(B125*$E$124)+$E$123","v":-1.7901144381296861},{"$f":"C125","v":1.3383006928851802E-4}]
[null,{"$f":"B125+0.1","v":-3.9},{"$f":"(1/(SQRT(2*3.1416))*$B$124)*EXP(-((B126-$B$123)^2)/2*$B$124^2)","v":1.9865523912172676E-4},{"$f":"(B126*$E$124)+$E$123","v":-1.7453615771764439},{"$f":"C126","v":1.9865523912172676E-4}]
[null,{"$f":"B126+0.1","v":-3.8},2.9194658444260468E-4,-1.7006087162232018,2.9194658444260468E-4]
[null,-3.6999999999999997,4.2477977389109793E-4,-1.6558558552699596,4.2477977389109793E-4]
[null,-3.5999999999999996,6.1190121466858378E-4,-1.6111029943167172,6.1190121466858378E-4]
[null,-3.4999999999999996,8.7268167469167356E-4,-1.5663501333634751,8.7268167469167356E-4]
[null,-3.3999999999999995,1.232217727743334E-3,-1.5215972724102329,1.232217727743334E-3]
[null,-3.2999999999999994,1.7225669249994707E-3,-1.4768444114569907,1.7225669249994707E-3]
[null,-3.1999999999999993,2.3840854139520946E-3,-1.4320915505037486,2.3840854139520946E-3]
[null,-3.0999999999999992,3.2668152365846214E-3,-1.3873386895505064,3.2668152365846214E-3]
[null,-2.9999999999999991,4.4318432301523932E-3,-1.3425858285972641,4.4318432301523932E-3]
[null,-2.899999999999999,5.9525254599830111E-3,-1.2978329676440219,5.9525254599830111E-3]
[null,-2.7999999999999989,7.9154423281117218E-3,-1.2530801066907797,7.9154423281117218E-3]
[null,-2.6999999999999988,1.0420922630104662E-2,-1.2083272457375376,1.0420922630104662E-2]
[null,-2.5999999999999988,1.3582953352268204E-2,-1.1635743847842954,1.3582953352268204E-2]
[null,-2.4999999999999987,1.752827999920889E-2,-1.1188215238310533,1.752827999920889E-2]
[null,-2.3999999999999986,2.2394504110812202E-2,-1.0740686628778111,2.2394504110812202E-2]
[null,-2.2999999999999985,2.8327004621191157E-2,-1.0293158019245687,2.8327004621191157E-2]
[null,-2.1999999999999984,3.5474551368789603E-2,-0.98456294097132657,3.5474551368789603E-2]
[null,-2.0999999999999983,4.3983544554127479E-2,-0.93981008001808441,4.3983544554127479E-2]
[null,-1.9999999999999982,5.399090338611616E-2,-0.89505721906484226,5.399090338611616E-2]
[null,-1.8999999999999981,6.5615738055652573E-2,-0.8503043581116001,6.5615738055652573E-2]
[null,-1.799999999999998,7.8950065991149732E-2,-0.80555149715835783,7.8950065991149732E-2]
[null,-1.699999999999998,9.4048967413253137E-2,-0.76079863620511567,9.4048967413253137E-2]
[null,-1.5999999999999979,0.11092070498910253,-0.71604577525187352,0.11092070498910253]
[null,-1.4999999999999978,0.12951744423191855,-0.67129291429863125,0.12951744423191855]
[null,-1.3999999999999977,0.14972729057207956,-0.62654005334538909,0.14972729057207956]
[null,-1.2999999999999976,0.17136839168100279,-0.58178719239214693,0.17136839168100279]
[null,-1.1999999999999975,0.19418582793787831,-0.53703433143890467,0.19418582793787831]
[null,-1.0999999999999974,0.21785192231642042,-0.49228147048566251,0.21785192231642042]
[null,-0.99999999999999745,0.24197044160323494,-0.44752860953242035,0.24197044160323494]
[null,-0.89999999999999747,0.26608493878777084,-0.40277574857917825,0.26608493878777084]
[null,-0.79999999999999749,0.28969121404964476,-0.35802288762593609,0.28969121404964476]
[null,-0.69999999999999751,0.31225356827463929,-0.31327002667269394,0.31225356827463929]
[null,-0.59999999999999754,0.33322421328044682,-0.26851716571945183,0.33322421328044682]
[null,-0.49999999999999756,0.35206491512408122,-0.22376430476620968,0.35206491512408122]
[null,-0.39999999999999758,0.36826970971618667,-0.17901144381296752,0.36826970971618667]
[null,-0.2999999999999976,0.38138736953599894,-0.13425858285972539,0.38138736953599894]
[null,-0.1999999999999976,0.39104223676229755,-8.9505721906483232E-2,0.39104223676229755]
[null,-9.9999999999997591E-2,0.39695208335396132,-4.4752860953241075E-2,0.39695208335396132]
[null,2.4147350785597155E-15,0.39894181395195566,1.0806630320969922E-15,0.39894181395195566]
[null,0.10000000000000242,0.39695208335396115,4.4752860953243233E-2,0.39695208335396115]
[null,0.20000000000000243,0.39104223676229716,8.9505721906485383E-2,0.39104223676229716]
[null,0.30000000000000243,0.38138736953599839,0.13425858285972755,0.38138736953599839]
[null,0.40000000000000246,0.36826970971618594,0.17901144381296971,0.36826970971618594]
[null,0.50000000000000244,0.35206491512408039,0.22376430476621184,0.35206491512408039]
[null,0.60000000000000242,0.33322421328044588,0.268517165719454,0.33322421328044588]
[null,0.7000000000000024,0.31225356827463818,0.31327002667269616,0.31225356827463818]
[null,0.80000000000000238,0.2896912140496436,0.35802288762593826,0.2896912140496436]
[null,0.90000000000000235,0.26608493878776962,0.40277574857918041,0.26608493878776962]
[null,1.0000000000000024,0.24197044160323375,0.44752860953242263,0.24197044160323375]
[null,1.1000000000000025,0.21785192231641923,0.49228147048566478,0.21785192231641923]
[null,1.2000000000000026,0.19418582793787709,0.537034331438907,0.19418582793787709]
[null,1.3000000000000027,0.17136839168100168,0.58178719239214916,0.17136839168100168]
[null,1.4000000000000028,0.14972729057207848,0.62654005334539142,0.14972729057207848]
[null,1.5000000000000029,0.12951744423191755,0.67129291429863358,0.12951744423191755]
[null,1.600000000000003,0.11092070498910164,0.71604577525187574,0.11092070498910164]
[null,1.7000000000000031,9.4048967413252318E-2,0.76079863620511801,9.4048967413252318E-2]
[null,1.8000000000000032,7.8950065991149024E-2,0.80555149715836016,7.8950065991149024E-2]
[null,1.9000000000000032,6.5615738055651934E-2,0.85030435811160232,6.5615738055651934E-2]
[null,2.0000000000000031,5.3990903386115625E-2,0.89505721906484448,5.3990903386115625E-2]
[null,2.1000000000000032,4.3983544554127028E-2,0.93981008001808664,4.3983544554127028E-2]
[null,2.2000000000000033,3.5474551368789221E-2,0.98456294097132879,3.5474551368789221E-2]
[null,2.3000000000000034,2.8327004621190841E-2,1.029315801924571,2.8327004621190841E-2]
[null,2.4000000000000035,2.2394504110811942E-2,1.0740686628778131,2.2394504110811942E-2]
[null,2.5000000000000036,{"$f":"(1/(SQRT(2*3.1416))*$B$124)*EXP(-((B190-$B$123)^2)/2*$B$124^2)","v":1.7528279999208671E-2},{"$f":"(B190*$E$124)+$E$123","v":1.1188215238310555},{"$f":"C190","v":1.7528279999208671E-2}]
[null,{"$f":"B190+0.1","v":2.6000000000000036},1.3582953352268031E-2,1.1635743847842976,1.3582953352268031E-2]
[null,2.7000000000000037,1.0420922630104522E-2,1.2083272457375398,1.0420922630104522E-2]
[null,2.8000000000000038,7.9154423281116125E-3,1.253080106690782,7.9154423281116125E-3]
[null,2.9000000000000039,5.9525254599829261E-3,1.2978329676440241,5.9525254599829261E-3]
[null,3.000000000000004,4.4318432301523273E-3,1.3425858285972663,4.4318432301523273E-3]
[null,3.1000000000000041,3.2668152365845724E-3,1.3873386895505084,3.2668152365845724E-3]
[null,3.2000000000000042,2.3840854139520564E-3,1.4320915505037508,2.3840854139520564E-3]
[null,3.3000000000000043,1.7225669249994417E-3,1.476844411456993,1.7225669249994417E-3]
[null,3.4000000000000044,1.2322177277433143E-3,1.5215972724102351,1.2322177277433143E-3]
[null,3.5000000000000044,8.7268167469165795E-4,1.5663501333634773,8.7268167469165795E-4]
[null,3.6000000000000045,6.1190121466857283E-4,1.6111029943167194,6.1190121466857283E-4]
[null,3.7000000000000046,4.2477977389109001E-4,1.6558558552699616,4.2477977389109001E-4]
[null,3.8000000000000047,2.9194658444259953E-4,1.700608716223204,2.9194658444259953E-4]
[null,3.9000000000000048,1.9865523912172288E-4,1.7453615771764461,1.9865523912172288E-4]
[null,4.0000000000000044,1.3383006928851564E-4,1.7901144381296881,1.3383006928851564E-4]

{"sheet":"検出限界と定量限界","index":8,"n_rows":138,"n_cols":55,"rows_kept":138,"cut":false,"hidden":false,"merged":[[44,17,44,18],[30,10,30,11],[44,2,44,3],[44,4,44,5],[44,6,44,7],[44,8,44,9],[44,10,44,11]]}
["検出限界と定量限界",null,null,"解　説",null,"「日本臨床化学会クオリティマネジメント専門委員会：定量分析法における検出限界および定量限界の評価法、臨床化学 35:280-294、2006」より"]
[]
["ブランク上限","（LoB： Limit of Blank)",null,null,null,"負のデータ数の推定",null,{"$f":"AC5","v":10.728844989222182},null,null,null,null,null,null,null,null,"階級数（3～18まで指定可能）"]
["繰り返し","１日目","２日目","３日目","４日目","５日目","６日目","７日目","８日目",null,null,null,null,null,null,null,9,null,null,null,null,null,null,null,null,"面積",null,null,"負のデータの推定",null,null,0,1E-3,3.0000000000000001E-3,0,2E-3,1E-3,3.0000000000000001E-3,1E-3,null,8.0000000000000002E-3,4.0000000000000001E-3,1E-3,1E-3,0]
[1,8.0000000000000002E-3,4.0000000000000001E-3,1E-3,1E-3,0,null,null,null,null,null,null,null,null,null,null,"データ区間","X累積","階級値",null,null,null,null,null,"正規分布",{"$f":"SUM(Z6:Z23)","v":1.3279670132053216},null,null,{"$f":"SUM(AC6:AC22)","v":10.728844989222182},null,null,1E-3,1E-3,1E-3,1E-3,3.0000000000000001E-3,2E-3,2E-3,0,null,4.0000000000000001E-3,2E-3,0,0,0]
[2,4.0000000000000001E-3,2E-3,0,0,0,null,null,null,null,null,null,null,null,null,null,{"$f":"MINk1","v":0},{"$f":"FREQUENCY($B$5:$I$16,Q6)","v":29},{"$f":"R6","v":29},null,null,null,null,{"$f":"((Q6-$B$18)*(1/$B$19))","v":-0.69203649129462985},{"$f":"(1/(SQRT(2*3.1416)))*EXP(-(X6^2)/2)*($B$17/$Z$5)","v":14.186607643197009},{"$f":"(1/(SQRT(2*3.1416)))*EXP(-(X6^2)/2)","v":0.31398911632420196},{"$f":"AA7-CEILING((MAXK1-MINk1)/(階級数k1-1),0.00001)","v":-1.7000000000000008E-2},{"$f":"((AA6-$B$18)*(1/$B$19))","v":-11.551686046994975},{"$f":"(1/(SQRT(2*3.1416)))*EXP(-(AB6^2)/2)*($B$17/$Z$5)","v":1.9029646042617097E-28},null,null,4.0000000000000001E-3,4.0000000000000001E-3,4.0000000000000001E-3,3.0000000000000001E-3,5.0000000000000001E-3,6.0000000000000001E-3,0,0,null,3.0000000000000001E-3,5.0000000000000001E-3,2E-3,0,0]
[3,3.0000000000000001E-3,5.0000000000000001E-3,2E-3,0,0,null,null,null,null,null,null,null,null,null,null,{"$f":"Q6+CEILING((MAXK1-MINk1)/(階級数k1-1),0.00001)","v":1E-3},{"$f":"FREQUENCY($B$5:$I$16,Q7)","v":45},{"$f":"R7-R6","v":16},null,null,null,null,{"$f":"((Q7-$B$18)*(1/$B$19))","v":-5.3233576253433411E-2},{"$f":"(1/(SQRT(2*3.1416)))*EXP(-(X7^2)/2)*($B$17/$Z$5)","v":17.999405718081878},{"$f":"(1/(SQRT(2*3.1416)))*EXP(-(X7^2)/2)","v":0.39837695084853297},-1.6000000000000007E-2,-10.912883131953778,2.4864944012716567E-25,null,null,1E-3,2E-3,3.0000000000000001E-3,2E-3,3.0000000000000001E-3,3.0000000000000001E-3,1E-3,0,null,4.0000000000000001E-3,0,0,0,1E-3]
[4,4.0000000000000001E-3,0,0,0,1E-3,null,null,null,null,null,null,null,null,null,null,2E-3,{"$f":"FREQUENCY($B$5:$I$16,Q8)","v":52},7,null,null,null,null,0.58556933878776307,15.185027708816095,0.33608693153194263,-1.5000000000000006E-2,-10.274080216912582,2.1603398398862092E-22,null,null,0,1E-3,1E-3,0,1E-3,2E-3,0,2E-3,null,1E-3,0,1E-3,0,0]
[5,1E-3,0,1E-3,0,0,null,null,null,null,null,null,null,null,null,null,3.0000000000000001E-3,54,2,null,null,null,null,1.2243722538289594,8.5182586873703539,0.18853277577962488,-1.4000000000000005E-2,-9.6352773018713833,1.2480571640397943E-19,null,null,3.0000000000000001E-3,0,2E-3,0,2E-3,1E-3,2E-3,1E-3,null,1E-3,1E-3,1E-3,0,0]
[6,1E-3,1E-3,1E-3,0,0,null,null,null,null,null,null,null,null,null,null,4.0000000000000001E-3,58,4,null,null,null,null,1.8631751688701561,3.1773413497358405,7.0323408369041149E-2,-1.3000000000000005E-2,-8.9964743868301866,4.7942943460150122E-17,null,null,1E-3,3.0000000000000001E-3,2E-3,1E-3,1E-3,4.0000000000000001E-3,1E-3,2E-3,null,2E-3,1E-3,1E-3,2E-3,2E-3]
[7,2E-3,1E-3,1E-3,2E-3,2E-3,null,null,null,null,null,null,null,null,null,null,5.0000000000000001E-3,59,1,null,null,null,null,2.5019780839113528,0.78805175079971213,1.7441778829345302E-2,-1.2000000000000004E-2,-8.3576714717889899,1.2245956835210362E-14,null,null,null,null,null,null,null,null,null,null,null,4.0000000000000001E-3,0,1E-3,0,0]
[8,4.0000000000000001E-3,0,1E-3,0,0,null,null,null,null,null,null,null,null,null,null,6.0000000000000001E-3,59,0,null,null,null,null,3.140780998952549,0.12996410355177604,2.8764673736259858E-3,-1.1000000000000003E-2,-7.7188685567477924,2.0798813862858017E-12,null,null,1.0000000000000009E-3,6.9999999999999923E-3,1.0999999999999999E-2,8.0000000000000002E-3,8.0000000000000002E-3,0.01,null,null,null,0,2E-3,0,0,0]
[9,0,2E-3,0,0,0,null,null,null,null,null,null,null,null,null,null,7.0000000000000001E-3,59,0,null,null,null,null,3.7795839139937457,1.4251806149715919E-2,3.1543214075699139E-4,-1.0000000000000002E-2,-7.0800656417065957,2.3488875498038092E-10,null,null,1.0000000000000009E-3,4.0000000000000036E-3,7.0000000000000001E-3,1.6E-2,1.2999999999999999E-2,1.0999999999999999E-2,null,null,null,0,2E-3,1E-3,0,0]
[10,0,2E-3,1E-3,0,0,null,null,null,null,null,null,null,null,null,null,8.0000000000000002E-3,60,1,null,null,null,null,4.418386829034942,1.0391882109898152E-3,2.3000127745105442E-5,-9.0000000000000011E-3,-6.4412627266653981,1.7638583175281388E-8,null,null,7.9999999999999932E-3,4.0000000000000036E-3,0.01,1.8000000000000002E-2,0.02,1.9000000000000003E-2,null,null,null,1E-3,0,0,1E-3,0]
[11,1E-3,0,0,1E-3,0,null,null,null,null,null,null,null,null,null,null,9.0000000000000011E-3,60,0,null,null,null,null,5.0571897440761386,5.0384427677357637E-5,1.1151476322460026E-6,-8.0000000000000002E-3,-5.8024598116242014,8.8073039074007377E-7,null,null,8.0000000000000002E-3,8.9999999999999941E-3,0.02,1.9000000000000003E-2,1.7000000000000001E-2,2.5999999999999995E-2,null,null,null,3.0000000000000001E-3,1E-3,0,1E-3,0]
[12,3.0000000000000001E-3,1E-3,0,1E-3,0,null,null,null,null,null,null,null,null,null,null,1.0000000000000002E-2,60,0,null,null,null,null,5.6959926591173362,1.6243374671387761E-6,3.5951109577896295E-8,-7.0000000000000001E-3,-5.1636568965830056,2.9241529256241714E-5,null,null,1.2999999999999999E-2,1.6E-2,1.4999999999999999E-2,1.9000000000000003E-2,1.8000000000000002E-2,2.3E-2]
["データ数",{"$f":"COUNT(B5:I16)","v":60},"最大値",{"$f":"MAX(B5:I16)","v":8.0000000000000002E-3},null,null,"LoB",null,"片側検定",null,null,null,null,null,null,null,1.1000000000000003E-2,60,0,null,null,null,null,6.3347955741585329,3.4820420207735596E-8,7.7067282369701441E-10,-6.0000000000000001E-3,-4.524853981541809,6.4555759346568214E-4,null,null,0.01,1.8000000000000002E-2,1.4E-2,1.9000000000000003E-2,1.9000000000000003E-2,3.2000000000000001E-2]
["平均値",{"$f":"AVERAGE(B5:I16)","v":1.0833333333333339E-3},"最小値",{"$f":"MIN(B5:I16)","v":0},null,"ﾊﾟﾗﾒﾄﾘｯｸ",{"$f":"B18+I19*B19","v":3.6584624713929398E-3},null,"p=0.05",null,null,null,null,null,null,null,1.2000000000000004E-2,60,0,null,null,null,null,6.9735984891997305,4.9632890414274916E-10,1.0985140206698615E-11,-5.0000000000000001E-3,-3.8860510665006123,9.4764946171792281E-3,null,null,7.0000000000000001E-3,8.9999999999999993E-3,2.0999999999999991E-2,0.02,2.0999999999999991E-2,2.1999999999999999E-2]
["標準偏差(SD)",{"$f":"STDEV(B5:I16)","v":1.5654280474526479E-3},"レンジ",{"$f":"D17-D18","v":8.0000000000000002E-3},null,"ﾉﾝﾊﾟﾗﾒﾄﾘｯｸ",{"$f":"LARGE(B5:I16,B17*0.05)","v":4.0000000000000001E-3},null,1.645,null,null,null,null,null,null,null,1.3000000000000005E-2,60,{"$f":"R19-R18","v":0},null,null,null,null,7.6124014042409271,4.7041692727081799E-12,1.0411636031150887E-13,-4.0000000000000001E-3,-3.2472481514594156,9.2499260409479894E-2,null,null,1.8000000000000002E-2,1.9000000000000003E-2,1.4E-2,2.0999999999999991E-2,2.3999999999999994E-2,2.8999999999999998E-2,null,null,null,"乱数でデータを発生させる"]
[null,null,null,null,null,null,null,null,null,null,null,null,null,null,null,null,1.4000000000000005E-2,60,{"$f":"R20-R19","v":0},null,null,null,null,8.2512043192821238,2.9646547716641284E-14,6.5616062371861959E-16,-3.0000000000000001E-3,-2.6084452364182193,0.60035290168967959,null,null,8.9999999999999993E-3,1.9000000000000003E-2,1.7000000000000001E-2,1.7000000000000001E-2,1.7000000000000001E-2,2.1999999999999999E-2,null,null,null,0.16787906891549936,0.34163075573160312,0.10874690663767977,0.11631981427199206,0.54083465177682233]
[null,null,null,null,null,null,null,null,null,null,null,null,null,null,null,null,1.5000000000000006E-2,60,{"$f":"R21-R20","v":0},null,null,null,null,8.8900072343233205,1.2423476095952088E-16,2.7496610741282006E-18,-2E-3,-1.9696423213770227,2.5909127102909224,null,null,2.0999999999999991E-2,0.01,1.7000000000000001E-2,1.0999999999999999E-2,1.7000000000000001E-2,2.3E-2,null,null,null,0.57308215067023416,0.48391347111901267,0.20599167176696936,2.1292624599300314E-2,0.45254363461281172]
["検出限界","（LoD： Limit of Detection)",null,null,null,null,null,null,null,null,null,null,null,null,null,null,1.6000000000000007E-2,60,{"$f":"R22-R21","v":0},null,null,null,null,9.528810149364519,3.4617041062485439E-19,7.6617147709591269E-21,-1E-3,-1.3308394063358262,7.4349279244862441,null,null,null,null,null,null,null,null,null,null,null,0.7155735950917006,0.18292802299838512,0.47790171114029362,0.63687956602079798,0.41823613021988421]
[null,"試料１","試料２","試料３","試料４","試料５","試料６","試料７","試料８","試料数",null,null,null,null,null,null,1.7000000000000008E-2,60,{"$f":"R23-R22","v":0},null,null,null,null,10.167613064405714,6.4137875678006861E-22,1.4195497199576168E-23,0,{"$f":"((AA23-$B$18)*(1/$B$19))","v":-0.69203649129462985},{"$f":"(1/(SQRT(2*3.1416)))*EXP(-(AB23^2)/2)*($B$17/$Z$5)","v":14.186607643197009},null,null,null,null,null,null,null,null,null,null,null,2.4409462942276139E-2,0.44858278518659062,0.33628247213782742,0.3290565367322415,-0.13924228521063925]
["理論濃度",6.0000000000000001E-3,8.0000000000000002E-3,0.01,1.2E-2,1.4E-2,1.6E-2,1.7999999999999999E-2,null,{"$f":"COUNT(B23:I24)","v":7},null,null,null,null,null,null,null,null,null,null,null,null,"精密正規分布",null,"LoQ",null,"LoD X",null,null,"LoD Y","面積比の計算",null,null,null,null,null,null,null,null,null,0.11014434524695388,0.20650394465774297,0.57594705898081888,0.46037665773183106,0.20827518558944574]
["１日目",6.0000000000000001E-3,8.9999999999999993E-3,0.01,1.2999999999999999E-2,1.4999999999999999E-2,1.7000000000000001E-2,1.9E-2,null,"全データ数",null,null,null,null,null,null,null,null,null,null,null,null,{"$f":"$B$18-G18*2","v":-6.2335916094525459E-3},{"$f":"((W25-$B$18)*(1/$B$19))","v":-4.6740729825892595},{"$f":"(1/(SQRT(2*3.1416)))*EXP(-(X25^2)/2)*($B$17*5/$AE$25)","v":2.7569060126036169E-4},{"$f":"(1/(SQRT(2*3.1416)))*EXP(-(X25^2)/2)","v":7.1928806070655932E-6},{"$f":"W25+$G$18+$K$29","v":-2.9547447192585213E-4},{"$f":"((AA25-$L$32)*(1/$K$29))","v":-3.3794455728571315},{"$f":"(1/(SQRT(2*3.1416)))*EXP(-(AB25^2)/2)","v":1.3211325836255665E-3},{"$f":"AC25*$AE$27","v":9.0749408556641291E-4},{"$f":"SUM(Z25:Z110)","v":7.8271227682578672},null,null,null,null,null,null,null,null,null,0.22848574947856831,0.31759440237947273,-8.3783117285929631E-2,0.23729124980745836,0.4158393843070371]
["２日目",8.0000000000000002E-3,8.9999999999999993E-3,1.0999999999999999E-2,1.2E-2,1.4999999999999999E-2,1.7999999999999999E-2,1.9E-2,null,{"$f":"COUNT(B25:I34)","v":70},null,null,null,null,null,null,null,null,null,null,null,null,{"$f":"W25+CEILING((MAXK1-MINk1)/((階級数k1-1)*5),0.00001)","v":-6.0335916094525462E-3},{"$f":"((W26-$B$18)*(1/$B$19))","v":-4.5463123995810202},4.9684600698429011E-4,{"$f":"(1/(SQRT(2*3.1416)))*EXP(-(X26^2)/2)","v":1.2962915645282479E-5},{"$f":"W26+$G$18+$K$29","v":-9.5474471925852469E-5},{"$f":"((AA26-$L$32)*(1/$K$29))","v":-3.2917129864390335},{"$f":"(1/(SQRT(2*3.1416)))*EXP(-(AB26^2)/2)","v":1.7702634618569381E-3},{"$f":"AC26*$AE$27","v":1.2160048442078296E-3},{"$f":"SUM(AC25:AC138)","v":11.394748560514177},null,null,null,null,null,null,null,null,null,0.25500161276140715,-0.12577448766678573,8.9624325785553072E-2,0.26772339727613143,0.28679459167760796]
["３日目",5.0000000000000001E-3,0.01,1.0999999999999999E-2,1.4999999999999999E-2,1.7999999999999999E-2,1.7999999999999999E-2,2.1999999999999999E-2,null,null,null,null,null,null,null,null,null,null,null,null,null,null,-5.8335916094525465E-3,-4.4185518165727817,8.8091247388750234E-4,{"$f":"(1/(SQRT(2*3.1416)))*EXP(-(X27^2)/2)","v":2.2983366937357445E-5},1.0452552807414719E-4,-3.203980400020936,2.3538925796951012E-3,1.6169032696701645E-3,{"$f":"AE25/AE26","v":0.68690614160464425},null,null,null,null,null,null,null,null,null,0.20269816407817415,0.26038400240649934,0.1702865013910923,0.36967434273974503,0.14531928021169732]
["４日目",0.01,0.01,1.0999999999999999E-2,1.4999999999999999E-2,1.7000000000000001E-2,1.7999999999999999E-2,0.02,null,null,"合成標準偏差",null,null,null,null,null,null,null,null,null,null,null,-5.6335916094525469E-3,-4.2907912335645424,1.5365787686741229E-3,4.0089968885036215E-5,3.0452552807414685E-4,-3.116247813602838,3.1059367436698697E-3,2.1334870246623632E-3,null,null,null,null,null,null,null,null,null,null,0.3885747795109637,9.476888256613164E-2,0.23825485944398678,0.38079268809524364,0.32320803105249069]
["５日目",0.01,6.0000000000000001E-3,8.0000000000000002E-3,1.2E-2,1.4999999999999999E-2,1.9E-2,1.7000000000000001E-2,null,null,{"$f":"(SUM(B38:H38)/(J26-J24))^0.5","v":2.2796546661337539E-3},null,null,null,null,null,null,null,null,null,null,null,-5.4335916094525472E-3,-4.1630306505563031,2.6368656883156796E-3,6.8796904886178693E-5,5.045255280741465E-4,-3.02851522718474,4.0668280061046487E-3,2.7935291342430528E-3,null,null,null,null,null,null,null,null,null,null,0.26049314177071209,0.3109064330899855,0.28547536961268632,2.8463990322779853E-2,0.41007887223968281]
["６日目",2E-3,7.0000000000000001E-3,8.9999999999999993E-3,1.2E-2,1.4E-2,0.02,1.7000000000000001E-2,null,null,null,null,null,null,null,null,null,null,null,null,null,null,-5.2335916094525476E-3,-4.0352700675480637,4.4517657368245093E-3,1.1614838985883125E-4,7.0452552807414616E-4,-2.940782640766642,5.2841633826647442E-3,3.629724280794785E-3,null,null,null,null,null,null,null,null,null,null,0.21992035575094632,0.40586609278107061,-4.2643033945932995E-2,0.3847933279146673,0.40821440810104831]
["７日目",5.0000000000000001E-3,7.0000000000000001E-3,1.2E-2,8.9999999999999993E-3,8.9999999999999993E-3,1.2E-2,1.7999999999999999E-2,null,null,"LoD",null,null,null,null,null,null,null,null,null,null,null,-5.0335916094525479E-3,-3.9075094845398248,7.394140671403121E-3,1.9291615600280294E-4,9.0452552807414582E-4,-2.8530500543485444,6.8132433542187473E-3,4.6800587042598839E-3,null,null,null,null,null,null,null,null,null,null,0.50288780433475044,0.13758925736765376,0.33026320882781873,0.20827518558944574,0.3720692696631886]
["８日目",4.0000000000000001E-3,7.0000000000000001E-3,8.9999999999999993E-3,1.2E-2,1.4E-2,1.2999999999999999E-2,1.7000000000000001E-2,null,null,"ﾊﾟﾗﾒﾄﾘｯｸ",{"$f":"G18+K29*1.645","v":7.4084943971829652E-3},null,null,null,null,null,null,null,null,null,null,-4.8335916094525483E-3,-3.7797489015315859,1.2082428317650797E-2,3.1523549926976049E-4,1.1045255280741455E-3,-2.7653174679304464,8.7174366045919566E-3,5.988060742743352E-3]
["９日目",1E-3,4.0000000000000001E-3,7.0000000000000001E-3,1.2999999999999999E-2,1.0999999999999999E-2,1.4E-2,1.7000000000000001E-2,null,null,"ﾉﾝﾊﾟﾗﾒﾄﾘｯｸ",{"$f":"G19+K29*1.645","v":7.7500319257900255E-3},null,null,null,null,null,null,null,null,null,null,-4.6335916094525486E-3,-3.651988318523347,1.9423695377739796E-2,5.0677216111604082E-4,1.3045255280741451E-3,-2.6775848815123484,1.1068300121576327E-2,7.6028833306342096E-3]
["１０日目",5.0000000000000001E-3,5.0000000000000001E-3,8.9999999999999993E-3,1.0999999999999999E-2,1.4E-2,1.7000000000000001E-2,2.1000000000000001E-2,null,null,null,null,null,null,null,null,null,null,null,null,null,null,-4.4335916094525489E-3,-3.5242277355151077,3.0719956903746244E-2,8.014962470707089E-4,{"$f":"W34+$G$18+$K$29","v":1.5045255280741448E-3},-2.5898522950942504,1.3945377918517094E-2,9.5791657392271818E-3]
["データ数",{"$f":"COUNT(B25:B34)","v":10},{"$f":"COUNT(C25:C34)","v":10},10,10,10,10,10,{"$f":"COUNT(I25:I34)","v":0},null,null,null,null,null,null,null,null,null,null,null,null,null,-4.2335916094525493E-3,-3.3964671525068688,4.779918132523267E-2,1.2471002015160496E-3,1.7045255280741444E-3,-2.5021197086761529,1.7435599393538261E-2,1.1976620305979641E-2]
["平均値",{"$f":"IF(B35<>0,AVERAGE(B25:B34),\"\")","v":5.5999999999999999E-3},7.4000000000000012E-3,9.6999999999999986E-3,1.2399999999999998E-2,1.4200000000000001E-2,1.6600000000000004E-2,1.8700000000000001E-2,{"$f":"IF(I35<>0,AVERAGE(I25:I34),\"\")","v":""},{"$f":"AVERAGE(B25:I34)","v":1.2085714285714293E-2},null,null,null,null,null,null,null,null,null,null,null,null,-4.0335916094525496E-3,-3.2687065694986295,7.3169725734105073E-2,1.9090280874686579E-3,1.9045255280741441E-3,-2.4143871222580549,2.1632200932750707E-2,1.4859291677132175E-2]
["標準偏差",{"$f":"IF(B35<>0,STDEV(B25:B34),\"\")","v":3.0258148581093912E-3},2.0655911179772888E-3,1.5670212364724211E-3,1.776388345929897E-3,2.616188916046478E-3,2.6749870196985173E-3,1.8287822299126932E-3,{"$f":"IF(I35<>0,STDEV(I25:I34),\"\")","v":""},{"$f":"AVERAGE(B37:I37)","v":2.2221105320209553E-3},null,null,null,null,null,null,null,null,null,null,null,null,-3.8335916094525495E-3,-3.1409459864903906,0.11019287354671084,2.8749771647907348E-3,2.1045255280741442E-3,-2.3266545358399564,2.6633102899664501E-2,1.8294441951768006E-2]
[null,{"$f":"IF(B35<>0,(B35-1)*B37^2,\"\")","v":8.2399999999999997E-5},3.8399999999999991E-5,2.2099999999999998E-5,2.8399999999999999E-5,6.1600000000000007E-5,6.4400000000000007E-5,3.0099999999999986E-5,{"$f":"IF(I35<>0,(I35-1)*I37^2,\"\")","v":""},{"$f":"SUM(B38:I38)","v":3.2739999999999999E-4},null,null,null,null,null,null,null,null,null,null,null,null,-3.6335916094525494E-3,-3.0131854034821508,0.16326259771427298,4.2595879859143697E-3,2.3045255280741443E-3,-2.2389219494218588,3.2538689541957974E-2,2.235102568613774E-2]
[null,null,null,null,null,null,null,null,null,null,null,null,null,null,null,null,null,null,null,null,null,null,-3.4335916094525494E-3,-2.8854248204739119,0.2379748210075979,6.2088604659355333E-3,2.5045255280741444E-3,-2.1511893630037608,3.9448962144084179E-2,2.7097734376700537E-2]
[null,null,null,null,null,null,null,null,null,null,null,null,null,null,null,null,null,null,null,null,null,null,-3.2335916094525493E-3,-2.7576642374656721,0.3412608183066061,8.9036344029398262E-3,2.7045255280741445E-3,-2.0634567765856624,4.7460066023316302E-2,3.260061083237787E-2]
[null,null,null,null,null,null,null,null,null,null,null,null,null,null,null,null,null,null,null,null,null,null,-3.0335916094525492E-3,-2.6299036544574332,0.48145196034419685,1.2561278668774822E-2,2.9045255280741446E-3,-1.9757241901675642,5.6660229153466052E-2,3.8920259390242344E-2]
[null,null,null,null,null,null,null,null,null,null,null,null,null,null,null,null,null,null,null,null,null,null,-2.8335916094525491E-3,-2.5021430714491935,0.66823713047959821,1.7434580195240554E-2,3.1045255280741446E-3,-1.8879916037494664,6.7125193039565059E-2,4.6108707355274559E-2]
[null,null,null,null,null,null,null,null,null,null,null,null,null,null,null,null,null,null,null,null,null,null,-2.633591609452549E-3,-2.3743824884409546,0.91247160812140793,2.3806757664386474E-2,3.3045255280741447E-3,-1.8002590173313684,7.8913262939691878E-2,5.4206004967336512E-2]
["定量限界","（LoQ: Limit of Quantitation)",null,null,null,null,null,null,null,null,null,null,null,null,null,null,null,null,null,null,null,null,-2.4335916094525489E-3,-2.2466219054327148,1.2257989056747995,3.1981595079709338E-2,3.5045255280741448E-3,-1.7125264309132702,9.2060151888443201E-2,6.3236683729228027E-2,null,null,1E-3,1.0000000000000009E-3,7.9999999999999932E-3,8.0000000000000002E-3,1.2999999999999999E-2,0.01,7.0000000000000001E-3,1.8000000000000002E-2,8.9999999999999993E-3,2.0999999999999991E-2,null,null,null,6.0000000000000001E-3,8.0000000000000002E-3,5.0000000000000001E-3,0.01,0.01,2E-3,5.0000000000000001E-3,4.0000000000000001E-3,5.0000000000000001E-3,1E-3]
["測定日","理論濃度","１日目",null,"２日目",null,"３日目",null,"４日目",null,"５日目",null,null,null,null,"y=ax^b",null,"LoQ",null,null,null,null,-2.2335916094525488E-3,-2.1188613224244759,1.620056686789203,4.2267941930120581E-2,3.7045255280741449E-3,-1.6247938444951722,0.10657383784383374,7.3206223749306853E-2,null,null,6.9999999999999923E-3,4.0000000000000036E-3,4.0000000000000036E-3,8.9999999999999941E-3,1.6E-2,1.8000000000000002E-2,8.9999999999999993E-3,1.9000000000000003E-2,1.9000000000000003E-2,0.01,null,null,null,8.9999999999999993E-3,8.9999999999999993E-3,0.01,0.01,6.0000000000000001E-3,7.0000000000000001E-3,7.0000000000000001E-3,7.0000000000000001E-3,5.0000000000000001E-3,4.0000000000000001E-3]
[null,null,"１回目","２回目","１回目","２回目","１回目","２回目","１回目","２回目","１回目","２回目","平均値","標準偏差","CV%","a=",{"$f":"EXP(INTERCEPT(LN(LoQCV),LN(LoQ平均)))","v":5.0578934756851984E-4},"CV 10%点",{"$f":"(0.1/Q46)^(1/Q47)","v":1.7225684376600908E-2},null,null,null,-2.0335916094525487E-3,-1.9911007394162361,2.1064555799057616,5.4958288099347379E-2,3.904525528074145E-3,-1.5370612580770742,0.12242969183609172,8.4097707236975378E-2,null,null,1.0999999999999999E-2,7.0000000000000001E-3,0.01,0.02,1.4999999999999999E-2,1.4E-2,2.0999999999999991E-2,1.4E-2,1.7000000000000001E-2,1.7000000000000001E-2,null,null,null,0.01,1.0999999999999999E-2,1.0999999999999999E-2,1.0999999999999999E-2,8.0000000000000002E-3,8.9999999999999993E-3,1.2E-2,8.9999999999999993E-3,8.9999999999999993E-3,7.0000000000000001E-3]
["試料No.1",null,6.0000000000000001E-3,8.0000000000000002E-3,5.0000000000000001E-3,0.01,0.01,2E-3,5.0000000000000001E-3,4.0000000000000001E-3,5.0000000000000001E-3,1E-3,{"$f":"IF(COUNT(C47:L47)>1,AVERAGE(C47:L47),\"\")","v":5.5999999999999999E-3},{"$f":"IF(M47<>\"\",STDEV(C47:L47),\"\")","v":3.0258148581093912E-3},{"$f":"IF(M47<>\"\",N47/M47,\"\")","v":0.54032408180524838},"b=",{"$f":"SLOPE(LN(LoQCV),LN(LoQ平均))","v":-1.3017347272150535},"CV 20%点",{"$f":"(0.2/Q46)^(1/Q47)","v":1.0114013652648197E-2},null,null,null,-1.8335916094525486E-3,-1.8633401564079972,2.6945454422574477,7.0301793270662438E-2,4.1045255280741447E-3,-1.4493286716589762,0.13956616324474039,9.5868854693008543E-2,null,null,8.0000000000000002E-3,1.6E-2,1.8000000000000002E-2,1.9000000000000003E-2,1.9000000000000003E-2,1.9000000000000003E-2,0.02,2.0999999999999991E-2,1.7000000000000001E-2,1.0999999999999999E-2,null,null,null,1.2999999999999999E-2,1.2E-2,1.4999999999999999E-2,1.4999999999999999E-2,1.2E-2,1.2E-2,8.9999999999999993E-3,1.2E-2,1.0999999999999999E-2,1.2999999999999999E-2]
["試料No.2",null,8.9999999999999993E-3,8.9999999999999993E-3,0.01,0.01,6.0000000000000001E-3,7.0000000000000001E-3,7.0000000000000001E-3,7.0000000000000001E-3,5.0000000000000001E-3,4.0000000000000001E-3,{"$f":"IF(COUNT(C48:L48)>1,AVERAGE(C48:L48),\"\")","v":7.4000000000000012E-3},{"$f":"IF(M48<>\"\",STDEV(C48:L48),\"\")","v":2.0655911179772888E-3},{"$f":"IF(M48<>\"\",N48/M48,\"\")","v":0.27913393486179572},null,null,0.3,{"$f":"(R48/Q46)^(1/Q47)","v":7.4071174606272789E-3},null,null,null,-1.6335916094525485E-3,-1.7355795733997574,3.3910159423686843,8.8472993633464447E-2,4.3045255280741452E-3,-1.3615960852408779,0.15788132242342401,0.10844965001731299,null,null,8.0000000000000002E-3,1.2999999999999999E-2,0.02,1.7000000000000001E-2,1.8000000000000002E-2,1.9000000000000003E-2,2.0999999999999991E-2,2.3999999999999994E-2,1.7000000000000001E-2,1.7000000000000001E-2,null,null,null,1.4999999999999999E-2,1.4999999999999999E-2,1.7999999999999999E-2,1.7000000000000001E-2,1.4999999999999999E-2,1.4E-2,8.9999999999999993E-3,1.4E-2,1.4E-2,1.0999999999999999E-2]
["試料No.3",null,0.01,1.0999999999999999E-2,1.0999999999999999E-2,1.0999999999999999E-2,8.0000000000000002E-3,8.9999999999999993E-3,1.2E-2,8.9999999999999993E-3,8.9999999999999993E-3,7.0000000000000001E-3,9.6999999999999986E-3,1.5670212364724209E-3,0.16154858107963105,null,null,null,null,null,null,null,-1.4335916094525484E-3,-1.6078189903915183,4.1984140186955425,0.10953833985434965,4.5045255280741457E-3,-1.2738634988227797,0.17723055750934941,0.12174075843318721,null,null,0.01,1.0999999999999999E-2,1.9000000000000003E-2,2.5999999999999995E-2,2.3E-2,3.2000000000000001E-2,2.1999999999999999E-2,2.8999999999999998E-2,null,null,null,null,null,1.7000000000000001E-2,1.7999999999999999E-2,1.7999999999999999E-2,1.7999999999999999E-2,1.9E-2,0.02,1.4999999999999999E-2,1.4999999999999999E-2,1.7000000000000001E-2,1.4E-2]
["試料No.4",null,1.2999999999999999E-2,1.2E-2,1.4999999999999999E-2,1.4999999999999999E-2,1.2E-2,1.2E-2,8.9999999999999993E-3,1.2E-2,1.0999999999999999E-2,1.2999999999999999E-2,1.2399999999999998E-2,1.776388345929897E-3,0.14325712467176591,null,null,null,null,null,null,null,-1.2335916094525484E-3,-1.4800584073832788,5.1138950147924067,0.13342361368254016,4.7045255280741454E-3,-1.1861309124046817,0.19742569898379975,0.13561292514256182,null,null,4.2999999999999997E-2,3.8000000000000006E-2,3.9000000000000007E-2,3.7000000000000005E-2,3.7000000000000005E-2,3.5000000000000003E-2,3.5000000000000003E-2,3.3000000000000002E-2,3.3000000000000002E-2,3.2000000000000001E-2,null,null,null,1.9E-2,1.9E-2,0.02,0.02,1.7000000000000001E-2,1.7000000000000001E-2,1.7999999999999999E-2,1.7000000000000001E-2,1.9E-2,1.7000000000000001E-2]
["試料No.5",null,1.4999999999999999E-2,1.4999999999999999E-2,1.7999999999999999E-2,1.7000000000000001E-2,1.4999999999999999E-2,1.4E-2,8.9999999999999993E-3,1.4E-2,1.4E-2,1.0999999999999999E-2,1.4200000000000001E-2,2.616188916046478E-3,0.18423865605961112,null,null,null,null,null,null,null,-1.0335916094525483E-3,-1.3522978243750396,6.1281510997593927,0.15988597000083743,4.904525528074145E-3,-1.0983983259865839,0.21823580124271993,0.14990751219163478,null,null,7.2999999999999995E-2,6.8000000000000005E-2,6.9000000000000006E-2,6.7000000000000004E-2,6.7000000000000004E-2,6.5000000000000002E-2,6.5000000000000002E-2,6.3E-2,6.3E-2,6.2E-2,null,null,null,8.9999999999999993E-3,5.0000000000000001E-3,5.0000000000000001E-3,8.9999999999999993E-3,3.0000000000000001E-3,5.0000000000000001E-3,5.0000000000000001E-3,5.0000000000000001E-3,6.0000000000000001E-3,4.0000000000000001E-3]
["試料No.6",null,1.7000000000000001E-2,1.7999999999999999E-2,1.7999999999999999E-2,1.7999999999999999E-2,1.9E-2,0.02,1.4999999999999999E-2,1.4999999999999999E-2,1.7000000000000001E-2,1.4E-2,1.7100000000000004E-2,1.9119507199599982E-3,0.11180998362339169,null,null,null,null,null,null,null,-8.3359160945254828E-4,-1.2245372413668003,7.224673658201624,0.18849469227780929,5.1045255280741456E-3,-1.0106657395684857,0.23938974548919575,0.16443828641370126,null,null,8.3000000000000004E-2,0.08,0.08,8.1000000000000003E-2,7.8E-2,0.08,7.6999999999999999E-2,7.6999999999999999E-2,7.6999999999999999E-2,7.2999999999999995E-2,null,null,null,8.0000000000000002E-3,1.0999999999999999E-2,8.9999999999999993E-3,8.9999999999999993E-3,8.0000000000000002E-3,1.0999999999999999E-2,7.0000000000000001E-3,4.0000000000000001E-3,6.0000000000000001E-3,7.0000000000000001E-3]
["試料No.7",null,1.9E-2,1.9E-2,0.02,0.02,1.7000000000000001E-2,1.7000000000000001E-2,1.7999999999999999E-2,1.7000000000000001E-2,1.9E-2,1.7000000000000001E-2,1.83E-2,1.251665557034572E-3,6.8397024974566775E-2,null,null,null,null,null,null,null,-6.335916094525483E-4,-1.096776658358561,8.3795002204445534,0.21862458987354461,5.3045255280741452E-3,-0.92293315315038771,0.26058074478938431,0.17899451397974048,null,null,0.109,0.129,"0..137",0.11899999999999999,0.12,0.13900000000000001,0.121,0.126,0.129,0.128,null,null,null,1.6E-2,1.2999999999999999E-2,1.6E-2,1.4E-2,1.4E-2,1.4E-2,1.0999999999999999E-2,1.2E-2,1.2999999999999999E-2,1.2E-2]
["試料No.8",null,8.9999999999999993E-3,5.0000000000000001E-3,5.0000000000000001E-3,8.9999999999999993E-3,3.0000000000000001E-3,5.0000000000000001E-3,5.0000000000000001E-3,5.0000000000000001E-3,6.0000000000000001E-3,4.0000000000000001E-3,5.5999999999999991E-3,1.9550504398153567E-3,0.34911614996702806,null,null,null,null,null,null,null,-4.3359160945254831E-4,-0.96901607535032164,9.561567854820705,0.24946521818903225,5.5045255280741449E-3,-0.83520056673228982,0.28147273400509598,0.19334534968235081,null,null,null,null,null,null,null,null,null,null,null,null,null,null,null,1.4999999999999999E-2,1.7999999999999999E-2,1.4999999999999999E-2,1.4E-2,1.2E-2,1.2999999999999999E-2,0.01,1.0999999999999999E-2,1.4999999999999999E-2,1.2999999999999999E-2]
["試料No.9",null,8.0000000000000002E-3,1.0999999999999999E-2,8.9999999999999993E-3,8.9999999999999993E-3,8.0000000000000002E-3,1.0999999999999999E-2,7.0000000000000001E-3,4.0000000000000001E-3,6.0000000000000001E-3,7.0000000000000001E-3,8.0000000000000019E-3,2.1602468994692866E-3,0.27003086243366076,null,null,null,null,null,null,null,-2.335916094525483E-4,-0.84125549234208241,10.733743641414916,0.28004776414787264,5.7045255280741454E-3,-0.74746798031419159,0.301708520007267,0.20724543536743939,null,null,null,null,null,null,null,null,null,null,null,null,null,null,null,1.6E-2,1.6E-2,1.7000000000000001E-2,1.4999999999999999E-2,1.4E-2,1.6E-2,1.2999999999999999E-2,1.4E-2,1.4999999999999999E-2,1.4999999999999999E-2]
["試料No.10",null,1.6E-2,1.2999999999999999E-2,1.6E-2,1.4E-2,1.4E-2,1.4E-2,1.0999999999999999E-2,1.2E-2,1.2999999999999999E-2,1.2E-2,1.3499999999999998E-2,1.6499158227686111E-3,0.12221598687174899,null,null,null,null,null,null,null,-3.3591609452548294E-5,-0.71349490933384307,11.854532684760601,0.30928960894648921,5.9045255280741459E-3,-0.65973539389609326,0.32091945786910203,0.22044154657071907,null,null,null,null,null,null,null,null,null,null,null,null,null,null,null,1.0999999999999999E-2,1.4999999999999999E-2,1.4E-2,1.0999999999999999E-2,1.4999999999999999E-2,1.0999999999999999E-2,1.0999999999999999E-2,8.9999999999999993E-3,8.9999999999999993E-3,8.9999999999999993E-3]
["試料No.11",null,1.4999999999999999E-2,1.7999999999999999E-2,1.4999999999999999E-2,1.4E-2,1.2E-2,1.2999999999999999E-2,0.01,1.0999999999999999E-2,1.4999999999999999E-2,1.2999999999999999E-2,1.3599999999999998E-2,2.3190036174568114E-3,0.17051497187182441,null,null,null,null,null,null,null,1.6640839054745172E-4,-0.58573432632560385,{"$f":"(1/(SQRT(2*3.1416)))*EXP(-(X57^2)/2)*($B$17*5/$AE$25)","v":12.880382813665667},0.33605445861573291,6.1045255280741456E-3,-0.57200280747799537,0.33873631426361966,0.23268005465220121,null,null,null,null,null,null,null,null,null,null,null,null,null,null,null,1.4999999999999999E-2,1.4E-2,1.2999999999999999E-2,0.01,0.01,1.2E-2,8.9999999999999993E-3,1.0999999999999999E-2,1.0999999999999999E-2,0.01]
["試料No.12",null,1.6E-2,1.6E-2,1.7000000000000001E-2,1.4999999999999999E-2,1.4E-2,1.6E-2,1.2999999999999999E-2,1.4E-2,1.4999999999999999E-2,1.4999999999999999E-2,1.5100000000000002E-2,1.1972189997378649E-3,7.9286026472706272E-2,null,null,null,null,null,null,null,{"$f":"W57+CEILING((MAXK1-MINk1)/((階級数k1-1)*5),0.00001)","v":3.6640839054745173E-4},-0.45797374331736457,13.768423491154316,0.35922380330210135,6.3045255280741452E-3,-0.48427022105989753,0.35480088793182513,0.24371490896715178,null,null,null,null,null,null,null,null,null,null,null,null,null,null,null,1.6E-2,1.7999999999999999E-2,1.6E-2,1.7999999999999999E-2,1.7000000000000001E-2,1.4E-2,1.2E-2,1.4E-2,1.2999999999999999E-2,1.2E-2]
["試料No.13",null,1.0999999999999999E-2,1.4999999999999999E-2,1.4E-2,1.0999999999999999E-2,1.4999999999999999E-2,1.0999999999999999E-2,1.0999999999999999E-2,8.9999999999999993E-3,8.9999999999999993E-3,8.9999999999999993E-3,1.1499999999999998E-2,2.368778400591983E-3,0.20598073048625942,null,null,null,null,null,null,null,5.6640839054745171E-4,-0.33021316030912529,14.47940690746951,0.37777365158774945,6.5045255280741458E-3,-0.39653763464179925,0.36877788632160313,0.25331579500228851,null,null,null,null,null,null,null,null,null,null,null,null,null,null,null,1.0999999999999999E-2,7.0000000000000001E-3,1.2999999999999999E-2,8.9999999999999993E-3,8.9999999999999993E-3,1.0999999999999999E-2,7.0000000000000001E-3,7.0000000000000001E-3,6.0000000000000001E-3,0.01]
["試料No.14",null,1.4999999999999999E-2,1.4E-2,1.2999999999999999E-2,0.01,0.01,1.2E-2,8.9999999999999993E-3,1.0999999999999999E-2,1.0999999999999999E-2,0.01,1.1499999999999998E-2,1.9578900207451217E-3,0.17025130615174974,null,null,null,null,null,null,null,7.6640839054745169E-4,-0.20245257730088598,14.980573613061022,0.39084929602784313,6.7045255280741454E-3,-0.30880504822370136,0.38036651371539837,0.26127609433185428,null,null,null,null,null,null,null,null,null,null,null,null,null,null,null,1.0999999999999999E-2,1.2999999999999999E-2,1.2999999999999999E-2,1.2999999999999999E-2,1.2E-2,1.2E-2,8.0000000000000002E-3,1.2E-2,1.2999999999999999E-2,8.0000000000000002E-3]
["試料No.15",null,1.6E-2,1.7999999999999999E-2,1.6E-2,1.7999999999999999E-2,1.7000000000000001E-2,1.4E-2,1.2E-2,1.4E-2,1.2999999999999999E-2,1.2E-2,1.5000000000000003E-2,2.3094010767585028E-3,0.15396007178390014,null,null,null,null,null,null,null,9.6640839054745167E-4,-7.4691994292646696E-2,15.248152456257497,0.39783053754746722,6.9045255280741451E-3,-0.2210724618056035,0.38931121404943453,0.26742026392611684,null,null,null,null,null,null,null,null,null,null,null,null,null,null,null,null,null,null,null,null,null,0.05]
["試料No.16",null,1.0999999999999999E-2,7.0000000000000001E-3,1.2999999999999999E-2,8.9999999999999993E-3,8.9999999999999993E-3,1.0999999999999999E-2,7.0000000000000001E-3,7.0000000000000001E-3,6.0000000000000001E-3,0.01,9.0000000000000011E-3,2.2607766610417556E-3,0.25119740678241725,null,null,null,null,null,null,null,1.1664083905474517E-3,5.3068588715592578E-2,15.269229426922495,0.39838044433739361,7.1045255280741456E-3,-0.13333987538750522,0.39541103364885283,0.27161026747163763]
["試料No.17",null,1.0999999999999999E-2,1.2999999999999999E-2,1.2999999999999999E-2,1.2999999999999999E-2,1.2E-2,1.2E-2,8.0000000000000002E-3,1.2E-2,1.2999999999999999E-2,8.0000000000000002E-3,1.15E-2,1.9578900207451217E-3,0.17025130615174972,null,null,null,null,null,null,null,1.3664083905474517E-3,0.18082917172383192,15.04278083895055,0.39247230800821009,7.3045255280741453E-3,-4.5607288969407335E-2,0.39852712519524658,0.27375072989265781]
["試料No.18",null,null,null,null,null,null,null,null,null,null,null,"","","",null,null,null,null,null,null,null,1.5664083905474518E-3,0.30858975473207129,14.579755748659222,0.38039179391989708,7.5045255280741458E-3,4.2125297448690931E-2,0.39858800169879594,0.27379254633682532]
["試料No.19",null,null,null,null,null,null,null,null,null,null,null,"","","",null,null,null,null,null,null,null,1.7664083905474519E-3,0.43635033774031062,13.902198369180368,0.36271404461416351,7.7045255280741454E-3,0.12985788386678881,0.39559226285632976,0.27173475492729171]
["試料No.20",null,null,null,null,null,null,null,null,null,null,null,"","","",null,null,null,null,null,null,null,1.9664083905474518E-3,0.56411092074854985,13.041508428707973,0.34025829184922352,7.904525528074146E-3,0.21759047028488709,0.38960864859791278,0.26762457354419195]
[null,null,null,null,null,null,null,null,null,null,null,"最大試料番号",{"$f":"IF(COUNT(M47:M66)<>0,\"試料No.\"& COUNT(M47:M66),\"試料No.\"& 1)","v":"試料No.17"},null,null,null,null,null,null,null,null,null,2.1664083905474519E-3,0.69187150375678919,12.036030627895789,0.31402496455684054,8.1045255280741448E-3,0.3053230567029846,0.38077341696265671,0.26155559867143491]
[null,null,null,null,null,null,null,null,null,null,null,null,47,{"$f":"MIN(IF(M67=A47:A66,ROW(M47:M66)))","v":63},null,null,null,null,null,null,null,null,2.366408390547452E-3,0.81963208676502852,10.928230699669083,0.2851220110871816,8.304525528074147E-3,0.3930556431210836,0.36928518597836146,0.25366426225214972]
[null,null,null,null,null,null,null,null,null,null,null,null,{"$f":"\"M\"&M68&\":M\"&N68","v":"M47:M63"},{"$f":"\"O\"&M68&\":O\"&N68","v":"O47:O63"},null,null,null,null,null,null,null,null,2.5664083905474521E-3,0.94739266977326786,9.761746771883919,0.25468796805393451,8.5045255280741458E-3,0.4807882295391811,0.35539751221193139,0.24412473384938724]
[null,null,null,null,null,null,null,null,null,null,null,null,null,null,null,null,null,null,null,null,null,null,2.7664083905474522E-3,1.0751532527815073,8.5785983169144426,0.22381914068686548,8.7045255280741446E-3,0.56852081595727866,0.33940959316553582,0.23314253406494023]
[null,null,null,null,null,null,null,null,null,null,null,null,null,null,null,null,null,null,null,null,null,null,2.9664083905474523E-3,1.2029138357897466,7.4167944139104458,0.19350720141535405,8.9045255280741469E-3,0.65625340237537766,0.32165556930207267,0.22094718603493199]
[null,null,null,null,null,null,null,null,null,null,null,null,null,null,null,null,null,null,null,null,null,null,3.1664083905474523E-3,1.3306744187979858,6.308516764880844,0.16459178401445104,9.1045255280741456E-3,0.74398598879347522,0.30249295888925226,0.20778427125318855]
[null,null,null,null,null,null,null,null,null,null,null,null,null,null,null,null,null,null,null,null,null,null,3.3664083905474524E-3,1.4584350018062253,5.278972439586135,0.13773055124963471,9.3045255280741462E-3,0.83171857521157344,0.28229078224413678,0.19390727204187683]
[null,null,null,null,null,null,null,null,null,null,null,null,null,null,null,null,null,null,null,null,null,null,3.5664083905474525E-3,1.5861955848144644,4.3459291339794319,0.11338706957935202,9.5045255280741467E-3,0.91945116162967166,0.26141792116841467,0.17956957557610279]
[null,null,null,null,null,null,null,null,null,null,null,null,null,null,null,null,null,null,null,null,null,null,3.7664083905474526E-3,1.7139561678227042,3.5198730362126835,9.1834927943724137E-2,9.7045255280741455E-3,1.0071837480477692,0.240232216763411,0.1650169851060852]
[null,null,null,null,null,null,null,null,null,null,null,null,null,null,null,null,null,null,null,null,null,null,3.9664083905474523E-3,1.8417167508309431,2.8046745216083599,7.3175106018778455E-2,9.904525528074146E-3,1.0949163344658674,0.21907073900625343,0.15048103606926358]
[null,null,null,null,null,null,null,null,null,null,null,null,null,null,null,null,null,null,null,null,null,null,4.1664083905474519E-3,1.9694773338391822,2.198614321495544,5.7362747381318649E-2,1.0104525528074147E-2,1.1826489208839657,0.19824157078990465,0.13617335249693735]
[null,null,null,null,null,null,null,null,null,null,null,null,null,null,null,null,null,null,null,null,null,null,4.3664083905474516E-3,2.0972379168474213,1.6956130424067684,4.4239238167923363E-2,1.0304525528074145E-2,1.2703815073020632,0.1780173450264948,0.12228120761085225]
[null,null,null,null,null,null,null,null,null,null,null,null,null,null,null,null,null,null,null,null,null,null,4.5664083905474512E-3,2.2249984998556602,1.2865170814767242,3.3565757133930431E-2,1.0504525528074144E-2,1.3581140937201608,0.15863066376646348,0.10896437718800507]
[null,null,null,null,null,null,null,null,null,null,null,null,null,null,null,null,null,null,null,null,null,null,4.7664083905474509E-3,2.3527590828638996,0.96031890335487113,2.5055113177457792E-2,1.0704525528074146E-2,1.4458466801382597,0.14027142074540361,9.6353300401626846E-2]
[null,null,null,null,null,null,null,null,null,null,null,null,null,null,null,null,null,null,null,null,null,null,4.9664083905474506E-3,2.4805196658721385,0.70522307055792333,1.8399558507548819E-2,1.0904525528074145E-2,1.5335792665563572,0.1230859501635506,8.4548495112586081E-2]
[null,null,null,null,null,null,null,null,null,null,null,null,null,null,null,null,null,null,null,null,null,null,5.1664083905474502E-3,2.6082802488803778,0.50950524292468335,1.3293200291475148E-2,1.1104525528074144E-2,1.6213118529744548,0.1071778403658618,7.3621116791232621E-2]
[null,null,null,null,null,null,null,null,null,null,null,null,null,null,null,null,null,null,null,null,null,null,5.3664083905474499E-3,2.7360408318886167,0.36214451845593687,9.4484986860208162E-3,1.1304525528074143E-2,1.7090444393925524,9.2610185356308633E-2,6.3614505096392895E-2]
[null,null,null,null,null,null,null,null,null,null,null,null,null,null,null,null,null,null,null,null,null,null,5.5664083905474495E-3,2.8638014148968556,0.25323649103820361,6.6070436825295094E-3,1.1504525528074145E-2,1.7967770258106512,7.9409001934836326E-2,5.4546531127734152E-2]
[null,null,null,null,null,null,null,null,null,null,null,null,null,null,null,null,null,null,null,null,null,null,5.7664083905474492E-3,2.9915619979050949,0.17421348590478064,4.5453011402095981E-3,1.1704525528074144E-2,1.8845096122287488,6.7567516152586507E-2,4.6412541818182676E-2]
[null,null,null,null,null,null,null,null,null,null,null,null,null,null,null,null,null,null,null,null,null,null,5.9664083905474488E-3,3.1193225809133338,0.11790938307363387,3.0763040561562613E-3,1.1904525528074143E-2,1.9722421986468464,5.7051018647773406E-2,3.9188695093956637E-2]
[null,null,null,null,null,null,null,null,null,null,null,null,null,null,null,null,null,null,null,null,null,null,6.1664083905474485E-3,3.2470831639215731,7.8510198581167159E-2,2.0483632095169998E-3,1.2104525528074141E-2,2.0599747850649437,4.7802001882603813E-2,3.2835488674157323E-2]
[null,null,null,null,null,null,null,null,null,null,null,null,null,null,null,null,null,null,null,null,null,null,6.3664083905474482E-3,3.374843746929812,5.1429807313245708E-2,1.3418247192954014E-3,1.2304525528074144E-2,2.147707371483043,3.9745320058829303E-2,2.7301304448452107E-2]
[null,null,null,null,null,null,null,null,null,null,null,null,null,null,null,null,null,null,null,null,null,null,6.5664083905474478E-3,3.5026043299380509,{"$f":"(1/(SQRT(2*3.1416)))*EXP(-(X89^2)/2)*($B$17*5/$AE$25)","v":3.3144756370192673E-2},8.6476025744498352E-4,1.2504525528074142E-2,2.2354399579011406,3.2793150713399832E-2,2.2525816627601065E-2]
[null,null,null,null,null,null,null,null,null,null,null,null,null,null,null,null,null,null,null,null,null,null,{"$f":"W89+CEILING((MAXK1-MINk1)/((階級数k1-1)*5),0.00001)","v":6.7664083905474475E-3},{"$f":"((W90-$B$18)*(1/$B$19))","v":3.6303649129462903},2.1014829826678138E-2,{"$f":"(1/(SQRT(2*3.1416)))*EXP(-(X90^2)/2)","v":5.4828551002485658E-4},{"$f":"W90+$G$18+$K$29","v":1.2704525528074141E-2},{"$f":"((AA90-$L$32)*(1/$K$29))","v":2.3231725443192377},{"$f":"(1/(SQRT(2*3.1416)))*EXP(-(AB90^2)/2)","v":2.6849581687430221E-2},{"$f":"AC90*$AE$27","v":1.8443142560611407E-2}]
[null,null,null,null,null,null,null,null,null,null,null,null,null,null,null,null,null,null,null,null,null,null,6.9664083905474471E-3,3.7581254959545292,1.3108350234503635E-2,3.4200222191593918E-4,1.290452552807414E-2,2.4109051307373353,2.1814694489127921E-2,1.4984647621810957E-2]
[null,null,null,null,null,null,null,null,null,null,null,null,null,null,null,null,null,null,null,null,null,null,7.1664083905474468E-3,3.8858860789627685,8.0441712589361045E-3,2.0987572004194777E-4,1.3104525528074142E-2,2.4986377171554346,1.7588061636320228E-2,1.2081347556909393E-2]
[null,null,null,null,null,null,null,null,null,null,null,null,null,null,null,null,null,null,null,null,null,null,7.3664083905474464E-3,4.0136466619710074,4.8565257096839041E-3,1.2670874318965528E-4,1.3304525528074141E-2,2.5863703035735321,1.4071618590962346E-2,9.6658812324501263E-3]
[null,null,null,null,null,null,null,null,null,null,null,null,null,null,null,null,null,null,null,null,null,null,7.5664083905474461E-3,4.1414072449792467,2.8845707062916505E-3,7.5259630172883513E-5,1.350452552807414E-2,2.6741028899916293,1.1171908337999536E-2,7.6740524508160154E-3]
[null,null,null,null,null,null,null,null,null,null,null,null,null,null,null,null,null,null,null,null,null,null,7.7664083905474458E-3,4.2691678279874852,1.6855739004105719E-3,4.3977312844949351E-5,1.3704525528074139E-2,2.7618354764097268,8.8017272196384156E-3,6.0459604838983974E-3]
[null,null,null,null,null,null,null,null,null,null,null,null,null,null,null,null,null,null,null,null,null,null,7.9664083905474463E-3,4.3969284109957254,9.6900388828821866E-4,2.5281707988503731E-5,1.3904525528074141E-2,2.8495680628278262,6.8812237324493526E-3,4.726754843575094E-3]
[null,null,null,null,null,null,null,null,null,null,null,null,null,null,null,null,null,null,null,null,null,null,8.1664083905474468E-3,4.5246889940039647,5.4804264542809508E-4,1.4298656893355055E-5,1.410452552807414E-2,2.9373006492459233,5.3385176699029119E-3,3.6670605745212251E-3]
[null,null,null,null,null,null,null,null,null,null,null,null,null,null,null,null,null,null,null,null,null,null,8.3664083905474473E-3,4.6524495770122041,3.049399332213413E-4,7.9560076475593128E-6,1.4304525528074142E-2,3.0250332356640226,4.1099157853895594E-3,2.8231263944619635E-3]
[null,null,null,null,null,null,null,null,null,null,null,null,null,null,null,null,null,null,null,null,null,null,8.5664083905474479E-3,4.7802101600204443,1.6692652796323999E-4,4.355181425491031E-6,1.4504525528074141E-2,3.1127658220821202,3.1398029557336438E-3,2.1567499337218549E-3]
[null,null,null,null,null,null,null,null,null,null,null,null,null,null,null,null,null,null,null,null,null,null,8.7664083905474484E-3,4.9079707430286836,8.9897482977675225E-5,2.3454621194121194E-6,1.4704525528074143E-2,3.200498408500219,2.3802857539358272E-3,1.6350329031525608E-3]
[null,null,null,null,null,null,null,null,null,null,null,null,null,null,null,null,null,null,null,null,null,null,8.9664083905474489E-3,5.035731326036923,4.7630025789136705E-5,1.2426868643562042E-6,1.4904525528074142E-2,3.2882309949183166,1.7906595910362609E-3,1.2300150706060682E-3]
[null,null,null,null,null,null,null,null,null,null,null,null,null,null,null,null,null,null,null,null,null,null,9.1664083905474494E-3,5.1634919090451632,2.4827055420220775E-5,6.4774803582803308E-7,1.5104525528074144E-2,3.3759635813364155,1.3367623388739916E-3,9.1823026043833347E-4]
[null,null,null,null,null,null,null,null,null,null,null,null,null,null,null,null,null,null,null,null,null,null,9.36640839054745E-3,5.2912524920534025,1.2731533680250436E-5,3.3217092381176684E-7,1.5304525528074143E-2,3.4636961677545131,9.9026767392463135E-4,6.8022094705137454E-4]
[null,null,null,null,null,null,null,null,null,null,null,null,null,null,null,null,null,null,null,null,null,null,9.5664083905474505E-3,5.4190130750616419,6.4231393687588958E-6,1.6758233465635404E-7,1.5504525528074145E-2,3.5514287541726119,7.2796120545125394E-4,5.0004102287438653E-4]
[null,null,null,null,null,null,null,null,null,null,null,null,null,null,null,null,null,null,null,null,null,null,9.766408390547451E-3,5.5467736580698821,3.1880496771350356E-6,8.3177520714135924E-8,1.5704525528074144E-2,3.6391613405907095,5.3103249972197395E-4,3.6476948545069042E-4]
[null,null,null,null,null,null,null,null,null,null,null,null,null,null,null,null,null,null,null,null,null,null,9.9664083905474515E-3,5.6745342410781214,1.5567322670376827E-6,4.0615781904707776E-8,1.5904525528074146E-2,3.7268939270088088,3.8440692189921322E-4,2.640514755279064E-4]
[null,null,null,null,null,null,null,null,null,null,null,null,null,null,null,null,null,null,null,null,null,null,1.0166408390547452E-2,5.8022948240863608,7.4784894803145686E-7,1.95116850945157E-8,1.6104525528074145E-2,3.814626513426906,2.761331389963933E-4,1.8967754907719145E-4]
[null,null,null,null,null,null,null,null,null,null,null,null,null,null,null,null,null,null,null,null,null,null,1.0366408390547453E-2,5.930055407094601,3.534475368275399E-7,9.221590876291662E-9,1.6304525528074147E-2,3.9023590998450053,1.9683534822857509E-4,1.3520740958309707E-4]
[null,null,null,null,null,null,null,null,null,null,null,null,null,null,null,null,null,null,null,null,null,null,1.0566408390547453E-2,6.0578159901028403,1.6434146128178976E-7,4.2877359778915512E-9,1.6504525528074146E-2,3.9900916862631028,1.3923386803428602E-4,9.5640599072121621E-5]
[null,null,null,null,null,null,null,null,null,null,null,null,null,null,null,null,null,null,null,null,null,null,1.0766408390547454E-2,6.1855765731110797,7.51762125428359E-8,1.9613781494180784E-9,1.6704525528074148E-2,4.0778242726812017,9.7733604520751702E-5,6.7133813186463773E-5]
[null,null,null,null,null,null,null,null,null,null,null,null,null,null,null,null,null,null,null,null,null,null,1.0966408390547454E-2,6.3133371561193199,3.3831780284483749E-8,{"$f":"(1/(SQRT(2*3.1416)))*EXP(-(X111^2)/2)","v":8.8268499251793447E-10},{"$f":"W111+$G$18+$K$29","v":1.6904525528074147E-2},4.1655568590992988,6.8076963569257075E-5,4.676248437751831E-5]
[null,null,null,null,null,null,null,null,null,null,null,null,null,null,null,null,null,null,null,null,null,null,1.1166408390547455E-2,6.4410977391275592,1.4978915617138081E-8,3.9080603823571604E-10,1.7104525528074149E-2,4.2532894455173986,4.7055855070424482E-5,3.2322955846332619E-5]
[null,null,null,null,null,null,null,null,null,null,null,null,null,null,null,null,null,null,null,null,null,null,1.1366408390547455E-2,6.5688583221357986,6.5244966019783643E-9,1.7022678634921979E-10,1.7304525528074148E-2,4.3410220319354957,3.2276348411053521E-5,2.2170821952123965E-5]
[null,null,null,null,null,null,null,null,null,null,null,null,null,null,null,null,null,null,null,null,null,null,1.1566408390547456E-2,6.6966189051440388,2.7959201040968081E-9,7.2946699683353438E-11,1.750452552807415E-2,4.4287546183535946,2.1969104396986165E-5,1.5090712735843392E-5]
[null,null,null,null,null,null,null,null,null,null,null,null,null,null,null,null,null,null,null,null,null,null,1.1766408390547456E-2,6.8243794881522781,1.1787280461443374E-9,3.0753497091868178E-11,1.7704525528074149E-2,4.5164872047716926,1.4838757682388721E-5,1.019283378581591E-5]
[null,null,null,null,null,null,null,null,null,null,null,null,null,null,null,null,null,null,null,null,null,null,1.1966408390547457E-2,6.9521400711605175,4.8889274191123385E-10,1.2755411704831453E-11,1.7904525528074151E-2,4.6042197911897915,9.9458055820578166E-6,6.8318349375212678E-6]
[null,null,null,null,null,null,null,null,null,null,null,null,null,null,null,null,null,null,null,null,null,null,1.2166408390547457E-2,7.0799006541687577,1.994916282498312E-10,5.204818218503627E-12,1.8104525528074154E-2,4.6919523776078904,6.6151488464933229E-6,4.5439863702851413E-6]
[null,null,null,null,null,null,null,null,null,null,null,null,null,null,null,null,null,null,null,null,null,null,1.2366408390547458E-2,7.207661237176997,8.0084205774312915E-11,2.0894297013132427E-12,1.8304525528074152E-2,4.7796849640259875,4.3661284485077584E-6,2.9991204463147359E-6]
[null,null,null,null,null,null,null,null,null,null,null,null,null,null,null,null,null,null,null,null,null,null,1.2566408390547458E-2,7.3354218201852364,3.1628615613557219E-11,8.2520352465783326E-13,1.8504525528074151E-2,4.8674175504440855,2.8596351602774251E-6,1.9643009543431443E-6]
[null,null,null,null,null,null,null,null,null,null,null,null,null,null,null,null,null,null,null,null,null,null,1.2766408390547459E-2,7.4631824031934766,1.2289228126120128E-11,3.206309909008994E-13,1.8704525528074153E-2,4.9551501368621844,1.8585830867792366E-6,1.276672136991175E-6]
[null,null,null,null,null,null,null,null,null,null,null,null,null,null,null,null,null,null,null,null,null,null,1.2966408390547459E-2,7.5909429862017159,{"$f":"(1/(SQRT(2*3.1416)))*EXP(-(X121^2)/2)*($B$17*5/$AE$25)","v":4.6976444317950588E-12},1.2256346563094298E-13,1.8904525528074156E-2,5.0428827232802833,1.198700166539203E-6,8.2339450633828845E-7]
[null,null,null,null,null,null,null,null,null,null,null,null,null,null,null,null,null,null,null,null,null,null,{"$f":"W121+CEILING((MAXK1-MINk1)/((階級数k1-1)*5),0.00001)","v":1.316640839054746E-2},7.7187035692099553,1.7666348345913132E-12,4.6092225790090461E-14,1.9104525528074155E-2,5.1306153096983813,7.6717842886465412E-7,5.2697957449373255E-7]
[null,null,null,null,null,null,null,null,null,null,null,null,null,null,null,null,null,null,null,null,null,null,1.336640839054746E-2,7.8464641522181955,6.5361882241686795E-13,1.7053182555669875E-14,1.9304525528074153E-2,5.2183478961164784,4.872360715177319E-7,3.3468544993684972E-7]
[null,null,null,null,null,null,null,null,null,null,null,null,null,null,null,null,null,null,null,null,null,null,1.3566408390547461E-2,7.9742247352264348,2.3791039787598671E-13,6.2071796400680788E-15,1.9504525528074156E-2,5.3060804825345773,3.0707164477355691E-7,2.109293987075959E-7]
[null,null,null,null,null,null,null,null,null,null,null,null,null,null,null,null,null,null,null,null,null,null,1.3766408390547462E-2,8.101985318234675,8.5194863015823669E-14,2.2227688401658784E-15,1.9704525528074158E-2,5.3938130689526762,1.9204244650158257E-7,1.319151359507184E-7]
[null,null,null,null,null,null,null,null,null,null,null,null,null,null,null,null,null,null,null,null,null,null,1.3966408390547462E-2,8.2297459012429144,3.0014043467359521E-14,7.8307867663617003E-16,1.9904525528074157E-2,5.4815456553707742,1.1918235898284151E-7,8.1867094356243275E-8]
[null,null,null,null,null,null,null,null,null,null,null,null,null,null,null,null,null,null,null,null,null,null,1.4166408390547463E-2,8.3575064842511537,1.0402715419241058E-14,2.7141110236549621E-16,2.0104525528074155E-2,5.5692782417888713,7.3397954493349667E-8,5.0417505722700077E-8]
[null,null,null,null,null,null,null,null,null,null,null,null,null,null,null,null,null,null,null,null,null,null,1.4366408390547463E-2,8.4852670672593931,3.5471539788648818E-15,9.2546698901632672E-17,2.0304525528074158E-2,5.6570108282069702,4.4855238373062285E-8,3.0811338721596797E-8]
[null,null,null,null,null,null,null,null,null,null,null,null,null,null,null,null,null,null,null,null,null,null,1.4566408390547464E-2,8.6130276502676324,1.1899383928675844E-15,3.1045979625460148E-17,2.050452552807416E-2,5.74474341462507,2.7201923414943871E-8,1.8685168257184123E-8]
[null,null,null,null,null,null,null,null,null,null,null,null,null,null,null,null,null,null,null,null,null,null,1.4766408390547464E-2,8.7407882332758717,3.9271729297722815E-16,1.0246154884502193E-17,2.0704525528074159E-2,5.8324760010431671,1.6369796878540275E-8,1.1244514012689849E-8]
[null,null,null,null,null,null,null,null,null,null,null,null,null,null,null,null,null,null,null,null,null,null,1.4966408390547465E-2,8.8685488162841128,1.2751071659554964E-16,3.3268067768730094E-18,2.0904525528074158E-2,5.9202085874612642,9.7756174977404352E-9,6.7149316971757297E-9]
[null,null,null,null,null,null,null,null,null,null,null,null,null,null,null,null,null,null,null,null,null,null,1.5166408390547465E-2,8.9963093992923522,4.0730942529376805E-17,1.0626869588142929E-18,2.110452552807416E-2,6.007941173879364,5.7929841736246556E-9,3.9792364070812803E-9]
[null,null,null,null,null,null,null,null,null,null,null,null,null,null,null,null,null,null,null,null,null,null,1.5366408390547466E-2,9.1240699823005915,1.2800099511661983E-17,3.3395983441231969E-19,2.1304525528074162E-2,6.0956737602974629,3.4065731291577765E-9,2.3399960042438275E-9]
[null,null,null,null,null,null,null,null,null,null,null,null,null,null,null,null,null,null,null,null,null,null,1.5566408390547466E-2,9.2518305653088309,3.9574309376325995E-18,1.0325099265250733E-19,2.1504525528074161E-2,6.18340634671556,1.9878807275343881E-9,1.3654874805208797E-9]
[null,null,null,null,null,null,null,null,null,null,null,null,null,null,null,null,null,null,null,null,null,null,1.5766408390547465E-2,9.3795911483170702,1.2037171709099316E-18,3.140547358324024E-20,2.170452552807416E-2,6.271138933133658,1.1511188416517854E-9,7.9071060204743542E-10]
[null,null,null,null,null,null,null,null,null,null,null,null,null,null,null,null,null,null,null,null,null,null,1.5966408390547464E-2,9.5073517313253078,3.60202464092115E-19,9.3978296929266001E-21,2.1904525528074158E-2,6.3588715195517551,6.6146555584396136E-10,4.5436475276914683E-10]
[null,null,null,null,null,null,null,null,null,null,null,null,null,null,null,null,null,null,null,null,null,null,1.6166408390547463E-2,9.6351123143335471,1.0604251411664242E-19,2.7666925888189272E-21,2.2104525528074157E-2,6.4466041059698522,3.7718250330287574E-10,2.5908897802455935E-10]
[null,null,null,null,null,null,null,null,null,null,null,null,null,null,null,null,null,null,null,null,null,null,1.6366408390547461E-2,9.7628728973417847,3.0713157331707323E-20,8.0131884345364148E-22,2.2304525528074156E-2,6.5343366923879502,2.1342882586258859E-10,1.4660557128048023E-10]

{"sheet":"直線性","index":9,"n_rows":34,"n_cols":48,"rows_kept":34,"cut":false,"hidden":false,"merged":[[1,2,1,7],[0,2,0,3]]}
[null,"タイトル","ＣＲＰ－M",null,"測定回数＝",{"$f":"COUNT(C3:H3)","v":4},"解　説",null,null,null,null,null,null,"低値\n濃度","高値\n濃度","参考：混合比率と理論濃度"]
["計算利用","被検試料\n理論値","測定値",null,null,null,null,null,"平均","Ｙ推定値","理論値-平均","個　別\n偏差率(%)",null,0.5,50,"理論濃度",null,null,null,null,null,null,null,null,null,null,null,"測定値","x","x^2","x^3"]
[1,0,0.03,0.02,0.05,0.04,null,null,{"$f":"IF(A3<>0,AVERAGE(C3:H3),\"\")","v":3.5000000000000003E-2},{"$f":"IF(A3<>0,$B3*$B$17+$C$17,\"\")","v":0.11239248747757102},{"$f":"IF(I3<>\"\",B3-I3,\"\")","v":-3.5000000000000003E-2},{"$f":"IF(A3<>0,IF(B3<>0,K3/B3,\"\"),\"\")","v":""},null,10,0,{"$f":"$N$2*(N3/10)+$O$2*(O3/10)","v":0.5},null,{"$f":"IF($A3<>0,IF(C3<>\"\",($B3-$AG$14)*(C3-$AV$14),\"\"),\"\")","v":312.68844000000001},312.86534,312.33463999999998,312.51154000000002,"","",{"$f":"IF(I3<>\"\",(I3-$AV$14)^2,\"\")","v":312.26424099999997},null,null,null,{"$f":"IF(I3<>\"\",I3,\"\")","v":3.5000000000000003E-2},{"$f":"IF(B3<>\"\",B3,\"\")","v":0},{"$f":"IF(B3<>\"\",B3^2,\"\")","v":0},{"$f":"IF(B3<>\"\",B3^3,\"\")","v":0},null,{"$f":"IF(A3<>\"\",B3,#N/A)","v":0},{"$f":"IF($A3<>\"\",IF(C3<>\"\",C3-$B3,NA()))","v":0.03},0.02,0.05,0.04,{"$error":"#N/A"},{"$error":"#N/A"},{"$f":"IF(I3<>\"\",I3-B3,)","v":3.5000000000000003E-2},null,{"$f":"IF($A3<>0,IF(C3<>\"\",C3,#N/A))","v":0.03},0.02,0.05,0.04,{"$error":"#N/A"},{"$error":"#N/A"}]
[1,1.1000000000000001,1.1100000000000001,1.0900000000000001,1.08,1.07,null,null,1.0875000000000001,{"$f":"IF(A4<>0,$B4*$B$17+$C$17,\"\")","v":1.2063986075326683},{"$f":"IF(I4<>\"\",B4-I4,\"\")","v":1.2499999999999956E-2},{"$f":"IF(A4<>0,IF(B4<>0,K4/B4,\"\"),\"\")","v":1.1363636363636322E-2},null,9,1,{"$f":"$N$2*(N4/10)+$O$2*(O4/10)","v":5.45},null,{"$f":"IF($A4<>0,IF(C4<>\"\",($B4-$AG$14)*(C4-$AV$14),\"\"),\"\")","v":275.32763999999997},{"$f":"IF($A4<>0,IF(D4<>\"\",($B4-$AG$14)*(D4-$AV$14),\"\"),\"\")","v":275.65944000000002},{"$f":"IF($A4<>0,IF(E4<>\"\",($B4-$AG$14)*(E4-$AV$14),\"\"),\"\")","v":275.82533999999998},{"$f":"IF($A4<>0,IF(F4<>\"\",($B4-$AG$14)*(F4-$AV$14),\"\"),\"\")","v":275.99124},{"$f":"IF($A4<>0,IF(G4<>\"\",($B4-$AG$14)*(G4-$AV$14),\"\"),\"\")","v":""},{"$f":"IF($A4<>0,IF(H4<>\"\",($B4-$AG$14)*(H4-$AV$14),\"\"),\"\")","v":""},{"$f":"IF(I4<>\"\",(I4-$AV$14)^2,\"\")","v":276.17454225000006},null,null,null,{"$f":"IF(I4<>\"\",I4,\"\")","v":1.0875000000000001},{"$f":"IF(B4<>\"\",B4,\"\")","v":1.1000000000000001},{"$f":"IF(B4<>\"\",B4^2,\"\")","v":1.2100000000000002},{"$f":"IF(B4<>\"\",B4^3,\"\")","v":1.3310000000000004},null,{"$f":"IF(A4<>\"\",B4,#N/A)","v":1.1000000000000001},{"$f":"IF($A4<>\"\",IF(C4<>\"\",C4-$B4,NA()))","v":1.0000000000000009E-2},{"$f":"IF($A4<>\"\",IF(D4<>\"\",D4-$B4,NA()))","v":-1.0000000000000009E-2},{"$f":"IF($A4<>\"\",IF(E4<>\"\",E4-$B4,NA()))","v":-2.0000000000000018E-2},{"$f":"IF($A4<>\"\",IF(F4<>\"\",F4-$B4,NA()))","v":-3.0000000000000027E-2},{"$f":"IF($A4<>\"\",IF(G4<>\"\",G4-$B4,NA()))","v":{"$error":"#N/A"}},{"$f":"IF($A4<>\"\",IF(H4<>\"\",H4-$B4,NA()))","v":{"$error":"#N/A"}},{"$f":"IF(I4<>\"\",I4-B4,)","v":-1.2499999999999956E-2},null,{"$f":"IF($A4<>0,IF(C4<>\"\",C4,#N/A))","v":1.1100000000000001},{"$f":"IF($A4<>0,IF(D4<>\"\",D4,#N/A))","v":1.0900000000000001},{"$f":"IF($A4<>0,IF(E4<>\"\",E4,#N/A))","v":1.08},{"$f":"IF($A4<>0,IF(F4<>\"\",F4,#N/A))","v":1.07},{"$f":"IF($A4<>0,IF(G4<>\"\",G4,#N/A))","v":{"$error":"#N/A"}},{"$f":"IF($A4<>0,IF(H4<>\"\",H4,#N/A))","v":{"$error":"#N/A"}}]
[1,3.3,3.29,3.38,3.1,3.1,null,null,3.2174999999999998,3.3944108476428623,8.2500000000000018E-2,2.5000000000000008E-2,null,8,2,10.4,null,207.44624000000002,206.15114000000003,210.18034,210.18034,"","",209.91663224999999,null,null,null,3.2174999999999998,3.3,10.889999999999999,35.936999999999998,null,3.3,-9.9999999999997868E-3,8.0000000000000071E-2,-0.19999999999999973,-0.19999999999999973,{"$error":"#N/A"},{"$error":"#N/A"},-8.2500000000000018E-2,null,3.29,3.38,3.1,3.1,{"$error":"#N/A"},{"$error":"#N/A"}]
[1,6.6,6.6,6.68,6.86,6.84,null,null,6.7450000000000001,6.6764292078081535,-0.14500000000000046,-2.1969696969697042E-2,null,7,3,15.35,null,123.16554000000002,122.27834000000001,120.28214000000001,120.50394000000001,"","",120.14352099999996,null,null,null,6.7450000000000001,6.6,43.559999999999995,287.49599999999998,null,6.6,0,8.0000000000000071E-2,0.26000000000000068,0.24000000000000021,{"$error":"#N/A"},{"$error":"#N/A"},0.14500000000000046,null,6.6,6.68,6.86,6.84,{"$error":"#N/A"},{"$error":"#N/A"}]
[1,13.1,13.34,13.24,13,13.1,null,null,13.17,13.141010826315545,-7.0000000000000284E-2,-5.3435114503817011E-3,null,6,4,20.3,null,20.039940000000005,20.498940000000005,21.600540000000006,21.141540000000006,"","",20.575295999999998,null,null,null,13.17,13.1,171.60999999999999,2248.0909999999999,null,13.1,0.24000000000000021,0.14000000000000057,-9.9999999999999645E-2,0,{"$error":"#N/A"},{"$error":"#N/A"},7.0000000000000284E-2,null,13.34,13.24,13,13.1,{"$error":"#N/A"},{"$error":"#N/A"}]
[1,19.8,19.97,19.850000000000001,20.100000000000001,20.2,null,null,20.03,19.80450264846932,-0.23000000000000043,-1.1616161616161637E-2,null,5,5,25.25,null,4.7770399999999977,4.5238400000000025,5.0513400000000024,5.2623399999999982,"","",5.4009760000000071,null,null,null,20.03,19.8,392.04,7762.3920000000007,null,19.8,0.16999999999999815,5.0000000000000711E-2,0.30000000000000071,0.39999999999999858,{"$error":"#N/A"},{"$error":"#N/A"},0.23000000000000043,null,19.97,19.850000000000001,20.100000000000001,20.2,{"$error":"#N/A"},{"$error":"#N/A"}]
[1,25,25.7,25.4,25,25.1,null,null,25.299999999999997,24.976167943275232,-0.29999999999999716,-1.1999999999999886E-2,null,4,6,30.2,null,58.436139999999988,56.243139999999983,53.319139999999997,54.050140000000006,"","",57.668835999999963,null,null,null,25.299999999999997,25,625,15625,null,25,0.69999999999999929,0.39999999999999858,0,0.10000000000000142,{"$error":"#N/A"},{"$error":"#N/A"},0.29999999999999716,null,25.7,25.4,25,25.1,{"$error":"#N/A"},{"$error":"#N/A"}]
[1,32,32,32.1,32.5,32.4,null,null,{"$f":"IF(A10<>0,AVERAGE(C10:H10),\"\")","v":32.25},31.938025070898579,-0.25,-7.8125E-3,null,3,7,35.15,null,204.54713999999998,205.97814,211.70213999999999,210.27113999999997,"","",211.52793600000001,null,null,null,32.25,32,1024,32768,null,32,0,0.10000000000000142,0.5,0.39999999999999858,{"$error":"#N/A"},{"$error":"#N/A"},0.25,null,32,32.1,32.5,32.4,{"$error":"#N/A"},{"$error":"#N/A"}]
[1,36,36,35.799999999999997,35.5,35.6,null,null,{"$f":"IF(A11<>0,AVERAGE(C11:H11),\"\")","v":35.725000000000001},35.916229143826207,0.27499999999999858,7.6388888888888496E-3,null,2,8,40.1,null,334.96314000000001,331.30113999999992,325.80813999999998,327.63914,"","",324.68436100000008,null,null,null,35.725000000000001,36,1296,46656,null,36,0,-0.20000000000000284,-0.5,-0.39999999999999858,{"$error":"#N/A"},{"$error":"#N/A"},-0.27499999999999858,null,36,35.799999999999997,35.5,35.6,{"$error":"#N/A"},{"$error":"#N/A"}]
[1,40,40,39,39.200000000000003,39.799999999999997,null,null,{"$f":"IF(A12<>0,AVERAGE(C12:H12),\"\")","v":39.5},39.894433216753832,0.5,1.2500000000000001E-2,null,1,9,45.05,null,497.37914000000001,475.06914,479.53114000000005,492.9171399999999,"","",474.97843600000004,null,null,null,39.5,40,1600,64000,null,40,0,-1,-0.79999999999999716,-0.20000000000000284,{"$error":"#N/A"},{"$error":"#N/A"},-0.5,null,40,39,39.200000000000003,39.799999999999997,{"$error":"#N/A"},{"$error":"#N/A"}]
[null,null,null,null,null,null,null,null,{"$f":"IF(A13<>0,AVERAGE(C13:H13),\"\")","v":""},"","","",null,0,10,50,null,"","","","","","","",null,null,null,"","","","",null,{"$error":"#N/A"},false,false,false,false,false,false,0,null,false,false,false,false,false,false]
[null,{"$f":"AVERAGE(B3:B13)","v":17.690000000000001},{"$f":"AVERAGE(C3:C13)","v":17.803999999999998},17.655999999999999,17.638999999999999,17.725000000000001,{"$error":"#DIV/0!"},{"$error":"#DIV/0!"},{"$f":"AVERAGE(C3:H13)","v":17.706},null,null,null,null,null,null,null,null,{"$f":"SUM(R3:W13)","v":8095.4423999999981},null,null,null,null,null,{"$f":"SUM(X3:X13)*F1","v":8053.3391100000008},null,null,"count",{"$f":"COUNT(C3:C13)","v":10},{"$f":"COUNT(AC3:AC13)","v":10},{"$f":"COUNT(AD3:AD13)","v":10},{"$f":"COUNT(AE3:AE13)","v":10},null,{"$f":"AVERAGEIF(AG3:AG13,\">-1\")","v":17.690000000000001},null,null,null,null,null,null,null,null,{"$f":"AVERAGE(AP3:AP13)","v":17.803999999999998},17.655999999999999,17.638999999999999,17.725000000000001,{"$error":"#N/A"},{"$error":"#N/A"},{"$f":"AVERAGEIF(AP3:AU13,\">-9999\")","v":17.706}]
[]
[null,"傾き","切片",null,"Sxx =",{"$f":"AG27","v":8139.7960000000003},null,null,null,null,null,null,null,null,null,null,null,{"$f":"IF($A3<>0,IF(C3<>\"\",(C3-$AV$14)^2,\"\"),\"\")","v":312.44097599999992},312.79459600000001,311.73433599999998,312.08755600000001,"","",null,null,null,null,null,null,null,null,null,{"$f":"IFERROR((AG3-$AG$14)^2,\"\")","v":312.93610000000007}]
[null,{"$f":"SLOPE(I3:I13,B3:B13)","v":0.9945510182319065},{"$f":"INTERCEPT(I3:I13,B3:B13)","v":0.11239248747757102},null,"Syy =",{"$f":"$R$27","v":8054.8821600000001},null,null,null,null,null,null,null,null,null,null,null,{"$f":"IF($A4<>0,IF(C4<>\"\",(C4-$AV$14)^2,\"\"),\"\")","v":275.42721599999999},{"$f":"IF($A4<>0,IF(D4<>\"\",(D4-$AV$14)^2,\"\"),\"\")","v":276.09145599999999},{"$f":"IF($A4<>0,IF(E4<>\"\",(E4-$AV$14)^2,\"\"),\"\")","v":276.42387599999995},{"$f":"IF($A4<>0,IF(F4<>\"\",(F4-$AV$14)^2,\"\"),\"\")","v":276.75649599999997},{"$f":"IF($A4<>0,IF(G4<>\"\",(G4-$AV$14)^2,\"\"),\"\")","v":""},{"$f":"IF($A4<>0,IF(H4<>\"\",(H4-$AV$14)^2,\"\"),\"\")","v":""},null,null,null,null,null,null,null,null,null,{"$f":"IFERROR((AG4-$AG$14)^2,\"\")","v":275.22809999999998}]
[null,null,null,null,"Sxy =",{"$f":"$R$14","v":8095.4423999999981},null,null,null,null,null,null,null,null,null,null,null,207.821056,205.23427600000002,213.33523600000001,213.33523600000001,"","",null,null,null,null,null,null,null,null,null,207.07210000000001]
[null,null,null,null,null,null,null,null,null,null,null,null,null,null,null,null,null,123.34323599999999,121.572676,117.635716,118.06995599999999,"","",null,null,null,null,null,null,null,null,null,122.98810000000003]
[null,"分散分析表",null,null,null,null,null,null,null,null,null,null,null,null,null,null,null,19.061955999999999,19.945155999999994,22.146435999999994,21.215235999999997,"","",null,null,null,null,null,null,"実測多項式",null,null,21.068100000000015]
[null,"変動要因","変動","自由度","分散","F値","有意確率",null,null,null,null,null,null,null,null,null,null,5.1256959999999969,4.5967360000000079,5.7312360000000089,6.2200359999999986,"","",null,null,null,null,null,"a",{"$f":"INDEX(LINEST(直線性回帰測定値,直線性計算範囲),4)","v":-2.1474324659331856E-2},{"$f":"AD21","v":-2.1474324659331856E-2},null,4.4520999999999979]
[null,"回帰変動 SB",{"$f":"F18^2/F16","v":8051.3304819577452},1,{"$f":"C22","v":8051.3304819577452},null,null,null,null,null,null,null,null,null,null,null,null,63.904035999999998,59.197635999999989,53.202436000000006,54.671236000000029,"","",null,null,null,null,null,"b",{"$f":"INDEX(LINEST(直線性回帰測定値,直線性計算範囲),3)","v":1.0120210489000507},{"$f":"AD22*C32","v":40.480841956002031},null,53.436099999999982]
[null,"残差変動 SL",{"$f":"C24-C22","v":2.0086280422556229},{"$f":"COUNT(AG3:AG13)-2","v":8},{"$f":"C23/D23","v":0.25107850528195286},{"$f":"E23/E25","v":4.8814718631683656},{"$f":"IF(F23<0,\"計算不能、空白データを確認\",FDIST(F23,D24,D25))","v":4.5729147700325349E-4},null,null,null,null,null,null,null,null,null,null,204.31843600000002,207.18723600000004,218.862436,215.91363599999997,"","",null,null,null,null,null,"c",{"$f":"INDEX(LINEST(直線性回帰測定値,直線性計算範囲),2)","v":8.0576777155835452E-4},{"$f":"AD23*C32^2","v":1.2892284344933673},null,204.77609999999996]
[null,"級間変動",{"$f":"X14","v":8053.3391100000008},{"$f":"COUNT(AG3:AG13)-1","v":9},{"$f":"C24/D24","v":894.81545666666671},null,null,null,null,null,null,null,null,null,null,null,null,334.670436,327.39283599999993,316.62643600000001,320.19523600000008,"","",null,null,null,null,null,"d",{"$f":"INDEX(LINEST(直線性回帰測定値,直線性計算範囲),1)","v":-2.9123221028707593E-5},{"$f":"AD24*C32^3","v":-1.863886145837286},null,335.25609999999995]
[null,"純誤差変動 SE",{"$f":"F17-X14","v":1.5430499999993117},{"$f":"COUNT(AG3:AG13)*F1-COUNT(AG3:AG13)","v":30},{"$f":"C25/D25","v":5.1434999999977055E-2},null,null,null,null,null,null,null,null,null,null,null,null,497.02243600000003,453.43443600000001,461.99203600000016,488.14483599999988,"","",null,null,null,null,null,null,null,null,null,497.73609999999996]
[null,"総変動 Syy",{"$f":"C22+C23+C25","v":8054.8821600000001},{"$f":"COUNT(AG3:AG13)*F1-1","v":39},{"$f":"C26/D26","v":206.53543999999999},null,null,null,null,null,null,null,null,null,null,null,null,"","","","","","",null,null,null,null,null,null,null,null,null,""]
[null,null,null,null,null,null,null,null,null,null,null,null,null,null,null,null,null,{"$f":"SUM(R16:W26)","v":8054.8821600000001},null,null,null,null,null,null,null,null,null,null,null,null,null,"Sxx =",{"$f":"SUM(AG16:AG26)*F1","v":8139.7960000000003}]
[null,"直線性の判定 (有意確率0.001以下のとき有意差ありと判定）"]
[{"$f":"IF(G23>0.001,\"　残差変動の分散と級内変動の分散比の有意確率より、「測定範囲内で直線性がある」\",\"　残差変動の分散と級内変動の分散比の有意確率より、「測定範囲内に直線性が認められない」\")","v":"　残差変動の分散と級内変動の分散比の有意確率より、「測定範囲内に直線性が認められない」"}]
[null,{"$f":"IF(G23>0.001,\"\",\"解説の「結果の解釈」を参考に調整して下さい。\")","v":"解説の「結果の解釈」を参考に調整して下さい。"}]
[]
[null,"X=",40]
[null,"Y=",{"$f":"SUM(AE21:AE25)","v":39.884709919998784}]
[null,"推定偏差率%",{"$f":"((C32*B17+C17)-C33)/C33","v":2.4378506887855875E-4}]

{"sheet":"許容誤差限界","index":10,"n_rows":74,"n_cols":20,"rows_kept":74,"cut":false,"hidden":false,"merged":[[4,6,4,7],[4,8,4,9],[4,17,4,18],[4,13,4,14],[4,15,4,16]]}
[null,null,null," 医学検査 2008 Vol． 157 No．1. 「臨床検査精度管理調査の定量検査評価法と. 試料に関する日臨技指針」　より引用"]
[]
[]
[null,null,null,"表4 　精度管理調査の許容誤差に関する現状",null,null,null,null,null,null,null,null,"表5","施設間許容誤差限界と既報告の施設間・施設内許容誤差限界（％）"]
[null,null,null,null,"日本臨床衛生検査技師会",null,"CAP ",null,"日本医師会※",null,null,null,null,"日本臨床衛生検査技師会",null,"日本臨床化学会",null,"Ricos",null,"臨床医の望む"]
[null,null,null,null,"低値","高値","低値","高値","低値","高値",null,null,null,"基準域施設間","高値域施設間","施設間BA","施設内CVA","施設間BA","施設内CVA","許容誤差"]
[null,null,null,"Glu",0.05,"←","6mg/dL",0.1,0.04,0.04,null,null,"Glu",3.2,2.9,2.2999999999999998,2.9,2.2000000000000002,2.9,2.7]
[null,null,null,"Na","3.0mmol/L","←","4mmol/L","←",1.7999999999999999E-2,1.7000000000000001E-2,null,null,"Na",1.4,1.4,0.3,0.4,0.3,0.4,0.7]
[null,null,null,"K","0.2mmol/L","←","0.5mmol/L","←",5.0999999999999997E-2,3.7999999999999999E-2,null,null,"K",2.2999999999999998,1.9,1.9,2.6,1.8,2.4,2]
[null,null,null,"Cl","3.0mmol/L","←",0.05,"←",2.7E-2,2.3E-2,null,null,"Cl",2.4,2.1,0.5,0.7,0.5,0.6,0.9]
[null,null,null,"T-Bil","0.2mg/dL","←","0.4mg/dL",0.2,0.33500000000000002,7.4999999999999997E-2,null,null,"T-Bil",5.0999999999999996,4,12.1,11.7,10,12.8,10]
[null,null,null,"D-Bil","0.2mg/dL","←",null,null,null,null,null,null,"D-Bil",8.5,5.8,13.1,14.8]
[null,null,null,"Ca","0.4mg/dL","←","1mg/dL","←",0.05,0.05,null,null,"Ca",2.5,2.5,1,1.3,0.8,1,1]
[null,null,null,"IP",0.05,"←",null,null,7.5999999999999998E-2,0.05,null,null,"IP",5.0999999999999996,4.9000000000000004,3.5,4.5999999999999996,2.2000000000000002]
[null,null,null,"Fe",0.05,"←",null,null,0.05,0.05,null,null,"Fe",3.9,3.7,11.3,16.899999999999999]
[null,null,null,"TP",0.05,"←",0.1,"←",null,null,null,null,"TP",3.5,3.9,1.2,1.5,1.2,1.4,1.3]
[null,null,null,"Alb",0.05,"←",0.1,"←",null,null,null,null,"Alb",5.9,5.6,1.3,1.6,1.3,1.6,2]
[null,null,null,"UA",0.05,"←",0.17,"←",4.1000000000000002E-2,0.04,null,null,"UA",2.9,2.9,6.5,4.4000000000000004,4.8,4.3,2.9]
[null,null,null,"UN","1mg/dL",0.05,"2mg/dL",0.09,7.3999999999999996E-2,5.1999999999999998E-2,null,null,"UN",3.5,4,6,7.1,5.5,6.2,5]
[null,null,null,"CRE","0.1mg/dL",7.0000000000000007E-2,"0.3mg/dL",0.15,0.107,7.1999999999999995E-2,null,null,"CRE",7.3,3.2,4.8,2.7,3.4,2.2000000000000002,10]
[null,null,null,"T-Cho(TC)",0.05,"←",0.1,"←",0.05,0.05,null,null,"T-Cho",3.1,3.1,4.5,3.4,4,3,2.5]
[null,null,null,"TG",0.09,"←",0.25,"←",7.4999999999999997E-2,0.06,null,null,"TG",5,4.9000000000000004,15.4,14.8,10.7,10.5,3.3]
[null,null,null,"HDL-C",0.05,"←",0.3,"←",0.06,0.06,null,null,"HDL-C",5,3.8,6,4.2,5.2,3.6,7.5]
[null,null,null,"LDL-C",0.05,"←",null,null,null,null,null,null,"LDL-C",4.5,4.0999999999999996,6.9,4.5999999999999996]
[null,null,null,"AST",0.1,"←",0.2,"←",4.1000000000000002E-2,0.04,null,null,"AST",3.6,3.4,7.1,7.6,5.4,6,5]
[null,null,null,"ALT",0.1,"←",0.2,"←",4.1000000000000002E-2,0.04,null,null,"ALT",4.9000000000000004,3.5,12.4,11.1,12,12.2,5]
[null,null,null,"ALP",0.1,"←",0.3,"←",0.04,0.04,null,null,"ALP",5.5,5.2,6.5,3.9,6.4,3.2,4]
[null,null,null,"LD",0.1,"←",0.2,"←",0.04,0.04,null,null,"LD",3.1,3,4.4000000000000004,3.4,4.3,4.3,2.8]
[null,null,null,"AMY",0.1,"←",0.3,"←",4.5999999999999999E-2,0.04,null,null,"AMY",4.4000000000000004,4.5,6.8,4.2,7.8,4.8,4]
[null,null,null,"CK",0.1,"←",0.3,"←",0.06,0.06,null,null,"CK",4.7,4.7,11.3,11.1,11.5,11.4,5]
[null,null,null,"γGT",0.1,"←","3SD","←",8.8999999999999996E-2,0.04,null,null,"γGT",3.5,3.8,12.8,8.1999999999999993,10.8,6.9,6]
[null,null,null,"CHE",0.1,"←",null,null,7.6999999999999999E-2,6.4000000000000001E-2,null,null,"CHE",6.3,7.1,4.7,2.6,null,null,3]
[null,null,null,"HbA1C",0.05,"←",null,null,5.8999999999999997E-2,5.3999999999999999E-2,null,null,"HbA1C",3.7,2.8,null,null,null,null,1.7]
[null,null,null,"CRP",0.2,0.1,null,null,0.08,0.08,null,null,"CRP",11.1,6.4,27.7,28.6,24.9,26.3]
[null,null,null,"IgG・IgA・IgM",0.1,"←",null,null,0.08,0.08,null,null,"IgG",5.4,4.5,4.2,2.2999999999999998,4.3,2.2999999999999998]
[null,null,null,"CEA",null,null,null,null,0.12,0.12,null,null,"IgA",5.2,5.7,9.9,2,9.1,2.7]
[null,null,null,"AFP",0.1,"←",null,null,0.129,0.12,null,null,"IgM",7.2,6.4,11.1,2.8,11.9,3]
[null,null,null,"Ferritn",0.1,"←",null,null,null,null,null,null,"Hb",3.2,2.7,2.2999999999999998,1.8,null,null,3]
[null,null,null,"CA19-9",null,null,null,null,0.12,0.12,null,null,"RBC",null,null,2,1.7,null,null,4]
[null,null,null,"CA125",null,null,null,null,0.12,0.12,null,null,"WBC",3.6,3.7,5.9,7.7,null,null,5]
[null,null,null,"PSA",null,null,null,null,0.12,0.12,null,null,"Plt",null,null,5.2,4.5999999999999996,null,null,7]
[null,null,null,"TSH",null,null,null,null,0.1,0.1,null,null,"Ht",null,null,2.1,1.7]
[null,null,null,"FT3",null,null,null,null,0.19600000000000001,0.12]
[null,null,null,"Hb","3SD","3SD",null,null,0.04,0.04,null,null,null,"日本臨床化学会クオリティマネジメント専門委員会が定めた許容誤差限界の基本的な考え方は、"]
[null,null,null,"RBC",null,null,null,null,0.04,0.04,null,null,null,"生理学的変動を基に算出している。"]
[null,null,null,"WBC","3SD","3SD",null,null,0.1,0.1]
[null,null,null,"Plt","3SD","3SD",null,null,0.12,0.12]
[null,null,null,"Ht",null,null,null,null,0.06,0.06]
[null,null,null,"PTINR"]
[null,null,null,"APTT",null,null,null,null,0.06,0.06]
[null,null,null,"Fibrinogen",null,null,null,null,0.08,0.1]
[null,null,null,"※：評価用CVの2倍に相当する、“A”、“B”を含む評価範囲を示した"]
[]
[]
[]
[]
[]
[]
[]
[]
[]
[]
[]
[]
[]
[]
[]
[]
[]
[]
[]
[null,null,null,null,null,null,null,null,null,null,null,null,null,"日本臨床衛生検査技師会"]
[null,null,null,null,null,null,null,null,null,null,null,null,null,"現在の技術水準から算出した施設間許容誤差限界"]
[null,null,null,null,null,null,null,null,null,null,null,null,null,"（臨床検査精度管理調査の定量検査評価法と試料に関する日臨技指針より）"]

{"sheet":"報告書","index":11,"n_rows":147,"n_cols":10,"rows_kept":147,"cut":false,"hidden":false,"merged":[[53,1,55,1],[0,2,0,5],[48,1,49,1],[50,1,52,1]]}
[null,null,"バリデーション報告書"]
[]
["1. 精度"]
[null,"1-1 併行精度"]
[]
[null,{"$f":"併行精度!B1","v":"血糖値"},"試料１","試料２","試料３","試料４","試料５","試料６","試料７","試料８"]
[null,"データ数",{"$f":"IF(併行精度!B36<>\"\",併行精度!B36,\"\")","v":30},{"$f":"IF(併行精度!C36<>\"\",併行精度!C36,\"\")","v":30},{"$f":"IF(併行精度!D36<>\"\",併行精度!D36,\"\")","v":30},{"$f":"IF(併行精度!E36<>\"\",併行精度!E36,\"\")","v":30},{"$f":"IF(併行精度!F36<>\"\",併行精度!F36,\"\")","v":""},{"$f":"IF(併行精度!G36<>\"\",併行精度!G36,\"\")","v":""},{"$f":"IF(併行精度!H36<>\"\",併行精度!H36,\"\")","v":""},{"$f":"IF(併行精度!I36<>\"\",併行精度!I36,\"\")","v":""}]
[null,"平　均",{"$f":"IF(C7<>\"\",併行精度!B33,\"\")","v":71.599999999999994},{"$f":"IF(D7<>\"\",併行精度!C33,\"\")","v":107.83333333333333},{"$f":"IF(E7<>\"\",併行精度!D33,\"\")","v":202.26666666666668},{"$f":"IF(F7<>\"\",併行精度!E33,\"\")","v":400.83333333333331},{"$f":"IF(G7<>\"\",併行精度!F33,\"\")","v":""},{"$f":"IF(H7<>\"\",併行精度!G33,\"\")","v":""},{"$f":"IF(I7<>\"\",併行精度!H33,\"\")","v":""},{"$f":"IF(J7<>\"\",併行精度!I33,\"\")","v":""}]
[null,"最大値",{"$f":"IF(C7<>\"\",併行精度!B41,\"\")","v":74},{"$f":"IF(D7<>\"\",併行精度!C41,\"\")","v":111},{"$f":"IF(E7<>\"\",併行精度!D41,\"\")","v":204},{"$f":"IF(F7<>\"\",併行精度!E41,\"\")","v":404},{"$f":"IF(G7<>\"\",併行精度!F41,\"\")","v":""},{"$f":"IF(H7<>\"\",併行精度!G41,\"\")","v":""},{"$f":"IF(I7<>\"\",併行精度!H41,\"\")","v":""},{"$f":"IF(J7<>\"\",併行精度!I41,\"\")","v":""}]
[null,"最小値",{"$f":"IF(C7<>\"\",併行精度!B42,\"\")","v":66},{"$f":"IF(D7<>\"\",併行精度!C42,\"\")","v":106},{"$f":"IF(E7<>\"\",併行精度!D42,\"\")","v":200},{"$f":"IF(F7<>\"\",併行精度!E42,\"\")","v":398},{"$f":"IF(G7<>\"\",併行精度!F42,\"\")","v":""},{"$f":"IF(H7<>\"\",併行精度!G42,\"\")","v":""},{"$f":"IF(I7<>\"\",併行精度!H42,\"\")","v":""},{"$f":"IF(J7<>\"\",併行精度!I42,\"\")","v":""}]
[null,"Range",{"$f":"IF(C7<>\"\",C9-C10,\"\")","v":8},5,4,6,"","","",""]
[null,"Ｓ　Ｄ",{"$f":"IF(C7<>0,併行精度!B34,\"\")","v":1.4044264997156124},{"$f":"IF(D7<>0,併行精度!C34,\"\")","v":1.0531834608931387},{"$f":"IF(E7<>0,併行精度!D34,\"\")","v":1.0148325268098499},{"$f":"IF(F7<>0,併行精度!E34,\"\")","v":1.4874957741657355},{"$f":"IF(G7<>0,併行精度!F34,\"\")","v":""},{"$f":"IF(H7<>0,併行精度!G34,\"\")","v":""},{"$f":"IF(I7<>0,併行精度!H34,\"\")","v":""},{"$f":"IF(J7<>0,併行精度!I34,\"\")","v":""}]
[null,"ＣＶ（％）",{"$f":"IF(C7<>0,併行精度!B35,\"\")","v":1.9614895247424755},{"$f":"IF(D7<>0,併行精度!C35,\"\")","v":0.97667708892717664},{"$f":"IF(E7<>0,併行精度!D35,\"\")","v":0.50172999018285258},{"$f":"IF(F7<>0,併行精度!E35,\"\")","v":0.37110081683968454},{"$f":"IF(G7<>0,併行精度!F35,\"\")","v":""},{"$f":"IF(H7<>0,併行精度!G35,\"\")","v":""},{"$f":"IF(I7<>0,併行精度!H35,\"\")","v":""},{"$f":"IF(J7<>0,併行精度!I35,\"\")","v":""}]
[]
[]
[null,"1-2 室内精度"]
[]
[null,null,"試料１","試料２","試料３"]
[null,"データ数",{"$f":"室内精度1!K10+1","v":128},{"$f":"室内精度2!K10+1","v":180},{"$f":"室内精度3!K10+1","v":180}]
[null,"平　均",{"$f":"AVERAGE(室内精度1!$B3:$F92)","v":255.65625},{"$f":"AVERAGE(室内精度2!$B3:$F92)","v":3.6331111111111118},{"$f":"AVERAGE(室内精度3!$B3:$F92)","v":100.67639496473969}]
[null,"最大値",{"$f":"MAX(室内精度1!$B3:$F92)","v":261},{"$f":"MAX(室内精度2!$B3:$F92)","v":3.8},{"$f":"MAX(室内精度3!$B3:$F92)","v":111.04153852793388}]
[null,"最小値",{"$f":"MIN(室内精度1!$B3:$F92)","v":251},{"$f":"MIN(室内精度2!$B3:$F92)","v":3.49},{"$f":"MIN(室内精度3!$B3:$F92)","v":91.689674061490223}]
[null,"Range",{"$f":"C21-C22","v":10},{"$f":"D21-D22","v":0.30999999999999961},{"$f":"E21-E22","v":19.351864466443658}]
[null,"日内精密度",{"$f":"室内精度1!$M8","v":1.75},{"$f":"室内精度2!$M8","v":5.8566201857385328E-2},{"$f":"室内精度3!$M8","v":4.1708653905145283}]
[null,"日間精密度",{"$f":"室内精度1!$M7","v":1.0155048005794951},{"$f":"室内精度2!$M7","v":1.8064767648996616E-2},{"$f":"室内精度3!$M7","v":1.866581588763867}]
[null,"総合精密度",{"$f":"室内精度1!$M10","v":2.0233017570298308},{"$f":"室内精度2!$M10","v":6.1274078736571161E-2},{"$f":"室内精度3!$M10","v":4.5673603468108057}]
[null,"日内ＣＶ（％）",{"$f":"室内精度1!$N8*100","v":0.68451289573401786},{"$f":"室内精度2!$N8*100","v":1.6120124066195725},{"$f":"室内精度3!$N8*100","v":4.1428434063171489}]
[null,"日間ＣＶ（％）",{"$f":"室内精度1!$N7*100","v":0.39721493238655231},{"$f":"室内精度2!$N7*100","v":0.49722585124768948},{"$f":"室内精度3!$N7*100","v":1.8540409491396743}]
[null,"総合ＣＶ（％）",{"$f":"室内精度1!$N10*100","v":0.79141493979898048},{"$f":"室内精度2!$N10*100","v":1.6865456866754551},{"$f":"室内精度3!$N10*100","v":4.5366745088662057}]
[null,"標準物質の拡張不確かさ（％）",{"$f":"室内精度1!$L35*100","v":3.1372549019607843},{"$f":"室内精度2!$L35*100","v":8.3333333333333321},{"$f":"室内精度3!$L35*100","v":4}]
[null,"日常検査の拡張不確かさ（％）",{"$f":"室内精度1!$L41*100","v":3.5139320920622623},{"$f":"室内精度2!$L41*100","v":8.9901162315855938},{"$f":"室内精度3!$L41*100","v":9.9159297293590036}]
[]
[]
[]
["2. 真度　正確さ"]
[null,"2-1 標準物質を用いた偏り"]
[]
[null,null,"試料１","試料２","試料３","試料４","試料５","試料６","試料７","試料８"]
[null,"データ数",{"$f":"IF(正確さの評価!B27<>0,正確さの評価!B27,\"\")","v":10},{"$f":"IF(正確さの評価!C27<>0,正確さの評価!C27,\"\")","v":10},{"$f":"IF(正確さの評価!D27<>0,正確さの評価!D27,\"\")","v":10},{"$f":"IF(正確さの評価!E27<>0,正確さの評価!E27,\"\")","v":""},{"$f":"IF(正確さの評価!F27<>0,正確さの評価!F27,\"\")","v":""},{"$f":"IF(正確さの評価!G27<>0,正確さの評価!G27,\"\")","v":""},{"$f":"IF(正確さの評価!H27<>0,正確さの評価!H27,\"\")","v":""},{"$f":"IF(正確さの評価!I27<>0,正確さの評価!I27,\"\")","v":""}]
[null,"標準値",{"$f":"IF(正確さの評価!B2<>\"\",正確さの評価!B2,\"\")","v":127.7},{"$f":"IF(正確さの評価!C2<>\"\",正確さの評価!C2,\"\")","v":141.30000000000001},{"$f":"IF(正確さの評価!D2<>\"\",正確さの評価!D2,\"\")","v":156.5},{"$f":"IF(正確さの評価!E2<>\"\",正確さの評価!E2,\"\")","v":""},{"$f":"IF(正確さの評価!F2<>\"\",正確さの評価!F2,\"\")","v":""},{"$f":"IF(正確さの評価!G2<>\"\",正確さの評価!G2,\"\")","v":""},{"$f":"IF(正確さの評価!H2<>\"\",正確さの評価!H2,\"\")","v":""},{"$f":"IF(正確さの評価!I2<>\"\",正確さの評価!I2,\"\")","v":""}]
[null,"標準物質の拡張不確かさ",{"$f":"IF(正確さの評価!B3<>\"\",正確さの評価!B3,\"\")","v":0.38},{"$f":"IF(正確さの評価!C3<>\"\",正確さの評価!C3,\"\")","v":0.42},{"$f":"IF(正確さの評価!D3<>\"\",正確さの評価!D3,\"\")","v":0.47},{"$f":"IF(正確さの評価!E3<>\"\",正確さの評価!E3,\"\")","v":""},{"$f":"IF(正確さの評価!F3<>\"\",正確さの評価!F3,\"\")","v":""},{"$f":"IF(正確さの評価!G3<>\"\",正確さの評価!G3,\"\")","v":""},{"$f":"IF(正確さの評価!H3<>\"\",正確さの評価!H3,\"\")","v":""},{"$f":"IF(正確さの評価!I3<>\"\",正確さの評価!I3,\"\")","v":""}]
[null,"標本平均",{"$f":"正確さの評価!B24","v":128.21},{"$f":"正確さの評価!C24","v":141.01},{"$f":"正確さの評価!D24","v":155.60999999999999},{"$f":"正確さの評価!E24","v":""},{"$f":"正確さの評価!F24","v":""},{"$f":"正確さの評価!G24","v":""},{"$f":"正確さの評価!H24","v":""},{"$f":"正確さの評価!I24","v":""}]
[null,"標本平均の信頼区間下限",{"$f":"正確さの評価!B29","v":128.12435611205782},{"$f":"正確さの評価!C29","v":140.8774496865328},{"$f":"正確さの評価!D29","v":155.43331987752404},{"$f":"正確さの評価!E29","v":""},{"$f":"正確さの評価!F29","v":""},{"$f":"正確さの評価!G29","v":""},{"$f":"正確さの評価!H29","v":""},{"$f":"正確さの評価!I29","v":""}]
[null,"標本平均の信頼区間上限",{"$f":"正確さの評価!B30","v":128.29564388794219},{"$f":"正確さの評価!C30","v":141.14255031346718},{"$f":"正確さの評価!D30","v":155.78668012247593},{"$f":"正確さの評価!E30","v":""},{"$f":"正確さの評価!F30","v":""},{"$f":"正確さの評価!G30","v":""},{"$f":"正確さの評価!H30","v":""},{"$f":"正確さの評価!I30","v":""}]
[null,"平均値の　         　下限",{"$f":"正確さの評価!B31","v":127.7608526596613},{"$f":"正確さの評価!C31","v":140.44988096503212},{"$f":"正確さの評価!D31","v":154.92816424265075},{"$f":"正確さの評価!E31","v":""},{"$f":"正確さの評価!F31","v":""},{"$f":"正確さの評価!G31","v":""},{"$f":"正確さの評価!H31","v":""},{"$f":"正確さの評価!I31","v":""}]
[null,"95%信頼区間　      上限",{"$f":"正確さの評価!B32","v":128.65914734033871},{"$f":"正確さの評価!C32","v":141.57011903496786},{"$f":"正確さの評価!D32","v":156.29183575734922},{"$f":"正確さの評価!E32","v":""},{"$f":"正確さの評価!F32","v":""},{"$f":"正確さの評価!G32","v":""},{"$f":"正確さの評価!H32","v":""},{"$f":"正確さの評価!I32","v":""}]
[null,"Δm",{"$f":"正確さの評価!B35","v":0.51000000000000512},{"$f":"正確さの評価!C35","v":0.29000000000002046},{"$f":"正確さの評価!D35","v":0.89000000000001478},{"$f":"正確さの評価!E35","v":""},{"$f":"正確さの評価!F35","v":""},{"$f":"正確さの評価!G35","v":""},{"$f":"正確さの評価!H35","v":""},{"$f":"正確さの評価!I35","v":""}]
[]
[null,{"$f":"正確さの評価!J45","v":"F 確率より有意水準 0.05 以上から直線性あり！"}]
[]
[null,{"$f":"正確さの評価!J46","v":"Ｔb 確率より有意水準 0.05 以下から比例系統誤差が認められる！"}]
[]
[]
[null,{"$f":"正確さの評価!J47","v":"Ｔa 確率より有意水準 0.05 以下から一定系統誤差が認められる！"}]
[]
[]
[]
[]
[null,"2-2 比較対照法との比較試験"]
[]
[null,null,"X1","Y1"]
[null,"データ数",{"$f":"相関分析!M5","v":50},{"$f":"相関分析!N5","v":50}]
[null,"最大値",{"$f":"_MAX1","v":7.1},{"$f":"_MAX2","v":6.8}]
[null,"最小値",{"$f":"_MIN1","v":0.22},{"$f":"_MIN2","v":0.51}]
[]
[" ","相関係数 r =",{"$f":"相関係数1","v":0.85045027384753547}]
[null,"回帰式　y = bx + a","b","a","λ"]
[null,"Ｄｅｍｉｎｇの線形回帰式",{"$f":"相関分析!M33","v":1.124377142247768},{"$f":"相関分析!N33","v":0.36255564952197439},{"$f":"相関分析!M34","v":1}]
[null,"標準主軸回帰",{"$f":"相関分析!M41","v":1.1049063564265853},{"$f":"相関分析!N41","v":0.41118588418895996}]
[null,"Syx",{"$f":"相関分析!M29","v":0.98547203734393662}]
[null,"s",{"$f":"相関分析!M46","v":0.68748638868006229}]
[]
[null,"Ｄｅｍｉｎｇ信頼区間下限　＝",{"$f":"相関分析!M35","v":0.92183723034528253},{"$f":"相関分析!N35","v":-0.16437850799470466}]
[null,"Ｄｅｍｉｎｇ信頼区間上限　＝",{"$f":"相関分析!M36","v":1.4269606214782062},{"$f":"相関分析!N36","v":0.69428312298333061}]
[null,"標準主軸回帰信頼区間下限　＝",{"$f":"相関分析!M42","v":0.93077372155445315},{"$f":"相関分析!N42","v":1.3192492346247864E-2}]
[null,"標準主軸回帰信頼区間上限　＝",{"$f":"相関分析!M43","v":1.3365091602242065},{"$f":"相関分析!N43","v":0.70685633894526578}]
[]
["検出限界と定量限界"]
[]
[null,null,null,null,"ﾊﾟﾗﾒﾄﾘｯｸ","ﾉﾝﾊﾟﾗﾒﾄﾘｯｸ"]
[null,"ブランク上限（LoB： Limit of Blank)",null,null,{"$f":"検出限界と定量限界!G18","v":3.6584624713929398E-3},{"$f":"検出限界と定量限界!G19","v":4.0000000000000001E-3}]
[null,"検出限界（LoD： Limit of Detection)",null,null,{"$f":"検出限界と定量限界!L32","v":7.4084943971829652E-3},{"$f":"検出限界と定量限界!L33","v":7.7500319257900255E-3}]
[]
[null,"定量限界（LoQ: Limit of Quantitation)",null,"CV 10%点",{"$f":"検出限界と定量限界!S46","v":1.7225684376600908E-2}]
[null,null,null,"CV 20%点",{"$f":"検出限界と定量限界!S47","v":1.0114013652648197E-2}]
[null,null,"任意点",{"$f":"検出限界と定量限界!R48","v":0.3},{"$f":"検出限界と定量限界!S48","v":7.4071174606272789E-3}]
[]
["直線性"]
[]
[]
[]
[]
[]
[]
[]
[]
[]
[]
[]
[]
[]
[]
[]
[]
[]
[]
[null,"分散分析表"]
[null,"変動要因","変動","自由度","分散","F値","有意確率"]
[null,"回帰変動 SB",{"$f":"直線性!C22","v":8051.3304819577452},{"$f":"直線性!D22","v":1},{"$f":"直線性!E22","v":8051.3304819577452}]
[null,"残差変動 SL",{"$f":"直線性!C23","v":2.0086280422556229},{"$f":"直線性!D23","v":8},{"$f":"直線性!E23","v":0.25107850528195286},{"$f":"直線性!F23","v":4.8814718631683656},{"$f":"直線性!G23","v":4.5729147700325349E-4}]
[null,"級間変動",{"$f":"直線性!C24","v":8053.3391100000008},{"$f":"直線性!D24","v":9},{"$f":"直線性!E24","v":894.81545666666671}]
[null,"純誤差変動 SE",{"$f":"直線性!C25","v":1.5430499999993117},{"$f":"直線性!D25","v":30},{"$f":"直線性!E25","v":5.1434999999977055E-2}]
[null,"総変動 Syy",{"$f":"直線性!C26","v":8054.8821600000001},{"$f":"直線性!D26","v":39},{"$f":"直線性!E26","v":206.53543999999999}]
[]
[]
["特異性　選択性"]
[]
[null,{"$f":"選択性!$C$1","v":"溶血の影響"},null,null,null,null,{"$f":"選択性!$C$16","v":"Bi　C の影響"}]
[]
[]
[]
[]
[]
[]
[]
[]
[]
[]
[]
[]
[]
[null,{"$f":"選択性!$C$31","v":"RF の影響"},null,null,null,null,{"$f":"選択性!$C$46","v":"乳び の影響"}]
[]
[]
[]
[]
[]
[]
[]
[]
[]
[]
[]
[]
[]
[]
[null,{"$f":"選択性!$C$61","v":"アスコルビン酸の影響"}]

{"sheet":"ＯＰ設定","index":12,"n_rows":5,"n_cols":2,"rows_kept":5,"cut":false,"hidden":true,"merged":[]}
[true,"直線回帰式を使用する"]
[false,"直線間系式を使用する"]
[]
[]
["オプションボタン設定"]

{"sheet":"tes","index":13,"n_rows":29,"n_cols":15,"rows_kept":29,"cut":false,"hidden":true,"merged":[]}
["日","ＮＯ．１","ＮＯ．２","ＮＯ．３"]
[1,156,156,155,{"$f":"AVERAGE(B2:D2)","v":155.66666666666666},{"$f":"E2-$E$14","v":0.42424242424240788},{"$f":"F2^2","v":0.17998163452707519},{"$f":"DEVSQ(B2:D2)","v":0.66666666666666674},{"$f":"(B2-$E2)^2","v":0.11111111111111743},{"$f":"(C2-$E2)^2","v":0.11111111111111743},{"$f":"(D2-$E2)^2","v":0.44444444444443182},null,{"$f":"(E2-$E$14)^2","v":0.17998163452707519}]
[{"$f":"A2+1","v":2},155,154,155,{"$f":"AVERAGE(B3:D3)","v":154.66666666666666},{"$f":"E3-$E$14","v":-0.57575757575759212},{"$f":"F3^2","v":0.33149678604225941},{"$f":"DEVSQ(B3:D3)","v":0.66666666666666674},{"$f":"(B3-$E3)^2","v":0.11111111111111743},{"$f":"(C3-$E3)^2","v":0.44444444444443182},{"$f":"(D3-$E3)^2","v":0.11111111111111743},null,{"$f":"(E3-$E$14)^2","v":0.33149678604225941}]
[3,154,155,155,154.66666666666666,-0.57575757575759212,0.33149678604225941,0.66666666666666674,0.44444444444443182,0.11111111111111743,0.11111111111111743,null,0.33149678604225941]
[4,154,154,155,154.33333333333334,-0.90909090909090651,0.82644628099173079,0.66666666666666674,0.11111111111111743,0.11111111111111743,0.44444444444443182,null,0.82644628099173079]
[5,156,157,156,156.33333333333334,1.0909090909090935,1.1900826446281048,0.66666666666666674,0.11111111111111743,0.44444444444443182,0.11111111111111743,null,1.1900826446281048]
[6,155,155,156,155.33333333333334,9.0909090909093493E-2,8.2644628099178257E-3,0.66666666666666674,0.11111111111111743,0.11111111111111743,0.44444444444443182,null,8.2644628099178257E-3]
[7,154,157,155,155.33333333333334,9.0909090909093493E-2,8.2644628099178257E-3,4.666666666666667,1.777777777777803,2.7777777777777461,0.11111111111111743,null,8.2644628099178257E-3]
[8,156,154,154,154.66666666666666,-0.57575757575759212,0.33149678604225941,2.6666666666666665,1.777777777777803,0.44444444444443182,0.44444444444443182,null,0.33149678604225941]
[9,156,156,154,155.33333333333334,9.0909090909093493E-2,8.2644628099178257E-3,2.6666666666666665,0.44444444444443182,0.44444444444443182,1.777777777777803,null,8.2644628099178257E-3]
[10,157,156,155,156,0.75757575757575069,0.57392102846647253,2,1,0,1,null,0.57392102846647253]
[11,155,157,154,155.33333333333334,9.0909090909093493E-2,8.2644628099178257E-3,4.6666666666666661,0.11111111111111743,2.7777777777777461,1.777777777777803,null,8.2644628099178257E-3]
[]
[null,{"$f":"AVERAGE(B2:B12)","v":155.27272727272728},{"$f":"AVERAGE(C2:C12)","v":155.54545454545453},{"$f":"AVERAGE(D2:D12)","v":154.90909090909091},{"$f":"AVERAGE(B2:D12)","v":155.24242424242425},null,{"$f":"SUM(G2:G13)","v":3.7979797979798335},{"$f":"SUM(H2:H13)","v":20.666666666666664},{"$f":"(H25+H26)^0.5/E14*100","v":0.92874111478168309},null,{"$f":"SUM(I2:K12)","v":20.666666666666668},null,{"$f":"SUM(M2:M13)","v":3.7979797979798335}]
[null,{"$f":"B14-$E$14","v":3.0303030303031164E-2},{"$f":"C14-$E$14","v":0.30303030303028322},{"$f":"D14-$E$14","v":-0.33333333333334281},null,{"$f":"DEVSQ(E2:E12)","v":3.7979797979798335}]
[null,{"$f":"B15^2","v":9.1827364554642507E-4},{"$f":"C15^2","v":9.1827364554625271E-2},{"$f":"D15^2","v":0.11111111111111743},{"$f":"SUM(B16:D16)","v":0.20385674931128911}]
[null,null,null,null,null,{"$f":"DEVSQ(B2:D12)","v":32.060606060606055}]
[null,{"$f":"DEVSQ(B2:B12)","v":10.181818181818182},{"$f":"DEVSQ(C2:C12)","v":14.727272727272725},{"$f":"DEVSQ(D2:D12)","v":4.9090909090909101},{"$f":"SUM(B18:D18)","v":29.818181818181817}]
[]
[]
[null,null,null,null,null,null,null,null,"ＳＤ","ＣＶ"]
[null,null,null,null,null,null,null,null,{"$f":"H25^0.5","v":1.0674239735888338},{"$f":"I22/155*100","v":0.68866062812182827},null,null,null,{"$f":"FDIST(I25,G25,G26)","v":0.33577815649288151},{"$f":"FINV(0.05,G25,G26)","v":2.2966959569377261}]
[null,null,null,null,"分散分析表",null,null,null,{"$f":"H26^0.5","v":0.96922336919420982},{"$f":"I23/155*100","v":0.62530539948013542}]
[null,null,null,null,"変動要因","変動","自由度","分散","観測された分散比","P-値","F 境界値"]
[null,null,null,null,"ｸﾞﾙｰﾌﾟ間",11.393939393921755,10,1.1393939393921755,1.2129032258068513,0.33577815654680215,2.2966943902247294,null,"日間精密度",{"$f":"J29","v":0.2581988897471611}]
[null,null,null,null,"ｸﾞﾙｰﾌﾟ内",20.666666666627862,22,0.93939393939217553,null,null,null,null,"日内精密度",{"$f":"(F26/G26)^0.5","v":0.96922336919420982}]
[null,null,null,null,null,null,null,null,null,null,null,null,"総合精密度",{"$f":"(H25+H26)^0.5","v":1.4418002215232009},{"$f":"(N25^2+N26^2)^0.5","v":1.0030257255219539}]
[null,null,null,null,"合計",32.060606060549617,32,{"$f":"F28/G28","v":1.0018939393921755},null,null,null,null,"ＣＶ",{"$f":"N27/E14*100","v":0.92874111478168309}]
[null,null,null,null,null,null,null,null,{"$f":"H28^0.5","v":1.0009465217443814},{"$f":"((H25-H26)/3)^0.5","v":0.2581988897471611}]