{"text_format":"1","workbook":"xlsx","n_sheets":15,"sheets":["目次","選択性","正確さの評価","相関分析","併行精度","室内精度1","室内精度2","室内精度3","検出限界と定量限界","直線性","New直線性","許容誤差限界","報告書","ＯＰ設定","tes"],"not_rendered":{"charts":64,"images":7,"macros":1,"external_links":0,"defined_names":56,"comments":11,"pivot_tables":0},"unopened":[],"bounds":{"document_bytes":16777216,"sheet_cells":100000,"rows_first":2000,"rows_last":500,"rows_between":2000,"halvings":0,"cell_chars":16384,"cell_head_chars":4096},"cells_cut":0,"cells_raw":0,"read":"whole","date_system":"1900"}

{"sheet":"目次","index":0,"n_rows":68,"n_cols":2,"rows_kept":68,"cut":false,"hidden":false,"merged":[]}
[null,"ValidationｰSupport処理プログラム Ver7.1\n＜マクロ機能を有効にして下さい。＞ (2026.02.10)"]
[null,"アンダーラインのあるセルはクリックによって目的とするシートへ移動します．"]
[null,"特異性，選択性　（共存物質の影響試験）          [特異性・選択性シート]"]
[null,"真度，正確さ 評価法 （1から3濃度以上に対応）    [正確さの評価シート]"]
[null,"比較対照法との比較実験による方法　                       [相関分析シート]"]
[null,"併行精度　（同時再現性）                                         [併行精度シート]"]
[null,"室内再現精度 (日間変動と日内変動)と不確かさ         [室内精度シート]"]
[null,"検出限界　定量限界 測定                        [検出限界と定量限界シート]"]
[null,"直線性　　　　　　　　　　　　　         　　　　　　　　　　　　　　　[直線性シート]"]
[null,"許容限界の指針　　　　　　　　　　        　　　　　　　　　　  [許容限界シート]"]
[null,"報告書　検討結果のまとめ　　         　　　　　　　　　　　　　 [報告書シート]"]
[null,"バージョンアップ情報"]
[]
[]
[null,"バージョンアップ履歴"]
[null,"･Ver1188の変更点　20120818"]
[null,"書式辺境を許可し、書式の変更を可能にした。したがって、桁数変更の機能が不要になった。また、グラフの桁数表示も連動する様に変更を行った。"]
[null,"また、並べ替えについても許可とした。"]
[null,"・Ver1181からの変更点　2012.01"]
[null,"各種用語の解説をポップアップ形式からシート上に表記するように変更した。また、線形関係式の信頼区間計算を近年有用性が評価されているブートストラップ法を使用してできるようにした。"]
[null,"日内日間精密度シート名称を室内精度に改め、3濃度に対応するためシートを３つにした。"]
[null,"・Ver118からの変更点　2011.11"]
[null,"ランダマイズ２回測定シートに偏差図を追加。日内日差精密度シートのUCL・LCL計算バグの修正。正確さの評価で１濃度に対応。定量限界値の許容誤差限界に任意値を入力可能に。"]
[null,"・Ver8.82からの変更点　2011.09"]
[null,"日本臨床化学会クオリティマネジメント専門委員会　定量測定法に関するバリデーション指針に従い、「相関図」「検出限界と定量限界」を大幅に改造し、STSSV/EXCELに改名する。 新シートへの書き出しを削除。セルの選択制限強化。"]
[null,"回帰分析シートを大幅強化した。従来マクロ機能を使用してグラフ作成を行っていたが、データ入力時に即座に作画するようにした。ただし、従来可能であった信頼区間算出のためのブートストラップ計算ができなくなった。"]
[null,"・Ver8.8からの変更点　2010.02"]
[null,"回帰分析において「標準主軸回帰式」を追加"]
[null,"・Ver７.8 からの変更点"]
[null,"同時再現性シートで標本集団のヒストグラムを表示。"]
[null,"・Ver7.5からの変更点　200712"]
[null,"同時再現シートにて母標準偏差の推定"]
[null,"・Ver7.3からの変更点　200707"]
[null,"不確かさ算出のために日内日間精密度計算のできる日数を９０日まで拡大"]
[null,"・Ver7.1からの変更点　2006.6"]
[null,"日内日間精密度において３０日までの計算を６０日まで拡大"]
[null,"·Ver　5.8　からの変更点　2005.11"]
[null,"同時再現性に解説文を追加。ブートストラップにおけるバグの改善。"]
[null,"·Ver　5.6　からの変更点　2005.01"]
[null,"正確さの評価においてばらつきが全くない場合（Ｓｙｘ＝０）の不具合を修正"]
[null,"·Ver　5.5　からの変更点　2003.09"]
[null,"日内日間精密度の分散分析表の計算式についてコメント表示を行った。"]
[null,"·Ver　5.0　からの変更点　2003.07"]
[null,"相関図作成において、日常検査の性能試験法マニュアル（2002.9.12)に則り、標準化残差式を変更。なお従来通りのＳｙｘによるグラフ表示機能も残す。"]
[null,"·Ver　4.5　からの変更点　2003.05"]
[null,"正規分布型検定と反復切断法においてべき乗変換と階級数最適値の検索＆許容範囲の検索および信頼区間の算出プログラムの追加を行った。べき乗変換して正規化を行ったデータに対して、信頼区間が容易に求められる。また、日内日間精密度において管理限界値の計算の不具合を改善した。"]
[null,"Ver　4.2　からの変更点　2002.11"]
[null,"・ 同時再現性シートの追加　・ 解説の変更　・検出限界シートの2SD法への対応"]
[null,"Ver　4.1　からの変更点　2002.10"]
[null,"ブートストラップ法による回帰式の区間推定を古典的回帰式から線形回帰式へ変更した。"]
[null,"データ容量低減のため、変更を行った。"]
[null,"Ver　4.0　からの変更点　2002.10"]
[null,"ブートストラップ法のおける信頼区間を線形回帰式より算出するように変更"]
[null,"Ｖｅｒ　3.6　からの変更点　2002.0７"]
[null,"日内日間の精密度において管理図に使用する予備データの計算を行えるようにした．また、日差と日内の精密度比較グラフを追加した。"]
[null,"相関図において９５％等確率楕円の表示が行えるようになった。"]
[null,"各種検定におけるサンプル数の計算を行えるようにした。"]
[null,"分布型シートで分布型検定後のデータセルロック状態を修正した。"]
[null,"Ｖｅｒ　2.0　からの変更点　2000.08"]
[null,"・「精密さの評価」において，患者試料による評価を追加"]
[null,"   (多数の患者試料の二重測定値 ; ランダマイズ２回測定）"]
[null,"・「正確さの評価」において「１種類の濃度の血清標準物質による評価」の95％信頼区間を表示するように変更。"]
[null,"・比較対照法との比較実験による方法において，ブートストラップ法での傾き・切片の信頼区間を求めることが可能となった。"]
[null,"Ｖｅｒ　1.5　からの変更点"]
[null,"･「分布型検定」　および　「反復切断法」　を加えデータの分布について調査出来るようにした。"]
[null,"・「正確さの評価」における「比較対照法との比較実験による方法」において，外れ値検出のための「相対的な差の平均値」をグラフ上部に表示するようにした。"]
[null,"Ｖｅｒ　1.0　からの変更点"]
[null,"ＥＸＣＥＬ―Ｂｏｏｋの最初にシートへ［はじめに］を加え，ＳＴＳＳ／ＥＸＣＥＬの使用方法などの解説を表示するようにした。"]

{"sheet":"選択性","index":1,"n_rows":74,"n_cols":14,"rows_kept":74,"cut":false,"hidden":false,"merged":[]}
[null,"タイトル","溶血の影響",null,"解説",null,null,null,null,null,null,null,null,0]
[null,"系列","測定値","変化率(%)"]
[null,0,3.1,{"$f":"IF(COUNTA(C3)<>0,(C3-$C$14)/$C$14*100,\"\")","v":0}]
[null,50,3.1,{"$f":"IF(COUNTA(C4)<>0,(C4-$C$14)/$C$14*100,\"\")","v":0}]
[null,100,3.2,3.2258064516129057]
[null,150,3.35,8.064516129032258]
[null,200,3.45,11.290322580645164]
[null,250,3.5,12.90322580645161]
[null,300,3.6,16.129032258064516]
[null,350,3.65,17.741935483870961]
[null,400,3.7,19.35483870967742]
[null,450,3.75,20.967741935483865]
[null,500,3.77,21.612903225806448]
[null,"目標値",3.1]
[]
[null,"タイトル","Bi　C の影響"]
[null,"系列","測定値","変化率(%)"]
[null,0,3.2,{"$f":"IF(COUNTA(C18)<>0,(C18-$C$29)/$C$29*100,\"\")","v":0}]
[null,4.18,3.23,{"$f":"IF(COUNTA(C19)<>0,(C19-$C$29)/$C$29*100,\"\")","v":0.93749999999999389}]
[null,8.36,3.25,1.5624999999999944]
[null,12.54,3.4,6.249999999999992]
[null,16.72,3.6,12.499999999999996]
[null,20.9,3.65,14.062499999999991]
[null,null,null,""]
[null,null,null,""]
[null,null,null,""]
[null,null,null,""]
[null,null,null,""]
[null,"目標値",3.2]
[]
[null,"タイトル","RF の影響"]
[null,"系列","測定値","変化率(%)"]
[null,0,4,{"$f":"IF(COUNTA(C33)<>0,(C33-$C$44)/$C$44*100,\"\")","v":0}]
[null,94,4.0999999999999996,{"$f":"IF(COUNTA(C34)<>0,(C34-$C$44)/$C$44*100,\"\")","v":2.4999999999999911}]
[null,188,4.0999999999999996,2.4999999999999911]
[null,282,4.25,6.25]
[null,376,4.3,7.4999999999999956]
[null,470,4.5999999999999996,14.999999999999991]
[null,null,null,""]
[null,null,null,""]
[null,null,null,""]
[null,null,null,""]
[null,null,null,""]
[null,"目標値",4]
[]
[null,"タイトル","乳び の影響"]
[null,"系列","測定値","変化率(%)"]
[null,0,4,{"$f":"IF(COUNTA(C48)<>0,(C48-$C$59)/$C$59*100,\"\")","v":0}]
[null,468,4.0999999999999996,{"$f":"IF(COUNTA(C49)<>0,(C49-$C$59)/$C$59*100,\"\")","v":2.4999999999999911}]
[null,936,4.1100000000000003,2.750000000000008]
[null,1404,4.25,6.25]
[null,1872,4.3,7.4999999999999956]
[null,2340,4.5,12.5]
[null,null,null,""]
[null,null,null,""]
[null,null,null,""]
[null,null,null,""]
[null,null,null,""]
[null,"目標値",4]
[]
[null,"タイトル","アスコルビン酸の影響"]
[null,"系列","測定値","変化率(%)"]
[null,0,4,{"$f":"IF(COUNTA(C63)<>0,(C63-$C$74)/$C$74*100,\"\")","v":0}]
[null,10,4,{"$f":"IF(COUNTA(C64)<>0,(C64-$C$74)/$C$74*100,\"\")","v":0}]
[null,20,3.97,-0.74999999999999512]
[null,30,3.95,-1.2499999999999956]
[null,40,3.92,-2.0000000000000018]
[null,50,3.9,-2.5000000000000022]
[null,null,null,""]
[null,null,null,""]
[null,null,null,""]
[null,null,null,""]
[null,null,null,""]
[null,"目標値",4]

{"sheet":"正確さの評価","index":2,"n_rows":189,"n_cols":42,"rows_kept":189,"cut":false,"hidden":false,"merged":[[0,6,0,7],[0,1,0,3],[30,0,31,0],[34,9,34,10]]}
["タイトル","Ｎａ",null,null,"解説１","解説２","判定上の注意点",null,null,null,null,null,null,"偏差",null,null,null,null,null,null,null,"標準化残差",null,null,null,null,null,null,null,null,"行平均"]
["認証値→",127.7,141.30000000000001,156.5,null,null,null,null,null,null,null,null,null,{"$f":"IF(B2<>\"\",B2,0)","v":127.7},{"$f":"IF(C2<>\"\",C2,0)","v":141.30000000000001},156.5,0,0,0,0,0,{"$f":"IF(B2<>\"\",B2,0)","v":127.7},{"$f":"IF(C2<>\"\",C2,0)","v":141.30000000000001},156.5,0,0,0,0,0,null,{"$f":"IF(COUNTA(B2:I2)>0,AVERAGE(B2:I2),\"\")","v":141.83333333333334},{"$f":"IF(COUNTA(B2:I2)>0,$AE$28*((AE2-$AE$29)^2),\"\")","v":0.49877777777788612}]
["拡張不確かさ\n (包含係数k=2)",0.38,0.42,0.47,null,null,null,null,null,null,null,null,null,null,null,null,null,null,null,null,null,null,null,null,null,null,null,null,null,null,null,null,null,1,2,3,4,5,6,7,8]
[1,128,140.80000000000001,155.30000000000001,null,null,null,null,null,null,null,null,null,{"$f":"IF(B4<>\"\",B4-B$2,NA())","v":0.29999999999999716},{"$f":"IF(C4<>\"\",C4-C$2,NA())","v":-0.5},-1.1999999999999886,{"$error":"#N/A"},{"$error":"#N/A"},{"$error":"#N/A"},{"$error":"#N/A"},{"$error":"#N/A"},{"$f":"IF(B4<>\"\",(B4-B$2)/$K$40,NA())","v":1.5690780984429988},{"$f":"IF(C4<>\"\",(C4-C$2)/$K$40,NA())","v":-2.6151301640716893},-6.2763123937719953,{"$error":"#N/A"},{"$error":"#N/A"},{"$error":"#N/A"},{"$error":"#N/A"},{"$error":"#N/A"},null,141.36666666666667,{"$f":"IF(COUNTA(B4:I4)>0,$AE$28*((AE4-$AE$29)^2),\"\")","v":0.59211111111100234},null,{"$f":"IF(B4<>\"\",(B$2-$AE$30)*(B4-$AE$29),\"\")","v":192.35466666666656},{"$f":"IF(C4<>\"\",(C$2-$AE$30)*(C4-$AE$29),\"\")","v":0.43199999999998451},200.78666666666692,"","","","",""]
[2,128.1,141,155.19999999999999,null,null,null,null,null,null,null,null,null,{"$f":"IF(B5<>\"\",B5-B$2,NA())","v":0.39999999999999147},-0.30000000000001137,-1.3000000000000114,{"$error":"#N/A"},{"$error":"#N/A"},{"$error":"#N/A"},{"$error":"#N/A"},{"$error":"#N/A"},{"$f":"IF(B5<>\"\",(B5-B$2)/$K$40,NA())","v":2.0921041312573068},-1.5690780984430732,-6.799338426586452,{"$error":"#N/A"},{"$error":"#N/A"},{"$error":"#N/A"},{"$error":"#N/A"},{"$error":"#N/A"},null,141.43333333333334,0.3121111111110455,null,{"$f":"IF(B5<>\"\",(B$2-$AE$30)*(B5-$AE$29),\"\")","v":190.94133333333329},{"$f":"IF(C5<>\"\",(C$2-$AE$30)*(C5-$AE$29),\"\")","v":0.32533333333332431},{"$f":"IF(D5<>\"\",(D$2-$AE$30)*(D5-$AE$29),\"\")","v":199.31999999999991},{"$f":"IF(E5<>\"\",(E$2-$AE$30)*(E5-$AE$29),\"\")","v":""},{"$f":"IF(F5<>\"\",(F$2-$AE$30)*(F5-$AE$29),\"\")","v":""},{"$f":"IF(G5<>\"\",(G$2-$AE$30)*(G5-$AE$29),\"\")","v":""},{"$f":"IF(H5<>\"\",(H$2-$AE$30)*(H5-$AE$29),\"\")","v":""},{"$f":"IF(I5<>\"\",(I$2-$AE$30)*(I5-$AE$29),\"\")","v":""}]
[3,128.4,140.9,155.69999999999999,null,null,null,null,null,null,null,null,null,0.70000000000000284,-0.40000000000000568,-0.80000000000001137,{"$error":"#N/A"},{"$error":"#N/A"},{"$error":"#N/A"},{"$error":"#N/A"},{"$error":"#N/A"},3.6611822297003802,-2.0921041312573814,-4.1842082625147627,{"$error":"#N/A"},{"$error":"#N/A"},{"$error":"#N/A"},{"$error":"#N/A"},{"$error":"#N/A"},null,141.66666666666666,3.211111111111712E-2,null,186.70133333333314,0.37866666666665438,206.65333333333325,"","","","",""]
[4,128.19999999999999,141.30000000000001,155.6,null,null,null,null,null,null,null,null,null,0.49999999999998579,0,-0.90000000000000568,{"$error":"#N/A"},{"$error":"#N/A"},{"$error":"#N/A"},{"$error":"#N/A"},{"$error":"#N/A"},2.6151301640716151,0,-4.7072342953290711,{"$error":"#N/A"},{"$error":"#N/A"},{"$error":"#N/A"},{"$error":"#N/A"},{"$error":"#N/A"},null,141.70000000000002,8.100000000005729E-2,null,189.52800000000005,0.16533333333331879,205.18666666666667,"","","","",""]
[5,128.1,141.1,155.80000000000001,null,null,null,null,null,null,null,null,null,0.39999999999999147,-0.20000000000001705,-0.69999999999998863,{"$error":"#N/A"},{"$error":"#N/A"},{"$error":"#N/A"},{"$error":"#N/A"},{"$error":"#N/A"},2.0921041312573068,-1.0460520656287651,-3.6611822297003056,{"$error":"#N/A"},{"$error":"#N/A"},{"$error":"#N/A"},{"$error":"#N/A"},{"$error":"#N/A"},null,141.66666666666666,3.211111111111712E-2,null,190.94133333333329,0.27199999999999419,208.12000000000026,"","","","",""]
[6,128.30000000000001,140.69999999999999,155.69999999999999,null,null,null,null,null,null,null,null,null,0.60000000000000853,-0.60000000000002274,-0.80000000000001137,{"$error":"#N/A"},{"$error":"#N/A"},{"$error":"#N/A"},{"$error":"#N/A"},{"$error":"#N/A"},3.1381561968860718,-3.1381561968861464,-4.1842082625147627,{"$error":"#N/A"},{"$error":"#N/A"},{"$error":"#N/A"},{"$error":"#N/A"},{"$error":"#N/A"},null,141.56666666666666,1.8777777777768255E-2,null,188.11466666666638,0.48533333333332979,206.65333333333325,"","","","",""]
[7,128.19999999999999,140.9,155.6,null,null,null,null,null,null,null,null,null,0.49999999999998579,-0.40000000000000568,-0.90000000000000568,{"$error":"#N/A"},{"$error":"#N/A"},{"$error":"#N/A"},{"$error":"#N/A"},{"$error":"#N/A"},2.6151301640716151,-2.0921041312573814,-4.7072342953290711,{"$error":"#N/A"},{"$error":"#N/A"},{"$error":"#N/A"},{"$error":"#N/A"},{"$error":"#N/A"},null,141.56666666666669,1.8777777777743622E-2,null,189.52800000000005,0.37866666666665438,205.18666666666667,"","","","",""]
[8,128.30000000000001,141.1,156,null,null,null,null,null,null,null,null,null,0.60000000000000853,-0.20000000000001705,-0.5,{"$error":"#N/A"},{"$error":"#N/A"},{"$error":"#N/A"},{"$error":"#N/A"},{"$error":"#N/A"},3.1381561968860718,-1.0460520656287651,-2.6151301640716893,{"$error":"#N/A"},{"$error":"#N/A"},{"$error":"#N/A"},{"$error":"#N/A"},{"$error":"#N/A"},null,141.79999999999998,0.36099999999999133,null,188.11466666666638,0.27199999999999419,211.05333333333343,"","","","",""]
[9,128.30000000000001,141.19999999999999,155.80000000000001,null,null,null,null,null,null,null,null,null,0.60000000000000853,-0.10000000000002274,-0.69999999999998863,{"$error":"#N/A"},{"$error":"#N/A"},{"$error":"#N/A"},{"$error":"#N/A"},{"$error":"#N/A"},3.1381561968860718,-0.52302603281445681,-3.6611822297003056,{"$error":"#N/A"},{"$error":"#N/A"},{"$error":"#N/A"},{"$error":"#N/A"},{"$error":"#N/A"},null,141.76666666666668,0.24544444444453228,null,188.11466666666638,0.21866666666666407,208.12000000000026,"","","","",""]
[10,128.19999999999999,141.1,155.4,null,null,null,null,null,null,null,null,null,0.49999999999998579,-0.20000000000001705,-1.0999999999999943,{"$error":"#N/A"},{"$error":"#N/A"},{"$error":"#N/A"},{"$error":"#N/A"},{"$error":"#N/A"},2.6151301640716151,-1.0460520656287651,-5.753286360957687,{"$error":"#N/A"},{"$error":"#N/A"},{"$error":"#N/A"},{"$error":"#N/A"},{"$error":"#N/A"},null,141.56666666666663,1.8777777777792888E-2,null,189.52800000000005,0.27199999999999419,202.2533333333335,"","","","",""]
[11,null,null,null,null,null,null,null,null,null,null,null,null,{"$error":"#N/A"},{"$error":"#N/A"},{"$error":"#N/A"},{"$error":"#N/A"},{"$error":"#N/A"},{"$error":"#N/A"},{"$error":"#N/A"},{"$error":"#N/A"},{"$error":"#N/A"},{"$error":"#N/A"},{"$error":"#N/A"},{"$error":"#N/A"},{"$error":"#N/A"},{"$error":"#N/A"},{"$error":"#N/A"},{"$error":"#N/A"},null,"","",null,"","","","","","","",""]
[12,null,null,null,null,null,null,null,null,null,null,null,null,{"$error":"#N/A"},{"$error":"#N/A"},{"$error":"#N/A"},{"$error":"#N/A"},{"$error":"#N/A"},{"$error":"#N/A"},{"$error":"#N/A"},{"$error":"#N/A"},{"$error":"#N/A"},{"$error":"#N/A"},{"$error":"#N/A"},{"$error":"#N/A"},{"$error":"#N/A"},{"$error":"#N/A"},{"$error":"#N/A"},{"$error":"#N/A"},null,"","",null,"","","","","","","",""]
[13,null,null,null,null,null,null,null,null,null,null,null,null,{"$error":"#N/A"},{"$error":"#N/A"},{"$error":"#N/A"},{"$error":"#N/A"},{"$error":"#N/A"},{"$error":"#N/A"},{"$error":"#N/A"},{"$error":"#N/A"},{"$error":"#N/A"},{"$error":"#N/A"},{"$error":"#N/A"},{"$error":"#N/A"},{"$error":"#N/A"},{"$error":"#N/A"},{"$error":"#N/A"},{"$error":"#N/A"},null,"","",null,"","","","","","","",""]
[14,null,null,null,null,null,null,null,null,null,null,null,null,{"$error":"#N/A"},{"$error":"#N/A"},{"$error":"#N/A"},{"$error":"#N/A"},{"$error":"#N/A"},{"$error":"#N/A"},{"$error":"#N/A"},{"$error":"#N/A"},{"$error":"#N/A"},{"$error":"#N/A"},{"$error":"#N/A"},{"$error":"#N/A"},{"$error":"#N/A"},{"$error":"#N/A"},{"$error":"#N/A"},{"$error":"#N/A"},null,"","",null,"","","","","","","",""]
[15,null,null,null,null,null,null,null,null,null,null,null,null,{"$error":"#N/A"},{"$error":"#N/A"},{"$error":"#N/A"},{"$error":"#N/A"},{"$error":"#N/A"},{"$error":"#N/A"},{"$error":"#N/A"},{"$error":"#N/A"},{"$error":"#N/A"},{"$error":"#N/A"},{"$error":"#N/A"},{"$error":"#N/A"},{"$error":"#N/A"},{"$error":"#N/A"},{"$error":"#N/A"},{"$error":"#N/A"},null,"","",null,"","","","","","","",""]
[16,null,null,null,null,null,null,null,null,null,null,null,null,{"$error":"#N/A"},{"$error":"#N/A"},{"$error":"#N/A"},{"$error":"#N/A"},{"$error":"#N/A"},{"$error":"#N/A"},{"$error":"#N/A"},{"$error":"#N/A"},{"$error":"#N/A"},{"$error":"#N/A"},{"$error":"#N/A"},{"$error":"#N/A"},{"$error":"#N/A"},{"$error":"#N/A"},{"$error":"#N/A"},{"$error":"#N/A"},null,"","",null,"","","","","","","",""]
[17,null,null,null,null,null,null,null,null,null,null,null,null,{"$error":"#N/A"},{"$f":"IF(C20<>\"\",C20-C$2,NA())","v":{"$error":"#N/A"}},{"$error":"#N/A"},{"$error":"#N/A"},{"$error":"#N/A"},{"$error":"#N/A"},{"$error":"#N/A"},{"$error":"#N/A"},{"$error":"#N/A"},{"$f":"IF(C20<>\"\",(C20-C$2)/$K$40,NA())","v":{"$error":"#N/A"}},{"$error":"#N/A"},{"$error":"#N/A"},{"$error":"#N/A"},{"$error":"#N/A"},{"$error":"#N/A"},{"$error":"#N/A"},{"$f":"6/160","v":3.7499999999999999E-2},"","",null,"","","","","","","",""]
[18,null,null,null,null,null,null,null,null,null,null,null,null,{"$error":"#N/A"},{"$error":"#N/A"},{"$error":"#N/A"},{"$error":"#N/A"},{"$error":"#N/A"},{"$error":"#N/A"},{"$error":"#N/A"},{"$error":"#N/A"},{"$error":"#N/A"},{"$error":"#N/A"},{"$error":"#N/A"},{"$error":"#N/A"},{"$error":"#N/A"},{"$error":"#N/A"},{"$error":"#N/A"},{"$error":"#N/A"},null,"","",null,"","","","","","","",""]
[19,null,null,null,null,null,null,null,null,null,null,null,null,{"$error":"#N/A"},{"$error":"#N/A"},{"$error":"#N/A"},{"$error":"#N/A"},{"$error":"#N/A"},{"$error":"#N/A"},{"$error":"#N/A"},{"$error":"#N/A"},{"$error":"#N/A"},{"$error":"#N/A"},{"$error":"#N/A"},{"$error":"#N/A"},{"$error":"#N/A"},{"$error":"#N/A"},{"$error":"#N/A"},{"$error":"#N/A"},null,"","",null,"","","","","","","",""]
[20,null,null,null,null,null,null,null,null,null,null,null,null,{"$error":"#N/A"},{"$error":"#N/A"},{"$error":"#N/A"},{"$error":"#N/A"},{"$error":"#N/A"},{"$error":"#N/A"},{"$error":"#N/A"},{"$error":"#N/A"},{"$error":"#N/A"},{"$error":"#N/A"},{"$error":"#N/A"},{"$error":"#N/A"},{"$error":"#N/A"},{"$error":"#N/A"},{"$error":"#N/A"},{"$error":"#N/A"},null,{"$f":"IF(COUNTA(B23:I23)>0,AVERAGE(B23:I23),\"\")","v":""},"",null,{"$f":"IF(B23<>\"\",(B$2-$AE$30)*(B23-$AE$29),\"\")","v":""},"","","","","","",""]
["平　均",{"$f":"IF(B4<>\"\",AVERAGE(B4:B23),\"\")","v":128.21},{"$f":"IF(C4<>\"\",AVERAGE(C4:C23),\"\")","v":141.01},155.60999999999999,"","","","","",null,null,null,null,{"$f":"AVERAGE(N4:N23)","v":{"$error":"#N/A"}},{"$f":"AVERAGE(O4:O23)","v":{"$error":"#N/A"}},{"$error":"#N/A"},{"$error":"#N/A"},{"$error":"#N/A"},{"$error":"#N/A"},{"$error":"#N/A"},{"$error":"#N/A"},{"$f":"AVERAGE(V4:V23)","v":{"$error":"#N/A"}},{"$f":"AVERAGE(W4:W23)","v":{"$error":"#N/A"}},{"$error":"#N/A"},{"$error":"#N/A"},{"$error":"#N/A"},{"$error":"#N/A"},{"$error":"#N/A"},{"$error":"#N/A"}]
["S D",{"$f":"IF($B$27<>0,STDEV($B$4:$B$23),\"\")","v":0.11972189997379179},{"$f":"IF(C27<>0,STDEV(C4:C23),\"\")","v":0.18529256146249698},0.24698178070457041,"","","","","",null,null,null,null,{"$f":"STDEV(N4:N23)","v":{"$error":"#N/A"}},null,null,null,null,null,null,null,null,null,null,null,null,null,null,null,"計",{"$f":"SUM(AE4:AE23)","v":1416.1000000000001},{"$f":"SUM(AF4:AF23)","v":1.7122222222221677},null,{"$f":"IF(B24<>\"\",$AE$28*B24-$AE$29^2,\"\")","v":-18771.292099999999},{"$f":"IF(C24<>\"\",$AE$28*C24-$AE$29^2,\"\")","v":-18643.292099999999},-18497.292099999999,"","","","","",{"$f":"SUM(AH25:AO25)","v":-55911.876299999996}]
["C V",{"$f":"IF(B27<>0,B25/B24*100,\"\")","v":9.3379533557282415E-2},{"$f":"IF(C27<>0,C25/C24*100,\"\")","v":0.13140384473618677},0.15871845042386121,"","","","","",null,null,null,null,null,null,null,null,null,null,null,null,null,null,null,null,null,null,null,null,"全個数",{"$f":"COUNT(B4:I23)","v":30}]
["データ数",{"$f":"IF(B24<>\"\",COUNT(B4:B23),\"\")","v":10},{"$f":"COUNT(C4:C23)","v":10},10,0,0,{"$f":"COUNT(G4:G23)","v":0},0,0,null,null,null,null,null,null,null,null,null,null,null,null,null,null,null,null,null,null,null,null,"列数( n)",{"$f":"COUNT(B24:I24)","v":3},null,null,"20150627 新たに計算式を組み立てる"]
["許容誤差限界外数",{"$f":"COUNTIF(B4:B23,\"<\"&B31)+COUNTIF(B4:B23,\">\"&B32)","v":0},{"$f":"COUNTIF(C4:C23,\"<\"&C31)+COUNTIF(C4:C23,\">\"&C32)","v":0},0,0,0,0,0,0,null,null,null,null,"信頼区間の判定",null,null,null,null,null,null,null,null,null,null,null,null,null,null,null,"行数( q )",{"$f":"COUNT(AE4:AE23)","v":10}]
["平均値の信頼区間下限",{"$f":"IF(B27>0,B24-B33*B25/B27^0.5,\"\")","v":128.12435611205782},{"$f":"IF(C27>0,C24-C33*C25/C27^0.5,\"\")","v":140.8774496865328},155.43331987752404,"","","","","",null,null,null,null,{"$f":"IF(B3<>\"\",IF(B29<B31,B29,0),0)","v":0},{"$f":"IF(C3<>\"\",IF(C29<C31,C29,0),0)","v":0},0,0,0,0,0,0,null,null,null,null,null,null,null,"　","全平均　Ｙ",{"$f":"AVERAGE(B4:I23)","v":141.60999999999999},null,null,{"$f":"IF(B24<>\"\",(B24-$AE$29)^2,\"\")","v":179.55999999999938},{"$f":"IF(C24<>\"\",(C24-$AE$29)^2,\"\")","v":0.35999999999999316},196,"","","","","",{"$f":"SUM(AH29:AO29)","v":375.91999999999939}]
["平均値の信頼区間上限",{"$f":"IF(B27>0,B24+B33*B25/B27^0.5,\"\")","v":128.29564388794219},{"$f":"IF(C27>0,C24+C33*C25/C27^0.5,\"\")","v":141.14255031346718},155.78668012247593,"","","","","",null,null,null,null,{"$f":"IF(B3<>\"\",IF(B30>B32,B30,0),0)","v":0},{"$f":"IF(C3<>\"\",IF(C30>C32,C30,0),0)","v":0},0,0,0,0,0,0,null,null,null,null,null,null,null,null,"Ｘの平均",{"$f":"AVERAGE(B2:I2)","v":141.83333333333334},null,null,{"$f":"IF(B2<>\"\",B2^2,\"\")","v":16307.29},{"$f":"IF(C2<>\"\",C2^2,\"\")","v":19965.690000000002},24492.25,"","","","","",{"$f":"SUM(AH30:AO30)","v":60765.23}]
["平均値の\n95%信頼区間",{"$f":"IF(B$34<>\"\",B$24-2*((B$3/2)^2+B$25^2)^0.5,\"\")","v":127.7608526596613},{"$f":"IF(C$34<>\"\",C$24-2*((C$3/2)^2+C$25^2)^0.5,\"\")","v":140.44988096503212},{"$f":"IF(D$34<>\"\",D$24-2*((D$3/2)^2+D$25^2)^0.5,\"\")","v":154.92816424265075},"","","","","",null,null,null,null,null,null,null,null,null,null,null,null,null,null,null,null,null,null,null,null,"ＳＸＹ",{"$f":"SUM(AH4:AO23)","v":3950.3999999999996},{"$f":"SUM(AH4:AO23)","v":3950.3999999999996},null,"SB",{"$f":"AE31^2/AE32","v":3759.071531346352}]
[null,{"$f":"IF(B$34<>\"\",B$24+2*((B$3/2)^2+B$25^2)^0.5,\"\")","v":128.65914734033871},{"$f":"IF(C$34<>\"\",C$24+2*((C$3/2)^2+C$25^2)^0.5,\"\")","v":141.57011903496786},156.29183575734922,"","","","","",null,null,null,null,null,null,null,null,null,null,null,null,null,null,null,null,null,null,null,null,"ＳＸＸ",{"$f":"DEVSQ($B$2:$I$2)*$AE$28","v":4151.4666666666653},null,null,"SL",{"$f":"AE28*AP29-AI31","v":0.12846865364190307}]
["t0.05(n-1)",{"$f":"IF(B27<>0,TINV(0.05,B27-1),\"\")","v":2.2621571627982053},{"$f":"IF(C27<>0,TINV(0.05,C27-1),\"\")","v":2.2621571627982053},2.2621571627982053,"","","","","",null,null,null,null,null,null,{"$f":"COUNT(B4:I23)","v":30},null,null,null,null,null,null,null,null,null,null,null,null,null,"SYY",{"$f":"DEVSQ($B$4:$I$23)","v":3760.1869999999994},null,null,"SE",{"$f":"AE33-AP29*AE28","v":0.987000000005537}]
["バラツキの標準誤差",{"$f":"IF(B27<>0,2*((B25/B27^0.5)^2+(B3/2)^2)^0.5,\"\")","v":0.38747042897921108},{"$f":"IF(C27<>0,2*((C25/C27^0.5)^2+(C3/2)^2)^0.5,\"\")","v":0.43604281135380879},{"$f":"IF(D27<>0,2*((D25/D27^0.5)^2+(D3/2)^2)^0.5,\"\")","v":0.49527769988159187},"","","","","",null,null,null,null,null,null,{"$f":"SUM(B28:I28)","v":0},null,null,null,null,null,null,null,null,null,null,null,null,null,"ＳＲ",32775.197851983205,{"$f":"AP25-AE31^2/AE32","v":-59670.947831346348},null,"Syx",{"$f":"(AI33/(AE26-AE27))^0.5","v":0.19119507199653613}]
["Δm",{"$f":"IF(B27<>0,ABS(B24-B2),\"\")","v":0.51000000000000512},{"$f":"IF(C27<>0,ABS(C24-C2),\"\")","v":0.29000000000002046},0.89000000000001478,"","","","","","回帰の評価",null,null,null,null,null,null,null,null,null,null,null,null,null,null,null,null,null,null,null,"Sb",{"$f":"((AE33-K38*AE31)/(AE26-2))^0.5/AE32^0.5","v":3.0977680198123613E-3},{"$f":"(L40/AE32^0.5)","v":3.0977680198079412E-3},null,"F0",{"$f":"(AI32/(AE27-2))/(AI33/(AE26-AE27))","v":3.5143400692116762},"⇐直線性の評価"]
[null,null,null,null,null,null,null,null,"                                                                         ","直線性検定　F =",{"$f":"IF(AE27>2,AI35,\"\")","v":3.5143400692116762},null,null,null,null,null,null,null,null,null,null,null,null,null,null,null,null,null,null,"Tb",0.24862236791197659,null,null,"FP",{"$f":"FDIST(AI35,AE27-2,AE26-AE27)","v":7.1696948834126473E-2},"⇐Fの確率"]
[null,null,null,null,null,null,null,null,"                                                                         ","F の片側確率 ＝",{"$f":"IF(AE27>2,AI36,\"\")","v":7.1696948834126473E-2},null,null,null,null,null,null,null,null,null,null,null,null,null,null,null,null,null,null,"T確率",{"$f":"TDIST(AE36,$AE$27*$AE$28-$AE$27,2)","v":0.80553431632730077},null,null,"tb",{"$f":"(ABS(K38-1)*AE32^0.5)/AI34","v":16.321595342329925}]
[null,null,null,null,null,null,null,null,"                                                                         ","傾き b ＝",{"$f":"IF(ISERR(SLOPE(B24:I24,B2:I2)),\"\",SLOPE(B24:I24,B2:I2))","v":0.95156731757451118},null,null,null,null,null,null,null,null,null,null,null,null,null,null,null,null,null,null,"Ｔａ",0.22196022996771425,null,null,"tbP",{"$f":"_xlfn.T.DIST(AI37,AE26-AE27,FALSE)","v":1.2349671600940631E-15}]
[null,null,null,null,null,null,null,null,"                                                                         ","切片 a ＝",{"$f":"IF(ISERR(INTERCEPT(B24:I24,B2:I2)),\"\",INTERCEPT(B24:I24,B2:I2))","v":6.6460354573484892},null,null,null,null,null,null,null,null,null,null,null,null,null,null,null,null,null,null,"T確率",{"$f":"TDIST(AE38,$AE$27*$AE$28-$AE$27,2)","v":0.82601516840515921},null,null,"ta",{"$f":"(ABS(K39)/AI34)*((AE27*AE32)/(AP30))^0.5","v":15.736921977476232}]
[null,null,null,null,null,null,null,null,null,"Syx　＝",{"$f":"AI34","v":0.19119507199653613},{"$f":"(($AE$33-2*$K$38*$AE$31+$K$38^2*$AE$32)/(AE26-2))^0.5","v":0.19959500545277753},null,null,null,null,null,null,null,null,null,null,null,null,null,null,null,null,null,null,null,null,null,"taP",{"$f":"_xlfn.T.DIST(AI39,AE26-AE27,FALSE)","v":3.1120903600977824E-15}]
[null,null,null,null,null,null,null,null,null,"Tb　＝",{"$f":"AI37","v":16.321595342329925},"                                                                         "]
[null,null,null,null,null,null,null,null,null,"Ｔｂ 確率＝",{"$f":"AI38","v":1.2349671600940631E-15}]
[null,null,null,null,null,null,null,null,null,"Ta　＝",{"$f":"AI39","v":15.736921977476232},"                                                                         "]
[null,null,null,null,null,null,null,null,null,"Ｔａ 確率＝",{"$f":"AI40","v":3.1120903600977824E-15}]
[null,null,null,null,null,null,null,null,null,{"$f":"IF(AE27>2,IF(K37>0.05,\"F 確率より有意水準 0.05 以上から直線性あり！\",\"F 確率より有意水準 0.05 以下から直線性はない！\"),\"\")","v":"F 確率より有意水準 0.05 以上から直線性あり！"}]
[null,null,null,null,null,null,null,null,null,{"$f":"IF(K42>0.05,\"Ｔb 確率より有意水準 0.05 以上から比例系統誤差は認められない！\",\"Ｔb 確率より有意水準 0.05 以下から比例系統誤差が認められる！\")","v":"Ｔb 確率より有意水準 0.05 以下から比例系統誤差が認められる！"}]
[null,null,null,null,null,null,null,null,null,{"$f":"IF(K44>0.05,\"Ｔa 確率より有意水準 0.05 以上から一定系統誤差は認められない！\",\"Ｔa 確率より有意水準 0.05 以下から一定系統誤差が認められる！\")","v":"Ｔa 確率より有意水準 0.05 以下から一定系統誤差が認められる！"}]
[]
[]
[null,"測定値","認証値"]
["上限",{"$f":"B32","v":128.65914734033871}]
["下限",{"$f":"B31","v":127.7608526596613}]
["平均",{"$f":"B24","v":128.21},{"$f":"B2","v":127.7}]
[null,"測定値","認証値"]
["上限",{"$f":"C32","v":141.57011903496786}]
["下限",{"$f":"C31","v":140.44988096503212}]
["平均",{"$f":"C24","v":141.01},{"$f":"C2","v":141.30000000000001}]
[null,"測定値","認証値"]
["上限",{"$f":"D32","v":156.29183575734922}]
["下限",{"$f":"D31","v":154.92816424265075}]
["平均",{"$f":"D24","v":155.60999999999999},{"$f":"D2","v":156.5}]
[null,"測定値","認証値"]
["上限",{"$f":"E32","v":""}]
["下限",{"$f":"E31","v":""}]
["平均",{"$f":"E24","v":""},{"$f":"E2","v":0}]
[null,"測定値","認証値"]
["上限",{"$f":"F32","v":""}]
["下限",{"$f":"F31","v":""}]
["平均",{"$f":"F24","v":""},{"$f":"F2","v":0}]
[null,"測定値","認証値"]
["上限",{"$f":"G32","v":""}]
["下限",{"$f":"G31","v":""}]
["平均",{"$f":"G24","v":""},{"$f":"G2","v":0}]
[null,"測定値","認証値"]
["上限",{"$f":"H32","v":""}]
["下限",{"$f":"H31","v":""}]
["平均",{"$f":"H24","v":""},{"$f":"H2","v":0}]
[null,"測定値","認証値"]
["上限",{"$f":"I32","v":""}]
["下限",{"$f":"I31","v":""}]
["平均",{"$f":"I24","v":""},{"$f":"I2","v":0}]
[]
[]
[]
[]
[]
[]
[]
[]
[]
[null,10,60,110,160,436]
[null,1,2,3,5,5]
[null,12,60,112,160,436]
[null,11,62,111,158,436]
[null,10,68,110,160,436]
[null,10,61,111,160,434]
[null,12,61,110,161,435]
[null,13,60,110,162,434]
[null,11,58,109,157,437]
[null,9,59,108,159,437]
[null,11,60,112,160,437]
[null,10,63,109,162,435]
[]
[null,"Dimension"]
[null,127.7,141.30000000000001,156.5]
[null,0.4,0.5,0.5]
[null,127.21,141.06,154.82]
[null,128.06,139.94,155.36000000000001]
[null,127.13,140.26,154.12]
[null,128,140.16,154.66999999999999]
[null,127.18,141.19,155.66999999999999]
[null,127.09,141.83000000000001,155.16]
[null,128.57,139.97,154.08000000000001]
[null,126.67,143.02000000000001,157.31]
[null,127.24,143.86000000000001,155.85]
[null,128.54,142.47,154.28]
[]
[]
[null,3.49,4.4800000000000004,5.59]
[null,0.02,0.02,0.03]
[null,3.39,4.41,5.5]
[null,3.41,4.37,5.52]
[null,3.39,4.4000000000000004,5.48]
[null,3.41,4.38,5.5]
[null,3.39,4.42,5.54]
[null,3.38,4.4400000000000004,5.51]
[null,3.42,4.38,5.48]
[null,3.38,4.4800000000000004,5.59]
[null,3.4,4.49,5.53]
[null,3.43,4.45,5.49]
[]
[]
[]
[null,88,102,118.7]
[null,0.3,0.4,0.5]
[null,89.3,104,118.5]
[null,89.4,102.9,119.1]
[null,88.7,103.5,118.7]
[null,88.9,103.3,118.9]
[null,88.4,104.3,119.4]
[null,88.8,105.4,119]
[null,89.4,103.7,118.8]
[null,88.9,106.1,120.4]
[null,88.9,106,119.4]
[null,88.9,105.1,118.8]
[]
[null,"Na (EA07)"]
[null,127.7,141.30000000000001,156.5]
[null,0.4,0.5,0.5]
[null,127.7,140.69999999999999,155.30000000000001]
[null,127.9,140.5,154.80000000000001]
[null,127.7,140.80000000000001,155.69999999999999]
[null,128,140.80000000000001,156.1]
[null,128.1,140.6,155.80000000000001]
[null,128.30000000000001,141.6,155.69999999999999]
[null,128.9,141.19999999999999,155.6]
[null,128.30000000000001,141.30000000000001,156]
[null,128.30000000000001,141.19999999999999,155.6]
[null,128.19999999999999,141.4,156.19999999999999]
[]
[null,"K (EA07)"]
[null,3.49,4.4800000000000004,5.59]
[null,0.02,0.02,0.03]
[null,3.49,4.46,5.59]
[null,3.5,4.46,5.57]
[null,3.5,4.4800000000000004,5.59]
[null,3.5,4.4800000000000004,5.63]
[null,3.5,4.47,5.6]
[null,3.51,4.5,5.62]
[null,3.5,4.5,5.59]
[null,3.51,4.5,5.61]
[null,3.5,4.49,5.61]
[null,3.5,4.5,5.62]
[]
[]
[]
[null,"Cl (EA07)"]
[null,88,102,118.7]
[null,0.3,0.4,0.5]
[null,88.3,103.2,119.5]
[null,88.4,103.2,119.3]
[null,88.4,103.5,119.8]
[null,88.4,103.3,120]
[null,88.6,103.4,119.5]
[null,88.7,104.1,120]
[null,88.7,104.2,119.4]
[null,88.5,104.1,119.8]
[null,88.3,103.7,119.7]
[null,88.5,103.9,120.2]

{"sheet":"相関分析","index":3,"n_rows":1304,"n_cols":1588,"rows_kept":69,"cut":true,"hidden":false,"merged":[[2,3,2,4],[2,5,2,6],[14,12,14,13],[42,18,43,18],[7,16,8,16],[7,17,8,18],[11,17,12,18],[11,16,12,16],[9,50,9,51],[1,12,1,13],[1,14,1,15],[6,50,8,51],[44,18,45,18]],"bounds":{"rows_first":31,"rows_last":7,"rows_between":31,"halvings":6}}
[null,null,"解　説",null,null,null,null,null,null,null,null,null,null,null,null,null,null,null,null,null,null,null,null,null,null,null,null,null,null,null,null,null,null,null,null,null,null,null,"Spearmanの相関係数用",null,"Sｘｙ：=",{"$f":"COVAR(AN5:AN1304,AO5:AO1304)*$M$5","v":9953.5882352941171},{"$f":"COVAR(AP5:AP504,AQ5:AQ504)*O5","v":{"$error":"#DIV/0!"}},null,null,null,null,null,null,{"$f":"COUNT(BB1:BKL1)","v":501},{"$f":"SMALL(BB1:BIB1,11)","v":0.73027665337640901},{"$f":"LARGE(BB1:BIB1,12)","v":1.3341168471750262},"Deming b=",{"$f":"(BC9-$M$34*BB9+((BC9-$M$34*BB9)^2+4*$M$34*BB8^2)^0.5)/(2*BB8)","v":0.73713829248279961},null,null,{"$f":"(BF9-$M$34*BE9+((BF9-$M$34*BE9)^2+4*$M$34*BE8^2)^0.5)/(2*BE8)","v":1.1960575182876305},null,null,{"$f":"(BI9-$M$34*BH9+((BI9-$M$34*BH9)^2+4*$M$34*BH8^2)^0.5)/(2*BH8)","v":0.97787863477321901},null,null,{"$f":"(BL9-$M$34*BK9+((BL9-$M$34*BK9)^2+4*$M$34*BK8^2)^0.5)/(2*BK8)","v":1.1947556521712339},null,null,{"$f":"(BO9-$M$34*BN9+((BO9-$M$34*BN9)^2+4*$M$34*BN8^2)^0.5)/(2*BN8)","v":0.82326022835941048},null,null,{"$f":"(BR9-$M$34*BQ9+((BR9-$M$34*BQ9)^2+4*$M$34*BQ8^2)^0.5)/(2*BQ8)","v":1.1953464839750478},null,null,{"$f":"(BU9-$M$34*BT9+((BU9-$M$34*BT9)^2+4*$M$34*BT8^2)^0.5)/(2*BT8)","v":1.2558195999550739},null,null,{"$f":"(BX9-$M$34*BW9+((BX9-$M$34*BW9)^2+4*$M$34*BW8^2)^0.5)/(2*BW8)","v":1.192779972947611},null,null,{"$f":"(CA9-$M$34*BZ9+((CA9-$M$34*BZ9)^2+4*$M$34*BZ8^2)^0.5)/(2*BZ8)","v":0.76163897637215661},null,null,{"$f":"(CD9-$M$34*CC9+((CD9-$M$34*CC9)^2+4*$M$34*CC8^2)^0.5)/(2*CC8)","v":1.0175673439756099},null,null,{"$f":"(CG9-$M$34*CF9+((CG9-$M$34*CF9)^2+4*$M$34*CF8^2)^0.5)/(2*CF8)","v":0.77458760793447401},null,null,{"$f":"(CJ9-$M$34*CI9+((CJ9-$M$34*CI9)^2+4*$M$34*CI8^2)^0.5)/(2*CI8)","v":1.1803673683344382},null,null,{"$f":"(CM9-$M$34*CL9+((CM9-$M$34*CL9)^2+4*$M$34*CL8^2)^0.5)/(2*CL8)","v":0.83087374872019559},null,null,{"$f":"(CP9-$M$34*CO9+((CP9-$M$34*CO9)^2+4*$M$34*CO8^2)^0.5)/(2*CO8)","v":0.8303783934904051},null,null,{"$f":"(CS9-$M$34*CR9+((CS9-$M$34*CR9)^2+4*$M$34*CR8^2)^0.5)/(2*CR8)","v":0.83512485379162082},null,null,{"$f":"(CV9-$M$34*CU9+((CV9-$M$34*CU9)^2+4*$M$34*CU8^2)^0.5)/(2*CU8)","v":0.77028678641244175},null,null,{"$f":"(CY9-$M$34*CX9+((CY9-$M$34*CX9)^2+4*$M$34*CX8^2)^0.5)/(2*CX8)","v":0.83163046136435437},null,null,{"$f":"(DB9-$M$34*DA9+((DB9-$M$34*DA9)^2+4*$M$34*DA8^2)^0.5)/(2*DA8)","v":0.80844869972553846},null,null,{"$f":"(DE9-$M$34*DD9+((DE9-$M$34*DD9)^2+4*$M$34*DD8^2)^0.5)/(2*DD8)","v":1.2505663731534682},null,null,{"$f":"(DH9-$M$34*DG9+((DH9-$M$34*DG9)^2+4*$M$34*DG8^2)^0.5)/(2*DG8)","v":0.77262805985796201},null,null,{"$f":"(DK9-$M$34*DJ9+((DK9-$M$34*DJ9)^2+4*$M$34*DJ8^2)^0.5)/(2*DJ8)","v":0.82317772375511333},null,null,{"$f":"(DN9-$M$34*DM9+((DN9-$M$34*DM9)^2+4*$M$34*DM8^2)^0.5)/(2*DM8)","v":1.2036969989009842},null,null,{"$f":"(DQ9-$M$34*DP9+((DQ9-$M$34*DP9)^2+4*$M$34*DP8^2)^0.5)/(2*DP8)","v":1.0942450681499716},null,null,{"$f":"(DT9-$M$34*DS9+((DT9-$M$34*DS9)^2+4*$M$34*DS8^2)^0.5)/(2*DS8)","v":1.0176512220000742},null,null,{"$f":"(DW9-$M$34*DV9+((DW9-$M$34*DV9)^2+4*$M$34*DV8^2)^0.5)/(2*DV8)","v":0.84275278522847297},null,null,{"$f":"(DZ9-$M$34*DY9+((DZ9-$M$34*DY9)^2+4*$M$34*DY8^2)^0.5)/(2*DY8)","v":0.79456298539397985},null,null,{"$f":"(EC9-$M$34*EB9+((EC9-$M$34*EB9)^2+4*$M$34*EB8^2)^0.5)/(2*EB8)","v":1.2906382877328291},null,null,{"$f":"(EF9-$M$34*EE9+((EF9-$M$34*EE9)^2+4*$M$34*EE8^2)^0.5)/(2*EE8)","v":0.84004194582186054},null,null,{"$f":"(EI9-$M$34*EH9+((EI9-$M$34*EH9)^2+4*$M$34*EH8^2)^0.5)/(2*EH8)","v":0.72106682923869625},null,null,{"$f":"(EL9-$M$34*EK9+((EL9-$M$34*EK9)^2+4*$M$34*EK8^2)^0.5)/(2*EK8)","v":0.86215471679244071},null,null,{"$f":"(EO9-$M$34*EN9+((EO9-$M$34*EN9)^2+4*$M$34*EN8^2)^0.5)/(2*EN8)","v":1.0144956902691631},null,null,{"$f":"(ER9-$M$34*EQ9+((ER9-$M$34*EQ9)^2+4*$M$34*EQ8^2)^0.5)/(2*EQ8)","v":1.2173927955589594},null,null,{"$f":"(EU9-$M$34*ET9+((EU9-$M$34*ET9)^2+4*$M$34*ET8^2)^0.5)/(2*ET8)","v":0.7743342752821385},null,null,{"$f":"(EX9-$M$34*EW9+((EX9-$M$34*EW9)^2+4*$M$34*EW8^2)^0.5)/(2*EW8)","v":0.73816337139893751},null,null,{"$f":"(FA9-$M$34*EZ9+((FA9-$M$34*EZ9)^2+4*$M$34*EZ8^2)^0.5)/(2*EZ8)","v":0.82455117844116921},null,null,{"$f":"(FD9-$M$34*FC9+((FD9-$M$34*FC9)^2+4*$M$34*FC8^2)^0.5)/(2*FC8)","v":1.0759511809551976},null,null,{"$f":"(FG9-$M$34*FF9+((FG9-$M$34*FF9)^2+4*$M$34*FF8^2)^0.5)/(2*FF8)","v":0.80785979358370663},null,null,{"$f":"(FJ9-$M$34*FI9+((FJ9-$M$34*FI9)^2+4*$M$34*FI8^2)^0.5)/(2*FI8)","v":0.80644626764068184},null,null,{"$f":"(FM9-$M$34*FL9+((FM9-$M$34*FL9)^2+4*$M$34*FL8^2)^0.5)/(2*FL8)","v":0.86184937360730451},null,null,{"$f":"(FP9-$M$34*FO9+((FP9-$M$34*FO9)^2+4*$M$34*FO8^2)^0.5)/(2*FO8)","v":1.4711612815645345},null,null,{"$f":"(FS9-$M$34*FR9+((FS9-$M$34*FR9)^2+4*$M$34*FR8^2)^0.5)/(2*FR8)","v":0.74844233937123661},null,null,{"$f":"(FV9-$M$34*FU9+((FV9-$M$34*FU9)^2+4*$M$34*FU8^2)^0.5)/(2*FU8)","v":0.84248076247526393},null,null,{"$f":"(FY9-$M$34*FX9+((FY9-$M$34*FX9)^2+4*$M$34*FX8^2)^0.5)/(2*FX8)","v":0.71711120270609852},null,null,{"$f":"(GB9-$M$34*GA9+((GB9-$M$34*GA9)^2+4*$M$34*GA8^2)^0.5)/(2*GA8)","v":0.99414658741222384},null,null,{"$f":"(GE9-$M$34*GD9+((GE9-$M$34*GD9)^2+4*$M$34*GD8^2)^0.5)/(2*GD8)","v":0.74194634327009634},null,null,{"$f":"(GH9-$M$34*GG9+((GH9-$M$34*GG9)^2+4*$M$34*GG8^2)^0.5)/(2*GG8)","v":1.4008790434744123},null,null,{"$f":"(GK9-$M$34*GJ9+((GK9-$M$34*GJ9)^2+4*$M$34*GJ8^2)^0.5)/(2*GJ8)","v":0.8158108574683326},null,null,{"$f":"(GN9-$M$34*GM9+((GN9-$M$34*GM9)^2+4*$M$34*GM8^2)^0.5)/(2*GM8)","v":0.81955123057208745},null,null,{"$f":"(GQ9-$M$34*GP9+((GQ9-$M$34*GP9)^2+4*$M$34*GP8^2)^0.5)/(2*GP8)","v":0.75078878269257043},null,null,{"$f":"(GT9-$M$34*GS9+((GT9-$M$34*GS9)^2+4*$M$34*GS8^2)^0.5)/(2*GS8)","v":1.197184254296894},null,null,{"$f":"(GW9-$M$34*GV9+((GW9-$M$34*GV9)^2+4*$M$34*GV8^2)^0.5)/(2*GV8)","v":0.98466766905079506},null,null,{"$f":"(GZ9-$M$34*GY9+((GZ9-$M$34*GY9)^2+4*$M$34*GY8^2)^0.5)/(2*GY8)","v":0.71948481446937496},null,null,{"$f":"(HC9-$M$34*HB9+((HC9-$M$34*HB9)^2+4*$M$34*HB8^2)^0.5)/(2*HB8)","v":0.87010385818134628},null,null,{"$f":"(HF9-$M$34*HE9+((HF9-$M$34*HE9)^2+4*$M$34*HE8^2)^0.5)/(2*HE8)","v":0.78209861120142654},null,null,{"$f":"(HI9-$M$34*HH9+((HI9-$M$34*HH9)^2+4*$M$34*HH8^2)^0.5)/(2*HH8)","v":1.126254258392728},null,null,{"$f":"(HL9-$M$34*HK9+((HL9-$M$34*HK9)^2+4*$M$34*HK8^2)^0.5)/(2*HK8)","v":0.83032447485463046},null,null,{"$f":"(HO9-$M$34*HN9+((HO9-$M$34*HN9)^2+4*$M$34*HN8^2)^0.5)/(2*HN8)","v":1.2664934366061413},null,null,{"$f":"(HR9-$M$34*HQ9+((HR9-$M$34*HQ9)^2+4*$M$34*HQ8^2)^0.5)/(2*HQ8)","v":0.75509619843536013},null,null,{"$f":"(HU9-$M$34*HT9+((HU9-$M$34*HT9)^2+4*$M$34*HT8^2)^0.5)/(2*HT8)","v":0.81546521369185676},null,null,{"$f":"(HX9-$M$34*HW9+((HX9-$M$34*HW9)^2+4*$M$34*HW8^2)^0.5)/(2*HW8)","v":1.1119745999754731},null,null,{"$f":"(IA9-$M$34*HZ9+((IA9-$M$34*HZ9)^2+4*$M$34*HZ8^2)^0.5)/(2*HZ8)","v":0.82256727254941564},null,null,{"$f":"(ID9-$M$34*IC9+((ID9-$M$34*IC9)^2+4*$M$34*IC8^2)^0.5)/(2*IC8)","v":0.84298267075238109},null,null,{"$f":"(IG9-$M$34*IF9+((IG9-$M$34*IF9)^2+4*$M$34*IF8^2)^0.5)/(2*IF8)","v":0.82423858551852358},null,null,{"$f":"(IJ9-$M$34*II9+((IJ9-$M$34*II9)^2+4*$M$34*II8^2)^0.5)/(2*II8)","v":0.78990423097466622},null,null,{"$f":"(IM9-$M$34*IL9+((IM9-$M$34*IL9)^2+4*$M$34*IL8^2)^0.5)/(2*IL8)","v":0.71035894914676523},null,null,{"$f":"(IP9-$M$34*IO9+((IP9-$M$34*IO9)^2+4*$M$34*IO8^2)^0.5)/(2*IO8)","v":0.75051419427741117},null,null,{"$f":"(IS9-$M$34*IR9+((IS9-$M$34*IR9)^2+4*$M$34*IR8^2)^0.5)/(2*IR8)","v":0.83148334289989112},null,null,{"$f":"(IV9-$M$34*IU9+((IV9-$M$34*IU9)^2+4*$M$34*IU8^2)^0.5)/(2*IU8)","v":1.1276651403312881},null,null,{"$f":"(IY9-$M$34*IX9+((IY9-$M$34*IX9)^2+4*$M$34*IX8^2)^0.5)/(2*IX8)","v":0.77275967017643077},null,null,{"$f":"(JB9-$M$34*JA9+((JB9-$M$34*JA9)^2+4*$M$34*JA8^2)^0.5)/(2*JA8)","v":0.77379242276256321},null,null,{"$f":"(JE9-$M$34*JD9+((JE9-$M$34*JD9)^2+4*$M$34*JD8^2)^0.5)/(2*JD8)","v":0.77415926605021179},null,null,{"$f":"(JH9-$M$34*JG9+((JH9-$M$34*JG9)^2+4*$M$34*JG8^2)^0.5)/(2*JG8)","v":0.81229535674616771},null,null,{"$f":"(JK9-$M$34*JJ9+((JK9-$M$34*JJ9)^2+4*$M$34*JJ8^2)^0.5)/(2*JJ8)","v":0.86723724269303804},null,null,{"$f":"(JN9-$M$34*JM9+((JN9-$M$34*JM9)^2+4*$M$34*JM8^2)^0.5)/(2*JM8)","v":0.83950175743489996},null,null,{"$f":"(JQ9-$M$34*JP9+((JQ9-$M$34*JP9)^2+4*$M$34*JP8^2)^0.5)/(2*JP8)","v":0.77425017621056513},null,null,{"$f":"(JT9-$M$34*JS9+((JT9-$M$34*JS9)^2+4*$M$34*JS8^2)^0.5)/(2*JS8)","v":0.8349967969719706},null,null,{"$f":"(JW9-$M$34*JV9+((JW9-$M$34*JV9)^2+4*$M$34*JV8^2)^0.5)/(2*JV8)","v":0.81833177014355318},null,null,{"$f":"(JZ9-$M$34*JY9+((JZ9-$M$34*JY9)^2+4*$M$34*JY8^2)^0.5)/(2*JY8)","v":0.78989680769409243},null,null,{"$f":"(KC9-$M$34*KB9+((KC9-$M$34*KB9)^2+4*$M$34*KB8^2)^0.5)/(2*KB8)","v":0.81208892068127292},null,null,{"$f":"(KF9-$M$34*KE9+((KF9-$M$34*KE9)^2+4*$M$34*KE8^2)^0.5)/(2*KE8)","v":0.81624984679922663},null,null,{"$f":"(KI9-$M$34*KH9+((KI9-$M$34*KH9)^2+4*$M$34*KH8^2)^0.5)/(2*KH8)","v":1.1939568402732454},null,null,{"$f":"(KL9-$M$34*KK9+((KL9-$M$34*KK9)^2+4*$M$34*KK8^2)^0.5)/(2*KK8)","v":0.84310222575282778},null,null,{"$f":"(KO9-$M$34*KN9+((KO9-$M$34*KN9)^2+4*$M$34*KN8^2)^0.5)/(2*KN8)","v":0.79454116611924597},null,null,{"$f":"(KR9-$M$34*KQ9+((KR9-$M$34*KQ9)^2+4*$M$34*KQ8^2)^0.5)/(2*KQ8)","v":0.8529005128478212},null,null,{"$f":"(KU9-$M$34*KT9+((KU9-$M$34*KT9)^2+4*$M$34*KT8^2)^0.5)/(2*KT8)","v":1.1175043915336236},null,null,{"$f":"(KX9-$M$34*KW9+((KX9-$M$34*KW9)^2+4*$M$34*KW8^2)^0.5)/(2*KW8)","v":1.1423942647692791},null,null,{"$f":"(LA9-$M$34*KZ9+((LA9-$M$34*KZ9)^2+4*$M$34*KZ8^2)^0.5)/(2*KZ8)","v":0.77449276049360649},null,null,{"$f":"(LD9-$M$34*LC9+((LD9-$M$34*LC9)^2+4*$M$34*LC8^2)^0.5)/(2*LC8)","v":1.0783413877201007},null,null,{"$f":"(LG9-$M$34*LF9+((LG9-$M$34*LF9)^2+4*$M$34*LF8^2)^0.5)/(2*LF8)","v":1.1138781874431498},null,null,{"$f":"(LJ9-$M$34*LI9+((LJ9-$M$34*LI9)^2+4*$M$34*LI8^2)^0.5)/(2*LI8)","v":0.78338857326341527},null,null,{"$f":"(LM9-$M$34*LL9+((LM9-$M$34*LL9)^2+4*$M$34*LL8^2)^0.5)/(2*LL8)","v":0.97222489131742851},null,null,{"$f":"(LP9-$M$34*LO9+((LP9-$M$34*LO9)^2+4*$M$34*LO8^2)^0.5)/(2*LO8)","v":0.75650379172384974},null,null,{"$f":"(LS9-$M$34*LR9+((LS9-$M$34*LR9)^2+4*$M$34*LR8^2)^0.5)/(2*LR8)","v":1.1491006273538944},null,null,{"$f":"(LV9-$M$34*LU9+((LV9-$M$34*LU9)^2+4*$M$34*LU8^2)^0.5)/(2*LU8)","v":0.84356742695105413},null,null,{"$f":"(LY9-$M$34*LX9+((LY9-$M$34*LX9)^2+4*$M$34*LX8^2)^0.5)/(2*LX8)","v":1.2432331872656983},null,null,{"$f":"(MB9-$M$34*MA9+((MB9-$M$34*MA9)^2+4*$M$34*MA8^2)^0.5)/(2*MA8)","v":1.2588254298207771},null,null,{"$f":"(ME9-$M$34*MD9+((ME9-$M$34*MD9)^2+4*$M$34*MD8^2)^0.5)/(2*MD8)","v":0.77036172337836162},null,null,{"$f":"(MH9-$M$34*MG9+((MH9-$M$34*MG9)^2+4*$M$34*MG8^2)^0.5)/(2*MG8)","v":1.2295248376994656},null,null,{"$f":"(MK9-$M$34*MJ9+((MK9-$M$34*MJ9)^2+4*$M$34*MJ8^2)^0.5)/(2*MJ8)","v":1.0409754993197917},null,null,{"$f":"(MN9-$M$34*MM9+((MN9-$M$34*MM9)^2+4*$M$34*MM8^2)^0.5)/(2*MM8)","v":0.71617375174252684},null,null,{"$f":"(MQ9-$M$34*MP9+((MQ9-$M$34*MP9)^2+4*$M$34*MP8^2)^0.5)/(2*MP8)","v":0.80052868531108645},null,null,{"$f":"(MT9-$M$34*MS9+((MT9-$M$34*MS9)^2+4*$M$34*MS8^2)^0.5)/(2*MS8)","v":0.7641647123832348},null,null,{"$f":"(MW9-$M$34*MV9+((MW9-$M$34*MV9)^2+4*$M$34*MV8^2)^0.5)/(2*MV8)","v":0.79534427910433558},null,null,{"$f":"(MZ9-$M$34*MY9+((MZ9-$M$34*MY9)^2+4*$M$34*MY8^2)^0.5)/(2*MY8)","v":1.1045485857620705},null,null,{"$f":"(NC9-$M$34*NB9+((NC9-$M$34*NB9)^2+4*$M$34*NB8^2)^0.5)/(2*NB8)","v":1.2369833697786319},null,null,{"$f":"(NF9-$M$34*NE9+((NF9-$M$34*NE9)^2+4*$M$34*NE8^2)^0.5)/(2*NE8)","v":0.79639442276924688},null,null,{"$f":"(NI9-$M$34*NH9+((NI9-$M$34*NH9)^2+4*$M$34*NH8^2)^0.5)/(2*NH8)","v":0.79201531217430809},null,null,{"$f":"(NL9-$M$34*NK9+((NL9-$M$34*NK9)^2+4*$M$34*NK8^2)^0.5)/(2*NK8)","v":1.0872521212889608},null,null,{"$f":"(NO9-$M$34*NN9+((NO9-$M$34*NN9)^2+4*$M$34*NN8^2)^0.5)/(2*NN8)","v":0.77807285614002797},null,null,{"$f":"(NR9-$M$34*NQ9+((NR9-$M$34*NQ9)^2+4*$M$34*NQ8^2)^0.5)/(2*NQ8)","v":0.83917743128057731},null,null,{"$f":"(NU9-$M$34*NT9+((NU9-$M$34*NT9)^2+4*$M$34*NT8^2)^0.5)/(2*NT8)","v":0.86765578572946389},null,null,{"$f":"(NX9-$M$34*NW9+((NX9-$M$34*NW9)^2+4*$M$34*NW8^2)^0.5)/(2*NW8)","v":1.1002399237188742},null,null,{"$f":"(OA9-$M$34*NZ9+((OA9-$M$34*NZ9)^2+4*$M$34*NZ8^2)^0.5)/(2*NZ8)","v":0.74240313218879694},null,null,{"$f":"(OD9-$M$34*OC9+((OD9-$M$34*OC9)^2+4*$M$34*OC8^2)^0.5)/(2*OC8)","v":1.1594766816583746},null,null,{"$f":"(OG9-$M$34*OF9+((OG9-$M$34*OF9)^2+4*$M$34*OF8^2)^0.5)/(2*OF8)","v":0.84832625715469323},null,null,{"$f":"(OJ9-$M$34*OI9+((OJ9-$M$34*OI9)^2+4*$M$34*OI8^2)^0.5)/(2*OI8)","v":1.0876604626861404},null,null,{"$f":"(OM9-$M$34*OL9+((OM9-$M$34*OL9)^2+4*$M$34*OL8^2)^0.5)/(2*OL8)","v":0.75021049030970244},null,null,{"$f":"(OP9-$M$34*OO9+((OP9-$M$34*OO9)^2+4*$M$34*OO8^2)^0.5)/(2*OO8)","v":0.77080243560923767},null,null,{"$f":"(OS9-$M$34*OR9+((OS9-$M$34*OR9)^2+4*$M$34*OR8^2)^0.5)/(2*OR8)","v":0.77047343709324556},null,null,{"$f":"(OV9-$M$34*OU9+((OV9-$M$34*OU9)^2+4*$M$34*OU8^2)^0.5)/(2*OU8)","v":1.0768922555559419},null,null,{"$f":"(OY9-$M$34*OX9+((OY9-$M$34*OX9)^2+4*$M$34*OX8^2)^0.5)/(2*OX8)","v":1.196984977992992},null,null,{"$f":"(PB9-$M$34*PA9+((PB9-$M$34*PA9)^2+4*$M$34*PA8^2)^0.5)/(2*PA8)","v":0.82197821980739405},null,null,{"$f":"(PE9-$M$34*PD9+((PE9-$M$34*PD9)^2+4*$M$34*PD8^2)^0.5)/(2*PD8)","v":1.061880567968535},null,null,{"$f":"(PH9-$M$34*PG9+((PH9-$M$34*PG9)^2+4*$M$34*PG8^2)^0.5)/(2*PG8)","v":0.74993164404196555},null,null,{"$f":"(PK9-$M$34*PJ9+((PK9-$M$34*PJ9)^2+4*$M$34*PJ8^2)^0.5)/(2*PJ8)","v":1.0979324406756128},null,null,{"$f":"(PN9-$M$34*PM9+((PN9-$M$34*PM9)^2+4*$M$34*PM8^2)^0.5)/(2*PM8)","v":1.109043033993202},null,null,{"$f":"(PQ9-$M$34*PP9+((PQ9-$M$34*PP9)^2+4*$M$34*PP8^2)^0.5)/(2*PP8)","v":0.82083340715740305},null,null,{"$f":"(PT9-$M$34*PS9+((PT9-$M$34*PS9)^2+4*$M$34*PS8^2)^0.5)/(2*PS8)","v":0.75115891201358886},null,null,{"$f":"(PW9-$M$34*PV9+((PW9-$M$34*PV9)^2+4*$M$34*PV8^2)^0.5)/(2*PV8)","v":1.0692962088922555},null,null,{"$f":"(PZ9-$M$34*PY9+((PZ9-$M$34*PY9)^2+4*$M$34*PY8^2)^0.5)/(2*PY8)","v":0.81216923070536495},null,null,{"$f":"(QC9-$M$34*QB9+((QC9-$M$34*QB9)^2+4*$M$34*QB8^2)^0.5)/(2*QB8)","v":0.82674003635571025},null,null,{"$f":"(QF9-$M$34*QE9+((QF9-$M$34*QE9)^2+4*$M$34*QE8^2)^0.5)/(2*QE8)","v":0.8348604457840576},null,null,{"$f":"(QI9-$M$34*QH9+((QI9-$M$34*QH9)^2+4*$M$34*QH8^2)^0.5)/(2*QH8)","v":0.73274596513240453},null,null,{"$f":"(QL9-$M$34*QK9+((QL9-$M$34*QK9)^2+4*$M$34*QK8^2)^0.5)/(2*QK8)","v":0.74437835097197236},null,null,{"$f":"(QO9-$M$34*QN9+((QO9-$M$34*QN9)^2+4*$M$34*QN8^2)^0.5)/(2*QN8)","v":0.77347180107165825},null,null,{"$f":"(QR9-$M$34*QQ9+((QR9-$M$34*QQ9)^2+4*$M$34*QQ8^2)^0.5)/(2*QQ8)","v":1.0493288054754537},null,null,{"$f":"(QU9-$M$34*QT9+((QU9-$M$34*QT9)^2+4*$M$34*QT8^2)^0.5)/(2*QT8)","v":0.74648415329755047},null,null,{"$f":"(QX9-$M$34*QW9+((QX9-$M$34*QW9)^2+4*$M$34*QW8^2)^0.5)/(2*QW8)","v":0.79389455391521135},null,null,{"$f":"(RA9-$M$34*QZ9+((RA9-$M$34*QZ9)^2+4*$M$34*QZ8^2)^0.5)/(2*QZ8)","v":0.84615354681120702},null,null,{"$f":"(RD9-$M$34*RC9+((RD9-$M$34*RC9)^2+4*$M$34*RC8^2)^0.5)/(2*RC8)","v":1.1246854870264762},null,null,{"$f":"(RG9-$M$34*RF9+((RG9-$M$34*RF9)^2+4*$M$34*RF8^2)^0.5)/(2*RF8)","v":0.74629688297177377},null,null,{"$f":"(RJ9-$M$34*RI9+((RJ9-$M$34*RI9)^2+4*$M$34*RI8^2)^0.5)/(2*RI8)","v":1.2035912315242145},null,null,{"$f":"(RM9-$M$34*RL9+((RM9-$M$34*RL9)^2+4*$M$34*RL8^2)^0.5)/(2*RL8)","v":0.82188342485404298},null,null,{"$f":"(RP9-$M$34*RO9+((RP9-$M$34*RO9)^2+4*$M$34*RO8^2)^0.5)/(2*RO8)","v":1.251272758535344},null,null,{"$f":"(RS9-$M$34*RR9+((RS9-$M$34*RR9)^2+4*$M$34*RR8^2)^0.5)/(2*RR8)","v":1.2291082332720351},null,null,{"$f":"(RV9-$M$34*RU9+((RV9-$M$34*RU9)^2+4*$M$34*RU8^2)^0.5)/(2*RU8)","v":0.9820256013311115},null,null,{"$f":"(RY9-$M$34*RX9+((RY9-$M$34*RX9)^2+4*$M$34*RX8^2)^0.5)/(2*RX8)","v":0.73145439833879211},null,null,{"$f":"(SB9-$M$34*SA9+((SB9-$M$34*SA9)^2+4*$M$34*SA8^2)^0.5)/(2*SA8)","v":0.80071291015055157},null,null,{"$f":"(SE9-$M$34*SD9+((SE9-$M$34*SD9)^2+4*$M$34*SD8^2)^0.5)/(2*SD8)","v":1.193678344332028},null,null,{"$f":"(SH9-$M$34*SG9+((SH9-$M$34*SG9)^2+4*$M$34*SG8^2)^0.5)/(2*SG8)","v":0.9963319471581511},null,null,{"$f":"(SK9-$M$34*SJ9+((SK9-$M$34*SJ9)^2+4*$M$34*SJ8^2)^0.5)/(2*SJ8)","v":0.8126336172673877},null,null,{"$f":"(SN9-$M$34*SM9+((SN9-$M$34*SM9)^2+4*$M$34*SM8^2)^0.5)/(2*SM8)","v":0.84151548470076565},null,null,{"$f":"(SQ9-$M$34*SP9+((SQ9-$M$34*SP9)^2+4*$M$34*SP8^2)^0.5)/(2*SP8)","v":0.82130707812039994},null,null,{"$f":"(ST9-$M$34*SS9+((ST9-$M$34*SS9)^2+4*$M$34*SS8^2)^0.5)/(2*SS8)","v":1.0196193600816859},null,null,{"$f":"(SW9-$M$34*SV9+((SW9-$M$34*SV9)^2+4*$M$34*SV8^2)^0.5)/(2*SV8)","v":0.83990855229652894},null,null,{"$f":"(SZ9-$M$34*SY9+((SZ9-$M$34*SY9)^2+4*$M$34*SY8^2)^0.5)/(2*SY8)","v":0.74471824811689158},null,null,{"$f":"(TC9-$M$34*TB9+((TC9-$M$34*TB9)^2+4*$M$34*TB8^2)^0.5)/(2*TB8)","v":0.82193094031033609},null,null,{"$f":"(TF9-$M$34*TE9+((TF9-$M$34*TE9)^2+4*$M$34*TE8^2)^0.5)/(2*TE8)","v":0.73652857571691621},null,null,{"$f":"(TI9-$M$34*TH9+((TI9-$M$34*TH9)^2+4*$M$34*TH8^2)^0.5)/(2*TH8)","v":0.80940497117330268},null,null,{"$f":"(TL9-$M$34*TK9+((TL9-$M$34*TK9)^2+4*$M$34*TK8^2)^0.5)/(2*TK8)","v":0.85109139490223196},null,null,{"$f":"(TO9-$M$34*TN9+((TO9-$M$34*TN9)^2+4*$M$34*TN8^2)^0.5)/(2*TN8)","v":0.76647721985974271},null,null,{"$f":"(TR9-$M$34*TQ9+((TR9-$M$34*TQ9)^2+4*$M$34*TQ8^2)^0.5)/(2*TQ8)","v":0.85924353251696739},null,null,{"$f":"(TU9-$M$34*TT9+((TU9-$M$34*TT9)^2+4*$M$34*TT8^2)^0.5)/(2*TT8)","v":0.73131325541790571},null,null,{"$f":"(TX9-$M$34*TW9+((TX9-$M$34*TW9)^2+4*$M$34*TW8^2)^0.5)/(2*TW8)","v":0.86287148428351568},null,null,{"$f":"(UA9-$M$34*TZ9+((UA9-$M$34*TZ9)^2+4*$M$34*TZ8^2)^0.5)/(2*TZ8)","v":0.76612078736854183},null,null,{"$f":"(UD9-$M$34*UC9+((UD9-$M$34*UC9)^2+4*$M$34*UC8^2)^0.5)/(2*UC8)","v":0.81367424242572428},null,null,{"$f":"(UG9-$M$34*UF9+((UG9-$M$34*UF9)^2+4*$M$34*UF8^2)^0.5)/(2*UF8)","v":0.8292276762893579},null,null,{"$f":"(UJ9-$M$34*UI9+((UJ9-$M$34*UI9)^2+4*$M$34*UI8^2)^0.5)/(2*UI8)","v":0.84264925216131481},null,null,{"$f":"(UM9-$M$34*UL9+((UM9-$M$34*UL9)^2+4*$M$34*UL8^2)^0.5)/(2*UL8)","v":0.75814093369275559},null,null,{"$f":"(UP9-$M$34*UO9+((UP9-$M$34*UO9)^2+4*$M$34*UO8^2)^0.5)/(2*UO8)","v":0.77004733378622336},null,null,{"$f":"(US9-$M$34*UR9+((US9-$M$34*UR9)^2+4*$M$34*UR8^2)^0.5)/(2*UR8)","v":1.2412896905509434},null,null,{"$f":"(UV9-$M$34*UU9+((UV9-$M$34*UU9)^2+4*$M$34*UU8^2)^0.5)/(2*UU8)","v":0.79530189689905506},null,null,{"$f":"(UY9-$M$34*UX9+((UY9-$M$34*UX9)^2+4*$M$34*UX8^2)^0.5)/(2*UX8)","v":1.0450636623336997},null,null,{"$f":"(VB9-$M$34*VA9+((VB9-$M$34*VA9)^2+4*$M$34*VA8^2)^0.5)/(2*VA8)","v":0.80386147507023797},null,null,{"$f":"(VE9-$M$34*VD9+((VE9-$M$34*VD9)^2+4*$M$34*VD8^2)^0.5)/(2*VD8)","v":1.119181174246666},null,null,{"$f":"(VH9-$M$34*VG9+((VH9-$M$34*VG9)^2+4*$M$34*VG8^2)^0.5)/(2*VG8)","v":0.75978073033006222},null,null,{"$f":"(VK9-$M$34*VJ9+((VK9-$M$34*VJ9)^2+4*$M$34*VJ8^2)^0.5)/(2*VJ8)","v":0.95796019268883781},null,null,{"$f":"(VN9-$M$34*VM9+((VN9-$M$34*VM9)^2+4*$M$34*VM8^2)^0.5)/(2*VM8)","v":0.8140708526155277},null,null,{"$f":"(VQ9-$M$34*VP9+((VQ9-$M$34*VP9)^2+4*$M$34*VP8^2)^0.5)/(2*VP8)","v":1.3740970788176279},null,null,{"$f":"(VT9-$M$34*VS9+((VT9-$M$34*VS9)^2+4*$M$34*VS8^2)^0.5)/(2*VS8)","v":0.86500869588645912},null,null,{"$f":"(VW9-$M$34*VV9+((VW9-$M$34*VV9)^2+4*$M$34*VV8^2)^0.5)/(2*VV8)","v":0.82602717146641691},null,null,{"$f":"(VZ9-$M$34*VY9+((VZ9-$M$34*VY9)^2+4*$M$34*VY8^2)^0.5)/(2*VY8)","v":0.71045090174153769},null,null,{"$f":"(WC9-$M$34*WB9+((WC9-$M$34*WB9)^2+4*$M$34*WB8^2)^0.5)/(2*WB8)","v":1.1463649664120998},null,null,{"$f":"(WF9-$M$34*WE9+((WF9-$M$34*WE9)^2+4*$M$34*WE8^2)^0.5)/(2*WE8)","v":0.79990213503959839},null,null,{"$f":"(WI9-$M$34*WH9+((WI9-$M$34*WH9)^2+4*$M$34*WH8^2)^0.5)/(2*WH8)","v":1.3305255772275437},null,null,{"$f":"(WL9-$M$34*WK9+((WL9-$M$34*WK9)^2+4*$M$34*WK8^2)^0.5)/(2*WK8)","v":0.75635516147365656},null,null,{"$f":"(WO9-$M$34*WN9+((WO9-$M$34*WN9)^2+4*$M$34*WN8^2)^0.5)/(2*WN8)","v":0.76355247657543635},null,null,{"$f":"(WR9-$M$34*WQ9+((WR9-$M$34*WQ9)^2+4*$M$34*WQ8^2)^0.5)/(2*WQ8)","v":0.75321018042358445},null,null,{"$f":"(WU9-$M$34*WT9+((WU9-$M$34*WT9)^2+4*$M$34*WT8^2)^0.5)/(2*WT8)","v":0.8374384069101577},null,null,{"$f":"(WX9-$M$34*WW9+((WX9-$M$34*WW9)^2+4*$M$34*WW8^2)^0.5)/(2*WW8)","v":0.75247646361831255},null,null,{"$f":"(XA9-$M$34*WZ9+((XA9-$M$34*WZ9)^2+4*$M$34*WZ8^2)^0.5)/(2*WZ8)","v":1.2109160695723544},null,null,{"$f":"(XD9-$M$34*XC9+((XD9-$M$34*XC9)^2+4*$M$34*XC8^2)^0.5)/(2*XC8)","v":0.93564021376725282},null,null,{"$f":"(XG9-$M$34*XF9+((XG9-$M$34*XF9)^2+4*$M$34*XF8^2)^0.5)/(2*XF8)","v":0.72479297456053615},null,null,{"$f":"(XJ9-$M$34*XI9+((XJ9-$M$34*XI9)^2+4*$M$34*XI8^2)^0.5)/(2*XI8)","v":1.3362008598290824},null,null,{"$f":"(XM9-$M$34*XL9+((XM9-$M$34*XL9)^2+4*$M$34*XL8^2)^0.5)/(2*XL8)","v":0.74915266942436243},null,null,{"$f":"(XP9-$M$34*XO9+((XP9-$M$34*XO9)^2+4*$M$34*XO8^2)^0.5)/(2*XO8)","v":0.74825006649672787},null,null,{"$f":"(XS9-$M$34*XR9+((XS9-$M$34*XR9)^2+4*$M$34*XR8^2)^0.5)/(2*XR8)","v":0.74525599978150114},null,null,{"$f":"(XV9-$M$34*XU9+((XV9-$M$34*XU9)^2+4*$M$34*XU8^2)^0.5)/(2*XU8)","v":0.74131171977706556},null,null,{"$f":"(XY9-$M$34*XX9+((XY9-$M$34*XX9)^2+4*$M$34*XX8^2)^0.5)/(2*XX8)","v":1.1235868586225939},null,null,{"$f":"(YB9-$M$34*YA9+((YB9-$M$34*YA9)^2+4*$M$34*YA8^2)^0.5)/(2*YA8)","v":1.207400558573887},null,null,{"$f":"(YE9-$M$34*YD9+((YE9-$M$34*YD9)^2+4*$M$34*YD8^2)^0.5)/(2*YD8)","v":1.2646086848010218},null,null,{"$f":"(YH9-$M$34*YG9+((YH9-$M$34*YG9)^2+4*$M$34*YG8^2)^0.5)/(2*YG8)","v":0.87768049951174054},null,null,{"$f":"(YK9-$M$34*YJ9+((YK9-$M$34*YJ9)^2+4*$M$34*YJ8^2)^0.5)/(2*YJ8)","v":1.0125062940280687},null,null,{"$f":"(YN9-$M$34*YM9+((YN9-$M$34*YM9)^2+4*$M$34*YM8^2)^0.5)/(2*YM8)","v":0.81079536573810096},null,null,{"$f":"(YQ9-$M$34*YP9+((YQ9-$M$34*YP9)^2+4*$M$34*YP8^2)^0.5)/(2*YP8)","v":1.2326533171269305},null,null,{"$f":"(YT9-$M$34*YS9+((YT9-$M$34*YS9)^2+4*$M$34*YS8^2)^0.5)/(2*YS8)","v":1.1514374820696349},null,null,{"$f":"(YW9-$M$34*YV9+((YW9-$M$34*YV9)^2+4*$M$34*YV8^2)^0.5)/(2*YV8)","v":1.0747984020410211},null,null,{"$f":"(YZ9-$M$34*YY9+((YZ9-$M$34*YY9)^2+4*$M$34*YY8^2)^0.5)/(2*YY8)","v":0.95081715372987607},null,null,{"$f":"(ZC9-$M$34*ZB9+((ZC9-$M$34*ZB9)^2+4*$M$34*ZB8^2)^0.5)/(2*ZB8)","v":0.75472154121622015},null,null,{"$f":"(ZF9-$M$34*ZE9+((ZF9-$M$34*ZE9)^2+4*$M$34*ZE8^2)^0.5)/(2*ZE8)","v":0.77569736577208992},null,null,{"$f":"(ZI9-$M$34*ZH9+((ZI9-$M$34*ZH9)^2+4*$M$34*ZH8^2)^0.5)/(2*ZH8)","v":1.2838783150277715},null,null,{"$f":"(ZL9-$M$34*ZK9+((ZL9-$M$34*ZK9)^2+4*$M$34*ZK8^2)^0.5)/(2*ZK8)","v":0.78448140123686816},null,null,{"$f":"(ZO9-$M$34*ZN9+((ZO9-$M$34*ZN9)^2+4*$M$34*ZN8^2)^0.5)/(2*ZN8)","v":1.1170025088053379},null,null,{"$f":"(ZR9-$M$34*ZQ9+((ZR9-$M$34*ZQ9)^2+4*$M$34*ZQ8^2)^0.5)/(2*ZQ8)","v":0.75828852099491684},null,null,{"$f":"(ZU9-$M$34*ZT9+((ZU9-$M$34*ZT9)^2+4*$M$34*ZT8^2)^0.5)/(2*ZT8)","v":0.86201081219947606},null,null,{"$f":"(ZX9-$M$34*ZW9+((ZX9-$M$34*ZW9)^2+4*$M$34*ZW8^2)^0.5)/(2*ZW8)","v":0.73753520900816283},null,null,{"$f":"(AAA9-$M$34*ZZ9+((AAA9-$M$34*ZZ9)^2+4*$M$34*ZZ8^2)^0.5)/(2*ZZ8)","v":0.79652689085606077},null,null,{"$f":"(AAD9-$M$34*AAC9+((AAD9-$M$34*AAC9)^2+4*$M$34*AAC8^2)^0.5)/(2*AAC8)","v":1.0747048796495082},null,null,{"$f":"(AAG9-$M$34*AAF9+((AAG9-$M$34*AAF9)^2+4*$M$34*AAF8^2)^0.5)/(2*AAF8)","v":1.1927120284538997},null,null,{"$f":"(AAJ9-$M$34*AAI9+((AAJ9-$M$34*AAI9)^2+4*$M$34*AAI8^2)^0.5)/(2*AAI8)","v":0.83603755104186739},null,null,{"$f":"(AAM9-$M$34*AAL9+((AAM9-$M$34*AAL9)^2+4*$M$34*AAL8^2)^0.5)/(2*AAL8)","v":0.74278881807338037},null,null,{"$f":"(AAP9-$M$34*AAO9+((AAP9-$M$34*AAO9)^2+4*$M$34*AAO8^2)^0.5)/(2*AAO8)","v":1.0880055753930133},null,null,{"$f":"(AAS9-$M$34*AAR9+((AAS9-$M$34*AAR9)^2+4*$M$34*AAR8^2)^0.5)/(2*AAR8)","v":0.76523617793285392},null,null,{"$f":"(AAV9-$M$34*AAU9+((AAV9-$M$34*AAU9)^2+4*$M$34*AAU8^2)^0.5)/(2*AAU8)","v":1.0429739891788341},null,null,{"$f":"(AAY9-$M$34*AAX9+((AAY9-$M$34*AAX9)^2+4*$M$34*AAX8^2)^0.5)/(2*AAX8)","v":0.86434299080047605},null,null,{"$f":"(ABB9-$M$34*ABA9+((ABB9-$M$34*ABA9)^2+4*$M$34*ABA8^2)^0.5)/(2*ABA8)","v":0.73188798442052605},null,null,{"$f":"(ABE9-$M$34*ABD9+((ABE9-$M$34*ABD9)^2+4*$M$34*ABD8^2)^0.5)/(2*ABD8)","v":0.82484385284953976},null,null,{"$f":"(ABH9-$M$34*ABG9+((ABH9-$M$34*ABG9)^2+4*$M$34*ABG8^2)^0.5)/(2*ABG8)","v":0.80282342247665239},null,null,{"$f":"(ABK9-$M$34*ABJ9+((ABK9-$M$34*ABJ9)^2+4*$M$34*ABJ8^2)^0.5)/(2*ABJ8)","v":1.2942540870385866},null,null,{"$f":"(ABN9-$M$34*ABM9+((ABN9-$M$34*ABM9)^2+4*$M$34*ABM8^2)^0.5)/(2*ABM8)","v":0.7313864344754164},null,null,{"$f":"(ABQ9-$M$34*ABP9+((ABQ9-$M$34*ABP9)^2+4*$M$34*ABP8^2)^0.5)/(2*ABP8)","v":0.78461058787060967},null,null,{"$f":"(ABT9-$M$34*ABS9+((ABT9-$M$34*ABS9)^2+4*$M$34*ABS8^2)^0.5)/(2*ABS8)","v":0.81851149013370217},null,null,{"$f":"(ABW9-$M$34*ABV9+((ABW9-$M$34*ABV9)^2+4*$M$34*ABV8^2)^0.5)/(2*ABV8)","v":0.85647036632127271},null,null,{"$f":"(ABZ9-$M$34*ABY9+((ABZ9-$M$34*ABY9)^2+4*$M$34*ABY8^2)^0.5)/(2*ABY8)","v":1.0186534119681279},null,null,{"$f":"(ACC9-$M$34*ACB9+((ACC9-$M$34*ACB9)^2+4*$M$34*ACB8^2)^0.5)/(2*ACB8)","v":0.78159849178002105},null,null,{"$f":"(ACF9-$M$34*ACE9+((ACF9-$M$34*ACE9)^2+4*$M$34*ACE8^2)^0.5)/(2*ACE8)","v":0.75706683668479835},null,null,{"$f":"(ACI9-$M$34*ACH9+((ACI9-$M$34*ACH9)^2+4*$M$34*ACH8^2)^0.5)/(2*ACH8)","v":0.81905826012141425},null,null,{"$f":"(ACL9-$M$34*ACK9+((ACL9-$M$34*ACK9)^2+4*$M$34*ACK8^2)^0.5)/(2*ACK8)","v":0.78879192042261459},null,null,{"$f":"(ACO9-$M$34*ACN9+((ACO9-$M$34*ACN9)^2+4*$M$34*ACN8^2)^0.5)/(2*ACN8)","v":0.9670297441554353},null,null,{"$f":"(ACR9-$M$34*ACQ9+((ACR9-$M$34*ACQ9)^2+4*$M$34*ACQ8^2)^0.5)/(2*ACQ8)","v":0.81230151946874629},null,null,{"$f":"(ACU9-$M$34*ACT9+((ACU9-$M$34*ACT9)^2+4*$M$34*ACT8^2)^0.5)/(2*ACT8)","v":0.82276849192114732},null,null,{"$f":"(ACX9-$M$34*ACW9+((ACX9-$M$34*ACW9)^2+4*$M$34*ACW8^2)^0.5)/(2*ACW8)","v":1.2926178008422944},null,null,{"$f":"(ADA9-$M$34*ACZ9+((ADA9-$M$34*ACZ9)^2+4*$M$34*ACZ8^2)^0.5)/(2*ACZ8)","v":1.2058475575774126},null,null,{"$f":"(ADD9-$M$34*ADC9+((ADD9-$M$34*ADC9)^2+4*$M$34*ADC8^2)^0.5)/(2*ADC8)","v":0.76596724815916051},null,null,{"$f":"(ADG9-$M$34*ADF9+((ADG9-$M$34*ADF9)^2+4*$M$34*ADF8^2)^0.5)/(2*ADF8)","v":0.78285220956911017},null,null,{"$f":"(ADJ9-$M$34*ADI9+((ADJ9-$M$34*ADI9)^2+4*$M$34*ADI8^2)^0.5)/(2*ADI8)","v":1.0455063947819945},null,null,{"$f":"(ADM9-$M$34*ADL9+((ADM9-$M$34*ADL9)^2+4*$M$34*ADL8^2)^0.5)/(2*ADL8)","v":0.80483607307177285},null,null,{"$f":"(ADP9-$M$34*ADO9+((ADP9-$M$34*ADO9)^2+4*$M$34*ADO8^2)^0.5)/(2*ADO8)","v":0.84328397922073273},null,null,{"$f":"(ADS9-$M$34*ADR9+((ADS9-$M$34*ADR9)^2+4*$M$34*ADR8^2)^0.5)/(2*ADR8)","v":0.79087194130612426},null,null,{"$f":"(ADV9-$M$34*ADU9+((ADV9-$M$34*ADU9)^2+4*$M$34*ADU8^2)^0.5)/(2*ADU8)","v":1.248206540894784},null,null,{"$f":"(ADY9-$M$34*ADX9+((ADY9-$M$34*ADX9)^2+4*$M$34*ADX8^2)^0.5)/(2*ADX8)","v":0.784170211287463},null,null,{"$f":"(AEB9-$M$34*AEA9+((AEB9-$M$34*AEA9)^2+4*$M$34*AEA8^2)^0.5)/(2*AEA8)","v":0.86076718863776591},null,null,{"$f":"(AEE9-$M$34*AED9+((AEE9-$M$34*AED9)^2+4*$M$34*AED8^2)^0.5)/(2*AED8)","v":1.0589764998265268},null,null,{"$f":"(AEH9-$M$34*AEG9+((AEH9-$M$34*AEG9)^2+4*$M$34*AEG8^2)^0.5)/(2*AEG8)","v":0.76856576282238043},null,null,{"$f":"(AEK9-$M$34*AEJ9+((AEK9-$M$34*AEJ9)^2+4*$M$34*AEJ8^2)^0.5)/(2*AEJ8)","v":1.1110777726052357},null,null,{"$f":"(AEN9-$M$34*AEM9+((AEN9-$M$34*AEM9)^2+4*$M$34*AEM8^2)^0.5)/(2*AEM8)","v":1.1856407819656296},null,null,{"$f":"(AEQ9-$M$34*AEP9+((AEQ9-$M$34*AEP9)^2+4*$M$34*AEP8^2)^0.5)/(2*AEP8)","v":0.82032012913953312},null,null,{"$f":"(AET9-$M$34*AES9+((AET9-$M$34*AES9)^2+4*$M$34*AES8^2)^0.5)/(2*AES8)","v":0.83925785221044469},null,null,{"$f":"(AEW9-$M$34*AEV9+((AEW9-$M$34*AEV9)^2+4*$M$34*AEV8^2)^0.5)/(2*AEV8)","v":0.76916318816490559},null,null,{"$f":"(AEZ9-$M$34*AEY9+((AEZ9-$M$34*AEY9)^2+4*$M$34*AEY8^2)^0.5)/(2*AEY8)","v":0.80474128564308567},null,null,{"$f":"(AFC9-$M$34*AFB9+((AFC9-$M$34*AFB9)^2+4*$M$34*AFB8^2)^0.5)/(2*AFB8)","v":0.78325593252436509},null,null,{"$f":"(AFF9-$M$34*AFE9+((AFF9-$M$34*AFE9)^2+4*$M$34*AFE8^2)^0.5)/(2*AFE8)","v":0.80043792746340914},null,null,{"$f":"(AFI9-$M$34*AFH9+((AFI9-$M$34*AFH9)^2+4*$M$34*AFH8^2)^0.5)/(2*AFH8)","v":1.0569777785093613},null,null,{"$f":"(AFL9-$M$34*AFK9+((AFL9-$M$34*AFK9)^2+4*$M$34*AFK8^2)^0.5)/(2*AFK8)","v":1.1792245661067708},null,null,{"$f":"(AFO9-$M$34*AFN9+((AFO9-$M$34*AFN9)^2+4*$M$34*AFN8^2)^0.5)/(2*AFN8)","v":1.2224503581156174},null,null,{"$f":"(AFR9-$M$34*AFQ9+((AFR9-$M$34*AFQ9)^2+4*$M$34*AFQ8^2)^0.5)/(2*AFQ8)","v":0.78642812836919973},null,null,{"$f":"(AFU9-$M$34*AFT9+((AFU9-$M$34*AFT9)^2+4*$M$34*AFT8^2)^0.5)/(2*AFT8)","v":0.72999564795902483},null,null,{"$f":"(AFX9-$M$34*AFW9+((AFX9-$M$34*AFW9)^2+4*$M$34*AFW8^2)^0.5)/(2*AFW8)","v":0.74269518880648644},null,null,{"$f":"(AGA9-$M$34*AFZ9+((AGA9-$M$34*AFZ9)^2+4*$M$34*AFZ8^2)^0.5)/(2*AFZ8)","v":0.96816476146475772},null,null,{"$f":"(AGD9-$M$34*AGC9+((AGD9-$M$34*AGC9)^2+4*$M$34*AGC8^2)^0.5)/(2*AGC8)","v":0.93904495118328812},null,null,{"$f":"(AGG9-$M$34*AGF9+((AGG9-$M$34*AGF9)^2+4*$M$34*AGF8^2)^0.5)/(2*AGF8)","v":0.84923695573201397},null,null,{"$f":"(AGJ9-$M$34*AGI9+((AGJ9-$M$34*AGI9)^2+4*$M$34*AGI8^2)^0.5)/(2*AGI8)","v":0.80351214802230508},null,null,{"$f":"(AGM9-$M$34*AGL9+((AGM9-$M$34*AGL9)^2+4*$M$34*AGL8^2)^0.5)/(2*AGL8)","v":1.2262057954018133},null,null,{"$f":"(AGP9-$M$34*AGO9+((AGP9-$M$34*AGO9)^2+4*$M$34*AGO8^2)^0.5)/(2*AGO8)","v":0.76344826263716947},null,null,{"$f":"(AGS9-$M$34*AGR9+((AGS9-$M$34*AGR9)^2+4*$M$34*AGR8^2)^0.5)/(2*AGR8)","v":0.78986433632406416},null,null,{"$f":"(AGV9-$M$34*AGU9+((AGV9-$M$34*AGU9)^2+4*$M$34*AGU8^2)^0.5)/(2*AGU8)","v":1.3869125173906696},null,null,{"$f":"(AGY9-$M$34*AGX9+((AGY9-$M$34*AGX9)^2+4*$M$34*AGX8^2)^0.5)/(2*AGX8)","v":0.80901117796959754},null,null,{"$f":"(AHB9-$M$34*AHA9+((AHB9-$M$34*AHA9)^2+4*$M$34*AHA8^2)^0.5)/(2*AHA8)","v":0.79926435713325805},null,null,{"$f":"(AHE9-$M$34*AHD9+((AHE9-$M$34*AHD9)^2+4*$M$34*AHD8^2)^0.5)/(2*AHD8)","v":1.165101147356808},null,null,{"$f":"(AHH9-$M$34*AHG9+((AHH9-$M$34*AHG9)^2+4*$M$34*AHG8^2)^0.5)/(2*AHG8)","v":0.79476456663843642},null,null,{"$f":"(AHK9-$M$34*AHJ9+((AHK9-$M$34*AHJ9)^2+4*$M$34*AHJ8^2)^0.5)/(2*AHJ8)","v":0.75696801622868271},null,null,{"$f":"(AHN9-$M$34*AHM9+((AHN9-$M$34*AHM9)^2+4*$M$34*AHM8^2)^0.5)/(2*AHM8)","v":0.77130377684084184},null,null,{"$f":"(AHQ9-$M$34*AHP9+((AHQ9-$M$34*AHP9)^2+4*$M$34*AHP8^2)^0.5)/(2*AHP8)","v":1.1008104720785288},null,null,{"$f":"(AHT9-$M$34*AHS9+((AHT9-$M$34*AHS9)^2+4*$M$34*AHS8^2)^0.5)/(2*AHS8)","v":0.78745520028795124},null,null,{"$f":"(AHW9-$M$34*AHV9+((AHW9-$M$34*AHV9)^2+4*$M$34*AHV8^2)^0.5)/(2*AHV8)","v":0.83286275146261968},null,null,{"$f":"(AHZ9-$M$34*AHY9+((AHZ9-$M$34*AHY9)^2+4*$M$34*AHY8^2)^0.5)/(2*AHY8)","v":0.73044285660118613},null,null,{"$f":"(AIC9-$M$34*AIB9+((AIC9-$M$34*AIB9)^2+4*$M$34*AIB8^2)^0.5)/(2*AIB8)","v":0.759056825844865},null,null,{"$f":"(AIF9-$M$34*AIE9+((AIF9-$M$34*AIE9)^2+4*$M$34*AIE8^2)^0.5)/(2*AIE8)","v":1.0825226329220907},null,null,{"$f":"(AII9-$M$34*AIH9+((AII9-$M$34*AIH9)^2+4*$M$34*AIH8^2)^0.5)/(2*AIH8)","v":0.75947773848482569},null,null,{"$f":"(AIL9-$M$34*AIK9+((AIL9-$M$34*AIK9)^2+4*$M$34*AIK8^2)^0.5)/(2*AIK8)","v":1.2843688939905269},null,null,{"$f":"(AIO9-$M$34*AIN9+((AIO9-$M$34*AIN9)^2+4*$M$34*AIN8^2)^0.5)/(2*AIN8)","v":1.3636895700676241},null,null,{"$f":"(AIR9-$M$34*AIQ9+((AIR9-$M$34*AIQ9)^2+4*$M$34*AIQ8^2)^0.5)/(2*AIQ8)","v":1.0697928835597341},null,null,{"$f":"(AIU9-$M$34*AIT9+((AIU9-$M$34*AIT9)^2+4*$M$34*AIT8^2)^0.5)/(2*AIT8)","v":0.83535556137531086},null,null,{"$f":"(AIX9-$M$34*AIW9+((AIX9-$M$34*AIW9)^2+4*$M$34*AIW8^2)^0.5)/(2*AIW8)","v":1.2955783983736791},null,null,{"$f":"(AJA9-$M$34*AIZ9+((AJA9-$M$34*AIZ9)^2+4*$M$34*AIZ8^2)^0.5)/(2*AIZ8)","v":0.9013315348001657},null,null,{"$f":"(AJD9-$M$34*AJC9+((AJD9-$M$34*AJC9)^2+4*$M$34*AJC8^2)^0.5)/(2*AJC8)","v":1.0828472638371696},null,null,{"$f":"(AJG9-$M$34*AJF9+((AJG9-$M$34*AJF9)^2+4*$M$34*AJF8^2)^0.5)/(2*AJF8)","v":0.81367799220974601},null,null,{"$f":"(AJJ9-$M$34*AJI9+((AJJ9-$M$34*AJI9)^2+4*$M$34*AJI8^2)^0.5)/(2*AJI8)","v":0.84841915060907691},null,null,{"$f":"(AJM9-$M$34*AJL9+((AJM9-$M$34*AJL9)^2+4*$M$34*AJL8^2)^0.5)/(2*AJL8)","v":0.8029144158571252},null,null,{"$f":"(AJP9-$M$34*AJO9+((AJP9-$M$34*AJO9)^2+4*$M$34*AJO8^2)^0.5)/(2*AJO8)","v":0.98525720717805088},null,null,{"$f":"(AJS9-$M$34*AJR9+((AJS9-$M$34*AJR9)^2+4*$M$34*AJR8^2)^0.5)/(2*AJR8)","v":1.3363158881905142},null,null,{"$f":"(AJV9-$M$34*AJU9+((AJV9-$M$34*AJU9)^2+4*$M$34*AJU8^2)^0.5)/(2*AJU8)","v":0.82541723313940241},null,null,{"$f":"(AJY9-$M$34*AJX9+((AJY9-$M$34*AJX9)^2+4*$M$34*AJX8^2)^0.5)/(2*AJX8)","v":0.83157943021283376},null,null,{"$f":"(AKB9-$M$34*AKA9+((AKB9-$M$34*AKA9)^2+4*$M$34*AKA8^2)^0.5)/(2*AKA8)","v":0.79097560242072429},null,null,{"$f":"(AKE9-$M$34*AKD9+((AKE9-$M$34*AKD9)^2+4*$M$34*AKD8^2)^0.5)/(2*AKD8)","v":1.1370409938999713},null,null,{"$f":"(AKH9-$M$34*AKG9+((AKH9-$M$34*AKG9)^2+4*$M$34*AKG8^2)^0.5)/(2*AKG8)","v":1.3118650872050652},null,null,{"$f":"(AKK9-$M$34*AKJ9+((AKK9-$M$34*AKJ9)^2+4*$M$34*AKJ8^2)^0.5)/(2*AKJ8)","v":1.0540521331494324},null,null,{"$f":"(AKN9-$M$34*AKM9+((AKN9-$M$34*AKM9)^2+4*$M$34*AKM8^2)^0.5)/(2*AKM8)","v":0.80214483185822816},null,null,{"$f":"(AKQ9-$M$34*AKP9+((AKQ9-$M$34*AKP9)^2+4*$M$34*AKP8^2)^0.5)/(2*AKP8)","v":0.73722383555767546},null,null,{"$f":"(AKT9-$M$34*AKS9+((AKT9-$M$34*AKS9)^2+4*$M$34*AKS8^2)^0.5)/(2*AKS8)","v":0.8196479377458542},null,null,{"$f":"(AKW9-$M$34*AKV9+((AKW9-$M$34*AKV9)^2+4*$M$34*AKV8^2)^0.5)/(2*AKV8)","v":1.3581631908979814},null,null,{"$f":"(AKZ9-$M$34*AKY9+((AKZ9-$M$34*AKY9)^2+4*$M$34*AKY8^2)^0.5)/(2*AKY8)","v":1.2681280466313267},null,null,{"$f":"(ALC9-$M$34*ALB9+((ALC9-$M$34*ALB9)^2+4*$M$34*ALB8^2)^0.5)/(2*ALB8)","v":0.99337352217874142},null,null,{"$f":"(ALF9-$M$34*ALE9+((ALF9-$M$34*ALE9)^2+4*$M$34*ALE8^2)^0.5)/(2*ALE8)","v":0.73636562923747129},null,null,{"$f":"(ALI9-$M$34*ALH9+((ALI9-$M$34*ALH9)^2+4*$M$34*ALH8^2)^0.5)/(2*ALH8)","v":0.76196194724258093},null,null,{"$f":"(ALL9-$M$34*ALK9+((ALL9-$M$34*ALK9)^2+4*$M$34*ALK8^2)^0.5)/(2*ALK8)","v":1.0419077304793616},null,null,{"$f":"(ALO9-$M$34*ALN9+((ALO9-$M$34*ALN9)^2+4*$M$34*ALN8^2)^0.5)/(2*ALN8)","v":0.79187862465199998},null,null,{"$f":"(ALR9-$M$34*ALQ9+((ALR9-$M$34*ALQ9)^2+4*$M$34*ALQ8^2)^0.5)/(2*ALQ8)","v":0.93497140233017451},null,null,{"$f":"(ALU9-$M$34*ALT9+((ALU9-$M$34*ALT9)^2+4*$M$34*ALT8^2)^0.5)/(2*ALT8)","v":0.73824314522101686},null,null,{"$f":"(ALX9-$M$34*ALW9+((ALX9-$M$34*ALW9)^2+4*$M$34*ALW8^2)^0.5)/(2*ALW8)","v":0.80458753517852644},null,null,{"$f":"(AMA9-$M$34*ALZ9+((AMA9-$M$34*ALZ9)^2+4*$M$34*ALZ8^2)^0.5)/(2*ALZ8)","v":0.83138492441819634},null,null,{"$f":"(AMD9-$M$34*AMC9+((AMD9-$M$34*AMC9)^2+4*$M$34*AMC8^2)^0.5)/(2*AMC8)","v":1.0265256924407924},null,null,{"$f":"(AMG9-$M$34*AMF9+((AMG9-$M$34*AMF9)^2+4*$M$34*AMF8^2)^0.5)/(2*AMF8)","v":0.96849284405222957},null,null,{"$f":"(AMJ9-$M$34*AMI9+((AMJ9-$M$34*AMI9)^2+4*$M$34*AMI8^2)^0.5)/(2*AMI8)","v":1.0643710066200449},null,null,{"$f":"(AMM9-$M$34*AML9+((AMM9-$M$34*AML9)^2+4*$M$34*AML8^2)^0.5)/(2*AML8)","v":0.95019526131340815},null,null,{"$f":"(AMP9-$M$34*AMO9+((AMP9-$M$34*AMO9)^2+4*$M$34*AMO8^2)^0.5)/(2*AMO8)","v":1.0423270875916735},null,null,{"$f":"(AMS9-$M$34*AMR9+((AMS9-$M$34*AMR9)^2+4*$M$34*AMR8^2)^0.5)/(2*AMR8)","v":1.2231464617552494},null,null,{"$f":"(AMV9-$M$34*AMU9+((AMV9-$M$34*AMU9)^2+4*$M$34*AMU8^2)^0.5)/(2*AMU8)","v":0.77360560471740103},null,null,{"$f":"(AMY9-$M$34*AMX9+((AMY9-$M$34*AMX9)^2+4*$M$34*AMX8^2)^0.5)/(2*AMX8)","v":0.85903909878877283},null,null,{"$f":"(ANB9-$M$34*ANA9+((ANB9-$M$34*ANA9)^2+4*$M$34*ANA8^2)^0.5)/(2*ANA8)","v":0.81737137139147431},null,null,{"$f":"(ANE9-$M$34*AND9+((ANE9-$M$34*AND9)^2+4*$M$34*AND8^2)^0.5)/(2*AND8)","v":0.78416009360879346},null,null,{"$f":"(ANH9-$M$34*ANG9+((ANH9-$M$34*ANG9)^2+4*$M$34*ANG8^2)^0.5)/(2*ANG8)","v":1.0373049968868464},null,null,{"$f":"(ANK9-$M$34*ANJ9+((ANK9-$M$34*ANJ9)^2+4*$M$34*ANJ8^2)^0.5)/(2*ANJ8)","v":0.76377306323242367},null,null,{"$f":"(ANN9-$M$34*ANM9+((ANN9-$M$34*ANM9)^2+4*$M$34*ANM8^2)^0.5)/(2*ANM8)","v":0.80638781861511155},null,null,{"$f":"(ANQ9-$M$34*ANP9+((ANQ9-$M$34*ANP9)^2+4*$M$34*ANP8^2)^0.5)/(2*ANP8)","v":0.81769697177505951},null,null,{"$f":"(ANT9-$M$34*ANS9+((ANT9-$M$34*ANS9)^2+4*$M$34*ANS8^2)^0.5)/(2*ANS8)","v":0.8390168056850924},null,null,{"$f":"(ANW9-$M$34*ANV9+((ANW9-$M$34*ANV9)^2+4*$M$34*ANV8^2)^0.5)/(2*ANV8)","v":0.79637945139278921},null,null,{"$f":"(ANZ9-$M$34*ANY9+((ANZ9-$M$34*ANY9)^2+4*$M$34*ANY8^2)^0.5)/(2*ANY8)","v":0.80922872418277214},null,null,{"$f":"(AOC9-$M$34*AOB9+((AOC9-$M$34*AOB9)^2+4*$M$34*AOB8^2)^0.5)/(2*AOB8)","v":0.78836225812761684},null,null,{"$f":"(AOF9-$M$34*AOE9+((AOF9-$M$34*AOE9)^2+4*$M$34*AOE8^2)^0.5)/(2*AOE8)","v":0.99324226364858426},null,null,{"$f":"(AOI9-$M$34*AOH9+((AOI9-$M$34*AOH9)^2+4*$M$34*AOH8^2)^0.5)/(2*AOH8)","v":0.9977962174174122},null,null,{"$f":"(AOL9-$M$34*AOK9+((AOL9-$M$34*AOK9)^2+4*$M$34*AOK8^2)^0.5)/(2*AOK8)","v":0.82746722265477957},null,null,{"$f":"(AOO9-$M$34*AON9+((AOO9-$M$34*AON9)^2+4*$M$34*AON8^2)^0.5)/(2*AON8)","v":0.77026057940958037},null,null,{"$f":"(AOR9-$M$34*AOQ9+((AOR9-$M$34*AOQ9)^2+4*$M$34*AOQ8^2)^0.5)/(2*AOQ8)","v":0.76903527120028825},null,null,{"$f":"(AOU9-$M$34*AOT9+((AOU9-$M$34*AOT9)^2+4*$M$34*AOT8^2)^0.5)/(2*AOT8)","v":0.74354279516162358},null,null,{"$f":"(AOX9-$M$34*AOW9+((AOX9-$M$34*AOW9)^2+4*$M$34*AOW8^2)^0.5)/(2*AOW8)","v":1.0113021506167137},null,null,{"$f":"(APA9-$M$34*AOZ9+((APA9-$M$34*AOZ9)^2+4*$M$34*AOZ8^2)^0.5)/(2*AOZ8)","v":0.8539787265957377},null,null,{"$f":"(APD9-$M$34*APC9+((APD9-$M$34*APC9)^2+4*$M$34*APC8^2)^0.5)/(2*APC8)","v":0.75719300888420071},null,null,{"$f":"(APG9-$M$34*APF9+((APG9-$M$34*APF9)^2+4*$M$34*APF8^2)^0.5)/(2*APF8)","v":0.96400894321006092},null,null,{"$f":"(APJ9-$M$34*API9+((APJ9-$M$34*API9)^2+4*$M$34*API8^2)^0.5)/(2*API8)","v":0.86581410097902611},null,null,{"$f":"(APM9-$M$34*APL9+((APM9-$M$34*APL9)^2+4*$M$34*APL8^2)^0.5)/(2*APL8)","v":0.81907575162558299},null,null,{"$f":"(APP9-$M$34*APO9+((APP9-$M$34*APO9)^2+4*$M$34*APO8^2)^0.5)/(2*APO8)","v":1.0534557192497469},null,null,{"$f":"(APS9-$M$34*APR9+((APS9-$M$34*APR9)^2+4*$M$34*APR8^2)^0.5)/(2*APR8)","v":0.78145449932798172},null,null,{"$f":"(APV9-$M$34*APU9+((APV9-$M$34*APU9)^2+4*$M$34*APU8^2)^0.5)/(2*APU8)","v":0.82174413697856408},null,null,{"$f":"(APY9-$M$34*APX9+((APY9-$M$34*APX9)^2+4*$M$34*APX8^2)^0.5)/(2*APX8)","v":0.80563780182816991},null,null,{"$f":"(AQB9-$M$34*AQA9+((AQB9-$M$34*AQA9)^2+4*$M$34*AQA8^2)^0.5)/(2*AQA8)","v":0.86218646129902998},null,null,{"$f":"(AQE9-$M$34*AQD9+((AQE9-$M$34*AQD9)^2+4*$M$34*AQD8^2)^0.5)/(2*AQD8)","v":0.7563695099824892},null,null,{"$f":"(AQH9-$M$34*AQG9+((AQH9-$M$34*AQG9)^2+4*$M$34*AQG8^2)^0.5)/(2*AQG8)","v":0.77490471000832262},null,null,{"$f":"(AQK9-$M$34*AQJ9+((AQK9-$M$34*AQJ9)^2+4*$M$34*AQJ8^2)^0.5)/(2*AQJ8)","v":1.130861036551517},null,null,{"$f":"(AQN9-$M$34*AQM9+((AQN9-$M$34*AQM9)^2+4*$M$34*AQM8^2)^0.5)/(2*AQM8)","v":0.97690837744846382},null,null,{"$f":"(AQQ9-$M$34*AQP9+((AQQ9-$M$34*AQP9)^2+4*$M$34*AQP8^2)^0.5)/(2*AQP8)","v":1.3479447547797689},null,null,{"$f":"(AQT9-$M$34*AQS9+((AQT9-$M$34*AQS9)^2+4*$M$34*AQS8^2)^0.5)/(2*AQS8)","v":0.82769130462184548},null,null,{"$f":"(AQW9-$M$34*AQV9+((AQW9-$M$34*AQV9)^2+4*$M$34*AQV8^2)^0.5)/(2*AQV8)","v":0.80304548379008855},null,null,{"$f":"(AQZ9-$M$34*AQY9+((AQZ9-$M$34*AQY9)^2+4*$M$34*AQY8^2)^0.5)/(2*AQY8)","v":0.87097826164630943},null,null,{"$f":"(ARC9-$M$34*ARB9+((ARC9-$M$34*ARB9)^2+4*$M$34*ARB8^2)^0.5)/(2*ARB8)","v":0.97501938494199036},null,null,{"$f":"(ARF9-$M$34*ARE9+((ARF9-$M$34*ARE9)^2+4*$M$34*ARE8^2)^0.5)/(2*ARE8)","v":0.73027665337640901},null,null,{"$f":"(ARI9-$M$34*ARH9+((ARI9-$M$34*ARH9)^2+4*$M$34*ARH8^2)^0.5)/(2*ARH8)","v":0.83907368570385554},null,null,{"$f":"(ARL9-$M$34*ARK9+((ARL9-$M$34*ARK9)^2+4*$M$34*ARK8^2)^0.5)/(2*ARK8)","v":0.73254530514016536},null,null,{"$f":"(ARO9-$M$34*ARN9+((ARO9-$M$34*ARN9)^2+4*$M$34*ARN8^2)^0.5)/(2*ARN8)","v":1.3301865872549243},null,null,{"$f":"(ARR9-$M$34*ARQ9+((ARR9-$M$34*ARQ9)^2+4*$M$34*ARQ8^2)^0.5)/(2*ARQ8)","v":1.1746484833386204},null,null,{"$f":"(ARU9-$M$34*ART9+((ARU9-$M$34*ART9)^2+4*$M$34*ART8^2)^0.5)/(2*ART8)","v":0.74021107542390496},null,null,{"$f":"(ARX9-$M$34*ARW9+((ARX9-$M$34*ARW9)^2+4*$M$34*ARW8^2)^0.5)/(2*ARW8)","v":0.81706659381217095},null,null,{"$f":"(ASA9-$M$34*ARZ9+((ASA9-$M$34*ARZ9)^2+4*$M$34*ARZ8^2)^0.5)/(2*ARZ8)","v":0.8016462017321403},null,null,{"$f":"(ASD9-$M$34*ASC9+((ASD9-$M$34*ASC9)^2+4*$M$34*ASC8^2)^0.5)/(2*ASC8)","v":0.84634363525940459},null,null,{"$f":"(ASG9-$M$34*ASF9+((ASG9-$M$34*ASF9)^2+4*$M$34*ASF8^2)^0.5)/(2*ASF8)","v":0.80501916374432225},null,null,{"$f":"(ASJ9-$M$34*ASI9+((ASJ9-$M$34*ASI9)^2+4*$M$34*ASI8^2)^0.5)/(2*ASI8)","v":1.1885369830901136},null,null,{"$f":"(ASM9-$M$34*ASL9+((ASM9-$M$34*ASL9)^2+4*$M$34*ASL8^2)^0.5)/(2*ASL8)","v":0.79772582247157964},null,null,{"$f":"(ASP9-$M$34*ASO9+((ASP9-$M$34*ASO9)^2+4*$M$34*ASO8^2)^0.5)/(2*ASO8)","v":1.0380672308689209},null,null,{"$f":"(ASS9-$M$34*ASR9+((ASS9-$M$34*ASR9)^2+4*$M$34*ASR8^2)^0.5)/(2*ASR8)","v":0.77475913958269504},null,null,{"$f":"(ASV9-$M$34*ASU9+((ASV9-$M$34*ASU9)^2+4*$M$34*ASU8^2)^0.5)/(2*ASU8)","v":0.82581740865997089},null,null,{"$f":"(ASY9-$M$34*ASX9+((ASY9-$M$34*ASX9)^2+4*$M$34*ASX8^2)^0.5)/(2*ASX8)","v":1.2108566308959396},null,null,{"$f":"(ATB9-$M$34*ATA9+((ATB9-$M$34*ATA9)^2+4*$M$34*ATA8^2)^0.5)/(2*ATA8)","v":0.82114001997833952},null,null,{"$f":"(ATE9-$M$34*ATD9+((ATE9-$M$34*ATD9)^2+4*$M$34*ATD8^2)^0.5)/(2*ATD8)","v":0.80107491449010382},null,null,{"$f":"(ATH9-$M$34*ATG9+((ATH9-$M$34*ATG9)^2+4*$M$34*ATG8^2)^0.5)/(2*ATG8)","v":0.7795888972866104},null,null,{"$f":"(ATK9-$M$34*ATJ9+((ATK9-$M$34*ATJ9)^2+4*$M$34*ATJ8^2)^0.5)/(2*ATJ8)","v":1.1974534647963255},null,null,{"$f":"(ATN9-$M$34*ATM9+((ATN9-$M$34*ATM9)^2+4*$M$34*ATM8^2)^0.5)/(2*ATM8)","v":0.80007310307817114},null,null,{"$f":"(ATQ9-$M$34*ATP9+((ATQ9-$M$34*ATP9)^2+4*$M$34*ATP8^2)^0.5)/(2*ATP8)","v":0.93306280499719052},null,null,{"$f":"(ATT9-$M$34*ATS9+((ATT9-$M$34*ATS9)^2+4*$M$34*ATS8^2)^0.5)/(2*ATS8)","v":0.80623585698147726},null,null,{"$f":"(ATW9-$M$34*ATV9+((ATW9-$M$34*ATV9)^2+4*$M$34*ATV8^2)^0.5)/(2*ATV8)","v":0.81174390152048526},null,null,{"$f":"(ATZ9-$M$34*ATY9+((ATZ9-$M$34*ATY9)^2+4*$M$34*ATY8^2)^0.5)/(2*ATY8)","v":0.83414214588491431},null,null,{"$f":"(AUC9-$M$34*AUB9+((AUC9-$M$34*AUB9)^2+4*$M$34*AUB8^2)^0.5)/(2*AUB8)","v":0.73885077940609145},null,null,{"$f":"(AUF9-$M$34*AUE9+((AUF9-$M$34*AUE9)^2+4*$M$34*AUE8^2)^0.5)/(2*AUE8)","v":1.3223662220429055},null,null,{"$f":"(AUI9-$M$34*AUH9+((AUI9-$M$34*AUH9)^2+4*$M$34*AUH8^2)^0.5)/(2*AUH8)","v":0.76847926779531339},null,null,{"$f":"(AUL9-$M$34*AUK9+((AUL9-$M$34*AUK9)^2+4*$M$34*AUK8^2)^0.5)/(2*AUK8)","v":0.75803174919246918},null,null,{"$f":"(AUO9-$M$34*AUN9+((AUO9-$M$34*AUN9)^2+4*$M$34*AUN8^2)^0.5)/(2*AUN8)","v":0.7442149980111713},null,null,{"$f":"(AUR9-$M$34*AUQ9+((AUR9-$M$34*AUQ9)^2+4*$M$34*AUQ8^2)^0.5)/(2*AUQ8)","v":1.2606120314917069},null,null,{"$f":"(AUU9-$M$34*AUT9+((AUU9-$M$34*AUT9)^2+4*$M$34*AUT8^2)^0.5)/(2*AUT8)","v":0.75483367784109301},null,null,{"$f":"(AUX9-$M$34*AUW9+((AUX9-$M$34*AUW9)^2+4*$M$34*AUW8^2)^0.5)/(2*AUW8)","v":1.5046165134137524},null,null,{"$f":"(AVA9-$M$34*AUZ9+((AVA9-$M$34*AUZ9)^2+4*$M$34*AUZ8^2)^0.5)/(2*AUZ8)","v":0.95439742572996256},null,null,{"$f":"(AVD9-$M$34*AVC9+((AVD9-$M$34*AVC9)^2+4*$M$34*AVC8^2)^0.5)/(2*AVC8)","v":0.74806111167316591},null,null,{"$f":"(AVG9-$M$34*AVF9+((AVG9-$M$34*AVF9)^2+4*$M$34*AVF8^2)^0.5)/(2*AVF8)","v":0.78199791220881909},null,null,{"$f":"(AVJ9-$M$34*AVI9+((AVJ9-$M$34*AVI9)^2+4*$M$34*AVI8^2)^0.5)/(2*AVI8)","v":0.81605013428077688},null,null,{"$f":"(AVM9-$M$34*AVL9+((AVM9-$M$34*AVL9)^2+4*$M$34*AVL8^2)^0.5)/(2*AVL8)","v":0.77060725653350182},null,null,{"$f":"(AVP9-$M$34*AVO9+((AVP9-$M$34*AVO9)^2+4*$M$34*AVO8^2)^0.5)/(2*AVO8)","v":0.87080637655569648},null,null,{"$f":"(AVS9-$M$34*AVR9+((AVS9-$M$34*AVR9)^2+4*$M$34*AVR8^2)^0.5)/(2*AVR8)","v":0.82489828410835864},null,null,{"$f":"(AVV9-$M$34*AVU9+((AVV9-$M$34*AVU9)^2+4*$M$34*AVU8^2)^0.5)/(2*AVU8)","v":0.81713627896730945},null,null,{"$f":"(AVY9-$M$34*AVX9+((AVY9-$M$34*AVX9)^2+4*$M$34*AVX8^2)^0.5)/(2*AVX8)","v":0.83164616221374643},null,null,{"$f":"(AWB9-$M$34*AWA9+((AWB9-$M$34*AWA9)^2+4*$M$34*AWA8^2)^0.5)/(2*AWA8)","v":0.84512192230908834},null,null,{"$f":"(AWE9-$M$34*AWD9+((AWE9-$M$34*AWD9)^2+4*$M$34*AWD8^2)^0.5)/(2*AWD8)","v":0.75401182532029298},null,null,{"$f":"(AWH9-$M$34*AWG9+((AWH9-$M$34*AWG9)^2+4*$M$34*AWG8^2)^0.5)/(2*AWG8)","v":0.7409152800485419},null,null,{"$f":"(AWK9-$M$34*AWJ9+((AWK9-$M$34*AWJ9)^2+4*$M$34*AWJ8^2)^0.5)/(2*AWJ8)","v":0.8233593308531606},null,null,{"$f":"(AWN9-$M$34*AWM9+((AWN9-$M$34*AWM9)^2+4*$M$34*AWM8^2)^0.5)/(2*AWM8)","v":0.84644531703654757},null,null,{"$f":"(AWQ9-$M$34*AWP9+((AWQ9-$M$34*AWP9)^2+4*$M$34*AWP8^2)^0.5)/(2*AWP8)","v":1.1048763080742783},null,null,{"$f":"(AWT9-$M$34*AWS9+((AWT9-$M$34*AWS9)^2+4*$M$34*AWS8^2)^0.5)/(2*AWS8)","v":0.77671030707043187},null,null,{"$f":"(AWW9-$M$34*AWV9+((AWW9-$M$34*AWV9)^2+4*$M$34*AWV8^2)^0.5)/(2*AWV8)","v":0.74094878384701468},null,null,{"$f":"(AWZ9-$M$34*AWY9+((AWZ9-$M$34*AWY9)^2+4*$M$34*AWY8^2)^0.5)/(2*AWY8)","v":1.0208083447578089},null,null,{"$f":"(AXC9-$M$34*AXB9+((AXC9-$M$34*AXB9)^2+4*$M$34*AXB8^2)^0.5)/(2*AXB8)","v":1.1075275959385931},null,null,{"$f":"(AXF9-$M$34*AXE9+((AXF9-$M$34*AXE9)^2+4*$M$34*AXE8^2)^0.5)/(2*AXE8)","v":0.80728513031515281},null,null,{"$f":"(AXI9-$M$34*AXH9+((AXI9-$M$34*AXH9)^2+4*$M$34*AXH8^2)^0.5)/(2*AXH8)","v":0.80182842679307764},null,null,{"$f":"(AXL9-$M$34*AXK9+((AXL9-$M$34*AXK9)^2+4*$M$34*AXK8^2)^0.5)/(2*AXK8)","v":0.82296215030387343},null,null,{"$f":"(AXO9-$M$34*AXN9+((AXO9-$M$34*AXN9)^2+4*$M$34*AXN8^2)^0.5)/(2*AXN8)","v":1.2517825060236942},null,null,{"$f":"(AXR9-$M$34*AXQ9+((AXR9-$M$34*AXQ9)^2+4*$M$34*AXQ8^2)^0.5)/(2*AXQ8)","v":0.73092734160176731},null,null,{"$f":"(AXU9-$M$34*AXT9+((AXU9-$M$34*AXT9)^2+4*$M$34*AXT8^2)^0.5)/(2*AXT8)","v":0.76642285123823761},null,null,{"$f":"(AXX9-$M$34*AXW9+((AXX9-$M$34*AXW9)^2+4*$M$34*AXW8^2)^0.5)/(2*AXW8)","v":1.0296684337958695},null,null,{"$f":"(AYA9-$M$34*AXZ9+((AYA9-$M$34*AXZ9)^2+4*$M$34*AXZ8^2)^0.5)/(2*AXZ8)","v":0.83329624724740281},null,null,{"$f":"(AYD9-$M$34*AYC9+((AYD9-$M$34*AYC9)^2+4*$M$34*AYC8^2)^0.5)/(2*AYC8)","v":0.84544907505699463},null,null,{"$f":"(AYG9-$M$34*AYF9+((AYG9-$M$34*AYF9)^2+4*$M$34*AYF8^2)^0.5)/(2*AYF8)","v":1.2738235065012875},null,null,{"$f":"(AYJ9-$M$34*AYI9+((AYJ9-$M$34*AYI9)^2+4*$M$34*AYI8^2)^0.5)/(2*AYI8)","v":0.98558148243723009},null,null,{"$f":"(AYM9-$M$34*AYL9+((AYM9-$M$34*AYL9)^2+4*$M$34*AYL8^2)^0.5)/(2*AYL8)","v":0.75116462273950069},null,null,{"$f":"(AYP9-$M$34*AYO9+((AYP9-$M$34*AYO9)^2+4*$M$34*AYO8^2)^0.5)/(2*AYO8)","v":1.188804557142626},null,null,{"$f":"(AYS9-$M$34*AYR9+((AYS9-$M$34*AYR9)^2+4*$M$34*AYR8^2)^0.5)/(2*AYR8)","v":0.75794279333699277},null,null,{"$f":"(AYV9-$M$34*AYU9+((AYV9-$M$34*AYU9)^2+4*$M$34*AYU8^2)^0.5)/(2*AYU8)","v":0.77102549047176905},null,null,{"$f":"(AYY9-$M$34*AYX9+((AYY9-$M$34*AYX9)^2+4*$M$34*AYX8^2)^0.5)/(2*AYX8)","v":0.81376084446329111},null,null,{"$f":"(AZB9-$M$34*AZA9+((AZB9-$M$34*AZA9)^2+4*$M$34*AZA8^2)^0.5)/(2*AZA8)","v":0.78714419251467194},null,null,{"$f":"(AZE9-$M$34*AZD9+((AZE9-$M$34*AZD9)^2+4*$M$34*AZD8^2)^0.5)/(2*AZD8)","v":0.75402308027372467},null,null,{"$f":"(AZH9-$M$34*AZG9+((AZH9-$M$34*AZG9)^2+4*$M$34*AZG8^2)^0.5)/(2*AZG8)","v":1.0102144407994373},null,null,{"$f":"(AZK9-$M$34*AZJ9+((AZK9-$M$34*AZJ9)^2+4*$M$34*AZJ8^2)^0.5)/(2*AZJ8)","v":0.81826296514909991},null,null,{"$f":"(AZN9-$M$34*AZM9+((AZN9-$M$34*AZM9)^2+4*$M$34*AZM8^2)^0.5)/(2*AZM8)","v":1.1531827428559864},null,null,{"$f":"(AZQ9-$M$34*AZP9+((AZQ9-$M$34*AZP9)^2+4*$M$34*AZP8^2)^0.5)/(2*AZP8)","v":0.80872136363750613},null,null,{"$f":"(AZT9-$M$34*AZS9+((AZT9-$M$34*AZS9)^2+4*$M$34*AZS8^2)^0.5)/(2*AZS8)","v":0.81263204047493165},null,null,{"$f":"(AZW9-$M$34*AZV9+((AZW9-$M$34*AZV9)^2+4*$M$34*AZV8^2)^0.5)/(2*AZV8)","v":0.80658026356938539},null,null,{"$f":"(AZZ9-$M$34*AZY9+((AZZ9-$M$34*AZY9)^2+4*$M$34*AZY8^2)^0.5)/(2*AZY8)","v":1.1214746861057578},null,null,{"$f":"(BAC9-$M$34*BAB9+((BAC9-$M$34*BAB9)^2+4*$M$34*BAB8^2)^0.5)/(2*BAB8)","v":0.83138402533848688},null,null,{"$f":"(BAF9-$M$34*BAE9+((BAF9-$M$34*BAE9)^2+4*$M$34*BAE8^2)^0.5)/(2*BAE8)","v":0.75999535715570332},null,null,{"$f":"(BAI9-$M$34*BAH9+((BAI9-$M$34*BAH9)^2+4*$M$34*BAH8^2)^0.5)/(2*BAH8)","v":0.73421320769541076},null,null,{"$f":"(BAL9-$M$34*BAK9+((BAL9-$M$34*BAK9)^2+4*$M$34*BAK8^2)^0.5)/(2*BAK8)","v":0.77950478799740563},null,null,{"$f":"(BAO9-$M$34*BAN9+((BAO9-$M$34*BAN9)^2+4*$M$34*BAN8^2)^0.5)/(2*BAN8)","v":1.2178292748188413},null,null,{"$f":"(BAR9-$M$34*BAQ9+((BAR9-$M$34*BAQ9)^2+4*$M$34*BAQ8^2)^0.5)/(2*BAQ8)","v":0.93289657977245166},null,null,{"$f":"(BAU9-$M$34*BAT9+((BAU9-$M$34*BAT9)^2+4*$M$34*BAT8^2)^0.5)/(2*BAT8)","v":0.839367959369969},null,null,{"$f":"(BAX9-$M$34*BAW9+((BAX9-$M$34*BAW9)^2+4*$M$34*BAW8^2)^0.5)/(2*BAW8)","v":0.73071542465599459},null,null,{"$f":"(BBA9-$M$34*BAZ9+((BBA9-$M$34*BAZ9)^2+4*$M$34*BAZ8^2)^0.5)/(2*BAZ8)","v":1.4414856194267711},null,null,{"$f":"(BBD9-$M$34*BBC9+((BBD9-$M$34*BBC9)^2+4*$M$34*BBC8^2)^0.5)/(2*BBC8)","v":0.79179487986754382},null,null,{"$f":"(BBG9-$M$34*BBF9+((BBG9-$M$34*BBF9)^2+4*$M$34*BBF8^2)^0.5)/(2*BBF8)","v":0.76811946096989381},null,null,{"$f":"(BBJ9-$M$34*BBI9+((BBJ9-$M$34*BBI9)^2+4*$M$34*BBI8^2)^0.5)/(2*BBI8)","v":0.81950080449175144},null,null,{"$f":"(BBM9-$M$34*BBL9+((BBM9-$M$34*BBL9)^2+4*$M$34*BBL8^2)^0.5)/(2*BBL8)","v":0.73270784641735742},null,null,{"$f":"(BBP9-$M$34*BBO9+((BBP9-$M$34*BBO9)^2+4*$M$34*BBO8^2)^0.5)/(2*BBO8)","v":0.82254667688524663},null,null,{"$f":"(BBS9-$M$34*BBR9+((BBS9-$M$34*BBR9)^2+4*$M$34*BBR8^2)^0.5)/(2*BBR8)","v":1.3341168471750262},null,null,{"$f":"(BBV9-$M$34*BBU9+((BBV9-$M$34*BBU9)^2+4*$M$34*BBU8^2)^0.5)/(2*BBU8)","v":0.83767020869007514},null,null,{"$f":"(BBY9-$M$34*BBX9+((BBY9-$M$34*BBX9)^2+4*$M$34*BBX8^2)^0.5)/(2*BBX8)","v":0.82285158731842944},null,null,{"$f":"(BCB9-$M$34*BCA9+((BCB9-$M$34*BCA9)^2+4*$M$34*BCA8^2)^0.5)/(2*BCA8)","v":0.83246023377066036},null,null,{"$f":"(BCE9-$M$34*BCD9+((BCE9-$M$34*BCD9)^2+4*$M$34*BCD8^2)^0.5)/(2*BCD8)","v":0.77344077202447514},null,null,{"$f":"(BCH9-$M$34*BCG9+((BCH9-$M$34*BCG9)^2+4*$M$34*BCG8^2)^0.5)/(2*BCG8)","v":0.72987701321337861},null,null,{"$f":"(BCK9-$M$34*BCJ9+((BCK9-$M$34*BCJ9)^2+4*$M$34*BCJ8^2)^0.5)/(2*BCJ8)","v":0.77005856953961449},null,null,{"$f":"(BCN9-$M$34*BCM9+((BCN9-$M$34*BCM9)^2+4*$M$34*BCM8^2)^0.5)/(2*BCM8)","v":1.0854216622022856},null,null,{"$f":"(BCQ9-$M$34*BCP9+((BCQ9-$M$34*BCP9)^2+4*$M$34*BCP8^2)^0.5)/(2*BCP8)","v":0.82739947471654185},null,null,{"$f":"(BCT9-$M$34*BCS9+((BCT9-$M$34*BCS9)^2+4*$M$34*BCS8^2)^0.5)/(2*BCS8)","v":0.75896788032381368},null,null,{"$f":"(BCW9-$M$34*BCV9+((BCW9-$M$34*BCV9)^2+4*$M$34*BCV8^2)^0.5)/(2*BCV8)","v":0.83085880688339109},null,null,{"$f":"(BCZ9-$M$34*BCY9+((BCZ9-$M$34*BCY9)^2+4*$M$34*BCY8^2)^0.5)/(2*BCY8)","v":0.78905072398283749},null,null,{"$f":"(BDC9-$M$34*BDB9+((BDC9-$M$34*BDB9)^2+4*$M$34*BDB8^2)^0.5)/(2*BDB8)","v":1.2902381627754065},null,null,{"$f":"(BDF9-$M$34*BDE9+((BDF9-$M$34*BDE9)^2+4*$M$34*BDE8^2)^0.5)/(2*BDE8)","v":0.96325793145022964},null,null,{"$f":"(BDI9-$M$34*BDH9+((BDI9-$M$34*BDH9)^2+4*$M$34*BDH8^2)^0.5)/(2*BDH8)","v":1.0020843608319567},null,null,{"$f":"(BDL9-$M$34*BDK9+((BDL9-$M$34*BDK9)^2+4*$M$34*BDK8^2)^0.5)/(2*BDK8)","v":0.99644285097909702},null,null,{"$f":"(BDO9-$M$34*BDN9+((BDO9-$M$34*BDN9)^2+4*$M$34*BDN8^2)^0.5)/(2*BDN8)","v":1.117438361554026},null,null,{"$f":"(BDR9-$M$34*BDQ9+((BDR9-$M$34*BDQ9)^2+4*$M$34*BDQ8^2)^0.5)/(2*BDQ8)","v":0.72098939289482078},null,null,{"$f":"(BDU9-$M$34*BDT9+((BDU9-$M$34*BDT9)^2+4*$M$34*BDT8^2)^0.5)/(2*BDT8)","v":1.154634969348395},null,null,{"$f":"(BDX9-$M$34*BDW9+((BDX9-$M$34*BDW9)^2+4*$M$34*BDW8^2)^0.5)/(2*BDW8)","v":0.87545665445153109},null,null,{"$f":"(BEA9-$M$34*BDZ9+((BEA9-$M$34*BDZ9)^2+4*$M$34*BDZ8^2)^0.5)/(2*BDZ8)","v":1.063583624664419},null,null,{"$f":"(BED9-$M$34*BEC9+((BED9-$M$34*BEC9)^2+4*$M$34*BEC8^2)^0.5)/(2*BEC8)","v":0.75827198635159354},null,null,{"$f":"(BEG9-$M$34*BEF9+((BEG9-$M$34*BEF9)^2+4*$M$34*BEF8^2)^0.5)/(2*BEF8)","v":1.1552632616066951},null,null,{"$f":"(BEJ9-$M$34*BEI9+((BEJ9-$M$34*BEI9)^2+4*$M$34*BEI8^2)^0.5)/(2*BEI8)","v":0.77296611459060349},null,null,{"$f":"(BEM9-$M$34*BEL9+((BEM9-$M$34*BEL9)^2+4*$M$34*BEL8^2)^0.5)/(2*BEL8)","v":0.81685162758451868},null,null,{"$f":"(BEP9-$M$34*BEO9+((BEP9-$M$34*BEO9)^2+4*$M$34*BEO8^2)^0.5)/(2*BEO8)","v":0.84713302665323487},null,null,{"$f":"(BES9-$M$34*BER9+((BES9-$M$34*BER9)^2+4*$M$34*BER8^2)^0.5)/(2*BER8)","v":1.3256340855847615},null,null,{"$f":"(BEV9-$M$34*BEU9+((BEV9-$M$34*BEU9)^2+4*$M$34*BEU8^2)^0.5)/(2*BEU8)","v":1.3287467106650588},null,null,{"$f":"(BEY9-$M$34*BEX9+((BEY9-$M$34*BEX9)^2+4*$M$34*BEX8^2)^0.5)/(2*BEX8)","v":0.78182468107309688},null,null,{"$f":"(BFB9-$M$34*BFA9+((BFB9-$M$34*BFA9)^2+4*$M$34*BFA8^2)^0.5)/(2*BFA8)","v":0.81392154144702378},null,null,{"$f":"(BFE9-$M$34*BFD9+((BFE9-$M$34*BFD9)^2+4*$M$34*BFD8^2)^0.5)/(2*BFD8)","v":1.0471069206825796},null,null,{"$f":"(BFH9-$M$34*BFG9+((BFH9-$M$34*BFG9)^2+4*$M$34*BFG8^2)^0.5)/(2*BFG8)","v":1.282813295142105},null,null,{"$f":"(BFK9-$M$34*BFJ9+((BFK9-$M$34*BFJ9)^2+4*$M$34*BFJ8^2)^0.5)/(2*BFJ8)","v":0.76525135446807147},null,null,{"$f":"(BFN9-$M$34*BFM9+((BFN9-$M$34*BFM9)^2+4*$M$34*BFM8^2)^0.5)/(2*BFM8)","v":0.82501664269408426},null,null,{"$f":"(BFQ9-$M$34*BFP9+((BFQ9-$M$34*BFP9)^2+4*$M$34*BFP8^2)^0.5)/(2*BFP8)","v":1.1642614205293114},null,null,{"$f":"(BFT9-$M$34*BFS9+((BFT9-$M$34*BFS9)^2+4*$M$34*BFS8^2)^0.5)/(2*BFS8)","v":1.1327833072299116},null,null,{"$f":"(BFW9-$M$34*BFV9+((BFW9-$M$34*BFV9)^2+4*$M$34*BFV8^2)^0.5)/(2*BFV8)","v":0.73784422691696883},null,null,{"$f":"(BFZ9-$M$34*BFY9+((BFZ9-$M$34*BFY9)^2+4*$M$34*BFY8^2)^0.5)/(2*BFY8)","v":0.82892806839051869},null,null,{"$f":"(BGC9-$M$34*BGB9+((BGC9-$M$34*BGB9)^2+4*$M$34*BGB8^2)^0.5)/(2*BGB8)","v":1.1212666268751699},null,null,{"$f":"(BGF9-$M$34*BGE9+((BGF9-$M$34*BGE9)^2+4*$M$34*BGE8^2)^0.5)/(2*BGE8)","v":0.78019111665461394},null,null,{"$f":"(BGI9-$M$34*BGH9+((BGI9-$M$34*BGH9)^2+4*$M$34*BGH8^2)^0.5)/(2*BGH8)","v":0.73050288537363639},null,null,{"$f":"(BGL9-$M$34*BGK9+((BGL9-$M$34*BGK9)^2+4*$M$34*BGK8^2)^0.5)/(2*BGK8)","v":1.1497875322711482},null,null,{"$f":"(BGO9-$M$34*BGN9+((BGO9-$M$34*BGN9)^2+4*$M$34*BGN8^2)^0.5)/(2*BGN8)","v":1.1775538612546039},null,null,{"$f":"(BGR9-$M$34*BGQ9+((BGR9-$M$34*BGQ9)^2+4*$M$34*BGQ8^2)^0.5)/(2*BGQ8)","v":0.77582205380250424},null,null,{"$f":"(BGU9-$M$34*BGT9+((BGU9-$M$34*BGT9)^2+4*$M$34*BGT8^2)^0.5)/(2*BGT8)","v":0.76679200826450122}]
[null,null,null,"データ入力の最大は500まで",null,null,null,null,null,null,null,null,"群1(1回目）",null,"群２(2回目）",null,null,null,null,null,null,null,null,null,null,null,null,null,null,"等確率楕円用データ",null,null,null,null,"等確率楕円用データ",null,null,null,null,null,"Sｘｘ：=",{"$f":"DEVSQ(AN5:AN1304)","v":10998.039215686273},{"$f":"DEVSQ(AP5:AP504)","v":{"$error":"#NUM!"}},null,null,null,null,null,null,null,-3.7450845659939613E-2,1.4605558084033441,"Deming a=",{"$f":"BC7-BB1*BB7","v":1.3672210807825347},null,null,{"$f":"BF7-BE1*BE7","v":0.32013511701510611},null,null,{"$f":"BI7-BH1*BH7","v":0.77217983654596845},null,null,{"$f":"BL7-BK1*BK7","v":0.43189910912848939},null,null,{"$f":"BO7-BN1*BN7","v":1.0553143233178983},null,null,{"$f":"BR7-BQ1*BQ7","v":0.11002876365147163},null,null,{"$f":"BU7-BT1*BT7","v":0.31976738865828525},null,null,{"$f":"BX7-BW1*BW7","v":0.15991984459649222},null,null,{"$f":"CA7-BZ1*BZ7","v":0.96900642946088533},null,null,{"$f":"CD7-CC1*CC7","v":0.44868180338380137},null,null,{"$f":"CG7-CF1*CF7","v":1.3123613789833724},null,null,{"$f":"CJ7-CI1*CI7","v":0.2533626565432443},null,null,{"$f":"CM7-CL1*CL7","v":1.038258557320471},null,null,{"$f":"CP7-CO1*CO7","v":1.0126506463366156},null,null,{"$f":"CS7-CR1*CR7","v":1.1558622857746745},null,null,{"$f":"CV7-CU1*CU7","v":1.1532060877572801},null,null,{"$f":"CY7-CX1*CX7","v":1.0318537000813808},null,null,{"$f":"DB7-DA1*DA7","v":1.0813914109440477},null,null,{"$f":"DE7-DD1*DD7","v":0.1756227660407248},null,null,{"$f":"DH7-DG1*DG7","v":1.1163919110350378},null,null,{"$f":"DK7-DJ1*DJ7","v":1.0676640959935082},null,null,{"$f":"DN7-DM1*DM7","v":0.26260621125886052},null,null,{"$f":"DQ7-DP1*DP7","v":0.23989093356845315},null,null,{"$f":"DT7-DS1*DS7","v":0.39924570043979379},null,null,{"$f":"DW7-DV1*DV7","v":0.96849281799397824},null,null,{"$f":"DZ7-DY1*DY7","v":1.3487255883880054},null,null,{"$f":"EC7-EB1*EB7","v":0.23464241090355076},null,null,{"$f":"EF7-EE1*EE7","v":1.140230842737338},null,null,{"$f":"EI7-EH1*EH7","v":1.3662167623372619},null,null,{"$f":"EL7-EK1*EK7","v":0.92662235568989759},null,null,{"$f":"EO7-EN1*EN7","v":0.58879228862026878},null,null,{"$f":"ER7-EQ1*EQ7","v":0.14835041964612561},null,null,{"$f":"EU7-ET1*ET7","v":0.95056561272927054},null,null,{"$f":"EX7-EW1*EW7","v":1.2027566773625962},null,null,{"$f":"FA7-EZ1*EZ7","v":0.86395852785336791},null,null,{"$f":"FD7-FC1*FC7","v":0.49672934140502711},null,null,{"$f":"FG7-FF1*FF7","v":1.2708730890451938},null,null,{"$f":"FJ7-FI1*FI7","v":1.0314552263708774},null,null,{"$f":"FM7-FL1*FL7","v":1.0503430749205691},null,null,{"$f":"FP7-FO1*FO7","v":-0.24491518332924667},null,null,{"$f":"FS7-FR1*FR7","v":1.055353901709607},null,null,{"$f":"FV7-FU1*FU7","v":1.1383606369404329},null,null,{"$f":"FY7-FX1*FX7","v":1.3432892241307255},null,null,{"$f":"GB7-GA1*GA7","v":0.54526877417896236},null,null,{"$f":"GE7-GD1*GD7","v":1.0287579522663353},null,null,{"$f":"GH7-GG1*GG7","v":-0.12051771845616743},null,null,{"$f":"GK7-GJ1*GJ7","v":1.0875625222097347},null,null,{"$f":"GN7-GM1*GM7","v":1.0513252638228394},null,null,{"$f":"GQ7-GP1*GP7","v":1.2924334916978144},null,null,{"$f":"GT7-GS1*GS7","v":0.2301571827900859},null,null,{"$f":"GW7-GV1*GV7","v":0.69928958551633968},null,null,{"$f":"GZ7-GY1*GY7","v":1.5026125090541984},null,null,{"$f":"HC7-HB1*HB7","v":0.98574367058545986},null,null,{"$f":"HF7-HE1*HE7","v":1.1439158322607477},null,null,{"$f":"HI7-HH1*HH7","v":0.39193500661027914},null,null,{"$f":"HL7-HK1*HK7","v":1.0471385983134978},null,null,{"$f":"HO7-HN1*HN7","v":-6.5544447322296584E-3},null,null,{"$f":"HR7-HQ1*HQ7","v":1.4365974244446895},null,null,{"$f":"HU7-HT1*HT7","v":1.1020894352626929},null,null,{"$f":"HX7-HW1*HW7","v":0.14906862269598609},null,null,{"$f":"IA7-HZ1*HZ7","v":1.2169771071068944},null,null,{"$f":"ID7-IC1*IC7","v":1.0707498586656712},null,null,{"$f":"IG7-IF1*IF7","v":1.1278213441345009},null,null,{"$f":"IJ7-II1*II7","v":1.039602753997126},null,null,{"$f":"IM7-IL1*IL7","v":1.2140863786213973},null,null,{"$f":"IP7-IO1*IO7","v":1.0505846779608641},null,null,{"$f":"IS7-IR1*IR7","v":0.89451061765010031},null,null,{"$f":"IV7-IU1*IU7","v":0.28613321596230579},null,null,{"$f":"IY7-IX1*IX7","v":1.1688408741129805},null,null,{"$f":"JB7-JA1*JA7","v":1.3378614885752551},null,null,{"$f":"JE7-JD1*JD7","v":1.1457686001222167},null,null,{"$f":"JH7-JG1*JG7","v":1.0912047824263964},null,null,{"$f":"JK7-JJ1*JJ7","v":0.9842393074638589},null,null,{"$f":"JN7-JM1*JM7","v":1.0604465683671527},null,null,{"$f":"JQ7-JP1*JP7","v":1.3018717610118813},null,null,{"$f":"JT7-JS1*JS7","v":1.0696428306254617},null,null,{"$f":"JW7-JV1*JV7","v":1.070028670647305},null,null,{"$f":"JZ7-JY1*JY7","v":1.0501606950313334},null,null,{"$f":"KC7-KB1*KB7","v":1.1264039105634014},null,null,{"$f":"KF7-KE1*KE7","v":1.1919918353609118},null,null,{"$f":"KI7-KH1*KH7","v":0.17156364629508802},null,null,{"$f":"KL7-KK1*KK7","v":0.94238648608655784},null,null,{"$f":"KO7-KN1*KN7","v":1.1170010190303028},null,null,{"$f":"KR7-KQ1*KQ7","v":1.1600017390867832},null,null,{"$f":"KU7-KT1*KT7","v":0.38646574859621241},null,null,{"$f":"KX7-KW1*KW7","v":0.30404727357976391},null,null,{"$f":"LA7-KZ1*KZ7","v":1.4316975059760058},null,null,{"$f":"LD7-LC1*LC7","v":0.40382034912186127},null,null,{"$f":"LG7-LF1*LF7","v":0.52666034486105318},null,null,{"$f":"LJ7-LI1*LI7","v":1.2496999807140634},null,null,{"$f":"LM7-LL1*LL7","v":0.59098429446701761},null,null,{"$f":"LP7-LO1*LO7","v":1.1164276536507165},null,null,{"$f":"LS7-LR1*LR7","v":0.34843670056573472},null,null,{"$f":"LV7-LU1*LU7","v":1.0107846609808511},null,null,{"$f":"LY7-LX1*LX7","v":6.4675498357694483E-2},null,null,{"$f":"MB7-MA1*MA7","v":0.43699183870217251},null,null,{"$f":"ME7-MD1*MD7","v":1.0925955218388959},null,null,{"$f":"MH7-MG1*MG7","v":0.2381088728569094},null,null,{"$f":"MK7-MJ1*MJ7","v":0.4535550945198028},null,null,{"$f":"MN7-MM1*MM7","v":1.574326467271467},null,null,{"$f":"MQ7-MP1*MP7","v":1.083267939292893},null,null,{"$f":"MT7-MS1*MS7","v":1.3842123889671902},null,null,{"$f":"MW7-MV1*MV7","v":1.1795545474710294},null,null,{"$f":"MZ7-MY1*MY7","v":0.38623579751832349},null,null,{"$f":"NC7-NB1*NB7","v":0.26736344220249819},null,null,{"$f":"NF7-NE1*NE7","v":1.011075195826916},null,null,{"$f":"NI7-NH1*NH7","v":1.0421226574507467},null,null,{"$f":"NL7-NK1*NK7","v":0.44438050174102317},null,null,{"$f":"NO7-NN1*NN7","v":1.2328196423843241},null,null,{"$f":"NR7-NQ1*NQ7","v":0.91854375955109635},null,null,{"$f":"NU7-NT1*NT7","v":0.98940897332639843},null,null,{"$f":"NX7-NW1*NW7","v":0.36772356038761922},null,null,{"$f":"OA7-NZ1*NZ7","v":1.2243783611687009},null,null,{"$f":"OD7-OC1*OC7","v":0.13347306452063989},null,null,{"$f":"OG7-OF1*OF7","v":1.109074671421876},null,null,{"$f":"OJ7-OI1*OI7","v":0.27108403644845236},null,null,{"$f":"OM7-OL1*OL7","v":1.068308893503318},null,null,{"$f":"OP7-OO1*OO7","v":1.282468355310344},null,null,{"$f":"OS7-OR1*OR7","v":1.3841251793082905},null,null,{"$f":"OV7-OU1*OU7","v":0.34636807984849893},null,null,{"$f":"OY7-OX1*OX7","v":0.33952868938820524},null,null,{"$f":"PB7-PA1*PA7","v":1.198005085867444},null,null,{"$f":"PE7-PD1*PD7","v":0.38877352986477698},null,null,{"$f":"PH7-PG1*PG7","v":1.040695397983824},null,null,{"$f":"PK7-PJ1*PJ7","v":0.31195993837704128},null,null,{"$f":"PN7-PM1*PM7","v":0.4512164784525039},null,null,{"$f":"PQ7-PP1*PP7","v":1.112302875387615},null,null,{"$f":"PT7-PS1*PS7","v":1.1578543282775979},null,null,{"$f":"PW7-PV1*PV7","v":0.61082692973502395},null,null,{"$f":"PZ7-PY1*PY7","v":0.94210104993807819},null,null,{"$f":"QC7-QB1*QB7","v":1.0699097740967565},null,null,{"$f":"QF7-QE1*QE7","v":1.162498713789033},null,null,{"$f":"QI7-QH1*QH7","v":1.4761172900511861},null,null,{"$f":"QL7-QK1*QK7","v":1.1613197649420415},null,null,{"$f":"QO7-QN1*QN7","v":0.92795133836179344},null,null,{"$f":"QR7-QQ1*QQ7","v":0.52192821388355037},null,null,{"$f":"QU7-QT1*QT7","v":1.1644006851110031},null,null,{"$f":"QX7-QW1*QW7","v":1.2130611461522482},null,null,{"$f":"RA7-QZ1*QZ7","v":0.93359050292223822},null,null,{"$f":"RD7-RC1*RC7","v":0.38326997463488333},null,null,{"$f":"RG7-RF1*RF7","v":1.075378025334174},null,null,{"$f":"RJ7-RI1*RI7","v":0.34181726261577072},null,null,{"$f":"RM7-RL1*RL7","v":1.1850398187279017},null,null,{"$f":"RP7-RO1*RO7","v":0.26199643366667802},null,null,{"$f":"RS7-RR1*RR7","v":0.33108186396447392},null,null,{"$f":"RV7-RU1*RU7","v":0.49927669487795567},null,null,{"$f":"RY7-RX1*RX7","v":1.3507245222813506},null,null,{"$f":"SB7-SA1*SA7","v":1.1795334031294651},null,null,{"$f":"SE7-SD1*SD7","v":0.27384499730450163},null,null,{"$f":"SH7-SG1*SG7","v":0.48374169785359555},null,null,{"$f":"SK7-SJ1*SJ7","v":1.0507797969851047},null,null,{"$f":"SN7-SM1*SM7","v":1.0399417980801533},null,null,{"$f":"SQ7-SP1*SP7","v":0.96869221038297271},null,null,{"$f":"ST7-SS1*SS7","v":0.47439923577684118},null,null,{"$f":"SW7-SV1*SV7","v":1.0312187585130124},null,null,{"$f":"SZ7-SY1*SY7","v":1.1068936724408553},null,null,{"$f":"TC7-TB1*TB7","v":0.92145154742052293},null,null,{"$f":"TF7-TE1*TE7","v":1.3757241562350018},null,null,{"$f":"TI7-TH1*TH7","v":1.0130795723781807},null,null,{"$f":"TL7-TK1*TK7","v":0.94753813373658691},null,null,{"$f":"TO7-TN1*TN7","v":1.2085525014448453},null,null,{"$f":"TR7-TQ1*TQ7","v":1.1025890456211367},null,null,{"$f":"TU7-TT1*TT7","v":1.25791007970028},null,null,{"$f":"TX7-TW1*TW7","v":1.1026226050461858},null,null,{"$f":"UA7-TZ1*TZ7","v":1.2853310175435033},null,null,{"$f":"UD7-UC1*UC7","v":1.0041495989262206},null,null,{"$f":"UG7-UF1*UF7","v":1.1673577011784171},null,null,{"$f":"UJ7-UI1*UI7","v":1.2580157421138347},null,null,{"$f":"UM7-UL1*UL7","v":1.1411217785739622},null,null,{"$f":"UP7-UO1*UO7","v":1.2426542045436615},null,null,{"$f":"US7-UR1*UR7","v":0.20096288146733787},null,null,{"$f":"UV7-UU1*UU7","v":1.1054595707426471},null,null,{"$f":"UY7-UX1*UX7","v":0.3872213227192276},null,null,{"$f":"VB7-VA1*VA7","v":0.95846629133540429},null,null,{"$f":"VE7-VD1*VD7","v":0.18769302945201805},null,null,{"$f":"VH7-VG1*VG7","v":1.1183688728685341},null,null,{"$f":"VK7-VJ1*VJ7","v":0.58438065964652708},null,null,{"$f":"VN7-VM1*VM7","v":0.85129525989069466},null,null,{"$f":"VQ7-VP1*VP7","v":-6.8607289234746904E-2},null,null,{"$f":"VT7-VS1*VS7","v":1.181361540733421},null,null,{"$f":"VW7-VV1*VV7","v":0.83291468831281312},null,null,{"$f":"VZ7-VY1*VY7","v":1.5456359289632893},null,null,{"$f":"WC7-WB1*WB7","v":0.20073735036341622},null,null,{"$f":"WF7-WE1*WE7","v":1.4415192787330411},null,null,{"$f":"WI7-WH1*WH7","v":0.15096678276045017},null,null,{"$f":"WL7-WK1*WK7","v":1.2203918112184602},null,null,{"$f":"WO7-WN1*WN7","v":1.0477680644320335},null,null,{"$f":"WR7-WQ1*WQ7","v":1.18779470905781},null,null,{"$f":"WU7-WT1*WT7","v":1.2459693338704199},null,null,{"$f":"WX7-WW1*WW7","v":1.1592432713688985},null,null,{"$f":"XA7-WZ1*WZ7","v":0.20924392705540562},null,null,{"$f":"XD7-XC1*XC7","v":0.77058775635787624},null,null,{"$f":"XG7-XF1*XF7","v":1.1553164135419549},null,null,{"$f":"XJ7-XI1*XI7","v":9.2214861535057313E-2},null,null,{"$f":"XM7-XL1*XL7","v":1.8541843059413301},null,null,{"$f":"XP7-XO1*XO7","v":1.5250156694069474},null,null,{"$f":"XS7-XR1*XR7","v":1.455875254023876},null,null,{"$f":"XV7-XU1*XU7","v":1.3372514078146014},null,null,{"$f":"XY7-XX1*XX7","v":0.36404380366698907},null,null,{"$f":"YB7-YA1*YA7","v":9.3754901853837946E-2},null,null,{"$f":"YE7-YD1*YD7","v":0.15470718766808922},null,null,{"$f":"YH7-YG1*YG7","v":1.0980686420918824},null,null,{"$f":"YK7-YJ1*YJ7","v":0.59307965571723242},null,null,{"$f":"YN7-YM1*YM7","v":1.2078717719339034},null,null,{"$f":"YQ7-YP1*YP7","v":0.19375053022932587},null,null,{"$f":"YT7-YS1*YS7","v":0.30494234890920602},null,null,{"$f":"YW7-YV1*YV7","v":0.2801135780379127},null,null,{"$f":"YZ7-YY1*YY7","v":0.53431070864682262},null,null,{"$f":"ZC7-ZB1*ZB7","v":1.1348059899859426},null,null,{"$f":"ZF7-ZE1*ZE7","v":1.2189045905241795},null,null,{"$f":"ZI7-ZH1*ZH7","v":8.9221969045025329E-2},null,null,{"$f":"ZL7-ZK1*ZK7","v":1.1182421055013274},null,null,{"$f":"ZO7-ZN1*ZN7","v":0.46495932895986058},null,null,{"$f":"ZR7-ZQ1*ZQ7","v":1.1120863045220259},null,null,{"$f":"ZU7-ZT1*ZT7","v":1.0966181283164342},null,null,{"$f":"ZX7-ZW1*ZW7","v":0.96657983363189315},null,null,{"$f":"AAA7-ZZ1*ZZ7","v":1.0359056698322155},null,null,{"$f":"AAD7-AAC1*AAC7","v":0.40996732003767633},null,null,{"$f":"AAG7-AAF1*AAF7","v":0.24444456228859002},null,null,{"$f":"AAJ7-AAI1*AAI7","v":1.1513197003021536},null,null,{"$f":"AAM7-AAL1*AAL7","v":0.96821001358632275},null,null,{"$f":"AAP7-AAO1*AAO7","v":0.41526779084742182},null,null,{"$f":"AAS7-AAR1*AAR7","v":1.0556891859681623},null,null,{"$f":"AAV7-AAU1*AAU7","v":0.50410504957535585},null,null,{"$f":"AAY7-AAX1*AAX7","v":1.0966293105594254},null,null,{"$f":"ABB7-ABA1*ABA7","v":1.1728847480997668},null,null,{"$f":"ABE7-ABD1*ABD7","v":1.2420758897931394},null,null,{"$f":"ABH7-ABG1*ABG7","v":1.3203221332672532},null,null,{"$f":"ABK7-ABJ1*ABJ7","v":0.15396363304444582},null,null,{"$f":"ABN7-ABM1*ABM7","v":1.2418850575589451},null,null,{"$f":"ABQ7-ABP1*ABP7","v":1.0103718512673492},null,null,{"$f":"ABT7-ABS1*ABS7","v":0.85325374574497914},null,null,{"$f":"ABW7-ABV1*ABV7","v":1.2214575884794474},null,null,{"$f":"ABZ7-ABY1*ABY7","v":0.76263806120414612},null,null,{"$f":"ACC7-ACB1*ACB7","v":1.1080299931219399},null,null,{"$f":"ACF7-ACE1*ACE7","v":1.3083341397181405},null,null,{"$f":"ACI7-ACH1*ACH7","v":1.1514617656425368},null,null,{"$f":"ACL7-ACK1*ACK7","v":1.2528361044226841},null,null,{"$f":"ACO7-ACN1*ACN7","v":0.70355073718874062},null,null,{"$f":"ACR7-ACQ1*ACQ7","v":1.1300211430442588},null,null,{"$f":"ACU7-ACT1*ACT7","v":1.106200536575098},null,null,{"$f":"ACX7-ACW1*ACW7","v":0.24976786823355068},null,null,{"$f":"ADA7-ACZ1*ACZ7","v":0.22017212035453593},null,null,{"$f":"ADD7-ADC1*ADC7","v":1.0679741865341188},null,null,{"$f":"ADG7-ADF1*ADF7","v":1.0384032658307283},null,null,{"$f":"ADJ7-ADI1*ADI7","v":0.58420383539701337},null,null,{"$f":"ADM7-ADL1*ADL7","v":0.97438841978225277},null,null,{"$f":"ADP7-ADO1*ADO7","v":0.98888389105997065},null,null,{"$f":"ADS7-ADR1*ADR7","v":1.1496802177314067},null,null,{"$f":"ADV7-ADU1*ADU7","v":0.17756839982531902},null,null,{"$f":"ADY7-ADX1*ADX7","v":1.3056717946182337},null,null,{"$f":"AEB7-AEA1*AEA7","v":1.0043450395091313},null,null,{"$f":"AEE7-AED1*AED7","v":0.25377149907891283},null,null,{"$f":"AEH7-AEG1*AEG7","v":1.4776703621790115},null,null,{"$f":"AEK7-AEJ1*AEJ7","v":0.37744675578482179},null,null,{"$f":"AEN7-AEM1*AEM7","v":0.234160218664071},null,null,{"$f":"AEQ7-AEP1*AEP7","v":1.0260940738332942},null,null,{"$f":"AET7-AES1*AES7","v":0.89445950412757935},null,null,{"$f":"AEW7-AEV1*AEV7","v":1.1773096412018589},null,null,{"$f":"AEZ7-AEY1*AEY7","v":0.73597107942433704},null,null,{"$f":"AFC7-AFB1*AFB7","v":1.1972619739748369},null,null,{"$f":"AFF7-AFE1*AFE7","v":1.0641634138307756},null,null,{"$f":"AFI7-AFH1*AFH7","v":0.39505673022300414},null,null,{"$f":"AFL7-AFK1*AFK7","v":7.6480523729428818E-2},null,null,{"$f":"AFO7-AFN1*AFN7","v":0.1606322976325143},null,null,{"$f":"AFR7-AFQ1*AFQ7","v":1.0101209931421056},null,null,{"$f":"AFU7-AFT1*AFT7","v":1.4362386864611363},null,null,{"$f":"AFX7-AFW1*AFW7","v":1.4768882151917384},null,null,{"$f":"AGA7-AFZ1*AFZ7","v":0.49391577438805712},null,null,{"$f":"AGD7-AGC1*AGC7","v":0.5764639610631157},null,null,{"$f":"AGG7-AGF1*AGF7","v":1.0217342396971807},null,null,{"$f":"AGJ7-AGI1*AGI7","v":1.0600965538980738},null,null,{"$f":"AGM7-AGL1*AGL7","v":-0.11079297182740433},null,null,{"$f":"AGP7-AGO1*AGO7","v":1.4243217460258251},null,null,{"$f":"AGS7-AGR1*AGR7","v":1.0695788141589295},null,null,{"$f":"AGV7-AGU1*AGU7","v":-3.7450845659939613E-2},null,null,{"$f":"AGY7-AGX1*AGX7","v":1.2245888827613385},null,null,{"$f":"AHB7-AHA1*AHA7","v":1.1012769287383808},null,null,{"$f":"AHE7-AHD1*AHD7","v":0.2417113129618631},null,null,{"$f":"AHH7-AHG1*AHG7","v":1.0544010842630049},null,null,{"$f":"AHK7-AHJ1*AHJ7","v":1.0777085396287975},null,null,{"$f":"AHN7-AHM1*AHM7","v":1.1911264504944499},null,null,{"$f":"AHQ7-AHP1*AHP7","v":0.40714629291487148},null,null,{"$f":"AHT7-AHS1*AHS7","v":1.0056990554123795},null,null,{"$f":"AHW7-AHV1*AHV7","v":1.2021868770516502},null,null,{"$f":"AHZ7-AHY1*AHY7","v":1.2542275287330393},null,null,{"$f":"AIC7-AIB1*AIB7","v":1.2279240719585669},null,null,{"$f":"AIF7-AIE1*AIE7","v":0.54416680396842176},null,null,{"$f":"AII7-AIH1*AIH7","v":1.3421245157302604},null,null,{"$f":"AIL7-AIK1*AIK7","v":-0.12317030215774105},null,null,{"$f":"AIO7-AIN1*AIN7","v":3.2302493590359305E-2},null,null,{"$f":"AIR7-AIQ1*AIQ7","v":0.46419460433267545},null,null,{"$f":"AIU7-AIT1*AIT7","v":1.0875022416160371},null,null,{"$f":"AIX7-AIW1*AIW7","v":0.10339185162031717},null,null,{"$f":"AJA7-AIZ1*AIZ7","v":0.99490317220990399},null,null,{"$f":"AJD7-AJC1*AJC7","v":0.38624190317982077},null,null,{"$f":"AJG7-AJF1*AJF7","v":1.0638259590238412},null,null,{"$f":"AJJ7-AJI1*AJI7","v":1.00742164903395},null,null,{"$f":"AJM7-AJL1*AJL7","v":1.2955841956219829},null,null,{"$f":"AJP7-AJO1*AJO7","v":0.57890418282121869},null,null,{"$f":"AJS7-AJR1*AJR7","v":3.8607284095852012E-2},null,null,{"$f":"AJV7-AJU1*AJU7","v":1.0012128796589437},null,null,{"$f":"AJY7-AJX1*AJX7","v":1.0846756544069049},null,null,{"$f":"AKB7-AKA1*AKA7","v":1.0665445919259096},null,null,{"$f":"AKE7-AKD1*AKD7","v":0.24090746580832523},null,null,{"$f":"AKH7-AKG1*AKG7","v":5.006945640000815E-2},null,null,{"$f":"AKK7-AKJ1*AKJ7","v":0.5438526193515778},null,null,{"$f":"AKN7-AKM1*AKM7","v":1.0347187491658745},null,null,{"$f":"AKQ7-AKP1*AKP7","v":1.2482957842801681},null,null,{"$f":"AKT7-AKS1*AKS7","v":1.2233906707490645},null,null,{"$f":"AKW7-AKV1*AKV7","v":-0.13863065294170962},null,null,{"$f":"AKZ7-AKY1*AKY7","v":6.6760211234421885E-2},null,null,{"$f":"ALC7-ALB1*ALB7","v":0.49027018291238056},null,null,{"$f":"ALF7-ALE1*ALE7","v":1.0320450821433753},null,null,{"$f":"ALI7-ALH1*ALH7","v":1.0362843690682926},null,null,{"$f":"ALL7-ALK1*ALK7","v":0.463728889072895},null,null,{"$f":"ALO7-ALN1*ALN7","v":1.0948756625110132},null,null,{"$f":"ALR7-ALQ1*ALQ7","v":0.71483530606730827},null,null,{"$f":"ALU7-ALT1*ALT7","v":1.0851663395332078},null,null,{"$f":"ALX7-ALW1*ALW7","v":0.75795962210911538},null,null,{"$f":"AMA7-ALZ1*ALZ7","v":1.078295946985893},null,null,{"$f":"AMD7-AMC1*AMC7","v":0.51263721658309791},null,null,{"$f":"AMG7-AMF1*AMF7","v":0.72124116146517103},null,null,{"$f":"AMJ7-AMI1*AMI7","v":0.3146921535215732},null,null,{"$f":"AMM7-AML1*AML7","v":0.66313337099250269},null,null,{"$f":"AMP7-AMO1*AMO7","v":0.37261902204263109},null,null,{"$f":"AMS7-AMR1*AMR7","v":7.3714031683046244E-2},null,null,{"$f":"AMV7-AMU1*AMU7","v":1.3369307405939419},null,null,{"$f":"AMY7-AMX1*AMX7","v":1.0353977752886978},null,null,{"$f":"ANB7-ANA1*ANA7","v":0.96970283297457671},null,null,{"$f":"ANE7-AND1*AND7","v":1.0819349975543542},null,null,{"$f":"ANH7-ANG1*ANG7","v":0.39587885004412726},null,null,{"$f":"ANK7-ANJ1*ANJ7","v":1.1648382643972539},null,null,{"$f":"ANN7-ANM1*ANM7","v":1.2192697972896624},null,null,{"$f":"ANQ7-ANP1*ANP7","v":1.0868210044734608},null,null,{"$f":"ANT7-ANS1*ANS7","v":1.0298798398033724},null,null,{"$f":"ANW7-ANV1*ANV7","v":1.2682851656089498},null,null,{"$f":"ANZ7-ANY1*ANY7","v":1.0271311251909925},null,null,{"$f":"AOC7-AOB1*AOB7","v":1.0859036489480354},null,null,{"$f":"AOF7-AOE1*AOE7","v":0.4661404747914939},null,null,{"$f":"AOI7-AOH1*AOH7","v":0.59101553933157991},null,null,{"$f":"AOL7-AOK1*AOK7","v":1.218202805179244},null,null,{"$f":"AOO7-AON1*AON7","v":0.85619486642925757},null,null,{"$f":"AOR7-AOQ1*AOQ7","v":1.3691742182643369},null,null,{"$f":"AOU7-AOT1*AOT7","v":1.2584236868471086},null,null,{"$f":"AOX7-AOW1*AOW7","v":0.6291054273668073},null,null,{"$f":"APA7-AOZ1*AOZ7","v":1.1986729781779499},null,null,{"$f":"APD7-APC1*APC7","v":1.4355670318376443},null,null,{"$f":"APG7-APF1*APF7","v":0.47650026005575441},null,null,{"$f":"APJ7-API1*API7","v":1.236209942040734},null,null,{"$f":"APM7-APL1*APL7","v":0.96500770717306006},null,null,{"$f":"APP7-APO1*APO7","v":0.40384757289721396},null,null,{"$f":"APS7-APR1*APR7","v":1.0579786216647382},null,null,{"$f":"APV7-APU1*APU7","v":1.0342153588169363},null,null,{"$f":"APY7-APX1*APX7","v":1.2644890782294405},null,null,{"$f":"AQB7-AQA1*AQA7","v":1.0598602026478376},null,null,{"$f":"AQE7-AQD1*AQD7","v":1.4605558084033441},null,null,{"$f":"AQH7-AQG1*AQG7","v":1.1657379594126205},null,null,{"$f":"AQK7-AQJ1*AQJ7","v":0.34106615328269774},null,null,{"$f":"AQN7-AQM1*AQM7","v":0.84176049849466228},null,null,{"$f":"AQQ7-AQP1*AQP7","v":-0.14296599365323326},null,null,{"$f":"AQT7-AQS1*AQS7","v":0.9887654075861021},null,null,{"$f":"AQW7-AQV1*AQV7","v":1.1581721944221082},null,null,{"$f":"AQZ7-AQY1*AQY7","v":1.338668774554999},null,null,{"$f":"ARC7-ARB1*ARB7","v":0.40939508592028018},null,null,{"$f":"ARF7-ARE1*ARE7","v":1.4511251388232802},null,null,{"$f":"ARI7-ARH1*ARH7","v":1.0238599590405997},null,null,{"$f":"ARL7-ARK1*ARK7","v":1.0310819623036358},null,null,{"$f":"ARO7-ARN1*ARN7","v":-9.6791064374526226E-2},null,null,{"$f":"ARR7-ARQ1*ARQ7","v":0.21428534617134209},null,null,{"$f":"ARU7-ART1*ART7","v":1.2739101665517563},null,null,{"$f":"ARX7-ARW1*ARW7","v":1.1178093856753879},null,null,{"$f":"ASA7-ARZ1*ARZ7","v":1.1391507584686003},null,null,{"$f":"ASD7-ASC1*ASC7","v":1.2093426282536237},null,null,{"$f":"ASG7-ASF1*ASF7","v":1.0639117316215323},null,null,{"$f":"ASJ7-ASI1*ASI7","v":0.22391025665280084},null,null,{"$f":"ASM7-ASL1*ASL7","v":1.0735609213582147},null,null,{"$f":"ASP7-ASO1*ASO7","v":0.49262103325084405},null,null,{"$f":"ASS7-ASR1*ASR7","v":0.98768200438421205},null,null,{"$f":"ASV7-ASU1*ASU7","v":1.1122343149365252},null,null,{"$f":"ASY7-ASX1*ASX7","v":0.36922706426496665},null,null,{"$f":"ATB7-ATA1*ATA7","v":1.1397197824099474},null,null,{"$f":"ATE7-ATD1*ATD7","v":1.0767951760665184},null,null,{"$f":"ATH7-ATG1*ATG7","v":1.1499969461056732},null,null,{"$f":"ATK7-ATJ1*ATJ7","v":0.25592075139943304},null,null,{"$f":"ATN7-ATM1*ATM7","v":0.95724077517264683},null,null,{"$f":"ATQ7-ATP1*ATP7","v":0.84536632616998109},null,null,{"$f":"ATT7-ATS1*ATS7","v":1.058847725149771},null,null,{"$f":"ATW7-ATV1*ATV7","v":1.0612770733880006},null,null,{"$f":"ATZ7-ATY1*ATY7","v":1.0455350283698763},null,null,{"$f":"AUC7-AUB1*AUB7","v":1.249683071221241},null,null,{"$f":"AUF7-AUE1*AUE7","v":2.5365176551696234E-2},null,null,{"$f":"AUI7-AUH1*AUH7","v":1.2376152700984262},null,null,{"$f":"AUL7-AUK1*AUK7","v":1.189322678450023},null,null,{"$f":"AUO7-AUN1*AUN7","v":1.2782146864658679},null,null,{"$f":"AUR7-AUQ1*AUQ7","v":7.2385100865683061E-2},null,null,{"$f":"AUU7-AUT1*AUT7","v":1.0822642129565123},null,null,{"$f":"AUX7-AUW1*AUW7","v":-0.18724112604705523},null,null,{"$f":"AVA7-AUZ1*AUZ7","v":0.75728994264796201},null,null,{"$f":"AVD7-AVC1*AVC7","v":1.2927175646663134},null,null,{"$f":"AVG7-AVF1*AVF7","v":1.1972239096340065},null,null,{"$f":"AVJ7-AVI1*AVI7","v":1.1812522857305328},null,null,{"$f":"AVM7-AVL1*AVL7","v":1.273133906937403},null,null,{"$f":"AVP7-AVO1*AVO7","v":1.1141349616543192},null,null,{"$f":"AVS7-AVR1*AVR7","v":0.97930288442744695},null,null,{"$f":"AVV7-AVU1*AVU7","v":0.96835855186999398},null,null,{"$f":"AVY7-AVX1*AVX7","v":0.94942712181782563},null,null,{"$f":"AWB7-AWA1*AWA7","v":1.0581081737729559},null,null,{"$f":"AWE7-AWD1*AWD7","v":1.1843574426251098},null,null,{"$f":"AWH7-AWG1*AWG7","v":1.2726407621202696},null,null,{"$f":"AWK7-AWJ1*AWJ7","v":1.0737236763369888},null,null,{"$f":"AWN7-AWM1*AWM7","v":0.99050826697043837},null,null,{"$f":"AWQ7-AWP1*AWP7","v":0.40348907251601451},null,null,{"$f":"AWT7-AWS1*AWS7","v":1.0511147933943992},null,null,{"$f":"AWW7-AWV1*AWV7","v":1.1602710875427644},null,null,{"$f":"AWZ7-AWY1*AWY7","v":0.59227756596716308},null,null,{"$f":"AXC7-AXB1*AXB7","v":0.45430171837147171},null,null,{"$f":"AXF7-AXE1*AXE7","v":1.1235113799198757},null,null,{"$f":"AXI7-AXH1*AXH7","v":1.1056558640683849},null,null,{"$f":"AXL7-AXK1*AXK7","v":0.95811628751865063},null,null,{"$f":"AXO7-AXN1*AXN7","v":8.4038536811653408E-2},null,null,{"$f":"AXR7-AXQ1*AXQ7","v":1.1191262720666062},null,null,{"$f":"AXU7-AXT1*AXT7","v":1.1540733984730278},null,null,{"$f":"AXX7-AXW1*AXW7","v":0.52731165816942216},null,null,{"$f":"AYA7-AXZ1*AXZ7","v":1.0722050157780481},null,null,{"$f":"AYD7-AYC1*AYC7","v":1.1589350250824593},null,null,{"$f":"AYG7-AYF1*AYF7","v":0.10155513150613649},null,null,{"$f":"AYJ7-AYI1*AYI7","v":0.72756373518995243},null,null,{"$f":"AYM7-AYL1*AYL7","v":1.2615077974904105},null,null,{"$f":"AYP7-AYO1*AYO7","v":0.20932134519385404},null,null,{"$f":"AYS7-AYR1*AYR7","v":1.2331696268673791},null,null,{"$f":"AYV7-AYU1*AYU7","v":1.1703884659529225},null,null,{"$f":"AYY7-AYX1*AYX7","v":1.1273957100210401},null,null,{"$f":"AZB7-AZA1*AZA7","v":1.4948878404697319},null,null,{"$f":"AZE7-AZD1*AZD7","v":1.3267614918898882},null,null,{"$f":"AZH7-AZG1*AZG7","v":0.47507734937833002},null,null,{"$f":"AZK7-AZJ1*AZJ7","v":1.141317539584545},null,null,{"$f":"AZN7-AZM1*AZM7","v":0.21175788347634805},null,null,{"$f":"AZQ7-AZP1*AZP7","v":1.3101391432232443},null,null,{"$f":"AZT7-AZS1*AZS7","v":1.0445771500111496},null,null,{"$f":"AZW7-AZV1*AZV7","v":1.3284589239537108},null,null,{"$f":"AZZ7-AZY1*AZY7","v":0.4227963317744492},null,null,{"$f":"BAC7-BAB1*BAB7","v":1.1752042694755676},null,null,{"$f":"BAF7-BAE1*BAE7","v":1.237938715288692},null,null,{"$f":"BAI7-BAH1*BAH7","v":1.3395441078697838},null,null,{"$f":"BAL7-BAK1*BAK7","v":1.3188216908381172},null,null,{"$f":"BAO7-BAN1*BAN7","v":0.1584807219811708},null,null,{"$f":"BAR7-BAQ1*BAQ7","v":1.0930646155953174},null,null,{"$f":"BAU7-BAT1*BAT7","v":0.94810645810125616},null,null,{"$f":"BAX7-BAW1*BAW7","v":1.3083373992370984},null,null,{"$f":"BBA7-BAZ1*BAZ7","v":0.10526969057164504},null,null,{"$f":"BBD7-BBC1*BBC7","v":1.3517331076040171},null,null,{"$f":"BBG7-BBF1*BBF7","v":1.1035988735635236},null,null,{"$f":"BBJ7-BBI1*BBI7","v":1.1966398901694402},null,null,{"$f":"BBM7-BBL1*BBL7","v":1.3022245873613048},null,null,{"$f":"BBP7-BBO1*BBO7","v":1.0904060939472173},null,null,{"$f":"BBS7-BBR1*BBR7","v":0.10229021624569912},null,null,{"$f":"BBV7-BBU1*BBU7","v":0.87164545035272845},null,null,{"$f":"BBY7-BBX1*BBX7","v":1.1203475469483899},null,null,{"$f":"BCB7-BCA1*BCA7","v":0.97479963691178817},null,null,{"$f":"BCE7-BCD1*BCD7","v":1.0823909163123728},null,null,{"$f":"BCH7-BCG1*BCG7","v":1.3259221300355675},null,null,{"$f":"BCK7-BCJ1*BCJ7","v":1.312359875622287},null,null,{"$f":"BCN7-BCM1*BCM7","v":0.39716358798344098},null,null,{"$f":"BCQ7-BCP1*BCP7","v":1.2908413897887066},null,null,{"$f":"BCT7-BCS1*BCS7","v":1.1788799934138532},null,null,{"$f":"BCW7-BCV1*BCV7","v":0.99748774005015761},null,null,{"$f":"BCZ7-BCY1*BCY7","v":1.2034309409521358},null,null,{"$f":"BDC7-BDB1*BDB7","v":6.0455518412212861E-2},null,null,{"$f":"BDF7-BDE1*BDE7","v":0.66537429523547731},null,null,{"$f":"BDI7-BDH1*BDH7","v":0.56074883527766328},null,null,{"$f":"BDL7-BDK1*BDK7","v":0.64613434939899195},null,null,{"$f":"BDO7-BDN1*BDN7","v":0.34379075907579004},null,null,{"$f":"BDR7-BDQ1*BDQ7","v":1.4779364488909446},null,null,{"$f":"BDU7-BDT1*BDT7","v":0.31121703049797489},null,null,{"$f":"BDX7-BDW1*BDW7","v":1.2716209320454692},null,null,{"$f":"BEA7-BDZ1*BDZ7","v":0.4836013071893257},null,null,{"$f":"BED7-BEC1*BEC7","v":1.037038323118459},null,null,{"$f":"BEG7-BEF1*BEF7","v":0.47439759279532856},null,null,{"$f":"BEJ7-BEI1*BEI7","v":1.3306690689498604},null,null,{"$f":"BEM7-BEL1*BEL7","v":1.0800860759723383},null,null,{"$f":"BEP7-BEO1*BEO7","v":1.0624035370542932},null,null,{"$f":"BES7-BER1*BER7","v":-0.11070863927262398},null,null,{"$f":"BEV7-BEU1*BEU7","v":0.29487885352655674},null,null,{"$f":"BEY7-BEX1*BEX7","v":1.0594514762991176},null,null,{"$f":"BFB7-BFA1*BFA7","v":1.008832380393752},null,null,{"$f":"BFE7-BFD1*BFD7","v":0.38508825336661578},null,null,{"$f":"BFH7-BFG1*BFG7","v":3.8910387421947856E-2},null,null,{"$f":"BFK7-BFJ1*BFJ7","v":1.2086169811115988},null,null,{"$f":"BFN7-BFM1*BFM7","v":1.2363129698654225},null,null,{"$f":"BFQ7-BFP1*BFP7","v":0.29020824574529369},null,null,{"$f":"BFT7-BFS1*BFS7","v":0.56796334849992069},null,null,{"$f":"BFW7-BFV1*BFV7","v":1.5213075037951604},null,null,{"$f":"BFZ7-BFY1*BFY7","v":1.0452083970083814},null,null,{"$f":"BGC7-BGB1*BGB7","v":0.36656390496856384},null,null,{"$f":"BGF7-BGE1*BGE7","v":1.278095159855015},null,null,{"$f":"BGI7-BGH1*BGH7","v":1.2037906504207143},null,null,{"$f":"BGL7-BGK1*BGK7","v":0.38913952612535674},null,null,{"$f":"BGO7-BGN1*BGN7","v":0.31865673399090788},null,null,{"$f":"BGR7-BGQ1*BGQ7","v":1.0351697845324357},null,null,{"$f":"BGU7-BGT1*BGT7","v":1.3064491178251858}]
[null,null,null,"群1(1回目）",null,"群２(2回目）",null,null,null,null,"基本統計項目",null,"X1","Y1","X2","Y2",null,"X","Y",null,"階級数",null,null,null,null,null,null,null,null,"X1","Y1上側","Y1下側","HH",null,"X2","Y2上側","Y2下側","HH",null,null,"Sｙｙ：=",{"$f":"DEVSQ(AO5:AO1304)","v":11176.823529411766},{"$f":"DEVSQ(AQ5:AQ504)","v":{"$error":"#NUM!"}},null,"偏差図",null,null,null,null,null,0.73883512940608853,1.2669840753722317,"標準主軸b=",{"$f":"(BC9/BB9)^0.5","v":0.75031350253551166},null,null,{"$f":"(BF9/BE9)^0.5","v":1.1590695255758248},null,null,{"$f":"(BI9/BH9)^0.5","v":0.98096514947884994},null,null,{"$f":"(BL9/BK9)^0.5","v":1.1512057012049344},null,null,{"$f":"(BO9/BN9)^0.5","v":0.84005353189836984},null,null,{"$f":"(BR9/BQ9)^0.5","v":1.167849468310959},null,null,{"$f":"(BU9/BT9)^0.5","v":1.1946415049459829},null,null,{"$f":"(BX9/BW9)^0.5","v":1.1507429688772761},null,null,{"$f":"(CA9/BZ9)^0.5","v":0.7699551249723191},null,null,{"$f":"(CD9/CC9)^0.5","v":1.0151618516058738},null,null,{"$f":"(CG9/CF9)^0.5","v":0.79073037362584575},null,null,{"$f":"(CJ9/CI9)^0.5","v":1.1444011271587358},null,null,{"$f":"(CM9/CL9)^0.5","v":0.84624392370350865},null,null,{"$f":"(CP9/CO9)^0.5","v":0.84543373630384755},null,null,{"$f":"(CS9/CR9)^0.5","v":0.85150542315429778},null,null,{"$f":"(CV9/CU9)^0.5","v":0.78356673884307304},null,null,{"$f":"(CY9/CX9)^0.5","v":0.84373558948907323},null,null,{"$f":"(DB9/DA9)^0.5","v":0.82195887264402745},null,null,{"$f":"(DE9/DD9)^0.5","v":1.2062228794153091},null,null,{"$f":"(DH9/DG9)^0.5","v":0.78379185456002931},null,null,{"$f":"(DK9/DJ9)^0.5","v":0.83638165412028886},null,null,{"$f":"(DN9/DM9)^0.5","v":1.1523824835343253},null,null,{"$f":"(DQ9/DP9)^0.5","v":1.0825710955002488},null,null,{"$f":"(DT9/DS9)^0.5","v":1.0158400851510416},null,null,{"$f":"(DW9/DV9)^0.5","v":0.85539360968252287},null,null,{"$f":"(DZ9/DY9)^0.5","v":0.81373422769647641},null,null,{"$f":"(EC9/EB9)^0.5","v":1.2335287813196907},null,null,{"$f":"(EF9/EE9)^0.5","v":0.85480476505268377},null,null,{"$f":"(EI9/EH9)^0.5","v":0.73196076167845936},null,null,{"$f":"(EL9/EK9)^0.5","v":0.87514874958911648},null,null,{"$f":"(EO9/EN9)^0.5","v":1.0129139941658427},null,null,{"$f":"(ER9/EQ9)^0.5","v":1.1816035725789853},null,null,{"$f":"(EU9/ET9)^0.5","v":0.7834592352086317},null,null,{"$f":"(EX9/EW9)^0.5","v":0.75256701294981421},null,null,{"$f":"(FA9/EZ9)^0.5","v":0.83535576892752927},null,null,{"$f":"(FD9/FC9)^0.5","v":1.0636833310341376},null,null,{"$f":"(FG9/FF9)^0.5","v":0.82526403513249558},null,null,{"$f":"(FJ9/FI9)^0.5","v":0.82122460539478359},null,null,{"$f":"(FM9/FL9)^0.5","v":0.87419079906510511},null,null,{"$f":"(FP9/FO9)^0.5","v":1.3573648207552063},null,null,{"$f":"(FS9/FR9)^0.5","v":0.75972889718664693},null,null,{"$f":"(FV9/FU9)^0.5","v":0.8610398378577363},null,null,{"$f":"(FY9/FX9)^0.5","v":0.72574965933796065},null,null,{"$f":"(GB9/GA9)^0.5","v":0.99478047897091215},null,null,{"$f":"(GE9/GD9)^0.5","v":0.75040962182830329},null,null,{"$f":"(GH9/GG9)^0.5","v":1.3021884266644312},null,null,{"$f":"(GK9/GJ9)^0.5","v":0.83176828920036983},null,null,{"$f":"(GN9/GM9)^0.5","v":0.83466089875871907},null,null,{"$f":"(GQ9/GP9)^0.5","v":0.76237324685843544},null,null,{"$f":"(GT9/GS9)^0.5","v":1.1652091318645634},null,null,{"$f":"(GW9/GV9)^0.5","v":0.98710023849622197},null,null,{"$f":"(GZ9/GY9)^0.5","v":0.73380790112413707},null,null,{"$f":"(HC9/HB9)^0.5","v":0.8863726304359415},null,null,{"$f":"(HF9/HE9)^0.5","v":0.7979761942531437},null,null,{"$f":"(HI9/HH9)^0.5","v":1.1060892166262144},null,null,{"$f":"(HL9/HK9)^0.5","v":0.84357849729254819},null,null,{"$f":"(HO9/HN9)^0.5","v":1.220238008416394},null,null,{"$f":"(HR9/HQ9)^0.5","v":0.76863170186653729},null,null,{"$f":"(HU9/HT9)^0.5","v":0.82779002953228975},null,null,{"$f":"(HX9/HW9)^0.5","v":1.0946878305101546},null,null,{"$f":"(IA9/HZ9)^0.5","v":0.84028118060423296},null,null,{"$f":"(ID9/IC9)^0.5","v":0.85644133454954852},null,null,{"$f":"(IG9/IF9)^0.5","v":0.83872205238638464},null,null,{"$f":"(IJ9/II9)^0.5","v":0.80039906080642376},null,null,{"$f":"(IM9/IL9)^0.5","v":0.71677279759699719},null,null,{"$f":"(IP9/IO9)^0.5","v":0.75775608640739567},null,null,{"$f":"(IS9/IR9)^0.5","v":0.84397408603098767},null,null,{"$f":"(IV9/IU9)^0.5","v":1.1083764008150851},null,null,{"$f":"(IY9/IX9)^0.5","v":0.78699411866880253},null,null,{"$f":"(JB9/JA9)^0.5","v":0.78996884545581147},null,null,{"$f":"(JE9/JD9)^0.5","v":0.79077057412843077},null,null,{"$f":"(JH9/JG9)^0.5","v":0.82512412664502821},null,null,{"$f":"(JK9/JJ9)^0.5","v":0.87951027836177975},null,null,{"$f":"(JN9/JM9)^0.5","v":0.85449530313780941},null,null,{"$f":"(JQ9/JP9)^0.5","v":0.79206513940874934},null,null,{"$f":"(JT9/JS9)^0.5","v":0.84850109931730122},null,null,{"$f":"(JW9/JV9)^0.5","v":0.83781955578779899},null,null,{"$f":"(JZ9/JY9)^0.5","v":0.80597489173330761},null,null,{"$f":"(KC9/KB9)^0.5","v":0.82548375891100412},null,null,{"$f":"(KF9/KE9)^0.5","v":0.83486209609911766},null,null,{"$f":"(KI9/KH9)^0.5","v":1.1561435954131687},null,null,{"$f":"(KL9/KK9)^0.5","v":0.85645018949443497},null,null,{"$f":"(KO9/KN9)^0.5","v":0.80563088836922281},null,null,{"$f":"(KR9/KQ9)^0.5","v":0.86809096811568587},null,null,{"$f":"(KU9/KT9)^0.5","v":1.1016432146370734},null,null,{"$f":"(KX9/KW9)^0.5","v":1.1264133217571954},null,null,{"$f":"(LA9/KZ9)^0.5","v":0.79280881316466634},null,null,{"$f":"(LD9/LC9)^0.5","v":1.0679572927367718},null,null,{"$f":"(LG9/LF9)^0.5","v":1.0928094616311361},null,null,{"$f":"(LJ9/LI9)^0.5","v":0.79540462715496374},null,null,{"$f":"(LM9/LL9)^0.5","v":0.97500713687817675},null,null,{"$f":"(LP9/LO9)^0.5","v":0.76761600428488064},null,null,{"$f":"(LS9/LR9)^0.5","v":1.133548138853866},null,null,{"$f":"(LV9/LU9)^0.5","v":0.8582555510326102},null,null,{"$f":"(LY9/LX9)^0.5","v":1.2104914268972298},null,null,{"$f":"(MB9/MA9)^0.5","v":1.2129877670880944},null,null,{"$f":"(ME9/MD9)^0.5","v":0.77780952864250841},null,null,{"$f":"(MH9/MG9)^0.5","v":1.196404875983714},null,null,{"$f":"(MK9/MJ9)^0.5","v":1.0356458460258031},null,null,{"$f":"(MN9/MM9)^0.5","v":0.73306493988165689},null,null,{"$f":"(MQ9/MP9)^0.5","v":0.81978000848015842},null,null,{"$f":"(MT9/MS9)^0.5","v":0.7814038647977819},null,null,{"$f":"(MW9/MV9)^0.5","v":0.80856384521529889},null,null,{"$f":"(MZ9/MY9)^0.5","v":1.091192788452384},null,null,{"$f":"(NC9/NB9)^0.5","v":1.2067252508424064},null,null,{"$f":"(NF9/NE9)^0.5","v":0.8099059743211352},null,null,{"$f":"(NI9/NH9)^0.5","v":0.80886469233729152},null,null,{"$f":"(NL9/NK9)^0.5","v":1.0638973048176024},null,null,{"$f":"(NO9/NN9)^0.5","v":0.79025104104301169},null,null,{"$f":"(NR9/NQ9)^0.5","v":0.85241140952651895},null,null,{"$f":"(NU9/NT9)^0.5","v":0.87924116067777902},null,null,{"$f":"(NX9/NW9)^0.5","v":1.085533312093969},null,null,{"$f":"(OA9/NZ9)^0.5","v":0.7562368775767695},null,null,{"$f":"(OD9/OC9)^0.5","v":1.131059521488871},null,null,{"$f":"(OG9/OF9)^0.5","v":0.86211538160383716},null,null,{"$f":"(OJ9/OI9)^0.5","v":1.0728151235008319},null,null,{"$f":"(OM9/OL9)^0.5","v":0.75728016258346453},null,null,{"$f":"(OP9/OO9)^0.5","v":0.78595207367956443},null,null,{"$f":"(OS9/OR9)^0.5","v":0.78822096647675055},null,null,{"$f":"(OV9/OU9)^0.5","v":1.0669757921438339},null,null,{"$f":"(OY9/OX9)^0.5","v":1.1670633430760406},null,null,{"$f":"(PB9/PA9)^0.5","v":0.83564906504419223},null,null,{"$f":"(PE9/PD9)^0.5","v":1.0520393175303382},null,null,{"$f":"(PH9/PG9)^0.5","v":0.7557611113812025},null,null,{"$f":"(PK9/PJ9)^0.5","v":1.0884715136774974},null,null,{"$f":"(PN9/PM9)^0.5","v":1.0842840067899258},null,null,{"$f":"(PQ9/PP9)^0.5","v":0.83539092000203385},null,null,{"$f":"(PT9/PS9)^0.5","v":0.76209733651624056},null,null,{"$f":"(PW9/PV9)^0.5","v":1.0596926708010428},null,null,{"$f":"(PZ9/PY9)^0.5","v":0.82613259784801818},null,null,{"$f":"(QC9/QB9)^0.5","v":0.84401646394370133},null,null,{"$f":"(QF9/QE9)^0.5","v":0.85135672890788761},null,null,{"$f":"(QI9/QH9)^0.5","v":0.74537379383328517},null,null,{"$f":"(QL9/QK9)^0.5","v":0.7560442589338392},null,null,{"$f":"(QO9/QN9)^0.5","v":0.78110655044367683},null,null,{"$f":"(QR9/QQ9)^0.5","v":1.043545801661838},null,null,{"$f":"(QU9/QT9)^0.5","v":0.76161678637284891},null,null,{"$f":"(QX9/QW9)^0.5","v":0.81011623219963136},null,null,{"$f":"(RA9/QZ9)^0.5","v":0.86074873205779467},null,null,{"$f":"(RD9/RC9)^0.5","v":1.0977987910947364},null,null,{"$f":"(RG9/RF9)^0.5","v":0.754864865440949},null,null,{"$f":"(RJ9/RI9)^0.5","v":1.1597889321770911},null,null,{"$f":"(RM9/RL9)^0.5","v":0.83477828741134408},null,null,{"$f":"(RP9/RO9)^0.5","v":1.2162562987482015},null,null,{"$f":"(RS9/RR9)^0.5","v":1.181363211934112},null,null,{"$f":"(RV9/RU9)^0.5","v":0.98413117585852705},null,null,{"$f":"(RY9/RX9)^0.5","v":0.74264732092297736},null,null,{"$f":"(SB9/SA9)^0.5","v":0.81544157675761941},null,null,{"$f":"(SE9/SD9)^0.5","v":1.1644697139248741},null,null,{"$f":"(SH9/SG9)^0.5","v":0.99679977701717193},null,null,{"$f":"(SK9/SJ9)^0.5","v":0.82524673041349161},null,null,{"$f":"(SN9/SM9)^0.5","v":0.85381575981182156},null,null,{"$f":"(SQ9/SP9)^0.5","v":0.83371388265765445},null,null,{"$f":"(ST9/SS9)^0.5","v":1.0172662740421139},null,null,{"$f":"(SW9/SV9)^0.5","v":0.85126810349617965},null,null,{"$f":"(SZ9/SY9)^0.5","v":0.7539684176302045},null,null,{"$f":"(TC9/TB9)^0.5","v":0.8357661233112007},null,null,{"$f":"(TF9/TE9)^0.5","v":0.74805621068894967},null,null,{"$f":"(TI9/TH9)^0.5","v":0.82413166450915454},null,null,{"$f":"(TL9/TK9)^0.5","v":0.86139228446660754},null,null,{"$f":"(TO9/TN9)^0.5","v":0.7779992261505021},null,null,{"$f":"(TR9/TQ9)^0.5","v":0.87137520117758172},null,null,{"$f":"(TU9/TT9)^0.5","v":0.74074858903004381},null,null,{"$f":"(TX9/TW9)^0.5","v":0.87379040690263232},null,null,{"$f":"(UA9/TZ9)^0.5","v":0.78022355964524381},null,null,{"$f":"(UD9/UC9)^0.5","v":0.82902583004031061},null,null,{"$f":"(UG9/UF9)^0.5","v":0.84721284493812155},null,null,{"$f":"(UJ9/UI9)^0.5","v":0.85724356298415683},null,null,{"$f":"(UM9/UL9)^0.5","v":0.76701228915529995},null,null,{"$f":"(UP9/UO9)^0.5","v":0.78501831702888081},null,null,{"$f":"(US9/UR9)^0.5","v":1.203355198919102},null,null,{"$f":"(UV9/UU9)^0.5","v":0.81083602964525292},null,null,{"$f":"(UY9/UX9)^0.5","v":1.038428851339138},null,null,{"$f":"(VB9/VA9)^0.5","v":0.81710889184161695},null,null,{"$f":"(VE9/VD9)^0.5","v":1.0964560606644251},null,null,{"$f":"(VH9/VG9)^0.5","v":0.76993093049689676},null,null,{"$f":"(VK9/VJ9)^0.5","v":0.96500866172651056},null,null,{"$f":"(VN9/VM9)^0.5","v":0.82429000875443192},null,null,{"$f":"(VQ9/VP9)^0.5","v":1.2908335582794388},null,null,{"$f":"(VT9/VS9)^0.5","v":0.88209840192454159},null,null,{"$f":"(VW9/VV9)^0.5","v":0.83712596427568187},null,null,{"$f":"(VZ9/VY9)^0.5","v":0.72203669202670073},null,null,{"$f":"(WC9/WB9)^0.5","v":1.1207473931401584},null,null,{"$f":"(WF9/WE9)^0.5","v":0.82292433357427586},null,null,{"$f":"(WI9/WH9)^0.5","v":1.299571397879254},null,null,{"$f":"(WL9/WK9)^0.5","v":0.77061124124049285},null,null,{"$f":"(WO9/WN9)^0.5","v":0.77489611418276305},null,null,{"$f":"(WR9/WQ9)^0.5","v":0.76565991573312064},null,null,{"$f":"(WU9/WT9)^0.5","v":0.85615843483818688},null,null,{"$f":"(WX9/WW9)^0.5","v":0.76716674930378048},null,null,{"$f":"(XA9/WZ9)^0.5","v":1.1691865556799155},null,null,{"$f":"(XD9/XC9)^0.5","v":0.94362319193242661},null,null,{"$f":"(XG9/XF9)^0.5","v":0.73085809305043725},null,null,{"$f":"(XJ9/XI9)^0.5","v":1.2656409472257708},null,null,{"$f":"(XM9/XL9)^0.5","v":0.76560767040701849},null,null,{"$f":"(XP9/XO9)^0.5","v":0.7650177951672299},null,null,{"$f":"(XS9/XR9)^0.5","v":0.76329429055397313},null,null,{"$f":"(XV9/XU9)^0.5","v":0.75668960996833134},null,null,{"$f":"(XY9/XX9)^0.5","v":1.1011866961853343},null,null,{"$f":"(YB9/YA9)^0.5","v":1.1677228616412614},null,null,{"$f":"(YE9/YD9)^0.5","v":1.2306759918665011},null,null,{"$f":"(YH9/YG9)^0.5","v":0.89376280595285584},null,null,{"$f":"(YK9/YJ9)^0.5","v":1.0107216118688414},null,null,{"$f":"(YN9/YM9)^0.5","v":0.82425870372275467},null,null,{"$f":"(YQ9/YP9)^0.5","v":1.2115884036935798},null,null,{"$f":"(YT9/YS9)^0.5","v":1.1320714758527812},null,null,{"$f":"(YW9/YV9)^0.5","v":1.0676420889893787},null,null,{"$f":"(YZ9/YY9)^0.5","v":0.95536669262955853},null,null,{"$f":"(ZC9/ZB9)^0.5","v":0.76745896722415663},null,null,{"$f":"(ZF9/ZE9)^0.5","v":0.78948773171852005},null,null,{"$f":"(ZI9/ZH9)^0.5","v":1.2442655569004124},null,null,{"$f":"(ZL9/ZK9)^0.5","v":0.79938279796873779},null,null,{"$f":"(ZO9/ZN9)^0.5","v":1.0999411477033176},null,null,{"$f":"(ZR9/ZQ9)^0.5","v":0.76731027849448252},null,null,{"$f":"(ZU9/ZT9)^0.5","v":0.87906503727466312},null,null,{"$f":"(ZX9/ZW9)^0.5","v":0.74366613685013894},null,null,{"$f":"(AAA9/ZZ9)^0.5","v":0.80843505901029777},null,null,{"$f":"(AAD9/AAC9)^0.5","v":1.0640619024634241},null,null,{"$f":"(AAG9/AAF9)^0.5","v":1.1703438440618075},null,null,{"$f":"(AAJ9/AAI9)^0.5","v":0.85295176180803922},null,null,{"$f":"(AAM9/AAL9)^0.5","v":0.74902789141820703},null,null,{"$f":"(AAP9/AAO9)^0.5","v":1.0761611593088165},null,null,{"$f":"(AAS9/AAR9)^0.5","v":0.77543921669678906},null,null,{"$f":"(AAV9/AAU9)^0.5","v":1.0347874790171168},null,null,{"$f":"(AAY9/AAX9)^0.5","v":0.88094218576058325},null,null,{"$f":"(ABB9/ABA9)^0.5","v":0.73883512940608853},null,null,{"$f":"(ABE9/ABD9)^0.5","v":0.84009252976928905},null,null,{"$f":"(ABH9/ABG9)^0.5","v":0.82096584229994685},null,null,{"$f":"(ABK9/ABJ9)^0.5","v":1.2448283050826519},null,null,{"$f":"(ABN9/ABM9)^0.5","v":0.74103818047615444},null,null,{"$f":"(ABQ9/ABP9)^0.5","v":0.79739009758693991},null,null,{"$f":"(ABT9/ABS9)^0.5","v":0.82794093210229935},null,null,{"$f":"(ABW9/ABV9)^0.5","v":0.86919370754474601},null,null,{"$f":"(ABZ9/ABY9)^0.5","v":1.0156322554944079},null,null,{"$f":"(ACC9/ACB9)^0.5","v":0.79885369250555749},null,null,{"$f":"(ACF9/ACE9)^0.5","v":0.77062059627271973},null,null,{"$f":"(ACI9/ACH9)^0.5","v":0.84154942228402385},null,null,{"$f":"(ACL9/ACK9)^0.5","v":0.80550638106640715},null,null,{"$f":"(ACO9/ACN9)^0.5","v":0.9714327066188343},null,null,{"$f":"(ACR9/ACQ9)^0.5","v":0.8249955789566995},null,null,{"$f":"(ACU9/ACT9)^0.5","v":0.83658238871599211},null,null,{"$f":"(ACX9/ACW9)^0.5","v":1.2394086638038972},null,null,{"$f":"(ADA9/ACZ9)^0.5","v":1.1719730537380777},null,null,{"$f":"(ADD9/ADC9)^0.5","v":0.77618106442403501},null,null,{"$f":"(ADG9/ADF9)^0.5","v":0.79621866055590262},null,null,{"$f":"(ADJ9/ADI9)^0.5","v":1.040204007552527},null,null,{"$f":"(ADM9/ADL9)^0.5","v":0.81986689510024791},null,null,{"$f":"(ADP9/ADO9)^0.5","v":0.85423623683019023},null,null,{"$f":"(ADS9/ADR9)^0.5","v":0.8052606964094482},null,null,{"$f":"(ADV9/ADU9)^0.5","v":1.2223938080041905},null,null,{"$f":"(ADY9/ADX9)^0.5","v":0.80126145978023555},null,null,{"$f":"(AEB9/AEA9)^0.5","v":0.87535107318308936},null,null,{"$f":"(AEE9/AED9)^0.5","v":1.0486206329288479},null,null,{"$f":"(AEH9/AEG9)^0.5","v":0.78546738809626304},null,null,{"$f":"(AEK9/AEJ9)^0.5","v":1.095815730898523},null,null,{"$f":"(AEN9/AEM9)^0.5","v":1.1516504606179461},null,null,{"$f":"(AEQ9/AEP9)^0.5","v":0.83341210480591321},null,null,{"$f":"(AET9/AES9)^0.5","v":0.85126041402330599},null,null,{"$f":"(AEW9/AEV9)^0.5","v":0.78008300526212715},null,null,{"$f":"(AEZ9/AEY9)^0.5","v":0.81469742183945593},null,null,{"$f":"(AFC9/AFB9)^0.5","v":0.79607512446313866},null,null,{"$f":"(AFF9/AFE9)^0.5","v":0.81212122589350688},null,null,{"$f":"(AFI9/AFH9)^0.5","v":1.0498747046680057},null,null,{"$f":"(AFL9/AFK9)^0.5","v":1.1386224869912747},null,null,{"$f":"(AFO9/AFN9)^0.5","v":1.1931887336747107},null,null,{"$f":"(AFR9/AFQ9)^0.5","v":0.79662211778278325},null,null,{"$f":"(AFU9/AFT9)^0.5","v":0.74054468902569981},null,null,{"$f":"(AFX9/AFW9)^0.5","v":0.75687244121334063},null,null,{"$f":"(AGA9/AFZ9)^0.5","v":0.97121297564358211},null,null,{"$f":"(AGD9/AGC9)^0.5","v":0.94396660813587419},null,null,{"$f":"(AGG9/AGF9)^0.5","v":0.86501943163144401},null,null,{"$f":"(AGJ9/AGI9)^0.5","v":0.81410445130508269},null,null,{"$f":"(AGM9/AGL9)^0.5","v":1.1911371041465282},null,null,{"$f":"(AGP9/AGO9)^0.5","v":0.77857103954299534},null,null,{"$f":"(AGS9/AGR9)^0.5","v":0.8004007278611559},null,null,{"$f":"(AGV9/AGU9)^0.5","v":1.3045590497150854},null,null,{"$f":"(AGY9/AGX9)^0.5","v":0.83272743965165497},null,null,{"$f":"(AHB9/AHA9)^0.5","v":0.81565139609128312},null,null,{"$f":"(AHE9/AHD9)^0.5","v":1.1384280120211276},null,null,{"$f":"(AHH9/AHG9)^0.5","v":0.80709036951009783},null,null,{"$f":"(AHK9/AHJ9)^0.5","v":0.76798064351403217},null,null,{"$f":"(AHN9/AHM9)^0.5","v":0.78553318470099098},null,null,{"$f":"(AHQ9/AHP9)^0.5","v":1.0846596928505379},null,null,{"$f":"(AHT9/AHS9)^0.5","v":0.80206814986860431},null,null,{"$f":"(AHW9/AHV9)^0.5","v":0.84555547581474944},null,null,{"$f":"(AHZ9/AHY9)^0.5","v":0.74154214603363588},null,null,{"$f":"(AIC9/AIB9)^0.5","v":0.77122371011785174},null,null,{"$f":"(AIF9/AIE9)^0.5","v":1.0704326838081188},null,null,{"$f":"(AII9/AIH9)^0.5","v":0.77744573432175224},null,null,{"$f":"(AIL9/AIK9)^0.5","v":1.1931147456599291},null,null,{"$f":"(AIO9/AIN9)^0.5","v":1.2632672869464783},null,null,{"$f":"(AIR9/AIQ9)^0.5","v":1.059259814138084},null,null,{"$f":"(AIU9/AIT9)^0.5","v":0.84738061495633954},null,null,{"$f":"(AIX9/AIW9)^0.5","v":1.2486066193220551},null,null,{"$f":"(AJA9/AIZ9)^0.5","v":0.91274469417939186},null,null,{"$f":"(AJD9/AJC9)^0.5","v":1.0706633277336979},null,null,{"$f":"(AJG9/AJF9)^0.5","v":0.83093248264952968},null,null,{"$f":"(AJJ9/AJI9)^0.5","v":0.86260094121185737},null,null,{"$f":"(AJM9/AJL9)^0.5","v":0.82203082929283933},null,null,{"$f":"(AJP9/AJO9)^0.5","v":0.98716365430440289},null,null,{"$f":"(AJS9/AJR9)^0.5","v":1.2669840753722317},null,null,{"$f":"(AJV9/AJU9)^0.5","v":0.83650142677145778},null,null,{"$f":"(AJY9/AJX9)^0.5","v":0.84381351443101704},null,null,{"$f":"(AKB9/AKA9)^0.5","v":0.80205408162202185},null,null,{"$f":"(AKE9/AKD9)^0.5","v":1.1179430975395006},null,null,{"$f":"(AKH9/AKG9)^0.5","v":1.2566713405251086},null,null,{"$f":"(AKK9/AKJ9)^0.5","v":1.0479828668608855},null,null,{"$f":"(AKN9/AKM9)^0.5","v":0.82000486347360479},null,null,{"$f":"(AKQ9/AKP9)^0.5","v":0.74594584549106324},null,null,{"$f":"(AKT9/AKS9)^0.5","v":0.83441590366473406},null,null,{"$f":"(AKW9/AKV9)^0.5","v":1.2965997897793031},null,null,{"$f":"(AKZ9/AKY9)^0.5","v":1.2237622165406445},null,null,{"$f":"(ALC9/ALB9)^0.5","v":0.99422628642277799},null,null,{"$f":"(ALF9/ALE9)^0.5","v":0.74209646662965623},null,null,{"$f":"(ALI9/ALH9)^0.5","v":0.77193550590163085},null,null,{"$f":"(ALL9/ALK9)^0.5","v":1.0354698534830149},null,null,{"$f":"(ALO9/ALN9)^0.5","v":0.81000633440944592},null,null,{"$f":"(ALR9/ALQ9)^0.5","v":0.94134929626991426},null,null,{"$f":"(ALU9/ALT9)^0.5","v":0.74577494273192468},null,null,{"$f":"(ALX9/ALW9)^0.5","v":0.81267526685711333},null,null,{"$f":"(AMA9/ALZ9)^0.5","v":0.84879262747215745},null,null,{"$f":"(AMD9/AMC9)^0.5","v":1.023235729710344},null,null,{"$f":"(AMG9/AMF9)^0.5","v":0.9710987635331203},null,null,{"$f":"(AMJ9/AMI9)^0.5","v":1.0542272757319839},null,null,{"$f":"(AMM9/AML9)^0.5","v":0.95389964605464161},null,null,{"$f":"(AMP9/AMO9)^0.5","v":1.0357727107254546},null,null,{"$f":"(AMS9/AMR9)^0.5","v":1.1892160880617639},null,null,{"$f":"(AMV9/AMU9)^0.5","v":0.79009231925425116},null,null,{"$f":"(AMY9/AMX9)^0.5","v":0.87121322190918193},null,null,{"$f":"(ANB9/ANA9)^0.5","v":0.83458619309155835},null,null,{"$f":"(ANE9/AND9)^0.5","v":0.79524063196872941},null,null,{"$f":"(ANH9/ANG9)^0.5","v":1.0307677436853269},null,null,{"$f":"(ANK9/ANJ9)^0.5","v":0.77745624363337396},null,null,{"$f":"(ANN9/ANM9)^0.5","v":0.82292328383225166},null,null,{"$f":"(ANQ9/ANP9)^0.5","v":0.8318981128535643},null,null,{"$f":"(ANT9/ANS9)^0.5","v":0.85101058451875211},null,null,{"$f":"(ANW9/ANV9)^0.5","v":0.81339673207559349},null,null,{"$f":"(ANZ9/ANY9)^0.5","v":0.82077990651724353},null,null,{"$f":"(AOC9/AOB9)^0.5","v":0.80279952864205228},null,null,{"$f":"(AOF9/AOE9)^0.5","v":0.99384394026656331},null,null,{"$f":"(AOI9/AOH9)^0.5","v":0.99812736771676869},null,null,{"$f":"(AOL9/AOK9)^0.5","v":0.84303624859215764},null,null,{"$f":"(AOO9/AON9)^0.5","v":0.77986865559973495},null,null,{"$f":"(AOR9/AOQ9)^0.5","v":0.78573000351198041},null,null,{"$f":"(AOU9/AOT9)^0.5","v":0.75402796160069097},null,null,{"$f":"(AOX9/AOW9)^0.5","v":1.0093787893621053},null,null,{"$f":"(APA9/AOZ9)^0.5","v":0.86707288869590982},null,null,{"$f":"(APD9/APC9)^0.5","v":0.77246529505929562},null,null,{"$f":"(APG9/APF9)^0.5","v":0.96789652911829993},null,null,{"$f":"(APJ9/API9)^0.5","v":0.88036495490788536},null,null,{"$f":"(APM9/APL9)^0.5","v":0.83003973841330358},null,null,{"$f":"(APP9/APO9)^0.5","v":1.0430654313077796},null,null,{"$f":"(APS9/APR9)^0.5","v":0.79463526563014841},null,null,{"$f":"(APV9/APU9)^0.5","v":0.83725124824740405},null,null,{"$f":"(APY9/APX9)^0.5","v":0.81970837738019897},null,null,{"$f":"(AQB9/AQA9)^0.5","v":0.87785766751009808},null,null,{"$f":"(AQE9/AQD9)^0.5","v":0.77244123837293677},null,null,{"$f":"(AQH9/AQG9)^0.5","v":0.7912730847349061},null,null,{"$f":"(AQK9/AQJ9)^0.5","v":1.119328154197565},null,null,{"$f":"(AQN9/AQM9)^0.5","v":0.98084288258050556},null,null,{"$f":"(AQQ9/AQP9)^0.5","v":1.2613451989243845},null,null,{"$f":"(AQT9/AQS9)^0.5","v":0.84178805346922392},null,null,{"$f":"(AQW9/AQV9)^0.5","v":0.81615461666533773},null,null,{"$f":"(AQZ9/AQY9)^0.5","v":0.88480548436660744},null,null,{"$f":"(ARC9/ARB9)^0.5","v":0.97702937965010062},null,null,{"$f":"(ARF9/ARE9)^0.5","v":0.74488508824452215},null,null,{"$f":"(ARI9/ARH9)^0.5","v":0.85068753558685506},null,null,{"$f":"(ARL9/ARK9)^0.5","v":0.73823933548943443},null,null,{"$f":"(ARO9/ARN9)^0.5","v":1.2778955651549846},null,null,{"$f":"(ARR9/ARQ9)^0.5","v":1.150969504374765},null,null,{"$f":"(ARU9/ART9)^0.5","v":0.75087065118576835},null,null,{"$f":"(ARX9/ARW9)^0.5","v":0.83473295729719865},null,null,{"$f":"(ASA9/ARZ9)^0.5","v":0.81961752558640899},null,null,{"$f":"(ASD9/ASC9)^0.5","v":0.86545455653160064},null,null,{"$f":"(ASG9/ASF9)^0.5","v":0.82186647381791256},null,null,{"$f":"(ASJ9/ASI9)^0.5","v":1.1656624264284512},null,null,{"$f":"(ASM9/ASL9)^0.5","v":0.80890630094347094},null,null,{"$f":"(ASP9/ASO9)^0.5","v":1.0324124884095331},null,null,{"$f":"(ASS9/ASR9)^0.5","v":0.78542591610132206},null,null,{"$f":"(ASV9/ASU9)^0.5","v":0.8398364875637413},null,null,{"$f":"(ASY9/ASX9)^0.5","v":1.1830127809501303},null,null,{"$f":"(ATB9/ATA9)^0.5","v":0.83959971154495483},null,null,{"$f":"(ATE9/ATD9)^0.5","v":0.81519437227479075},null,null,{"$f":"(ATH9/ATG9)^0.5","v":0.79534655748329419},null,null,{"$f":"(ATK9/ATJ9)^0.5","v":1.1610687125821566},null,null,{"$f":"(ATN9/ATM9)^0.5","v":0.81289351743565885},null,null,{"$f":"(ATQ9/ATP9)^0.5","v":0.94081866262497305},null,null,{"$f":"(ATT9/ATS9)^0.5","v":0.81861318227994551},null,null,{"$f":"(ATW9/ATV9)^0.5","v":0.82501903857210312},null,null,{"$f":"(ATZ9/ATY9)^0.5","v":0.85199333768920993},null,null,{"$f":"(AUC9/AUB9)^0.5","v":0.74780578972796152},null,null,{"$f":"(AUF9/AUE9)^0.5","v":1.2626734989417647},null,null,{"$f":"(AUI9/AUH9)^0.5","v":0.7783741353765451},null,null,{"$f":"(AUL9/AUK9)^0.5","v":0.7736428463550401},null,null,{"$f":"(AUO9/AUN9)^0.5","v":0.76214231146456124},null,null,{"$f":"(AUR9/AUQ9)^0.5","v":1.212697025863493},null,null,{"$f":"(AUU9/AUT9)^0.5","v":0.76686551014131976},null,null,{"$f":"(AUX9/AUW9)^0.5","v":1.4090535876394001},null,null,{"$f":"(AVA9/AUZ9)^0.5","v":0.96110466304106656},null,null,{"$f":"(AVD9/AVC9)^0.5","v":0.76078190762670983},null,null,{"$f":"(AVG9/AVF9)^0.5","v":0.79184622298936336},null,null,{"$f":"(AVJ9/AVI9)^0.5","v":0.83080910794830065},null,null,{"$f":"(AVM9/AVL9)^0.5","v":0.78583025283729879},null,null,{"$f":"(AVP9/AVO9)^0.5","v":0.88482777408255353},null,null,{"$f":"(AVS9/AVR9)^0.5","v":0.83743028854409185},null,null,{"$f":"(AVV9/AVU9)^0.5","v":0.83155293187898971},null,null,{"$f":"(AVY9/AVX9)^0.5","v":0.84627727468247804},null,null,{"$f":"(AWB9/AWA9)^0.5","v":0.8573977637344905},null,null,{"$f":"(AWE9/AWD9)^0.5","v":0.76832310390237379},null,null,{"$f":"(AWH9/AWG9)^0.5","v":0.75404150351533483},null,null,{"$f":"(AWK9/AWJ9)^0.5","v":0.83990845079629417},null,null,{"$f":"(AWN9/AWM9)^0.5","v":0.85847946013287735},null,null,{"$f":"(AWQ9/AWP9)^0.5","v":1.092479611597365},null,null,{"$f":"(AWT9/AWS9)^0.5","v":0.79204811248934115},null,null,{"$f":"(AWW9/AWV9)^0.5","v":0.75164502451195614},null,null,{"$f":"(AWZ9/AWY9)^0.5","v":1.0180700696540641},null,null,{"$f":"(AXC9/AXB9)^0.5","v":1.0962600081796692},null,null,{"$f":"(AXF9/AXE9)^0.5","v":0.81989791206488993},null,null,{"$f":"(AXI9/AXH9)^0.5","v":0.81803326401274845},null,null,{"$f":"(AXL9/AXK9)^0.5","v":0.83721188142850766},null,null,{"$f":"(AXO9/AXN9)^0.5","v":1.2167640685055625},null,null,{"$f":"(AXR9/AXQ9)^0.5","v":0.73843391980519602},null,null,{"$f":"(AXU9/AXT9)^0.5","v":0.78009312830979405},null,null,{"$f":"(AXX9/AXW9)^0.5","v":1.0256808926838594},null,null,{"$f":"(AYA9/AXZ9)^0.5","v":0.84899968192016284},null,null,{"$f":"(AYD9/AYC9)^0.5","v":0.8590921349639391},null,null,{"$f":"(AYG9/AYF9)^0.5","v":1.2270990483511151},null,null,{"$f":"(AYJ9/AYI9)^0.5","v":0.98791921347139189},null,null,{"$f":"(AYM9/AYL9)^0.5","v":0.75898851576060522},null,null,{"$f":"(AYP9/AYO9)^0.5","v":1.1602207865376521},null,null,{"$f":"(AYS9/AYR9)^0.5","v":0.77043965637059575},null,null,{"$f":"(AYV9/AYU9)^0.5","v":0.78341555118130224},null,null,{"$f":"(AYY9/AYX9)^0.5","v":0.82751390826216942},null,null,{"$f":"(AZB9/AZA9)^0.5","v":0.80364145452688418},null,null,{"$f":"(AZE9/AZD9)^0.5","v":0.76582515396492856},null,null,{"$f":"(AZH9/AZG9)^0.5","v":1.0091083715142615},null,null,{"$f":"(AZK9/AZJ9)^0.5","v":0.83408091062472411},null,null,{"$f":"(AZN9/AZM9)^0.5","v":1.1301755048902677},null,null,{"$f":"(AZQ9/AZP9)^0.5","v":0.8286151816380658},null,null,{"$f":"(AZT9/AZS9)^0.5","v":0.82778207025575179},null,null,{"$f":"(AZW9/AZV9)^0.5","v":0.82494788532541763},null,null,{"$f":"(AZZ9/AZY9)^0.5","v":1.0965224728967957},null,null,{"$f":"(BAC9/BAB9)^0.5","v":0.84673688544065295},null,null,{"$f":"(BAF9/BAE9)^0.5","v":0.77178280150173062},null,null,{"$f":"(BAI9/BAH9)^0.5","v":0.74461971654159076},null,null,{"$f":"(BAL9/BAK9)^0.5","v":0.79326079676710848},null,null,{"$f":"(BAO9/BAN9)^0.5","v":1.1669608019034838},null,null,{"$f":"(BAR9/BAQ9)^0.5","v":0.94139391612857282},null,null,{"$f":"(BAU9/BAT9)^0.5","v":0.85314977980477502},null,null,{"$f":"(BAX9/BAW9)^0.5","v":0.74237751869363766},null,null,{"$f":"(BBA9/BAZ9)^0.5","v":1.3278429330407842},null,null,{"$f":"(BBD9/BBC9)^0.5","v":0.81094109576947571},null,null,{"$f":"(BBG9/BBF9)^0.5","v":0.77819274782094583},null,null,{"$f":"(BBJ9/BBI9)^0.5","v":0.83865357129338669},null,null,{"$f":"(BBM9/BBL9)^0.5","v":0.74481726942820781},null,null,{"$f":"(BBP9/BBO9)^0.5","v":0.83525440681449803},null,null,{"$f":"(BBS9/BBR9)^0.5","v":1.251380918340637},null,null,{"$f":"(BBV9/BBU9)^0.5","v":0.85026441536435982},null,null,{"$f":"(BBY9/BBX9)^0.5","v":0.83789889805657569},null,null,{"$f":"(BCB9/BCA9)^0.5","v":0.84376712882306137},null,null,{"$f":"(BCE9/BCD9)^0.5","v":0.78590861351650709},null,null,{"$f":"(BCH9/BCG9)^0.5","v":0.73931774003241058},null,null,{"$f":"(BCK9/BCJ9)^0.5","v":0.78355115158019395},null,null,{"$f":"(BCN9/BCM9)^0.5","v":1.0743769529054636},null,null,{"$f":"(BCQ9/BCP9)^0.5","v":0.85217044199995051},null,null,{"$f":"(BCT9/BCS9)^0.5","v":0.77106925507125101},null,null,{"$f":"(BCW9/BCV9)^0.5","v":0.84462851525827209},null,null,{"$f":"(BCZ9/BCY9)^0.5","v":0.80334602838054503},null,null,{"$f":"(BDC9/BDB9)^0.5","v":1.2305721804511234},null,null,{"$f":"(BDF9/BDE9)^0.5","v":0.96630447773526262},null,null,{"$f":"(BDI9/BDH9)^0.5","v":1.001805851633176},null,null,{"$f":"(BDL9/BDK9)^0.5","v":0.99697213417932462},null,null,{"$f":"(BDO9/BDN9)^0.5","v":1.1015453105935316},null,null,{"$f":"(BDR9/BDQ9)^0.5","v":0.73367739302865997},null,null,{"$f":"(BDU9/BDT9)^0.5","v":1.1338184634817985},null,null,{"$f":"(BDX9/BDW9)^0.5","v":0.88866342440007962},null,null,{"$f":"(BEA9/BDZ9)^0.5","v":1.0511144422948784},null,null,{"$f":"(BED9/BEC9)^0.5","v":0.77017364684846645},null,null,{"$f":"(BEG9/BEF9)^0.5","v":1.1264382590502393},null,null,{"$f":"(BEJ9/BEI9)^0.5","v":0.79847036096801649},null,null,{"$f":"(BEM9/BEL9)^0.5","v":0.82858514692643137},null,null,{"$f":"(BEP9/BEO9)^0.5","v":0.85733272490926038},null,null,{"$f":"(BES9/BER9)^0.5","v":1.2757824600684855},null,null,{"$f":"(BEV9/BEU9)^0.5","v":1.2741916606011727},null,null,{"$f":"(BEY9/BEX9)^0.5","v":0.79393033465375762},null,null,{"$f":"(BFB9/BFA9)^0.5","v":0.82836831987730219},null,null,{"$f":"(BFE9/BFD9)^0.5","v":1.040322218968907},null,null,{"$f":"(BFH9/BFG9)^0.5","v":1.2343188458166732},null,null,{"$f":"(BFK9/BFJ9)^0.5","v":0.78028777929135507},null,null,{"$f":"(BFN9/BFM9)^0.5","v":0.84121950734558626},null,null,{"$f":"(BFQ9/BFP9)^0.5","v":1.1411214186474845},null,null,{"$f":"(BFT9/BFS9)^0.5","v":1.1090122329192698},null,null,{"$f":"(BFW9/BFV9)^0.5","v":0.75475363501768478},null,null,{"$f":"(BFZ9/BFY9)^0.5","v":0.83803478800137643},null,null,{"$f":"(BGC9/BGB9)^0.5","v":1.1019434446271188},null,null,{"$f":"(BGF9/BGE9)^0.5","v":0.79124254290763096},null,null,{"$f":"(BGI9/BGH9)^0.5","v":0.73912964663289493},null,null,{"$f":"(BGL9/BGK9)^0.5","v":1.1189893690576218},null,null,{"$f":"(BGO9/BGN9)^0.5","v":1.1505060673111762},null,null,{"$f":"(BGR9/BGQ9)^0.5","v":0.78680513219363768},null,null,{"$f":"(BGU9/BGT9)^0.5","v":0.77816912187832477}]
[null,null,"No.","X1","Y1","X2","Y2",null,null,null,"合　　計：=SUM(セル範囲) ",null,{"$f":"SUM(D5:D1304)","v":144.88},{"$f":"SUM(E5:E1304)","v":173.54},{"$f":"SUM(F5:F1304)","v":0},{"$f":"SUM(G5:G1304)","v":0},"偏差平方和",{"$f":"SUM(H5:H504)","v":0},{"$f":"SUM(I5:I504)","v":0},null,11,null,null,null,null,null,null,"CHIINV(0.05,2)^0.5",2.448,{"$f":"AC5","v":-4.4071758423504255},{"$f":"(Y1SD/X1SD*(相関係数1*AD4+AG4))+切片1","v":-2.0977918603141235},{"$f":"(Y1SD/X1SD*(相関係数1*AD4-AG4))+切片1","v":-2.0977918603141235},{"$f":"IF((1-相関係数1^2)*((X1SD*t1_0.05)^2-(AD4-X1m)^2)>0,SQRT((1-相関係数1^2)*((X1SD*t1_0.05)^2-(AD4-X1m)^2)),0)","v":0},2.448,{"$f":"AH5","v":{"$error":"#DIV/0!"}},{"$f":"(Y2SD/X2SD*(相関係数2*AI4+AL4))+切片2","v":{"$error":"#DIV/0!"}},{"$f":"(Y2SD/X2SD*(相関係数2*AI4-AL4))+切片2","v":{"$error":"#DIV/0!"}},{"$f":"IF((1-相関係数2^2)*((X2SD*t1_0.05)^2-(AI4-X2m)^2)>0,SQRT((1-相関係数2^2)*((X2SD*t1_0.05)^2-(AI4-X2m)^2)),0)","v":{"$error":"#DIV/0!"}},null,null,"rs=",{"$f":"AP1/SQRT(AP2*AP3)","v":0.89776535482312902},{"$f":"AQ1/SQRT(AQ2*AQ3)","v":{"$error":"#DIV/0!"}},null,"(X1+Y1)/2","Y1-X1",null,null,null,null,0.13440876525395495,1.4088962312455782,"標準主軸a=",{"$f":"BC7-BB3*BB7","v":1.325778586730455},null,null,{"$f":"BF7-BE3*BE7","v":0.40271262388111007},null,null,{"$f":"BI7-BH3*BH7","v":0.76421541820751671},null,null,{"$f":"BL7-BK3*BK7","v":0.53885266517807828},null,null,{"$f":"BO7-BN3*BN7","v":1.007282182391859},null,null,{"$f":"BR7-BQ3*BQ7","v":0.17971482785899084},null,null,{"$f":"BU7-BT3*BT7","v":0.46856211228431732},null,null,{"$f":"BX7-BW3*BW7","v":0.25968766759008721},null,null,{"$f":"CA7-BZ3*BZ7","v":0.94283339001358968},null,null,{"$f":"CD7-CC3*CC7","v":0.45474222916002471},null,null,{"$f":"CG7-CF3*CF7","v":1.2590712607127967},null,null,{"$f":"CJ7-CI3*CI7","v":0.33495665858302415},null,null,{"$f":"CM7-CL3*CL7","v":0.99155130793000312},null,null,{"$f":"CP7-CO3*CO7","v":0.97550232595144726},null,null,{"$f":"CS7-CR3*CR7","v":1.1084678384186626},null,null,{"$f":"CV7-CU3*CU7","v":1.1148087978470667},null,null,{"$f":"CY7-CX3*CX7","v":0.99893012513667978},null,null,{"$f":"DB7-DA3*DA7","v":1.043607960682007},null,null,{"$f":"DE7-DD3*DD7","v":0.27654334090715871},null,null,{"$f":"DH7-DG3*DG7","v":1.0831238028228771},null,null,{"$f":"DK7-DJ3*DJ7","v":1.0388769387914716},null,null,{"$f":"DN7-DM3*DM7","v":0.39462537912669005},null,null,{"$f":"DQ7-DP3*DP7","v":0.26890418912438152},null,null,{"$f":"DT7-DS3*DS7","v":0.40425225089031569},null,null,{"$f":"DW7-DV3*DV7","v":0.93322739636020913},null,null,{"$f":"DZ7-DY3*DY7","v":1.2911329210710352},null,null,{"$f":"EC7-EB3*EB7","v":0.37312736498419419},null,null,{"$f":"EF7-EE3*EE7","v":1.0944979444965979},null,null,{"$f":"EI7-EH3*EH7","v":1.3226987063381848},null,null,{"$f":"EL7-EK3*EK7","v":0.89019575041654964},null,null,{"$f":"EO7-EN3*EN7","v":0.5933742451360442},null,null,{"$f":"ER7-EQ3*EQ7","v":0.24978830556289511},null,null,{"$f":"EU7-ET3*ET7","v":0.92326051205511117},null,null,{"$f":"EX7-EW3*EW7","v":1.1558572907755651},null,null,{"$f":"FA7-EZ3*EZ7","v":0.8358093918156686},null,null,{"$f":"FD7-FC3*FC7","v":0.52607836824558651},null,null,{"$f":"FG7-FF3*FF7","v":1.2174045289302082},null,null,{"$f":"FJ7-FI3*FI7","v":0.99523381030690228},null,null,{"$f":"FM7-FL3*FL7","v":1.0173817893988626},null,null,{"$f":"FP7-FO3*FO7","v":4.4016261968790715E-2},null,null,{"$f":"FS7-FR3*FR7","v":1.0254400973976656},null,null,{"$f":"FV7-FU3*FU7","v":1.0874287116359067},null,null,{"$f":"FY7-FX3*FX7","v":1.3091554637296889},null,null,{"$f":"GB7-GA3*GA7","v":0.54355154951722939},null,null,{"$f":"GE7-GD3*GD7","v":1.0022977607740589},null,null,{"$f":"GH7-GG3*GG7","v":0.11812006321063384},null,null,{"$f":"GK7-GJ3*GJ7","v":1.0475813334505246},null,null,{"$f":"GN7-GM3*GM7","v":1.0034039142309248},null,null,{"$f":"GQ7-GP3*GP7","v":1.2525806635036769},null,null,{"$f":"GT7-GS3*GS7","v":0.31299155878537022},null,null,{"$f":"GW7-GV3*GV7","v":0.69178057752038757},null,null,{"$f":"GZ7-GY3*GY7","v":1.4493867956657569},null,null,{"$f":"HC7-HB3*HB7","v":0.93391965606621419},null,null,{"$f":"HF7-HE3*HE7","v":1.0989822722243883},null,null,{"$f":"HI7-HH3*HH7","v":0.44436411520321428},null,null,{"$f":"HL7-HK3*HK7","v":1.0105107174821226},null,null,{"$f":"HO7-HN3*HN7","v":0.11067132180747308},null,null,{"$f":"HR7-HQ3*HQ7","v":1.3930582217410699},null,null,{"$f":"HU7-HT3*HT7","v":1.0664078850893608},null,null,{"$f":"HX7-HW3*HW7","v":0.19737327988231002},null,null,{"$f":"IA7-HZ3*HZ7","v":1.1660305182151176},null,null,{"$f":"ID7-IC3*IC7","v":1.0349207844746626},null,null,{"$f":"IG7-IF3*IF7","v":1.0845044186177391},null,null,{"$f":"IJ7-II3*II7","v":1.0087891104871773},null,null,{"$f":"IM7-IL3*IL7","v":1.1876009573739688},null,null,{"$f":"IP7-IO3*IO7","v":1.0270613083480553},null,null,{"$f":"IS7-IR3*IR7","v":0.85611260376591769},null,null,{"$f":"IV7-IU3*IU7","v":0.32760022381635467},null,null,{"$f":"IY7-IX3*IX7","v":1.121638326484943},null,null,{"$f":"JB7-JA3*JA7","v":1.28738153422956},null,null,{"$f":"JE7-JD3*JD7","v":1.0966838133106953},null,null,{"$f":"JH7-JG3*JG7","v":1.0548591164913699},null,null,{"$f":"JK7-JJ3*JJ7","v":0.95227165926315971},null,null,{"$f":"JN7-JM3*JM7","v":1.023641823532893},null,null,{"$f":"JQ7-JP3*JP7","v":1.2420274571861376},null,null,{"$f":"JT7-JS3*JS7","v":1.0296012502203462},null,null,{"$f":"JW7-JV3*JV7","v":1.0181567706236505},null,null,{"$f":"JZ7-JY3*JY7","v":0.99273986705284978},null,null,{"$f":"KC7-KB3*KB7","v":1.0850506305776917},null,null,{"$f":"KF7-KE3*KE7","v":1.1417205149479708},null,null,{"$f":"KI7-KH3*KH7","v":0.27508296487085104},null,null,{"$f":"KL7-KK3*KK7","v":0.91202379444609005},null,null,{"$f":"KO7-KN3*KN7","v":1.0830208053831676},null,null,{"$f":"KR7-KQ3*KQ7","v":1.1162651419978959},null,null,{"$f":"KU7-KT3*KT7","v":0.42696151023738516},null,null,{"$f":"KX7-KW3*KW7","v":0.34223546034216845},null,null,{"$f":"LA7-KZ3*KZ7","v":1.3737649087923063},null,null,{"$f":"LD7-LC3*LC7","v":0.42940798081901699},null,null,{"$f":"LG7-LF3*LF7","v":0.5796254691033722},null,null,{"$f":"LJ7-LI3*LI7","v":1.2114512319149657},null,null,{"$f":"LM7-LL3*LL7","v":0.58369699325123792},null,null,{"$f":"LP7-LO3*LO7","v":1.0796701975909926},null,null,{"$f":"LS7-LR3*LR7","v":0.3787061124973583},null,null,{"$f":"LV7-LU3*LU7","v":0.96786941844373997},null,null,{"$f":"LY7-LX3*LX7","v":0.13829309956264124},null,null,{"$f":"MB7-MA3*MA7","v":0.55038163341502067},null,null,{"$f":"ME7-MD3*MD7","v":1.0700564186140249},null,null,{"$f":"MH7-MG3*MG7","v":0.30419293764504429},null,null,{"$f":"MK7-MJ3*MJ7","v":0.46515597318971791},null,null,{"$f":"MN7-MM3*MM7","v":1.5112892155357684},null,null,{"$f":"MQ7-MP3*MP7","v":1.0223393888474046},null,null,{"$f":"MT7-MS3*MS7","v":1.3268161521046391},null,null,{"$f":"MW7-MV3*MV7","v":1.1383950395737767},null,null,{"$f":"MZ7-MY3*MY7","v":0.41830280498050199},null,null,{"$f":"NC7-NB3*NB7","v":0.34248070570280209},null,null,{"$f":"NF7-NE3*NE7","v":0.96913110089172072},null,null,{"$f":"NI7-NH3*NH7","v":0.99585293800318153},null,null,{"$f":"NL7-NK3*NK7","v":0.51117527684910824},null,null,{"$f":"NO7-NN3*NN7","v":1.1909386257150238},null,null,{"$f":"NR7-NQ3*NQ7","v":0.87913245335514301},null,null,{"$f":"NU7-NT3*NT7","v":0.96273535123951293},null,null,{"$f":"NX7-NW3*NW7","v":0.39788941611470463},null,null,{"$f":"OA7-NZ3*NZ7","v":1.1800751134389449},null,null,{"$f":"OD7-OC3*OC7","v":0.20196399252133368},null,null,{"$f":"OG7-OF3*OF7","v":1.0686400917871803},null,null,{"$f":"OJ7-OI3*OI7","v":0.31546286806006263},null,null,{"$f":"OM7-OL3*OL7","v":1.0444383530024979},null,null,{"$f":"OP7-OO3*OO7","v":1.2358936150545294},null,null,{"$f":"OS7-OR3*OR7","v":1.3271486501717948},null,null,{"$f":"OV7-OU3*OU7","v":0.37647329612490488},null,null,{"$f":"OY7-OX3*OX7","v":0.41307724141151958},null,null,{"$f":"PB7-PA3*PA7","v":1.1623214992415112},null,null,{"$f":"PE7-PD3*PD7","v":0.4117325882400058},null,null,{"$f":"PH7-PG3*PG7","v":1.0231955656379972},null,null,{"$f":"PK7-PJ3*PJ7","v":0.33402801437107676},null,null,{"$f":"PN7-PM3*PM7","v":0.51246836986892319},null,null,{"$f":"PQ7-PP3*PP7","v":1.0671089340407445},null,null,{"$f":"PT7-PS3*PS7","v":1.1237221542510882},null,null,{"$f":"PW7-PV3*PV7","v":0.63334816808225991},null,null,{"$f":"PZ7-PY3*PY7","v":0.90617412765456917},null,null,{"$f":"QC7-QB3*QB7","v":1.022192958605689},null,null,{"$f":"QF7-QE3*QE7","v":1.1160632940781103},null,null,{"$f":"QI7-QH3*QH7","v":1.4322838681900705},null,null,{"$f":"QL7-QK3*QK7","v":1.1260292496409274},null,null,{"$f":"QO7-QN3*QN7","v":0.90566385823422246},null,null,{"$f":"QR7-QQ3*QQ7","v":0.53609203753764323},null,null,{"$f":"QU7-QT3*QT7","v":1.1207741941098046},null,null,{"$f":"QX7-QW3*QW7","v":1.1645010750996523},null,null,{"$f":"RA7-QZ3*QZ7","v":0.896567383013394},null,null,{"$f":"RD7-RC3*RC7","v":0.45118787731892329},null,null,{"$f":"RG7-RF3*RF7","v":1.043994009548554},null,null,{"$f":"RJ7-RI3*RI7","v":0.43157762153278778},null,null,{"$f":"RM7-RL3*RL7","v":1.1484487499182428},null,null,{"$f":"RP7-RO3*RO7","v":0.34328268218039959},null,null,{"$f":"RS7-RR3*RR7","v":0.4306817231829374},null,null,{"$f":"RV7-RU3*RU7","v":0.49377990678814987},null,null,{"$f":"RY7-RX3*RX7","v":1.3131580015218409},null,null,{"$f":"SB7-SA3*SA7","v":1.1382960246035196},null,null,{"$f":"SE7-SD3*SD7","v":0.33654619057852564},null,null,{"$f":"SH7-SG3*SG7","v":0.4826392705505147},null,null,{"$f":"SK7-SJ3*SJ7","v":1.0202758484470564},null,null,{"$f":"SN7-SM3*SM7","v":1.0058579769292821},null,null,{"$f":"SQ7-SP3*SP7","v":0.93561956181748718},null,null,{"$f":"ST7-SS3*SS7","v":0.48127947480078159},null,null,{"$f":"SW7-SV3*SV7","v":1.0006348374301881},null,null,{"$f":"SZ7-SY3*SY7","v":1.0763626717707386},null,null,{"$f":"TC7-TB3*TB7","v":0.8858273075837868},null,null,{"$f":"TF7-TE3*TE7","v":1.3363877971333746},null,null,{"$f":"TI7-TH3*TH7","v":0.97510202909325416},null,null,{"$f":"TL7-TK3*TK7","v":0.91930561720112758},null,null,{"$f":"TO7-TN3*TN7","v":1.1781298864034007},null,null,{"$f":"TR7-TQ3*TQ7","v":1.067231178371848},null,null,{"$f":"TU7-TT3*TT7","v":1.2276800108331551},null,null,{"$f":"TX7-TW3*TW7","v":1.070782170302754},null,null,{"$f":"UA7-TZ3*TZ7","v":1.2438522755532033},null,null,{"$f":"UD7-UC3*UC7","v":0.96002733005276841},null,null,{"$f":"UG7-UF3*UF7","v":1.1133669301955598},null,null,{"$f":"UJ7-UI3*UI7","v":1.2150254810370589},null,null,{"$f":"UM7-UL3*UL7","v":1.1123768473938553},null,null,{"$f":"UP7-UO3*UO7","v":1.198401739370512},null,null,{"$f":"US7-UR3*UR7","v":0.27368553336626222},null,null,{"$f":"UV7-UU3*UU7","v":1.0654942068675761},null,null,{"$f":"UY7-UX3*UX7","v":0.40359499549914002},null,null,{"$f":"VB7-VA3*VA7","v":0.92279956982799138},null,null,{"$f":"VE7-VD3*VD7","v":0.25057029960084165},null,null,{"$f":"VH7-VG3*VG7","v":1.0864076837549663},null,null,{"$f":"VK7-VJ3*VJ7","v":0.56891825345172631},null,null,{"$f":"VN7-VM3*VM7","v":0.82233096538327111},null,null,{"$f":"VQ7-VP3*VP7","v":0.13440876525395495},null,null,{"$f":"VT7-VS3*VS7","v":1.1366066164501603},null,null,{"$f":"VW7-VV3*VV7","v":0.80143111271053158},null,null,{"$f":"VZ7-VY3*VY7","v":1.5002582503464006},null,null,{"$f":"WC7-WB3*WB7","v":0.26756405522810445},null,null,{"$f":"WF7-WE3*WE7","v":1.3701008075532113},null,null,{"$f":"WI7-WH3*WH7","v":0.22071079744499889},null,null,{"$f":"WL7-WK3*WK7","v":1.1729973342681248},null,null,{"$f":"WO7-WN3*WN7","v":1.0077828539875409},null,null,{"$f":"WR7-WQ3*WQ7","v":1.1505358247383097},null,null,{"$f":"WU7-WT3*WT7","v":1.1904809687355145},null,null,{"$f":"WX7-WW3*WW7","v":1.1172434565493283},null,null,{"$f":"XA7-WZ3*WZ7","v":0.30897746525833503},null,null,{"$f":"XD7-XC3*XC7","v":0.74860169531708598},null,null,{"$f":"XG7-XF3*XF7","v":1.1325472451875145},null,null,{"$f":"XJ7-XI3*XI7","v":0.25643959930002014},null,null,{"$f":"XM7-XL3*XL7","v":1.7929168522825742},null,null,{"$f":"XP7-XO3*XO7","v":1.4713194841821164},null,null,{"$f":"XS7-XR3*XR7","v":1.3988671813433458},null,null,{"$f":"XV7-XU3*XU7","v":1.2872823105107472},null,null,{"$f":"XY7-XX3*XX7","v":0.42386980612932534},null,null,{"$f":"YB7-YA3*YA7","v":0.19683133453233914},null,null,{"$f":"YE7-YD3*YD7","v":0.23770921597360806},null,null,{"$f":"YH7-YG3*YG7","v":1.0485414450400867},null,null,{"$f":"YK7-YJ3*YJ7","v":0.59829232737288951},null,null,{"$f":"YN7-YM3*YM7","v":1.1736722535826898},null,null,{"$f":"YQ7-YP3*YP7","v":0.24068811380905064},null,null,{"$f":"YT7-YS3*YS7","v":0.35353203823290391},null,null,{"$f":"YW7-YV3*YV7","v":0.29771810814495314},null,null,{"$f":"YZ7-YY3*YY7","v":0.52234006894195195},null,null,{"$f":"ZC7-ZB3*ZB7","v":1.0940811922437046},null,null,{"$f":"ZF7-ZE3*ZE7","v":1.1747537875490206},null,null,{"$f":"ZI7-ZH3*ZH7","v":0.20539609126285097},null,null,{"$f":"ZL7-ZK3*ZK7","v":1.0805795557221511},null,null,{"$f":"ZO7-ZN3*ZN7","v":0.5095262804502747},null,null,{"$f":"ZR7-ZQ3*ZQ7","v":1.0851713946483215},null,null,{"$f":"ZU7-ZT3*ZT7","v":1.045418669468162},null,null,{"$f":"ZX7-ZW3*ZW7","v":0.94591139394814894},null,null,{"$f":"AAA7-ZZ3*ZZ7","v":1.0007322100135045},null,null,{"$f":"AAD7-AAC3*AAC7","v":0.43159343230814473},null,null,{"$f":"AAG7-AAF3*AAF7","v":0.29936941976744702},null,null,{"$f":"AAJ7-AAI3*AAI7","v":1.1056115330905105},null,null,{"$f":"AAM7-AAL3*AAL7","v":0.94647479473974716},null,null,{"$f":"AAP7-AAO3*AAO7","v":0.44453743318254579},null,null,{"$f":"AAS7-AAR3*AAR7","v":1.0257862800064883},null,null,{"$f":"AAV7-AAU3*AAU7","v":0.52618294384285758},null,null,{"$f":"AAY7-AAX3*AAX7","v":1.0492727837614724},null,null,{"$f":"ABB7-ABA3*ABA7","v":1.1484634901975781},null,null,{"$f":"ABE7-ABD3*ABD7","v":1.1968471180745026},null,null,{"$f":"ABH7-ABG3*ABG7","v":1.2714905652448287},null,null,{"$f":"ABK7-ABJ3*ABJ7","v":0.27660741160373092},null,null,{"$f":"ABN7-ABM3*ABM7","v":1.2066183346719344},null,null,{"$f":"ABQ7-ABP3*ABP7","v":0.97606513214454971},null,null,{"$f":"ABT7-ABS3*ABS7","v":0.82752431154203832},null,null,{"$f":"ABW7-ABV3*ABV7","v":1.1864609157965291},null,null,{"$f":"ABZ7-ABY3*ABY7","v":0.77113461949876694},null,null,{"$f":"ACC7-ACB3*ACB7","v":1.0502318374367752},null,null,{"$f":"ACF7-ACE3*ACE7","v":1.264241899458689},null,null,{"$f":"ACI7-ACH3*ACH7","v":1.0874236939242516},null,null,{"$f":"ACL7-ACK3*ACK7","v":1.1969672003845013},null,null,{"$f":"ACO7-ACN3*ACN7","v":0.69207886165665355},null,null,{"$f":"ACR7-ACQ3*ACQ7","v":1.0902638465342438},null,null,{"$f":"ACU7-ACT3*ACT7","v":1.0679685457399541},null,null,{"$f":"ACX7-ACW3*ACW7","v":0.36878940457355736},null,null,{"$f":"ADA7-ACZ3*ACZ7","v":0.30913586632003609},null,null,{"$f":"ADD7-ADC3*ADC7","v":1.0393354468110392},null,null,{"$f":"ADG7-ADF3*ADF7","v":1.0022326011113711},null,null,{"$f":"ADJ7-ADI3*ADI7","v":0.59817614558854526},null,null,{"$f":"ADM7-ADL3*ADL7","v":0.92537909830940768},null,null,{"$f":"ADP7-ADO3*ADO7","v":0.95866425006383604},null,null,{"$f":"ADS7-ADR3*ADR7","v":1.107839974950565},null,null,{"$f":"ADV7-ADU3*ADU7","v":0.22582302637020524},null,null,{"$f":"ADY7-ADX3*ADX7","v":1.2492472160157218},null,null,{"$f":"AEB7-AEA3*AEA7","v":0.96490849994745398},null,null,{"$f":"AEE7-AED3*AED7","v":0.28657523039891331},null,null,{"$f":"AEH7-AEG3*AEG7","v":1.416509676996756},null,null,{"$f":"AEK7-AEJ3*AEJ7","v":0.41540734383377265},null,null,{"$f":"AEN7-AEM3*AEM7","v":0.30954541959811976},null,null,{"$f":"AEQ7-AEP3*AEP7","v":0.98984727061578726},null,null,{"$f":"AET7-AES3*AES7","v":0.86635232849404953},null,null,{"$f":"AEW7-AEV3*AEV7","v":1.1465307449719453},null,null,{"$f":"AEZ7-AEY3*AEY7","v":0.71071177623907555},null,null,{"$f":"AFC7-AFB3*AFB7","v":1.1533323626975927},null,null,{"$f":"AFF7-AFE3*AFE7","v":1.0308591407765086},null,null,{"$f":"AFI7-AFH3*AFH7","v":0.41256371810258052},null,null,{"$f":"AFL7-AFK3*AFK7","v":0.19383645475717959},null,null,{"$f":"AFO7-AFN3*AFN7","v":0.22763568002877088},null,null,{"$f":"AFR7-AFQ3*AFQ7","v":0.97824778624230113},null,null,{"$f":"AFU7-AFT3*AFT7","v":1.3994990653971593},null,null,{"$f":"AFX7-AFW3*AFW7","v":1.4300310060603785},null,null,{"$f":"AGA7-AFZ3*AFZ7","v":0.48635022633402558},null,null,{"$f":"AGD7-AGC3*AGC7","v":0.56457478191490784},null,null,{"$f":"AGG7-AGF3*AGF7","v":0.97633331735982054},null,null,{"$f":"AGJ7-AGI3*AGI7","v":1.0284546439935407},null,null,{"$f":"AGM7-AGL3*AGL7","v":-1.616251514990763E-2},null,null,{"$f":"AGP7-AGO3*AGO7","v":1.3760978791984826},null,null,{"$f":"AGS7-AGR3*AGR7","v":1.0381783014192711},null,null,{"$f":"AGV7-AGU3*AGU7","v":0.17180770092984377},null,null,{"$f":"AGY7-AGX3*AGX7","v":1.1544073491720033},null,null,{"$f":"AHB7-AHA3*AHA7","v":1.0553610882069733},null,null,{"$f":"AHE7-AHD3*AHD7","v":0.29870814215563657},null,null,{"$f":"AHH7-AHG3*AHG7","v":1.0166188732252239},null,null,{"$f":"AHK7-AHJ3*AHJ7","v":1.0447246412398341},null,null,{"$f":"AHN7-AHM3*AHM7","v":1.1501987673766991},null,null,{"$f":"AHQ7-AHP3*AHP7","v":0.44643068827236743},null,null,{"$f":"AHT7-AHS3*AHS7","v":0.95995765794070387},null,null,{"$f":"AHW7-AHV3*AHV7","v":1.161712018985241},null,null,{"$f":"AHZ7-AHY3*AHY7","v":1.2107379011391877},null,null,{"$f":"AIC7-AIB3*AIB7","v":1.1907602046635501},null,null,{"$f":"AIF7-AIE3*AIE7","v":0.56975482568140423},null,null,{"$f":"AII7-AIH3*AIH7","v":1.280635215467147},null,null,{"$f":"AIL7-AIK3*AIK7","v":0.10637861331936449},null,null,{"$f":"AIO7-AIN3*AIN7","v":0.26209230614404033},null,null,{"$f":"AIR7-AIQ3*AIQ7","v":0.49463310965351415},null,null,{"$f":"AIU7-AIT3*AIT7","v":1.0555486090415074},null,null,{"$f":"AIX7-AIW3*AIW7","v":0.20795471585033409},null,null,{"$f":"AJA7-AIZ3*AIZ7","v":0.96398917541291773},null,null,{"$f":"AJD7-AJC3*AJC7","v":0.42064838313319308},null,null,{"$f":"AJG7-AJF3*AJF7","v":1.0112674278508922},null,null,{"$f":"AJJ7-AJI3*AJI7","v":0.96757915966990327},null,null,{"$f":"AJM7-AJL3*AJL7","v":1.2403827405890886},null,null,{"$f":"AJP7-AJO3*AJO7","v":0.57369584403465712},null,null,{"$f":"AJS7-AJR3*AJR7","v":0.21379925895648055},null,null,{"$f":"AJV7-AJU3*AJU7","v":0.97027493919770658},null,null,{"$f":"AJY7-AJX3*AJX7","v":1.0509215761649329},null,null,{"$f":"AKB7-AKA3*AKA7","v":1.0364133007492042},null,null,{"$f":"AKE7-AKD3*AKD7","v":0.28794446113849625},null,null,{"$f":"AKH7-AKG3*AKG7","v":0.18501275588086674},null,null,{"$f":"AKK7-AKJ3*AKJ7","v":0.56041695611045705},null,null,{"$f":"AKN7-AKM3*AKM7","v":0.98388419643473579},null,null,{"$f":"AKQ7-AKP3*AKP7","v":1.2213823979425751},null,null,{"$f":"AKT7-AKS3*AKS7","v":1.1844669456742443},null,null,{"$f":"AKW7-AKV3*AKV7","v":2.6347190801227161E-2},null,null,{"$f":"AKZ7-AKY3*AKY7","v":0.18218096292916108},null,null,{"$f":"ALC7-ALB3*ALB7","v":0.48801487229991647},null,null,{"$f":"ALF7-ALE3*ALE7","v":1.0130333100182032},null,null,{"$f":"ALI7-ALH3*ALH7","v":1.0054347832160353},null,null,{"$f":"ALL7-ALK3*ALK7","v":0.48065671858681824},null,null,{"$f":"ALO7-ALN3*ALN7","v":1.0381252676115267},null,null,{"$f":"ALR7-ALQ3*ALQ7","v":0.69559157431344243},null,null,{"$f":"ALU7-ALT3*ALT7","v":1.0594031615767792},null,null,{"$f":"ALX7-ALW3*ALW7","v":0.73700922540209346},null,null,{"$f":"AMA7-ALZ3*ALZ7","v":1.028410931273414},null,null,{"$f":"AMD7-AMC3*AMC7","v":0.52104081354183318},null,null,{"$f":"AMG7-AMF3*AMF7","v":0.7147488452055244},null,null,{"$f":"AMJ7-AMI3*AMI7","v":0.34114342353732319},null,null,{"$f":"AMM7-AML3*AML7","v":0.65320198813625074},null,null,{"$f":"AMP7-AMO3*AMO7","v":0.39024901064082496},null,null,{"$f":"AMS7-AMR3*AMR7","v":0.15731581125801464},null,null,{"$f":"AMV7-AMU3*AMU7","v":1.2850072878702385},null,null,{"$f":"AMY7-AMX3*AMX7","v":0.99721877034990891},null,null,{"$f":"ANB7-ANA3*ANA7","v":0.92300678524929003},null,null,{"$f":"ANE7-AND3*AND7","v":1.0449737978329363},null,null,{"$f":"ANH7-ANG3*ANG7","v":0.4124411733023301},null,null,{"$f":"ANK7-ANJ3*ANJ7","v":1.1199225539869975},null,null,{"$f":"ANN7-ANM3*ANM7","v":1.1675364868965867},null,null,{"$f":"ANQ7-ANP3*ANP7","v":1.0483637575253764},null,null,{"$f":"ANT7-ANS3*ANS7","v":0.99604092144307277},null,null,{"$f":"ANW7-ANV3*ANV7","v":1.2160721444080633},null,null,{"$f":"ANZ7-ANY3*ANY7","v":0.99359872235533597},null,null,{"$f":"AOC7-AOB3*AOB7","v":1.0405847737194871},null,null,{"$f":"AOF7-AOE3*AOE7","v":0.46465103022247689},null,null,{"$f":"AOI7-AOH3*AOH7","v":0.59021473999001817},null,null,{"$f":"AOL7-AOK3*AOK7","v":1.1693710132391852},null,null,{"$f":"AOO7-AON3*AON7","v":0.82744787925561658},null,null,{"$f":"AOR7-AOQ3*AOQ7","v":1.3160424143131455},null,null,{"$f":"AOU7-AOT3*AOT7","v":1.2242091496159397},null,null,{"$f":"AOX7-AOW3*AOW7","v":0.63422948802687884},null,null,{"$f":"APA7-AOZ3*AOZ7","v":1.1622018855048233},null,null,{"$f":"APD7-APC3*APC7","v":1.3881660479424331},null,null,{"$f":"APG7-APF3*APF7","v":0.46791936700300019},null,null,{"$f":"APJ7-API3*API7","v":1.1913533684192585},null,null,{"$f":"APM7-APL3*APL7","v":0.93635300523315257},null,null,{"$f":"APP7-APO3*APO7","v":0.42832994352439435},null,null,{"$f":"APS7-APR3*APR7","v":1.0137894565207293},null,null,{"$f":"APV7-APU3*APU7","v":0.99359280851268128},null,null,{"$f":"APY7-APX3*APX7","v":1.2246031349440125},null,null,{"$f":"AQB7-AQA3*AQA7","v":1.0168657874899427},null,null,{"$f":"AQE7-AQD3*AQD7","v":1.4088962312455782},null,null,{"$f":"AQH7-AQG3*AQG7","v":1.1172843607366927},null,null,{"$f":"AQK7-AQJ3*AQJ7","v":0.36780887224697967},null,null,{"$f":"AQN7-AQM3*AQM7","v":0.82996778370086011},null,null,{"$f":"AQQ7-AQP3*AQP7","v":4.3121169605425003E-2},null,null,{"$f":"AQT7-AQS3*AQS7","v":0.94922817317180774},null,null,{"$f":"AQW7-AQV3*AQV7","v":1.1190761334353354},null,null,{"$f":"AQZ7-AQY3*AQY7","v":1.3015331922805045},null,null,{"$f":"ARC7-ARB3*ARB7","v":0.40461602791429119},null,null,{"$f":"ARF7-ARE3*ARE7","v":1.3969564894525179},null,null,{"$f":"ARI7-ARH3*ARH7","v":0.99424691906441831},null,null,{"$f":"ARL7-ARK3*ARK7","v":1.0092849908313259},null,null,{"$f":"ARO7-ARN3*ARN7","v":3.0388903885797625E-2},null,null,{"$f":"ARR7-ARQ3*ARQ7","v":0.26652767387747955},null,null,{"$f":"ARU7-ART3*ART7","v":1.23847857276448},null,null,{"$f":"ARX7-ARW3*ARW7","v":1.0607401036330679},null,null,{"$f":"ASA7-ARZ3*ARZ7","v":1.0785063499329208},null,null,{"$f":"ASD7-ASC3*ASC7","v":1.1522609294811996},null,null,{"$f":"ASG7-ASF3*ASF7","v":1.0182026670159896},null,null,{"$f":"ASJ7-ASI3*ASI7","v":0.2803879855711644},null,null,{"$f":"ASM7-ASL3*ASL7","v":1.0367749549350114},null,null,{"$f":"ASP7-ASO3*ASO7","v":0.50414451136465166},null,null,{"$f":"ASS7-ASR3*ASR7","v":0.95661031184289413},null,null,{"$f":"ASV7-ASU3*ASU7","v":1.0705179342613058},null,null,{"$f":"ASY7-ASX3*ASX7","v":0.43960103010839457},null,null,{"$f":"ATB7-ATA3*ATA7","v":1.0944790598822758},null,null,{"$f":"ATE7-ATD3*ATD7","v":1.0388193716679792},null,null,{"$f":"ATH7-ATG3*ATG7","v":1.102013325938124},null,null,{"$f":"ATK7-ATJ3*ATJ7","v":0.3388351808568979},null,null,{"$f":"ATN7-ATM3*ATM7","v":0.92725357460980939},null,null,{"$f":"ATQ7-ATP3*ATP7","v":0.82268424449971089},null,null,{"$f":"ATT7-ATS3*ATS7","v":1.0248027997993958},null,null,{"$f":"ATW7-ATV3*ATV7","v":1.023578287129455},null,null,{"$f":"ATZ7-ATY3*ATY7","v":0.99315053100848649},null,null,{"$f":"AUC7-AUB3*AUB7","v":1.2199752634495313},null,null,{"$f":"AUF7-AUE3*AUE7","v":0.16840532733974367},null,null,{"$f":"AUI7-AUH3*AUH7","v":1.2016910802682133},null,null,{"$f":"AUL7-AUK3*AUK7","v":1.1368418429887921},null,null,{"$f":"AUO7-AUN3*AUN7","v":1.2146289662583443},null,null,{"$f":"AUR7-AUQ3*AUQ7","v":0.1862255171788334},null,null,{"$f":"AUU7-AUT3*AUT7","v":1.0433636477019164},null,null,{"$f":"AUX7-AUW3*AUW7","v":2.5564393172418765E-2},null,null,{"$f":"AVA7-AUZ3*AUZ7","v":0.7387411436213327},null,null,{"$f":"AVD7-AVC3*AVC7","v":1.2523751815775643},null,null,{"$f":"AVG7-AVF3*AVF7","v":1.165832901781354},null,null,{"$f":"AVJ7-AVI3*AVI7","v":1.1393831031772517},null,null,{"$f":"AVM7-AVL3*AVL7","v":1.2252232571977473},null,null,{"$f":"AVP7-AVO3*AVO7","v":1.0758070591206104},null,null,{"$f":"AVS7-AVR3*AVR7","v":0.93775806109510551},null,null,{"$f":"AVV7-AVU3*AVU7","v":0.92659548714113837},null,null,{"$f":"AVY7-AVX3*AVX7","v":0.91188540853040978},null,null,{"$f":"AWB7-AWA3*AWA7","v":1.0192491180922318},null,null,{"$f":"AWE7-AWD3*AWD7","v":1.1404470725756193},null,null,{"$f":"AWH7-AWG3*AWG7","v":1.2309328304968616},null,null,{"$f":"AWK7-AWJ3*AWJ7","v":1.0301313474514875},null,null,{"$f":"AWN7-AWM3*AWM7","v":0.95669232486975142},null,null,{"$f":"AWQ7-AWP3*AWP7","v":0.43295188780947846},null,null,{"$f":"AWT7-AWS3*AWS7","v":1.0034803816237905},null,null,{"$f":"AWW7-AWV3*AWV7","v":1.1238031987815873},null,null,{"$f":"AWZ7-AWY3*AWY7","v":0.59878982846389261},null,null,{"$f":"AXC7-AXB3*AXB7","v":0.47741794792473069},null,null,{"$f":"AXF7-AXE3*AXE7","v":1.0834225187113975},null,null,{"$f":"AXI7-AXH3*AXH7","v":1.0581184974716211},null,null,{"$f":"AXL7-AXK3*AXK7","v":0.92083228514078419},null,null,{"$f":"AXO7-AXN3*AXN7","v":0.16070831589546897},null,null,{"$f":"AXR7-AXQ3*AXQ7","v":1.0955467852393657},null,null,{"$f":"AXU7-AXT3*AXT7","v":1.1122128657227344},null,null,{"$f":"AXX7-AXW3*AXW7","v":0.53610614099842024},null,null,{"$f":"AYA7-AXZ3*AXZ7","v":1.0241401892600512},null,null,{"$f":"AYD7-AYC3*AYC7","v":1.1164837078935768},null,null,{"$f":"AYG7-AYF3*AYF7","v":0.21685460323553274},null,null,{"$f":"AYJ7-AYI3*AYI7","v":0.72109188725439743},null,null,{"$f":"AYM7-AYL3*AYL7","v":1.2354128131200204},null,null,{"$f":"AYP7-AYO3*AYO7","v":0.28057900391378299},null,null,{"$f":"AYS7-AYR3*AYR7","v":1.1954291005058981},null,null,{"$f":"AYV7-AYU3*AYU7","v":1.1348557153769163},null,null,{"$f":"AYY7-AYX3*AYX7","v":1.0886956671626669},null,null,{"$f":"AZB7-AZA3*AZA7","v":1.4415628670831988},null,null,{"$f":"AZE7-AZD3*AZD7","v":1.2902259743532749},null,null,{"$f":"AZH7-AZG3*AZG7","v":0.47750007486552626},null,null,{"$f":"AZK7-AZJ3*AZJ7","v":1.0993224451257309},null,null,{"$f":"AZN7-AZM3*AZM7","v":0.27062934532980432},null,null,{"$f":"AZQ7-AZP3*AZP7","v":1.2555325631860215},null,null,{"$f":"AZT7-AZS3*AZS7","v":1.0059029857530128},null,null,{"$f":"AZW7-AZV3*AZV7","v":1.2736945991650392},null,null,{"$f":"AZZ7-AZY3*AZY7","v":0.49359212101634764},null,null,{"$f":"BAC7-BAB3*BAB7","v":1.1331855986312473},null,null,{"$f":"BAF7-BAE3*BAE7","v":1.1944060654342952},null,null,{"$f":"BAI7-BAH3*BAH7","v":1.3024581670307014},null,null,{"$f":"BAL7-BAK3*BAK7","v":1.2788942010698996},null,null,{"$f":"BAO7-BAN3*BAN7","v":0.27156831921927349},null,null,{"$f":"BAR7-BAQ3*BAQ7","v":1.0698085722896824},null,null,{"$f":"BAU7-BAT3*BAT7","v":0.91243586403469967},null,null,{"$f":"BAX7-BAW3*BAW7","v":1.2682266558029225},null,null,{"$f":"BBA7-BAZ3*BAZ7","v":0.34532315340227981},null,null,{"$f":"BBD7-BBC3*BBC7","v":1.293333394943144},null,null,{"$f":"BBG7-BBF3*BBF7","v":1.0746687887581587},null,null,{"$f":"BBJ7-BBI3*BBI7","v":1.1403420221060454},null,null,{"$f":"BBM7-BBL3*BBL7","v":1.2606750200540748},null,null,{"$f":"BBP7-BBO3*BBO7","v":1.0544307596886817},null,null,{"$f":"BBS7-BBR3*BBR7","v":0.29525960320355393},null,null,{"$f":"BBV7-BBU3*BBU7","v":0.83362329345783426},null,null,{"$f":"BBY7-BBX3*BBX7","v":1.077297485971862},null,null,{"$f":"BCB7-BCA3*BCA7","v":0.94396063491592574},null,null,{"$f":"BCE7-BCD3*BCD7","v":1.046143723017793},null,null,{"$f":"BCH7-BCG3*BCG7","v":1.2924649346380805},null,null,{"$f":"BCK7-BCJ3*BCJ7","v":1.2724006679475983},null,null,{"$f":"BCN7-BCM3*BCM7","v":0.42564594419359869},null,null,{"$f":"BCQ7-BCP3*BCP7","v":1.214206816887212},null,null,{"$f":"BCT7-BCS3*BCS7","v":1.1429056909538735},null,null,{"$f":"BCW7-BCV3*BCV7","v":0.95491234174358919},null,null,{"$f":"BCZ7-BCY3*BCY7","v":1.1649036940998827},null,null,{"$f":"BDC7-BDB3*BDB7","v":0.21700267713402299},null,null,{"$f":"BDF7-BDE3*BDE7","v":0.65870176150923854},null,null,{"$f":"BDI7-BDH3*BDH7","v":0.56161816624538696},null,null,{"$f":"BDL7-BDK3*BDK7","v":0.64475478830475152},null,null,{"$f":"BDO7-BDN3*BDN7","v":0.38653060102151171},null,null,{"$f":"BDR7-BDQ3*BDQ7","v":1.427535234241641},null,null,{"$f":"BDU7-BDT3*BDT7","v":0.36189093644577808},null,null,{"$f":"BDX7-BDW3*BDW7","v":1.2341473697071463},null,null,{"$f":"BEA7-BDZ3*BDZ7","v":0.51577179770274073},null,null,{"$f":"BED7-BEC3*BEC7","v":1.0001221726478642},null,null,{"$f":"BEG7-BEF3*BEF7","v":0.54110769184902452},null,null,{"$f":"BEJ7-BEI3*BEI7","v":1.2507907694623275},null,null,{"$f":"BEM7-BEL3*BEL7","v":1.0467789858717755},null,null,{"$f":"BEP7-BEO3*BEO7","v":1.0360643162637335},null,null,{"$f":"BES7-BER3*BER7","v":2.4780259017788353E-2},null,null,{"$f":"BEV7-BEU3*BEU7","v":0.4197671298982959},null,null,{"$f":"BEY7-BEX3*BEX7","v":1.0205329868660757},null,null,{"$f":"BFB7-BFA3*BFA7","v":0.96358846959210354},null,null,{"$f":"BFE7-BFD3*BFD7","v":0.40338965365583057},null,null,{"$f":"BFH7-BFG3*BFG7","v":0.17896425881690581},null,null,{"$f":"BFK7-BFJ3*BFJ7","v":1.1609544627403827},null,null,{"$f":"BFN7-BFM3*BFM7","v":1.1926255989197743},null,null,{"$f":"BFQ7-BFP3*BFP7","v":0.34848928970060067},null,null,{"$f":"BFT7-BFS3*BFS7","v":0.62343851054801069},null,null,{"$f":"BFW7-BFV3*BFV7","v":1.4599595080917198},null,null,{"$f":"BFZ7-BFY3*BFY7","v":1.0187007004156006},null,null,{"$f":"BGC7-BGB3*BGB7","v":0.41563342130082059},null,null,{"$f":"BGF7-BGE3*BGE7","v":1.2432333273925567},null,null,{"$f":"BGI7-BGH3*BGH7","v":1.1755439276229973},null,null,{"$f":"BGL7-BGK3*BGK7","v":0.46478826937552231},null,null,{"$f":"BGO7-BGN3*BGN7","v":0.39798632258027844},null,null,{"$f":"BGR7-BGQ3*BGQ7","v":1.0006312333094951},null,null,{"$f":"BGU7-BGT3*BGT7","v":1.2689046428995678}]
[null,null,1,0.22,0.51,null,null,{"$f":"IF(ISERROR(DEVSQ(D5,F5)),\"\",DEVSQ(D5,F5))","v":0},{"$f":"IF(ISERROR(DEVSQ(E5,G5)),\"\",DEVSQ(E5,G5))","v":0},null,"データ数：=COUNT(セル範囲)",null,{"$f":"COUNT(D5:D1304)","v":51},{"$f":"COUNT(E5:E1304)","v":51},{"$f":"COUNT(F5:F1304)","v":0},{"$f":"COUNT(G5:G1304)","v":0},"分　散",{"$f":"R4/M5","v":0},{"$f":"S4/N5","v":0},null,"データ区間","X累積","X","データ区間","Y累積","Y",null,"X開始点",{"$f":"X1m-(X1SD*t1_0.05)","v":-4.4071758423504255},{"$f":"AD4+$AC$7","v":-4.3105363736027469},-1.6134965598548816,{"$f":"(Y1SD/X1SD*(相関係数1*AD5-AG5))+切片1","v":-2.4354061752172762},{"$f":"IF((1-相関係数1^2)*((X1SD*t1_0.05)^2-(AD5-X1m)^2)>0,SQRT((1-相関係数1^2)*((X1SD*t1_0.05)^2-(AD5-X1m)^2)),0)","v":0.49213265295502107},{"$f":"X2m-(X2SD*t1_0.05)","v":{"$error":"#DIV/0!"}},{"$f":"AI4+$AH$7","v":{"$error":"#DIV/0!"}},{"$error":"#DIV/0!"},{"$error":"#DIV/0!"},{"$error":"#DIV/0!"},null,{"$f":"IF(D5<>\"\",RANK(D5,D$5:D$1304),\"\")","v":50},{"$f":"IF(E5<>\"\",RANK(E5,E$5:E$1304),\"\")","v":51},{"$f":"IF(F5<>\"\",RANK(F5,F$5:F$504),\"\")","v":""},{"$f":"IF(G5<>\"\",RANK(G5,G$5:G$504),\"\")","v":""},null,{"$f":"IF(D5<>\"\",(D5+E5)/2,\"\")","v":0.36499999999999999},{"$f":"IF(D5<>\"\",(E5-D5),\"\")","v":0.29000000000000004},null,{"$f":"IF(D5<>\"\",(D5+E5)/2,\"\")","v":0.36499999999999999},{"$f":"IF(D5<>\"\",(E5-D5),\"\")","v":0.29000000000000004},null,0.92830188679245274,1.347209122867187,"Passing b",1.0815584692463489,null,null,1.1233243967828415,null,null,1.3090909090909089,null,null,1.0099009900990099,null,null,1.2006079027355623,null,null,1.004554865424431,null,null,1.1176470588235292,null,null,1.2777777777777777,null,null,1.1869158878504673,null,null,0.96428571428571408,null,null,1.0082644628099173,null,null,1.1923076923076923,null,null,1.1824817518248174,null,null,1.0288566490813169,null,null,1.0700636942675161,null,null,1.1242236024844718,null,null,1.0899999999999999,null,null,1.1032745591939546,null,null,1.0510204081632653,null,null,1.2164502164502169,null,null,0.96250000000000002,null,null,1.2250000000000001,null,null,1.1694260485651213,null,null,1.0719424460431648,null,null,1.0089285714285714,null,null,1.1274047354790973,null,null,1.1233243967828415,null,null,1.3058823529411767,null,null,1.095744680851064,null,null,1.0459770114942528,null,null,1.1134020618556704,null,null,1.0047619047619052,null,null,1.2026143790849675,null,null,1.0274725274725276,null,null,0.98333333333333339,null,null,1.0274725274725276,null,null,1.1068066544938122,null,null,1.2284141726866187,null,null,1.2287581699346406,null,null,1.2000000000000004,null,null,1.3559322033898304,null,null,1.0459770114942528,null,null,1.2735426008968609,null,null,1.0264900662251659,null,null,0.98264350252458121,null,null,0.99173553719008278,null,null,1.3058823529411767,null,null,1.1358695652173914,null,null,0.99264705882352922,null,null,0.99999999999999978,null,null,1.25,null,null,0.9565217391304357,null,null,0.98842592592592571,null,null,1.1369426751592355,null,null,1.1136200716845881,null,null,1.1627906976744193,null,null,1.0456431535269708,null,null,1.2006079027355623,null,null,1.1399999999999999,null,null,1.0568181818181817,null,null,1.0459238869945084,null,null,1.0691579144786196,null,null,1.2164502164502169,null,null,1.1666666666666665,null,null,1.0072395833333334,null,null,0.81276260504201692,null,null,0.934782608695652,null,null,1.0394265232974911,null,null,1.1086956521739129,null,null,1.0824742268041234,null,null,1.1614349775784754,null,null,1.004032258064516,null,null,1.0353535353535352,null,null,1.1627906976744193,null,null,1.119341563786008,null,null,1.1790393013100438,null,null,1.086021505376344,null,null,1.1274509803921569,null,null,0.9942129629629628,null,null,1.0264900662251659,null,null,1.153846153846154,null,null,1.0724637681159419,null,null,1.1514550264550265,null,null,1.0043478260869565,null,null,1.2735426008968609,null,null,1.0906801007556675,null,null,1.095744680851064,null,null,1.2006079027355623,null,null,1.0899999999999999,null,null,1.1186330460439473,null,null,1.113171355498721,null,null,1.0456431535269708,null,null,0.99738219895287972,null,null,1.1790393013100438,null,null,1.2107117688513029,null,null,1.1484516100612308,null,null,1.2592592592592595,null,null,1.0314960629921257,null,null,1.2488262910798118,null,null,1.0204081632653061,null,null,0.87179487179487281,null,null,1.0066666666666668,null,null,1.119341563786008,null,null,1.0264900662251659,null,null,1.0972496010513471,null,null,1.2287581699346406,null,null,0.90530303030303039,null,null,1.0697674418604648,null,null,1.1134020618556704,null,null,1.0032981803143093,null,null,1.0394265232974911,null,null,1.402439024390244,null,null,1.1388888888888888,null,null,0.98842592592592571,null,null,1.0724637681159419,null,null,1.0071428571428573,null,null,1.0284237726098189,null,null,0.93478260869565211,null,null,1.1762566496580176,null,null,1.0047619047619052,null,null,1.0700636942675161,null,null,1.215306122448979,null,null,1.172413793103448,null,null,1.0299599178009724,null,null,1.022756382887883,null,null,1.0802469135802468,null,null,1.1543040293040294,null,null,1.048951048951049,null,null,1.0066666666666668,null,null,1.1370716510903427,null,null,1.0890804597701149,null,null,1.2164502164502169,null,null,1.1370071631247891,null,null,1.1276595744680848,null,null,0.98842592592592571,null,null,0.92830188679245274,null,null,1.0476190476190479,null,null,0.93168873944966712,null,null,1.0516146217523152,null,null,1.0622489959839356,null,null,1.1578947368421053,null,null,0.90295358649789026,null,null,1.153846153846154,null,null,1.0522088353413654,null,null,1.1680509413067552,null,null,1.2451923076923075,null,null,1.0365853658536588,null,null,1.1032745591939546,null,null,1.0459770114942528,null,null,1.2176165803108809,null,null,1.02510460251046,null,null,1.1519756838905775,null,null,1.1274509803921569,null,null,1.0551948051948052,null,null,1.0078124999999998,null,null,1.1790393013100438,null,null,0.98039215686274528,null,null,1.0903400503778338,null,null,1.0314960629921257,null,null,1.095744680851064,null,null,1.0622489959839356,null,null,1.1016949152542375,null,null,1.1242236024844718,null,null,1.1666666666666665,null,null,1.2121212121212119,null,null,1.1578947368421053,null,null,1.0759493670886076,null,null,1.1578947368421053,null,null,1.0931677018633539,null,null,1.0274725274725276,null,null,1.0178571428571428,null,null,1.2777777777777777,null,null,1.1276595744680848,null,null,1.0964383851194253,null,null,1.0082644628099173,null,null,1.0796460176991147,null,null,1.004032258064516,null,null,1.0365853658536588,null,null,1.02510460251046,null,null,1.2265350877192982,null,null,1.2983193277310925,null,null,1.009090909090909,null,null,1.0274725274725276,null,null,1.0568181818181817,null,null,1.1276595744680848,null,null,1.393939393939394,null,null,1.0622489959839356,null,null,0.92874692874692866,null,null,1.0392156862745099,null,null,1.224124809741248,null,null,1.0528846153846154,null,null,1.2162162162162162,null,null,0.97419354838709693,null,null,0.98951048951048926,null,null,1.2490108687153021,null,null,1,null,null,1.3095238095238098,null,null,1.1369426751592355,null,null,1.0089285714285714,null,null,1.0648148148148147,null,null,1.0719424460431648,null,null,1.2142857142857126,null,null,1.1869158878504673,null,null,1.0032467532467533,null,null,1.1332742316784867,null,null,1.1254029404827417,null,null,1.1369426751592355,null,null,1.1032745591939546,null,null,0.96640826873385,null,null,1,null,null,0.99999999999999978,null,null,1.3076923076923077,null,null,1,null,null,1.1176470588235292,null,null,1.0397350993377483,null,null,1.1274509803921569,null,null,0.90099009900990135,null,null,1.1274509803921569,null,null,1.0326086956521738,null,null,1.2162162162162162,null,null,1.1981994209192903,null,null,0.93542435424354253,null,null,1.1265822784810116,null,null,1.0355987055016183,null,null,1.0476190476190479,null,null,1.2162162162162162,null,null,1.0365853658536588,null,null,1.216326530612245,null,null,1.3569321533923304,null,null,1.2176165803108809,null,null,0.92874692874692866,null,null,1.0568181818181817,null,null,1.02510460251046,null,null,1.2983193277310925,null,null,1.086021505376344,null,null,0.98039215686274528,null,null,1.1708103232052101,null,null,1.1388888888888888,null,null,0.97938144329896903,null,null,1.0256410256410255,null,null,1.0476190476190479,null,null,1.0539192949907235,null,null,1.2390438247011948,null,null,1.2093023255813939,null,null,1.0397350993377483,null,null,1.0700636942675161,null,null,1.048951048951049,null,null,0.95999999999999963,null,null,1.0931677018633539,null,null,1.0551948051948052,null,null,1.2250000000000001,null,null,1.2287581699346406,null,null,1.1869158878504673,null,null,1.0353535353535352,null,null,1.1388888888888888,null,null,1.096685082872928,null,null,1.0899999999999999,null,null,1.0510204081632653,null,null,1.2006079027355623,null,null,1.1720191952750092,null,null,1.0666666666666667,null,null,0.98113207547169767,null,null,1.0628571428571429,null,null,1.0817610062893082,null,null,1.0999999999999999,null,null,1.172413793103448,null,null,1.0066666666666668,null,null,1.0970149253731345,null,null,1.139165559982293,null,null,1.0207100591715976,null,null,1.0326086956521738,null,null,1.1111111111111112,null,null,0.99264705882352922,null,null,1.1869158878504673,null,null,1.1869158878504673,null,null,1.0094959495949594,null,null,1.2983193277310925,null,null,1.0961179544606199,null,null,1.0178571428571428,null,null,1.1016949152542375,null,null,1.0284237726098189,null,null,1.0462046204620461,null,null,1.1803278688524592,null,null,1.096685082872928,null,null,0.92589236819833709,null,null,1.0648148148148147,null,null,1.007390570557491,null,null,1.0326086956521738,null,null,1.2287581699346406,null,null,1.0964912280701755,null,null,1.2212389380530977,null,null,1.2554112554112558,null,null,1.0974842767295598,null,null,1.1265822784810116,null,null,1.2170333983805488,null,null,1.4081632653061209,null,null,1.0685483870967742,null,null,1.0475778347065474,null,null,1.1578947368421053,null,null,1.0697674418604648,null,null,1.0043478260869565,null,null,1.2864583333333333,null,null,1.0897435897435899,null,null,1.086021505376344,null,null,1.0666666666666664,null,null,1.1155723158828748,null,null,1.3659942363112392,null,null,1.119341563786008,null,null,1.0314960629921257,null,null,1.0326086956521738,null,null,1.2490421455938696,null,null,1.2875816993464051,null,null,1.2870200163398691,null,null,1.0348360655737705,null,null,0.97717576051892197,null,null,0.9553977272727272,null,null,1.0628571428571429,null,null,1.0899999999999999,null,null,0.9565217391304357,null,null,0.97337278106508862,null,null,0.96153353814644116,null,null,1.2093023255813939,null,null,1.0204081632653061,null,null,1.0622489959839356,null,null,1.0078124999999998,null,null,0.99999999999999978,null,null,0.97916666666666652,null,null,1.096385542168675,null,null,1.013192612137203,null,null,1.1964577975216275,null,null,1.0031446540880504,null,null,1.004149377593361,null,null,1.0082644628099173,null,null,1.0142857142857142,null,null,1.0692041522491347,null,null,1.2176165803108809,null,null,1.0099009900990099,null,null,1.0759493670886076,null,null,1.0799464656396807,null,null,0.90584415584415579,null,null,1.0108695652173911,null,null,1.0724637681159419,null,null,1.2375160126455826,null,null,1.0099009900990099,null,null,0.94754098360655714,null,null,1.0522088353413654,null,null,1.0666666666666667,null,null,1.216326530612245,null,null,1.0700636942675161,null,null,0.93478260869565211,null,null,1.1649659863945576,null,null,1.0999999999999999,null,null,1.0843373493975905,null,null,0.9181818181818181,null,null,1.2275449101796405,null,null,1.1066666666666667,null,null,1.1369426751592355,null,null,1.1596648572102903,null,null,1.0843373493975905,null,null,1.1481481481481481,null,null,1.0053475935828877,null,null,1.1257910465252547,null,null,1.0392156862745099,null,null,1.0456431535269708,null,null,1.3888888888888891,null,null,0.98039215686274528,null,null,0.97337278106508862,null,null,1.1627906976744193,null,null,0.9705882352941172,null,null,1.2280701754385965,null,null,1.1722996117835121,null,null,1.1547619047619049,null,null,1.0459770114942528,null,null,0.9963235294117645,null,null,1.2365431889463421,null,null,1.1008474576271188,null,null,1.2142857142857126,null,null,1,null,null,1.0813559322033897,null,null,0.93478260869565211,null,null,1.096685082872928,null,null,1.2284141726866187,null,null,1.3377483443708607,null,null,1.095744680851064,null,null,0.9653469915097822,null,null,1.1469387755102041,null,null,1.1388888888888888,null,null,1.0032467532467533,null,null,1.1233686586203508,null,null,1.0928961748633881,null,null,1.1274509803921569,null,null,1.0666666666666664,null,null,1.1923076923076927,null,null,0.98415492957746464,null,null,0.94754098360655714,null,null,0.86995515695067283,null,null,1.2314814814814812,null,null,0.93542435424354253,null,null,1.4090909090909092,null,null,1.0510204081632653,null,null,1.0365853658536588,null,null,0.9705882352941172,null,null,1.1386138613861385,null,null,1.0889830508474574,null,null,1.2019543973941365,null,null,1.0061581173489351,null,null,1.0699884792626728,null,null,1.0897435897435899,null,null,1.0522088353413654,null,null,0.99999999999999978,null,null,0.99999999999999978,null,null,1.1179245283018868,null,null,1.1721854304635762,null,null,1.0906801007556675,null,null,1,null,null,0.97535211267605604,null,null,1.1869158878504673,null,null,1.1519756838905775,null,null,0.98333333333333339,null,null,1.0207100591715976,null,null,1.1179245283018868,null,null,1.2176165803108809,null,null,0.9638554216867472,null,null,1.0947766220160144,null,null,1.1469387755102041,null,null,1.0947906288681581,null,null,1.1086956521739129,null,null,1.1265822784810116,null,null,1.0274725274725276,null,null,1,null,null,1.1632653061224489,null,null,1.0428560554160007,null,null,1.1777251184834121,null,null,1.096685082872928,null,null,1.3093073593073592,null,null,1.153846153846154,null,null,1.0603448275862071,null,null,1.1519756838905775,null,null,1.1224489795918366,null,null,1.1276595744680848,null,null,1.0961179544606199,null,null,1.0817610062893082,null,null,1.0625530694205394,null,null,1.1803278688524592,null,null,0.98958333333333337,null,null,1.0666666666666664,null,null,1.0162601626016261,null,null,1.1276595744680848,null,null,1.3889876718824086,null,null,1.0660306475531387,null,null,0.92498827941865902,null,null,1.5100401606425704,null,null,1.5384615384615381,null,null,1.0802469135802468,null,null,1.1790393013100438,null,null,1.0069686411149825,null,null,1.1111111111111112,null,null,1.2164502164502169,null,null,1.0066666666666668,null,null,1.0666666666666664,null,null,1.0284237726098189,null,null,1.086021505376344,null,null,1.0648148148148147,null,null,1.1481481481481481,null,null,1.1019336277264822,null,null,1.0808014228918181,null,null,1.096385542168675,null,null,1.0714285714285714,null,null,1.0796460176991147,null,null,1.2875816993464051,null,null,1.0043478260869565,null,null,1,null,null,1.0204081632653061,null,null,1.096385542168675,null,null,1.0459770114942528,null,null,1.0945121951219512,null,null,1.3041757443718227,null,null,1.0824742268041234,null,null,1.0204081632653061,null,null,1.1627906976744193,null,null,1.0023066414459856,null,null,1.0666666666666664,null,null,1.2019543973941365,null,null,1.347209122867187,null,null,1.3062745098039215,null,null,1.0719424460431648,null,null,0.98958333333333337,null,null,1.0071428571428573,null,null,1.1668102040210258,null,null,0.93382352941176461,null,null,1.1358695652173914,null,null,1.1578947368421053,null,null,1.1578947368421053,null,null,1.0387444035172575,null,null,1.0813559322033897,null,null,1.119341563786008,null,null,1.0326086956521738,null,null,1.0697674418604648,null,null,1.0906801007556675,null,null,1.1558704453441297,null,null,1.032640949554896,null,null,1.1032745591939546]
[null,null,2,0.22,0.56000000000000005,null,null,0,0,null,"平　　均：=AVERAGE(セル範囲) ",null,{"$f":"AVERAGE(D5:D1304)","v":2.8407843137254902},{"$f":"AVERAGE(E5:E1304)","v":3.4027450980392153},{"$f":"AVERAGE(F5:F1304)","v":{"$error":"#DIV/0!"}},{"$f":"AVERAGE(G5:G1304)","v":{"$error":"#DIV/0!"}},"精密度SD",{"$f":"R5^0.5","v":0},{"$f":"S5^0.5","v":0},null,{"$f":"CEILING(((_MAX1-_MIN1)/階級数)+_MIN1,0.01)","v":2.02},{"$f":"FREQUENCY($D$5:$D$1304,U6)","v":22},{"$f":"V6","v":22},{"$f":"CEILING(((_MAX2-_MIN2)/階級数)+_MIN2,0.1)","v":1.9000000000000001},{"$f":"FREQUENCY($E$5:$E$1304,X6)","v":17},{"$f":"Y6","v":17},null,"X終了点",{"$f":"X1m+(X1SD*t1_0.05)","v":10.088744469801405},{"$f":"AD5+$AC$7","v":-4.2138969048550683},-1.3718865567740282,-2.5303351927420419,0.69364123484513807,{"$f":"X2m+(X2SD*t1_0.05)","v":{"$error":"#DIV/0!"}},{"$f":"AI5+$AH$7","v":{"$error":"#DIV/0!"}},{"$error":"#DIV/0!"},{"$error":"#DIV/0!"},{"$error":"#DIV/0!"},null,{"$f":"IF(D6<>\"\",RANK(D6,$D$5:$D$1304),\"\")","v":50},{"$f":"IF(E6<>\"\",RANK(E6,$E$5:$E$1304),\"\")","v":50},"","",null,{"$f":"IF(D6<>\"\",(D6+E6)/2,\"\")","v":0.39},{"$f":"IF(D6<>\"\",(E6-D6),\"\")","v":0.34000000000000008},null,{"$f":"IF(D6<>\"\",(D6+E6)/2,\"\")","v":0.39},{"$f":"IF(D6<>\"\",(E6-D6),\"\")","v":0.34000000000000008},null,0.11420749279538889,0.61618181818181816,"Passing a",0.35886749813452723,null,null,0.39053619302949072,null,null,9.818181818181837E-2,null,null,0.57227722772277234,null,null,0.36580547112462014,null,null,0.57631469979295868,null,null,0.34705882352941209,null,null,0.25388888888888894,null,null,0.2385514018691588,null,null,0.60142857142857153,null,null,0.46942148760330582,null,null,0.2313461538461539,null,null,0.28131386861313878,null,null,0.42421775513916704,null,null,0.40891719745222899,null,null,0.35145962732919261,null,null,0.3202000000000001,null,null,0.31727959697733005,null,null,0.41367346938775512,null,null,0.30861471861471745,null,null,0.60349999999999993,null,null,0.29399999999999982,null,null,0.24991169977924943,null,null,0.35539568345323991,null,null,0.42714285714285716,null,null,0.26197095819459859,null,null,0.21898123324396868,null,null,0.23894117647058813,null,null,0.31893617021276599,null,null,0.40298850574712652,null,null,0.28463917525773152,null,null,0.55447619047619012,null,null,0.20875816993464036,null,null,0.39835164835164782,null,null,0.61166666666666636,null,null,0.39310439560439553,null,null,0.436104280787178,null,null,0.26890952872376994,null,null,0.22114379084967317,null,null,0.24599999999999994,null,null,0.10177966101694907,null,null,0.41528735632183911,null,null,0.14439461883408078,null,null,0.43433774834437022,null,null,0.52256344671804444,null,null,0.57727272727272716,null,null,0.20752941176470566,null,null,0.26635869565217396,null,null,0.52720588235294175,null,null,0.50000000000000089,null,null,0.22250000000000014,null,null,0.62630434782608591,null,null,0.58694444444444449,null,null,0.15570063694267555,null,null,0.31500358422939068,null,null,0.31465116279069671,null,null,0.54163900414937771,null,null,0.23920972644376892,null,null,0.40799999999999992,null,null,0.41181818181818186,null,null,0.36119578762855564,null,null,0.53850525131282823,null,null,0.3086147186147179,null,null,0.3033333333333334,null,null,0.49058854166666666,null,null,0.69217436974789903,null,null,0.58478260869565246,null,null,0.35412186379928312,null,null,0.29565217391304399,null,null,0.3634020618556707,null,null,0.30448430493273548,null,null,0.49475806451612914,null,null,0.47979797979798011,null,null,0.24802325581395304,null,null,0.41333333333333344,null,null,0.26724890829694314,null,null,0.35623655913978514,null,null,0.30196078431372553,null,null,0.31967592592592675,null,null,0.52754966887417154,null,null,0.34807692307692295,null,null,0.29905797101449283,null,null,0.3815343915343915,null,null,0.57739130434782582,null,null,0.16887892376681646,null,null,0.34682619647355184,null,null,0.30287234042553179,null,null,0.21124620060790278,null,null,0.36324999999999996,null,null,0.4223856665890211,null,null,0.31966751918158587,null,null,0.45850622406639063,null,null,0.50968586387434511,null,null,0.30061135371179043,null,null,0.19825229034531433,null,null,0.21833355358794737,null,null,0.22962962962962896,null,null,0.43622047244094553,null,null,0.2352582159624414,null,null,0.42448979591836711,null,null,0.75666666666666527,null,null,0.42786666666666662,null,null,0.26374485596707825,null,null,0.42715231788079433,null,null,0.31860508776870367,null,null,0.29261437908496701,null,null,0.47617424242424233,null,null,0.36790697674418638,null,null,0.21963917525773047,null,null,0.57802109181141437,null,null,0.41761648745519697,null,null,0.14878048780487774,null,null,0.38555555555555554,null,null,0.5150462962962965,null,null,0.27405797101449281,null,null,0.52121428571428552,null,null,0.46304909560723551,null,null,0.54086956521739138,null,null,0.30122353707523619,null,null,0.57819047619047592,null,null,0.36178343949044534,null,null,0.31024489795918453,null,null,0.33103448275862102,null,null,0.46105210685873588,null,null,0.44835581931517399,null,null,0.36376543209876466,null,null,0.26866300366300355,null,null,0.34545454545454479,null,null,0.43979999999999986,null,null,0.48218068535825565,null,null,0.32675287356321814,null,null,0.30861471861471745,null,null,0.32189068793777409,null,null,0.51734042553191528,null,null,0.3425462962962964,null,null,0.60724528301886793,null,null,0.45238095238095177,null,null,0.5447059630824127,null,null,0.43290099172199015,null,null,0.3828112449799197,null,null,0.47157894736842088,null,null,0.52932489451476794,null,null,0.29999999999999982,null,null,0.43212851405622499,null,null,0.37622369878183831,null,null,0.35634615384615409,null,null,0.45243902439024364,null,null,0.45574307304785888,null,null,0.4889655172413796,null,null,0.30733160621761635,null,null,0.51464435146443632,null,null,0.28699088145896667,null,null,0.49475490196078448,null,null,0.41233766233766234,null,null,0.51332031250000021,null,null,0.30061135371179043,null,null,0.58274509803921548,null,null,0.34704785894206536,null,null,0.48543307086614229,null,null,0.35372340425531867,null,null,0.3828112449799197,null,null,0.44203389830508466,null,null,0.29145962732919273,null,null,0.37000000000000011,null,null,0.22015151515151532,null,null,0.3052631578947369,null,null,0.36917721518987345,null,null,0.26421052631578945,null,null,0.40018633540372678,null,null,0.45714285714285641,null,null,0.54464285714285743,null,null,0.22888888888888892,null,null,0.4119148936170216,null,null,0.31878355527372648,null,null,0.55371900826446285,null,null,0.36123893805309781,null,null,0.55532258064516138,null,null,0.46402439024390185,null,null,0.4145397489539755,null,null,0.29016228070175443,null,null,0.24936974789915967,null,null,0.47336363636363621,null,null,0.55428571428571405,null,null,0.33289772727272743,null,null,0.48553191489361769,null,null,0.1599999999999997,null,null,0.3828112449799197,null,null,0.59985257985257989,null,null,0.43323529411764705,null,null,0.27813165905631676,null,null,0.43124999999999991,null,null,0.30918918918918914,null,null,0.59548387096774125,null,null,0.57807692307692327,null,null,0.26628587067010723,null,null,0.69,null,null,0.14261904761904731,null,null,0.41197452229299358,null,null,0.57660714285714287,null,null,0.37962962962962976,null,null,0.37079136690647552,null,null,0.19500000000000162,null,null,0.18392523364485969,null,null,0.49577922077922065,null,null,0.50003546099290797,null,null,0.27588332416070505,null,null,0.32197452229299373,null,null,0.26727959697733006,null,null,0.44074935400516801,null,null,0.5,null,null,0.60000000000000053,null,null,0.10499999999999998,null,null,0.58999999999999986,null,null,0.33058823529411796,null,null,0.41728476821192029,null,null,0.30696078431372553,null,null,0.53143564356435613,null,null,0.30196078431372553,null,null,0.41956521739130442,null,null,0.24243243243243245,null,null,0.24234075280492262,null,null,0.45066420664206636,null,null,0.26848101265822849,null,null,0.41585760517799342,null,null,0.43809523809523765,null,null,0.26743243243243248,null,null,0.42067073170731673,null,null,0.29489795918367356,null,null,0.20884955752212386,null,null,0.29984455958549228,null,null,0.62039312039312033,null,null,0.40931818181818225,null,null,0.40711297071129815,null,null,0.27436974789915969,null,null,0.46021505376344107,null,null,0.36666666666666625,null,null,0.30242172889485386,null,null,0.26180555555555562,null,null,0.58391752577319589,null,null,0.54346153846153855,null,null,0.42642857142857105,null,null,0.41667439703154052,null,null,0.27924302788844657,null,null,0.31720930232558309,null,null,0.46490066225165583,null,null,0.39035031847133739,null,null,0.47891608391608331,null,null,0.43120000000000103,null,null,0.31950310559006212,null,null,0.44545454545454533,null,null,0.27775000000000016,null,null,0.2926143790849669,null,null,0.24887850467289718,null,null,0.41616161616161662,null,null,0.47902777777777783,null,null,0.28308011049723802,null,null,0.39210000000000012,null,null,0.41367346938775512,null,null,0.29586626139817634,null,null,0.30215577703949803,null,null,0.27533333333333332,null,null,0.54716981132075571,null,null,0.38628571428571412,null,null,0.35861635220125776,null,null,0.27449999999999986,null,null,0.27706896551724147,null,null,0.33853333333333335,null,null,0.38641791044776097,null,null,0.46079404603807017,null,null,0.42337278106508874,null,null,0.43043478260869605,null,null,0.28888888888888875,null,null,0.57566176470588248,null,null,0.22406542056074763,null,null,0.41313084112149534,null,null,0.48765526552655292,null,null,9.5756302521007974E-2,null,null,0.33086972751026433,null,null,0.52321428571428574,null,null,0.30957627118644027,null,null,0.43136950904392779,null,null,0.45528052805280561,null,null,0.26557377049180309,null,null,0.32400552486187872,null,null,0.55196594812565403,null,null,0.37962962962963021,null,null,0.45083569250871114,null,null,0.41956521739130437,null,null,0.26816993464052308,null,null,0.30219298245614024,null,null,0.14876106194690197,null,null,0.16796536796536743,null,null,0.3732704402515723,null,null,0.33544303797468489,null,null,0.29337819348182048,null,null,-2.3061224489794974E-2,null,null,0.40806451612903222,null,null,0.35259525952595272,null,null,0.25526315789473686,null,null,0.4433720930232562,null,null,0.57739130434782582,null,null,0.12932291666666673,null,null,0.34871794871794859,null,null,0.37365591397849474,null,null,0.41333333333333377,null,null,0.31457409050576757,null,null,0.11420749279538889,null,null,0.42156378600823086,null,null,0.43622047244094553,null,null,0.51543478260869591,null,null,0.30827586206896551,null,null,0.12614379084967342,null,null,0.12773335375817041,null,null,0.41885245901639329,null,null,0.52967151132540136,null,null,0.59694886363636357,null,null,0.40988571428571424,null,null,0.30810000000000015,null,null,0.56304347826086798,null,null,0.59343195266272197,null,null,0.34846262160778296,null,null,0.31000000000000316,null,null,0.42346938775510201,null,null,0.42570281124498033,null,null,0.45031250000000034,null,null,0.4800000000000002,null,null,0.4366666666666667,null,null,0.34048192771084285,null,null,0.56306068601583181,null,null,0.24677928454524195,null,null,0.47017295597484243,null,null,0.48464730290456437,null,null,0.47487603305785098,null,null,0.44471428571428595,null,null,0.41003460207612497,null,null,0.3044041450777204,null,null,0.54851485148514856,null,null,0.39430379746835464,null,null,0.36502430896973692,null,null,0.6201298701298702,null,null,0.44315217391304373,null,null,0.32405797101449285,null,null,0.26782968421300124,null,null,0.380990099009901,null,null,0.6709836065573771,null,null,0.41329317269076304,null,null,0.41333333333333355,null,null,0.30906122448979589,null,null,0.405700636942675,null,null,0.44934782608695656,null,null,0.25370748299319734,null,null,0.35300000000000009,null,null,0.35102409638554144,null,null,0.61618181818181816,null,null,0.23994011976047908,null,null,0.39880000000000004,null,null,0.28068471337579615,null,null,0.38243568562662245,null,null,0.39891566265060208,null,null,0.30740740740740735,null,null,0.58243315508021387,null,null,0.30401910230868401,null,null,0.47843137254901946,null,null,0.44273858921161868,null,null,0.22944444444444445,null,null,0.40784313725490184,null,null,0.61156804733727832,null,null,0.33767441860465064,null,null,0.40000000000000169,null,null,0.18245614035087709,null,null,0.30209408540762739,null,null,0.38047619047619041,null,null,0.34540229885057472,null,null,0.46455882352941202,null,null,0.16668644570653579,null,null,0.30544915254237237,null,null,0.22142857142857353,null,null,0.49499999999999988,null,null,0.3591186440677967,null,null,0.5758695652173913,null,null,0.52198895027624315,null,null,0.26890952872376994,null,null,0.16821192052980183,null,null,0.30287234042553179,null,null,0.59316814322628275,null,null,0.28267346938775512,null,null,0.31944444444444442,null,null,0.58311688311688226,null,null,0.31285889510352283,null,null,0.46923497267759529,null,null,0.28196078431372551,null,null,0.37733333333333352,null,null,0.36846153846153834,null,null,0.57838028169014111,null,null,0.52327868852459081,null,null,0.63161434977578468,null,null,0.28907407407407421,null,null,0.61874538745387442,null,null,5.1818181818181763E-2,null,null,0.61265306122448981,null,null,0.46402439024390185,null,null,0.61852941176470699,null,null,0.40980198019801972,null,null,0.34966101694915275,null,null,0.32745928338762242,null,null,0.45236393448732048,null,null,0.32631048387096773,null,null,0.34871794871794859,null,null,0.42271084337349402,null,null,0.57000000000000017,null,null,0.56000000000000028,null,null,0.31377358490566021,null,null,0.26132450331125823,null,null,0.32005037783375323,null,null,0.43,null,null,0.56070422535211284,null,null,0.29887850467289723,null,null,0.38806990881458969,null,null,0.58633333333333326,null,null,0.42337278106508869,null,null,0.31377358490566021,null,null,0.22961139896373042,null,null,0.60180722891566252,null,null,0.34247698870014198,null,null,0.39426530612244892,null,null,0.34245962020348397,null,null,0.29108695652173933,null,null,0.30512658227848222,null,null,0.56653846153846144,null,null,0.57999999999999996,null,null,0.30408163265306126,null,null,0.51028697571743931,null,null,0.30090047393364938,null,null,0.3187292817679559,null,null,9.7900432900432932E-2,null,null,0.38538461538461521,null,null,0.38517241379310319,null,null,0.25656534954407295,null,null,0.37938775510204092,null,null,0.50340425531914901,null,null,0.34081373646883129,null,null,0.37106918238993725,null,null,0.48743843947217447,null,null,0.35319672131147517,null,null,0.58395833333333336,null,null,0.45166666666666677,null,null,0.5847967479674796,null,null,0.36159574468085126,null,null,0.1664295874822197,null,null,0.32991211072664384,null,null,0.62727144866385376,null,null,-3.1646586345381644E-2,null,null,-0.1519230769230755,null,null,0.37530864197530889,null,null,0.357248908296943,null,null,0.56979094076655057,null,null,0.28888888888888875,null,null,0.24238095238095231,null,null,0.42786666666666662,null,null,0.37733333333333352,null,null,0.50335917312661582,null,null,0.33607526881720395,null,null,0.39907407407407458,null,null,0.30740740740740735,null,null,0.3034614612605373,null,null,0.37375601590290941,null,null,0.39915662650602401,null,null,0.37892857142857106,null,null,0.47703539823008889,null,null,0.12614379084967364,null,null,0.57739130434782582,null,null,0.56000000000000005,null,null,0.49387755102040742,null,null,0.31361445783132469,null,null,0.4277586206896552,null,null,0.31704268292682913,null,null,0.22308133623819904,null,null,0.38067010309278371,null,null,0.4295918367346937,null,null,0.37790697674418583,null,null,0.58926187473728464,null,null,0.41333333333333355,null,null,0.29557003257329001,null,null,7.403969819085976E-2,null,null,0.20472156862745128,null,null,0.39856115107913848,null,null,0.52604166666666663,null,null,0.42771428571428566,null,null,0.28314673477266661,null,null,0.61110294117647057,null,null,0.40788043478260849,null,null,0.37684210526315787,null,null,0.38473684210526304,null,null,0.41195693963860069,null,null,0.32338983050847547,null,null,0.43485596707818952,null,null,0.56043478260869561,null,null,0.35000000000000031,null,null,0.32005037783375306,null,null,0.25570850202429146,null,null,0.43026706231453993,null,null,0.47911838790932004]
[null,null,3,0.46,0.7,null,null,0,0,null,"分　　散：=VER（セル範囲)",null,{"$f":"VAR(D5:D1304)","v":8.7661473725490211},{"$f":"VAR(E5:E1304)","v":6.11269231372549},{"$f":"VAR(F5:F1304)","v":{"$error":"#DIV/0!"}},{"$f":"VAR(G5:G1304)","v":{"$error":"#DIV/0!"}},"CV",{"$f":"R6/X1m","v":0},{"$f":"S6/X1m","v":0},null,{"$f":"U6+CEILING((_MAX1-_MIN1)/階級数,0.01)","v":3.8200000000000003},40,{"$f":"V7-V6","v":18},{"$f":"X6+CEILING((_MAX2-_MIN2)/階級数,0.01)","v":3.22},27,{"$f":"Y7-Y6","v":10},null,"serp",{"$f":"(AC6-AC5)/150","v":9.6639468747678869E-2},-4.1172574361073897,-1.1707690596592708,-2.5847717043007097,0.84665863470399039,{"$f":"(AH6-AH5)/150","v":{"$error":"#DIV/0!"}},{"$error":"#DIV/0!"},{"$error":"#DIV/0!"},{"$error":"#DIV/0!"},{"$error":"#DIV/0!"},null,45,49,"","",null,{"$f":"IF(D7<>\"\",(D7+E7)/2,\"\")","v":0.57999999999999996},0.23999999999999994,null,0.57999999999999996,0.23999999999999994,null,"↑\nrank\nブートストラップ用に使用",null,"平均X・Y=",{"$f":"AVERAGE(BB11:BB511)","v":3.1454901960784318},{"$f":"AVERAGE(BC11:BC511)","v":3.6858823529411766},null,{"$f":"AVERAGE(BE11:BE511)","v":2.232549019607843},{"$f":"AVERAGE(BF11:BF511)","v":2.9903921568627454},null,{"$f":"AVERAGE(BH11:BH511)","v":2.5803921568627448},{"$f":"AVERAGE(BI11:BI511)","v":3.2954901960784313},null,{"$f":"AVERAGE(BK11:BK511)","v":2.4558823529411775},{"$f":"AVERAGE(BL11:BL511)","v":3.3660784313725505},null,{"$f":"AVERAGE(BN11:BN511)","v":2.8601960784313722},{"$f":"AVERAGE(BO11:BO511)","v":3.41},null,{"$f":"AVERAGE(BQ11:BQ511)","v":2.534313725490196},{"$f":"AVERAGE(BR11:BR511)","v":3.1394117647058821},null,{"$f":"AVERAGE(BT11:BT511)","v":2.4321568627450985},{"$f":"AVERAGE(BU11:BU511)","v":3.3741176470588221},null,{"$f":"AVERAGE(BW11:BW511)","v":2.3733333333333335},{"$f":"AVERAGE(BX11:BX511)","v":2.9907843137254893},null,{"$f":"AVERAGE(BZ11:BZ511)","v":3.1472549019607841},{"$f":"AVERAGE(CA11:CA511)","v":3.3660784313725491},null,{"$f":"AVERAGE(CC11:CC511)","v":2.5194117647058825},{"$f":"AVERAGE(CD11:CD511)","v":3.0123529411764705},null,{"$f":"AVERAGE(CF11:CF511)","v":3.3011764705882349},{"$f":"AVERAGE(CG11:CG511)","v":3.8694117647058826},null,{"$f":"AVERAGE(CI11:CI511)","v":2.2686274509803921},{"$f":"AVERAGE(CJ11:CJ511)","v":2.9311764705882344},null,{"$f":"AVERAGE(CL11:CL511)","v":3.0388235294117658},{"$f":"AVERAGE(CM11:CM511)","v":3.5631372549019602},null,{"$f":"AVERAGE(CO11:CO511)","v":2.4674509803921567},{"$f":"AVERAGE(CP11:CP511)","v":3.0615686274509799},null,{"$f":"AVERAGE(CR11:CR511)","v":2.8933333333333335},{"$f":"AVERAGE(CS11:CS511)","v":3.5721568627450977},null,{"$f":"AVERAGE(CU11:CU511)","v":2.8913725490196081},{"$f":"AVERAGE(CV11:CV511)","v":3.3803921568627442},null,{"$f":"AVERAGE(CX11:CX511)","v":2.7198039215686269},{"$f":"AVERAGE(CY11:CY511)","v":3.2937254901960782},null,{"$f":"AVERAGE(DA11:DA511)","v":2.7966666666666664},{"$f":"AVERAGE(DB11:DB511)","v":3.3423529411764701},null,{"$f":"AVERAGE(DD11:DD511)","v":2.2758823529411756},{"$f":"AVERAGE(DE11:DE511)","v":3.0217647058823522},null,{"$f":"AVERAGE(DG11:DG511)","v":2.98},{"$f":"AVERAGE(DH11:DH511)","v":3.4188235294117644},null,{"$f":"AVERAGE(DJ11:DJ511)","v":2.1801960784313721},{"$f":"AVERAGE(DK11:DK511)","v":2.8623529411764697},null,{"$f":"AVERAGE(DM11:DM511)","v":2.5727450980392157},{"$f":"AVERAGE(DN11:DN511)","v":3.3594117647058828},null,{"$f":"AVERAGE(DP11:DP511)","v":2.4852941176470593},{"$f":"AVERAGE(DQ11:DQ511)","v":2.9594117647058829},null,{"$f":"AVERAGE(DS11:DS511)","v":2.7643137254901968},{"$f":"AVERAGE(DT11:DT511)","v":3.2123529411764702},null,{"$f":"AVERAGE(DV11:DV511)","v":2.7898039215686277},{"$f":"AVERAGE(DW11:DW511)","v":3.3196078431372555},null,{"$f":"AVERAGE(DY11:DY511)","v":3.0041176470588242},{"$f":"AVERAGE(DZ11:DZ511)","v":3.7356862745098032},null,{"$f":"AVERAGE(EB11:EB511)","v":2.4249019607843136},{"$f":"AVERAGE(EC11:EC511)","v":3.3643137254901969},null,{"$f":"AVERAGE(EE11:EE511)","v":3.0978431372549018},{"$f":"AVERAGE(EF11:EF511)","v":3.7425490196078428},null,{"$f":"AVERAGE(EH11:EH511)","v":3.994705882352942},{"$f":"AVERAGE(EI11:EI511)","v":4.2466666666666661},null,{"$f":"AVERAGE(EK11:EK511)","v":2.8033333333333332},{"$f":"AVERAGE(EL11:EL511)","v":3.3435294117647061},null,{"$f":"AVERAGE(EN11:EN511)","v":2.8968627450980393},{"$f":"AVERAGE(EO11:EO511)","v":3.5276470588235269},null,{"$f":"AVERAGE(EQ11:EQ511)","v":2.8343137254901962},{"$f":"AVERAGE(ER11:ER511)","v":3.5988235294117645},null,{"$f":"AVERAGE(ET11:ET511)","v":2.9923529411764704},{"$f":"AVERAGE(EU11:EU511)","v":3.2676470588235285},null,{"$f":"AVERAGE(EW11:EW511)","v":3.2560784313725502},{"$f":"AVERAGE(EX11:EX511)","v":3.6062745098039217},null,{"$f":"AVERAGE(EZ11:EZ511)","v":2.6052941176470585},{"$f":"AVERAGE(FA11:FA511)","v":3.0121568627450963},null,{"$f":"AVERAGE(FC11:FC511)","v":2.3923529411764703},{"$f":"AVERAGE(FD11:FD511)","v":3.0707843137254907},null,{"$f":"AVERAGE(FF11:FF511)","v":3.0721568627450986},{"$f":"AVERAGE(FG11:FG511)","v":3.7527450980392167},null,{"$f":"AVERAGE(FI11:FI511)","v":2.450980392156862},{"$f":"AVERAGE(FJ11:FJ511)","v":3.0080392156862734},null,{"$f":"AVERAGE(FL11:FL511)","v":2.6707843137254903},{"$f":"AVERAGE(FM11:FM511)","v":3.3521568627450975},null,{"$f":"AVERAGE(FO11:FO511)","v":2.5390196078431373},{"$f":"AVERAGE(FP11:FP511)","v":3.490392156862745},null,{"$f":"AVERAGE(FR11:FR511)","v":2.650392156862746},{"$f":"AVERAGE(FS11:FS511)","v":3.0390196078431382},null,{"$f":"AVERAGE(FU11:FU511)","v":2.7443137254901955},{"$f":"AVERAGE(FV11:FV511)","v":3.4503921568627449},null,{"$f":"AVERAGE(FX11:FX511)","v":3.9513725490196085},{"$f":"AVERAGE(FY11:FY511)","v":4.1768627450980391},null,{"$f":"AVERAGE(GA11:GA511)","v":2.7090196078431377},{"$f":"AVERAGE(GB11:GB511)","v":3.2384313725490186},null,{"$f":"AVERAGE(GD11:GD511)","v":3.1264705882352946},{"$f":"AVERAGE(GE11:GE511)","v":3.3484313725490193},null,{"$f":"AVERAGE(GG11:GG511)","v":2.4180392156862744},{"$f":"AVERAGE(GH11:GH511)","v":3.266862745098039},null,{"$f":"AVERAGE(GJ11:GJ511)","v":2.5054901960784313},{"$f":"AVERAGE(GK11:GK511)","v":3.1315686274509806},null,{"$f":"AVERAGE(GM11:GM511)","v":3.1715686274509816},{"$f":"AVERAGE(GN11:GN511)","v":3.6505882352941179},null,{"$f":"AVERAGE(GP11:GP511)","v":3.4401960784313723},{"$f":"AVERAGE(GQ11:GQ511)","v":3.875294117647059},null,{"$f":"AVERAGE(GS11:GS511)","v":2.5905882352941179},{"$f":"AVERAGE(GT11:GT511)","v":3.3315686274509808},null,{"$f":"AVERAGE(GV11:GV511)","v":3.0868627450980393},{"$f":"AVERAGE(GW11:GW511)","v":3.7388235294117647},null,{"$f":"AVERAGE(GY11:GY511)","v":3.7160784313725492},{"$f":"AVERAGE(GZ11:GZ511)","v":4.1762745098039229},null,{"$f":"AVERAGE(HB11:HB511)","v":3.1854901960784314},{"$f":"AVERAGE(HC11:HC511)","v":3.7574509803921563},null,{"$f":"AVERAGE(HE11:HE511)","v":2.8299999999999996},{"$f":"AVERAGE(HF11:HF511)","v":3.3572549019607845},null,{"$f":"AVERAGE(HH11:HH511)","v":2.6},{"$f":"AVERAGE(HI11:HI511)","v":3.3201960784313718},null,{"$f":"AVERAGE(HK11:HK511)","v":2.763529411764706},{"$f":"AVERAGE(HL11:HL511)","v":3.341764705882353},null,{"$f":"AVERAGE(HN11:HN511)","v":2.5343137254901955},{"$f":"AVERAGE(HO11:HO511)","v":3.2031372549019612},null,{"$f":"AVERAGE(HQ11:HQ511)","v":3.2166666666666663},{"$f":"AVERAGE(HR11:HR511)","v":3.8654901960784311},null,{"$f":"AVERAGE(HT11:HT511)","v":2.8950980392156871},{"$f":"AVERAGE(HU11:HU511)","v":3.4629411764705886},null,{"$f":"AVERAGE(HW11:HW511)","v":2.7943137254901957},{"$f":"AVERAGE(HX11:HX511)","v":3.2562745098039203},null,{"$f":"AVERAGE(HZ11:HZ511)","v":2.8760784313725503},{"$f":"AVERAGE(IA11:IA511)","v":3.5827450980392146},null,{"$f":"AVERAGE(IC11:IC511)","v":2.6621568627450984},{"$f":"AVERAGE(ID11:ID511)","v":3.3149019607843142},null,{"$f":"AVERAGE(IF11:IF511)","v":2.9907843137254901},{"$f":"AVERAGE(IG11:IG511)","v":3.5929411764705872},null,{"$f":"AVERAGE(II11:II511)","v":2.936078431372549},{"$f":"AVERAGE(IJ11:IJ511)","v":3.3588235294117634},null,{"$f":"AVERAGE(IL11:IL511)","v":4.1294117647058819},{"$f":"AVERAGE(IM11:IM511)","v":4.1474509803921569},null,{"$f":"AVERAGE(IO11:IO511)","v":3.2482352941176464},{"$f":"AVERAGE(IP11:IP511)","v":3.488431372549019},null,{"$f":"AVERAGE(IR11:IR511)","v":3.0741176470588236},{"$f":"AVERAGE(IS11:IS511)","v":3.4505882352941186},null,{"$f":"AVERAGE(IU11:IU511)","v":2.1498039215686262},{"$f":"AVERAGE(IV11:IV511)","v":2.7103921568627443},null,{"$f":"AVERAGE(IX11:IX511)","v":3.3160784313725493},{"$f":"AVERAGE(IY11:IY511)","v":3.7313725490196075},null,{"$f":"AVERAGE(JA11:JA511)","v":3.1205882352941181},{"$f":"AVERAGE(JB11:JB511)","v":3.7525490196078426},null,{"$f":"AVERAGE(JD11:JD511)","v":2.9549019607843134},{"$f":"AVERAGE(JE11:JE511)","v":3.4333333333333327},null,{"$f":"AVERAGE(JG11:JG511)","v":2.8331372549019611},{"$f":"AVERAGE(JH11:JH511)","v":3.3925490196078432},null,{"$f":"AVERAGE(JJ11:JJ511)","v":2.6047058823529414},{"$f":"AVERAGE(JK11:JK511)","v":3.2431372549019604},null,{"$f":"AVERAGE(JM11:JM511)","v":2.4547058823529415},{"$f":"AVERAGE(JN11:JN511)","v":3.1211764705882339},null,{"$f":"AVERAGE(JP11:JP511)","v":3.3592156862745104},{"$f":"AVERAGE(JQ11:JQ511)","v":3.9027450980392153},null,{"$f":"AVERAGE(JS11:JS511)","v":2.9650980392156874},{"$f":"AVERAGE(JT11:JT511)","v":3.5454901960784313},null,{"$f":"AVERAGE(JV11:JV511)","v":2.6617647058823546},{"$f":"AVERAGE(JW11:JW511)","v":3.2482352941176464},null,{"$f":"AVERAGE(JY11:JY511)","v":3.5713725490196064},{"$f":"AVERAGE(JZ11:JZ511)","v":3.8711764705882339},null,{"$f":"AVERAGE(KB11:KB511)","v":3.0872549019607858},{"$f":"AVERAGE(KC11:KC511)","v":3.6335294117647048},null,{"$f":"AVERAGE(KE11:KE511)","v":2.7009803921568629},{"$f":"AVERAGE(KF11:KF511)","v":3.3966666666666661},null,{"$f":"AVERAGE(KH11:KH511)","v":2.7376470588235291},{"$f":"AVERAGE(KI11:KI511)","v":3.4401960784313723},null,{"$f":"AVERAGE(KK11:KK511)","v":2.2747058823529409},{"$f":"AVERAGE(KL11:KL511)","v":2.8601960784313722},null,{"$f":"AVERAGE(KN11:KN511)","v":3.0641176470588225},{"$f":"AVERAGE(KO11:KO511)","v":3.5515686274509797},null,{"$f":"AVERAGE(KQ11:KQ511)","v":2.87921568627451},{"$f":"AVERAGE(KR11:KR511)","v":3.6156862745098044},null,{"$f":"AVERAGE(KT11:KT511)","v":2.5531372549019609},{"$f":"AVERAGE(KU11:KU511)","v":3.2396078431372541},null,{"$f":"AVERAGE(KW11:KW511)","v":2.3896078431372545},{"$f":"AVERAGE(KX11:KX511)","v":3.0339215686274503},null,{"$f":"AVERAGE(KZ11:KZ511)","v":3.1629411764705884},{"$f":"AVERAGE(LA11:LA511)","v":3.8813725490196069},null,{"$f":"AVERAGE(LC11:LC511)","v":2.4641176470588237},{"$f":"AVERAGE(LD11:LD511)","v":3.0609803921568624},null,{"$f":"AVERAGE(LF11:LF511)","v":2.5139215686274516},{"$f":"AVERAGE(LG11:LG511)","v":3.326862745098039},null,{"$f":"AVERAGE(LI11:LI511)","v":3.1831372549019608},{"$f":"AVERAGE(LJ11:LJ511)","v":3.7433333333333345},null,{"$f":"AVERAGE(LL11:LL511)","v":2.6192156862745088},{"$f":"AVERAGE(LM11:LM511)","v":3.1374509803921558},null,{"$f":"AVERAGE(LO11:LO511)","v":3.3078431372549013},{"$f":"AVERAGE(LP11:LP511)","v":3.6188235294117641},null,{"$f":"AVERAGE(LR11:LR511)","v":1.9462745098039209},{"$f":"AVERAGE(LS11:LS511)","v":2.5849019607843133},null,{"$f":"AVERAGE(LU11:LU511)","v":2.9217647058823535},{"$f":"AVERAGE(LV11:LV511)","v":3.4754901960784315},null,{"$f":"AVERAGE(LX11:LX511)","v":2.2484313725490193},{"$f":"AVERAGE(LY11:LY511)","v":2.8600000000000003},null,{"$f":"AVERAGE(MA11:MA511)","v":2.4737254901960788},{"$f":"AVERAGE(MB11:MB511)","v":3.5509803921568639},null,{"$f":"AVERAGE(MD11:MD511)","v":3.0262745098039212},{"$f":"AVERAGE(ME11:ME511)","v":3.4239215686274509},null,{"$f":"AVERAGE(MG11:MG511)","v":1.9952941176470589},{"$f":"AVERAGE(MH11:MH511)","v":2.6913725490196079},null,{"$f":"AVERAGE(MJ11:MJ511)","v":2.1766666666666663},{"$f":"AVERAGE(MK11:MK511)","v":2.7194117647058822},null,{"$f":"AVERAGE(MM11:MM511)","v":3.7319607843137259},{"$f":"AVERAGE(MN11:MN511)","v":4.2470588235294109},null,{"$f":"AVERAGE(MP11:MP511)","v":3.1649019607843139},{"$f":"AVERAGE(MQ11:MQ511)","v":3.6168627450980395},null,{"$f":"AVERAGE(MS11:MS511)","v":3.3294117647058825},{"$f":"AVERAGE(MT11:MT511)","v":3.928431372549019},null,{"$f":"AVERAGE(MV11:MV511)","v":3.1135294117647057},{"$f":"AVERAGE(MW11:MW511)","v":3.655882352941175},null,{"$f":"AVERAGE(MY11:MY511)","v":2.4009803921568627},{"$f":"AVERAGE(MZ11:MZ511)","v":3.0382352941176474},null,{"$f":"AVERAGE(NB11:NB511)","v":2.4825490196078435},{"$f":"AVERAGE(NC11:NC511)","v":3.3382352941176472},null,{"$f":"AVERAGE(NE11:NE511)","v":3.1043137254901967},{"$f":"AVERAGE(NF11:NF511)","v":3.4833333333333316},null,{"$f":"AVERAGE(NH11:NH511)","v":2.746078431372549},{"$f":"AVERAGE(NI11:NI511)","v":3.2170588235294106},null,{"$f":"AVERAGE(NK11:NK511)","v":2.86},{"$f":"AVERAGE(NL11:NL511)","v":3.5539215686274508},null,{"$f":"AVERAGE(NN11:NN511)","v":3.4390196078431372},{"$f":"AVERAGE(NO11:NO511)","v":3.9086274509803927},null,{"$f":"AVERAGE(NQ11:NQ511)","v":2.9780392156862749},{"$f":"AVERAGE(NR11:NR511)","v":3.4176470588235297},null,{"$f":"AVERAGE(NT11:NT511)","v":2.3023529411764705},{"$f":"AVERAGE(NU11:NU511)","v":2.9870588235294111},null,{"$f":"AVERAGE(NW11:NW511)","v":2.0511764705882349},{"$f":"AVERAGE(NX11:NX511)","v":2.6245098039215686},null,{"$f":"AVERAGE(NZ11:NZ511)","v":3.2025490196078441},{"$f":"AVERAGE(OA11:OA511)","v":3.6019607843137251},null,{"$f":"AVERAGE(OC11:OC511)","v":2.4101960784313721},{"$f":"AVERAGE(OD11:OD511)","v":2.9280392156862747},null,{"$f":"AVERAGE(OF11:OF511)","v":2.9323529411764704},{"$f":"AVERAGE(OG11:OG511)","v":3.5966666666666676},null,{"$f":"AVERAGE(OI11:OI511)","v":2.9894117647058827},{"$f":"AVERAGE(OJ11:OJ511)","v":3.5225490196078439},null,{"$f":"AVERAGE(OL11:OL511)","v":3.3764705882352941},{"$f":"AVERAGE(OM11:OM511)","v":3.6013725490196076},null,{"$f":"AVERAGE(OO11:OO511)","v":3.0743137254901969},{"$f":"AVERAGE(OP11:OP511)","v":3.6521568627450969},null,{"$f":"AVERAGE(OR11:OR511)","v":3.2103921568627456},{"$f":"AVERAGE(OS11:OS511)","v":3.8576470588235279},null,{"$f":"AVERAGE(OU11:OU511)","v":3.0358823529411771},{"$f":"AVERAGE(OV11:OV511)","v":3.6156862745098035},null,{"$f":"AVERAGE(OX11:OX511)","v":2.4580392156862749},{"$f":"AVERAGE(OY11:OY511)","v":3.2817647058823525},null,{"$f":"AVERAGE(PA11:PA511)","v":2.6101960784313727},{"$f":"AVERAGE(PB11:PB511)","v":3.3435294117647048},null,{"$f":"AVERAGE(PD11:PD511)","v":2.3329411764705887},{"$f":"AVERAGE(PE11:PE511)","v":2.8660784313725483},null,{"$f":"AVERAGE(PG11:PG511)","v":3.0019607843137259},{"$f":"AVERAGE(PH11:PH511)","v":3.2919607843137251},null,{"$f":"AVERAGE(PJ11:PJ511)","v":2.3325490196078427},{"$f":"AVERAGE(PK11:PK511)","v":2.8729411764705879},null,{"$f":"AVERAGE(PM11:PM511)","v":2.4739215686274512},{"$f":"AVERAGE(PN11:PN511)","v":3.1949019607843141},null,{"$f":"AVERAGE(PP11:PP511)","v":3.1045098039215695},{"$f":"AVERAGE(PQ11:PQ511)","v":3.6605882352941181},null,{"$f":"AVERAGE(PS11:PS511)","v":3.1203921568627448},{"$f":"AVERAGE(PT11:PT511)","v":3.5017647058823531},null,{"$f":"AVERAGE(PV11:PV511)","v":2.3450980392156864},{"$f":"AVERAGE(PW11:PW511)","v":3.1184313725490194},null,{"$f":"AVERAGE(PY11:PY511)","v":2.572941176470589},{"$f":"AVERAGE(PZ11:PZ511)","v":3.0317647058823529},null,{"$f":"AVERAGE(QB11:QB511)","v":2.761960784313727},{"$f":"AVERAGE(QC11:QC511)","v":3.3533333333333331},null,{"$f":"AVERAGE(QE11:QE511)","v":2.8149019607843138},{"$f":"AVERAGE(QF11:QF511)","v":3.5125490196078428},null,{"$f":"AVERAGE(QH11:QH511)","v":3.4711764705882349},{"$f":"AVERAGE(QI11:QI511)","v":4.0196078431372557},null,{"$f":"AVERAGE(QK11:QK511)","v":3.0250980392156861},{"$f":"AVERAGE(QL11:QL511)","v":3.4131372549019607},null,{"$f":"AVERAGE(QN11:QN511)","v":2.9192156862745096},{"$f":"AVERAGE(QO11:QO511)","v":3.1858823529411753},null,{"$f":"AVERAGE(QQ11:QQ511)","v":2.4492156862745094},{"$f":"AVERAGE(QR11:QR511)","v":3.0919607843137249},null,{"$f":"AVERAGE(QT11:QT511)","v":2.8829411764705881},{"$f":"AVERAGE(QU11:QU511)","v":3.3164705882352941},null,{"$f":"AVERAGE(QW11:QW511)","v":2.9935294117647056},{"$f":"AVERAGE(QX11:QX511)","v":3.5896078431372542},null,{"$f":"AVERAGE(QZ11:QZ511)","v":2.5366666666666662},{"$f":"AVERAGE(RA11:RA511)","v":3.0799999999999996},null,{"$f":"AVERAGE(RC11:RC511)","v":2.5260784313725493},{"$f":"AVERAGE(RD11:RD511)","v":3.2243137254901959},null,{"$f":"AVERAGE(RF11:RF511)","v":3.6629411764705888},{"$f":"AVERAGE(RG11:RG511)","v":3.8090196078431364},null,{"$f":"AVERAGE(RI11:RI511)","v":2.0492156862745103},{"$f":"AVERAGE(RJ11:RJ511)","v":2.8082352941176469},null,{"$f":"AVERAGE(RL11:RL511)","v":2.8376470588235292},{"$f":"AVERAGE(RM11:RM511)","v":3.5172549019607859},null,{"$f":"AVERAGE(RO11:RO511)","v":2.3213725490196078},{"$f":"AVERAGE(RP11:RP511)","v":3.1666666666666656},null,{"$f":"AVERAGE(RR11:RR511)","v":2.0860784313725493},{"$f":"AVERAGE(RS11:RS511)","v":2.8950980392156862},null,{"$f":"AVERAGE(RU11:RU511)","v":2.6105882352941192},{"$f":"AVERAGE(RV11:RV511)","v":3.0629411764705883},null,{"$f":"AVERAGE(RX11:RX511)","v":3.3562745098039213},{"$f":"AVERAGE(RY11:RY511)","v":3.8056862745098021},null,{"$f":"AVERAGE(SA11:SA511)","v":2.7998039215686279},{"$f":"AVERAGE(SB11:SB511)","v":3.4213725490196079},null,{"$f":"AVERAGE(SD11:SD511)","v":2.1466666666666669},{"$f":"AVERAGE(SE11:SE511)","v":2.8362745098039222},null,{"$f":"AVERAGE(SG11:SG511)","v":2.3564705882352941},{"$f":"AVERAGE(SH11:SH511)","v":2.8315686274509799},null,{"$f":"AVERAGE(SJ11:SJ511)","v":2.4184313725490201},{"$f":"AVERAGE(SK11:SK511)","v":3.0160784313725482},null,{"$f":"AVERAGE(SM11:SM511)","v":2.7709803921568628},{"$f":"AVERAGE(SN11:SN511)","v":3.3717647058823532},null,{"$f":"AVERAGE(SP11:SP511)","v":2.6656862745098047},{"$f":"AVERAGE(SQ11:SQ511)","v":3.1580392156862747},null,{"$f":"AVERAGE(SS11:SS511)","v":2.9239215686274522},{"$f":"AVERAGE(ST11:ST511)","v":3.4556862745098029},null,{"$f":"AVERAGE(SV11:SV511)","v":2.6923529411764702},{"$f":"AVERAGE(SW11:SW511)","v":3.2925490196078431},null,{"$f":"AVERAGE(SY11:SY511)","v":3.3005882352941174},{"$f":"AVERAGE(SZ11:SZ511)","v":3.5649019607843133},null,{"$f":"AVERAGE(TB11:TB511)","v":2.5749019607843135},{"$f":"AVERAGE(TC11:TC511)","v":3.0378431372549017},null,{"$f":"AVERAGE(TE11:TE511)","v":3.4123529411764699},{"$f":"AVERAGE(TF11:TF511)","v":3.8890196078431369},null,{"$f":"AVERAGE(TH11:TH511)","v":2.578823529411765},{"$f":"AVERAGE(TI11:TI511)","v":3.1003921568627448},null,{"$f":"AVERAGE(TK11:TK511)","v":2.7407843137254906},{"$f":"AVERAGE(TL11:TL511)","v":3.2801960784313713},null,{"$f":"AVERAGE(TN11:TN511)","v":2.6403921568627444},{"$f":"AVERAGE(TO11:TO511)","v":3.2323529411764711},null,{"$f":"AVERAGE(TQ11:TQ511)","v":2.9145098039215691},{"$f":"AVERAGE(TR11:TR511)","v":3.6068627450980397},null,{"$f":"AVERAGE(TT11:TT511)","v":3.2039215686274511},{"$f":"AVERAGE(TU11:TU511)","v":3.6009803921568642},null,{"$f":"AVERAGE(TW11:TW511)","v":2.9160784313725503},{"$f":"AVERAGE(TX11:TX511)","v":3.6188235294117646},null,{"$f":"AVERAGE(TZ11:TZ511)","v":2.9411764705882359},{"$f":"AVERAGE(UA11:UA511)","v":3.5386274509803917},null,{"$f":"AVERAGE(UC11:UC511)","v":2.8741176470588243},{"$f":"AVERAGE(UD11:UD511)","v":3.3427450980392148},null,{"$f":"AVERAGE(UF11:UF511)","v":3.0019607843137264},{"$f":"AVERAGE(UG11:UG511)","v":3.6566666666666667},null,{"$f":"AVERAGE(UI11:UI511)","v":2.9456862745098045},{"$f":"AVERAGE(UJ11:UJ511)","v":3.7401960784313708},null,{"$f":"AVERAGE(UL11:UL511)","v":3.2401960784313726},{"$f":"AVERAGE(UM11:UM511)","v":3.5976470588235281},null,{"$f":"AVERAGE(UO11:UO511)","v":2.9558823529411775},{"$f":"AVERAGE(UP11:UP511)","v":3.5188235294117636},null,{"$f":"AVERAGE(UR11:UR511)","v":1.9170588235294115},{"$f":"AVERAGE(US11:US511)","v":2.5805882352941167},null,{"$f":"AVERAGE(UU11:UU511)","v":2.5727450980392153},{"$f":"AVERAGE(UV11:UV511)","v":3.1515686274509802},null,{"$f":"AVERAGE(UX11:UX511)","v":2.4678431372549015},{"$f":"AVERAGE(UY11:UY511)","v":2.966274509803922},null,{"$f":"AVERAGE(VA11:VA511)","v":2.6923529411764702},{"$f":"AVERAGE(VB11:VB511)","v":3.1227450980392151},null,{"$f":"AVERAGE(VD11:VD511)","v":2.7668627450980399},{"$f":"AVERAGE(VE11:VE511)","v":3.284313725490196},null,{"$f":"AVERAGE(VG11:VG511)","v":3.1488235294117652},{"$f":"AVERAGE(VH11:VH511)","v":3.5107843137254893},null,{"$f":"AVERAGE(VJ11:VJ511)","v":2.1937254901960785},{"$f":"AVERAGE(VK11:VK511)","v":2.6858823529411775},null,{"$f":"AVERAGE(VM11:VM511)","v":2.8343137254901962},{"$f":"AVERAGE(VN11:VN511)","v":3.1586274509803913},null,{"$f":"AVERAGE(VP11:VP511)","v":2.4382352941176468},{"$f":"AVERAGE(VQ11:VQ511)","v":3.2817647058823511},null,{"$f":"AVERAGE(VS11:VS511)","v":2.6188235294117646},{"$f":"AVERAGE(VT11:VT511)","v":3.4466666666666654},null,{"$f":"AVERAGE(VV11:VV511)","v":2.836666666666666},{"$f":"AVERAGE(VW11:VW511)","v":3.1760784313725487},null,{"$f":"AVERAGE(VY11:VY511)","v":3.9166666666666679},{"$f":"AVERAGE(VZ11:VZ511)","v":4.3282352941176461},null,{"$f":"AVERAGE(WB11:WB511)","v":2.6086274509803924},{"$f":"AVERAGE(WC11:WC511)","v":3.1911764705882355},null,{"$f":"AVERAGE(WE11:WE511)","v":3.1021568627450984},{"$f":"AVERAGE(WF11:WF511)","v":3.9229411764705877},null,{"$f":"AVERAGE(WH11:WH511)","v":2.2531372549019606},{"$f":"AVERAGE(WI11:WI511)","v":3.1488235294117648},null,{"$f":"AVERAGE(WK11:WK511)","v":3.3245098039215693},{"$f":"AVERAGE(WL11:WL511)","v":3.7349019607843128},null,{"$f":"AVERAGE(WN11:WN511)","v":3.5249019607843146},{"$f":"AVERAGE(WO11:WO511)","v":3.7392156862745085},null,{"$f":"AVERAGE(WQ11:WQ511)","v":2.9927450980392156},{"$f":"AVERAGE(WR11:WR511)","v":3.4419607843137254},null,{"$f":"AVERAGE(WT11:WT511)","v":2.9641176470588237},{"$f":"AVERAGE(WU11:WU511)","v":3.7282352941176464},null,{"$f":"AVERAGE(WW11:WW511)","v":2.859019607843138},{"$f":"AVERAGE(WX11:WX511)","v":3.3105882352941176},null,{"$f":"AVERAGE(WZ11:WZ511)","v":2.39},{"$f":"AVERAGE(XA11:XA511)","v":3.1033333333333331},null,{"$f":"AVERAGE(XC11:XC511)","v":2.7541176470588242},{"$f":"AVERAGE(XD11:XD511)","v":3.3474509803921579},null,{"$f":"AVERAGE(XF11:XF511)","v":3.7541176470588233},{"$f":"AVERAGE(XG11:XG511)","v":3.8762745098039204},null,{"$f":"AVERAGE(XI11:XI511)","v":2.3274509803921566},{"$f":"AVERAGE(XJ11:XJ511)","v":3.202156862745098},null,{"$f":"AVERAGE(XL11:XL511)","v":3.723333333333334},{"$f":"AVERAGE(XM11:XM511)","v":4.6435294117647068},null,{"$f":"AVERAGE(XO11:XO511)","v":3.2023529411764717},{"$f":"AVERAGE(XP11:XP511)","v":3.9211764705882346},null,{"$f":"AVERAGE(XR11:XR511)","v":3.1603921568627453},{"$f":"AVERAGE(XS11:XS511)","v":3.8111764705882361},null,{"$f":"AVERAGE(XU11:XU511)","v":3.2494117647058829},{"$f":"AVERAGE(XV11:XV511)","v":3.746078431372549},null,{"$f":"AVERAGE(XX11:XX511)","v":2.6707843137254907},{"$f":"AVERAGE(XY11:XY511)","v":3.3649019607843136},null,{"$f":"AVERAGE(YA11:YA511)","v":2.5978431372549022},{"$f":"AVERAGE(YB11:YB511)","v":3.2303921568627456},null,{"$f":"AVERAGE(YD11:YD511)","v":2.4460784313725488},{"$f":"AVERAGE(YE11:YE511)","v":3.2480392156862745},null,{"$f":"AVERAGE(YG11:YG511)","v":3.0796078431372553},{"$f":"AVERAGE(YH11:YH511)","v":3.8009803921568626},null,{"$f":"AVERAGE(YJ11:YJ511)","v":2.9207843137254903},{"$f":"AVERAGE(YK11:YK511)","v":3.5503921568627446},null,{"$f":"AVERAGE(YM11:YM511)","v":2.5401960784313724},{"$f":"AVERAGE(YN11:YN511)","v":3.2674509803921579},null,{"$f":"AVERAGE(YP11:YP511)","v":2.2282352941176469},{"$f":"AVERAGE(YQ11:YQ511)","v":2.9403921568627447},null,{"$f":"AVERAGE(YS11:YS511)","v":2.5090196078431375},{"$f":"AVERAGE(YT11:YT511)","v":3.1939215686274509},null,{"$f":"AVERAGE(YV11:YV511)","v":2.46},{"$f":"AVERAGE(YW11:YW511)","v":2.9241176470588246},null,{"$f":"AVERAGE(YY11:YY511)","v":2.6311764705882346},{"$f":"AVERAGE(YZ11:YZ511)","v":3.0360784313725486},null,{"$f":"AVERAGE(ZB11:ZB511)","v":3.1972549019607857},{"$f":"AVERAGE(ZC11:ZC511)","v":3.5478431372549015},null,{"$f":"AVERAGE(ZE11:ZE511)","v":3.2015686274509805},{"$f":"AVERAGE(ZF11:ZF511)","v":3.7023529411764708},null,{"$f":"AVERAGE(ZH11:ZH511)","v":2.9327450980392156},{"$f":"AVERAGE(ZI11:ZI511)","v":3.8545098039215699},null,{"$f":"AVERAGE(ZK11:ZK511)","v":2.5274509803921568},{"$f":"AVERAGE(ZL11:ZL511)","v":3.1009803921568628},null,{"$f":"AVERAGE(ZN11:ZN511)","v":2.6121568627450982},{"$f":"AVERAGE(ZO11:ZO511)","v":3.3827450980392157},null,{"$f":"AVERAGE(ZQ11:ZQ511)","v":2.9833333333333347},{"$f":"AVERAGE(ZR11:ZR511)","v":3.3743137254901954},null,{"$f":"AVERAGE(ZT11:ZT511)","v":3.0021568627450987},{"$f":"AVERAGE(ZU11:ZU511)","v":3.6845098039215678},null,{"$f":"AVERAGE(ZW11:ZW511)","v":3.3711764705882352},{"$f":"AVERAGE(ZX11:ZX511)","v":3.452941176470588},null,{"$f":"AVERAGE(ZZ11:ZZ511)","v":2.9537254901960788},{"$f":"AVERAGE(AAA11:AAA511)","v":3.3886274509803922},null,{"$f":"AVERAGE(AAC11:AAC511)","v":2.0319607843137253},{"$f":"AVERAGE(AAD11:AAD511)","v":2.5937254901960789},null,{"$f":"AVERAGE(AAF11:AAF511)","v":2.4554901960784319},{"$f":"AVERAGE(AAG11:AAG511)","v":3.1731372549019605},null,{"$f":"AVERAGE(AAI11:AAI511)","v":2.70235294117647},{"$f":"AVERAGE(AAJ11:AAJ511)","v":3.4105882352941173},null,{"$f":"AVERAGE(AAL11:AAL511)","v":3.4837254901960781},{"$f":"AVERAGE(AAM11:AAM511)","v":3.5558823529411754},null,{"$f":"AVERAGE(AAO11:AAO511)","v":2.4711764705882358},{"$f":"AVERAGE(AAP11:AAP511)","v":3.1039215686274511},null,{"$f":"AVERAGE(AAR11:AAR511)","v":2.9307843137254905},{"$f":"AVERAGE(AAS11:AAS511)","v":3.2984313725490191},null,{"$f":"AVERAGE(AAU11:AAU511)","v":2.6968627450980396},{"$f":"AVERAGE(AAV11:AAV511)","v":3.3168627450980392},null,{"$f":"AVERAGE(AAX11:AAX511)","v":2.8529411764705888},{"$f":"AVERAGE(AAY11:AAY511)","v":3.5625490196078426},null,{"$f":"AVERAGE(ABA11:ABA511)","v":3.5152941176470587},{"$f":"AVERAGE(ABB11:ABB511)","v":3.7456862745098043},null,{"$f":"AVERAGE(ABD11:ABD511)","v":2.9660784313725497},{"$f":"AVERAGE(ABE11:ABE511)","v":3.6886274509803925},null,{"$f":"AVERAGE(ABG11:ABG511)","v":2.6915686274509807},{"$f":"AVERAGE(ABH11:ABH511)","v":3.4811764705882351},null,{"$f":"AVERAGE(ABJ11:ABJ511)","v":2.4813725490196088},{"$f":"AVERAGE(ABK11:ABK511)","v":3.3654901960784298},null,{"$f":"AVERAGE(ABM11:ABM511)","v":3.6539215686274509},{"$f":"AVERAGE(ABN11:ABN511)","v":3.9143137254901967},null,{"$f":"AVERAGE(ABP11:ABP511)","v":2.6845098039215696},{"$f":"AVERAGE(ABQ11:ABQ511)","v":3.1166666666666671},null,{"$f":"AVERAGE(ABS11:ABS511)","v":2.7286274509803921},{"$f":"AVERAGE(ABT11:ABT511)","v":3.0866666666666651},null,{"$f":"AVERAGE(ABV11:ABV511)","v":2.7505882352941184},{"$f":"AVERAGE(ABW11:ABW511)","v":3.5772549019607842},null,{"$f":"AVERAGE(ABY11:ABY511)","v":2.8123529411764703},{"$f":"AVERAGE(ABZ11:ABZ511)","v":3.6274509803921573},null,{"$f":"AVERAGE(ACB11:ACB511)","v":3.3496078431372545},{"$f":"AVERAGE(ACC11:ACC511)","v":3.7260784313725472},null,{"$f":"AVERAGE(ACE11:ACE511)","v":3.2531372549019602},{"$f":"AVERAGE(ACF11:ACF511)","v":3.771176470588236},null,{"$f":"AVERAGE(ACH11:ACH511)","v":2.8472549019607851},{"$f":"AVERAGE(ACI11:ACI511)","v":3.4835294117647053},null,{"$f":"AVERAGE(ACK11:ACK511)","v":3.3425490196078429},{"$f":"AVERAGE(ACL11:ACL511)","v":3.8894117647058821},null,{"$f":"AVERAGE(ACN11:ACN511)","v":2.6054901960784309},{"$f":"AVERAGE(ACO11:ACO511)","v":3.2231372549019608},null,{"$f":"AVERAGE(ACQ11:ACQ511)","v":3.1319607843137254},{"$f":"AVERAGE(ACR11:ACR511)","v":3.6741176470588242},null,{"$f":"AVERAGE(ACT11:ACT511)","v":2.7676470588235302},{"$f":"AVERAGE(ACU11:ACU511)","v":3.3833333333333329},null,{"$f":"AVERAGE(ACW11:ACW511)","v":2.2368627450980387},{"$f":"AVERAGE(ACX11:ACX511)","v":3.1411764705882352},null,{"$f":"AVERAGE(ACZ11:ACZ511)","v":2.6262745098039217},{"$f":"AVERAGE(ADA11:ADA511)","v":3.3870588235294115},null,{"$f":"AVERAGE(ADC11:ADC511)","v":2.8039215686274508},{"$f":"AVERAGE(ADD11:ADD511)","v":3.215686274509804},null,{"$f":"AVERAGE(ADF11:ADF511)","v":2.7060784313725494},{"$f":"AVERAGE(ADG11:ADG511)","v":3.1568627450980404},null,{"$f":"AVERAGE(ADI11:ADI511)","v":2.635098039215686},{"$f":"AVERAGE(ADJ11:ADJ511)","v":3.3392156862745077},null,{"$f":"AVERAGE(ADL11:ADL511)","v":3.2605882352941191},{"$f":"AVERAGE(ADM11:ADM511)","v":3.5986274509803935},null,{"$f":"AVERAGE(ADO11:ADO511)","v":2.7592156862745103},{"$f":"AVERAGE(ADP11:ADP511)","v":3.3156862745098046},null,{"$f":"AVERAGE(ADR11:ADR511)","v":2.9078431372549023},{"$f":"AVERAGE(ADS11:ADS511)","v":3.4494117647058822},null,{"$f":"AVERAGE(ADU11:ADU511)","v":1.8694117647058821},{"$f":"AVERAGE(ADV11:ADV511)","v":2.5109803921568621},null,{"$f":"AVERAGE(ADX11:ADX511)","v":3.3013725490196069},{"$f":"AVERAGE(ADY11:ADY511)","v":3.8945098039215691},null,{"$f":"AVERAGE(AEA11:AEA511)","v":2.7041176470588231},{"$f":"AVERAGE(AEB11:AEB511)","v":3.3319607843137251},null,{"$f":"AVERAGE(AED11:AED511)","v":3.1676470588235306},{"$f":"AVERAGE(AEE11:AEE511)","v":3.6082352941176472},null,{"$f":"AVERAGE(AEG11:AEG511)","v":3.6186274509803935},{"$f":"AVERAGE(AEH11:AEH511)","v":4.2588235294117638},null,{"$f":"AVERAGE(AEJ11:AEJ511)","v":2.4872549019607844},{"$f":"AVERAGE(AEK11:AEK511)","v":3.1409803921568638},null,{"$f":"AVERAGE(AEM11:AEM511)","v":2.2178431372549015},{"$f":"AVERAGE(AEN11:AEN511)","v":2.8637254901960776},null,{"$f":"AVERAGE(AEP11:AEP511)","v":2.7686274509803912},{"$f":"AVERAGE(AEQ11:AEQ511)","v":3.2972549019607853},null,{"$f":"AVERAGE(AES11:AES511)","v":2.341764705882353},{"$f":"AVERAGE(AET11:AET511)","v":2.8598039215686266},null,{"$f":"AVERAGE(AEV11:AEV511)","v":2.8186274509803915},{"$f":"AVERAGE(AEW11:AEW511)","v":3.3452941176470579},null,{"$f":"AVERAGE(AEY11:AEY511)","v":2.5370588235294114},{"$f":"AVERAGE(AEZ11:AEZ511)","v":2.77764705882353},null,{"$f":"AVERAGE(AFB11:AFB511)","v":3.42686274509804},{"$f":"AVERAGE(AFC11:AFC511)","v":3.8813725490196078},null,{"$f":"AVERAGE(AFE11:AFE511)","v":2.8505882352941181},{"$f":"AVERAGE(AFF11:AFF511)","v":3.3458823529411763},null,{"$f":"AVERAGE(AFH11:AFH511)","v":2.4647058823529413},{"$f":"AVERAGE(AFI11:AFI511)","v":3.000196078431371},null,{"$f":"AVERAGE(AFK11:AFK511)","v":2.8903921568627449},{"$f":"AVERAGE(AFL11:AFL511)","v":3.4849019607843128},null,{"$f":"AVERAGE(AFN11:AFN511)","v":2.2898039215686272},{"$f":"AVERAGE(AFO11:AFO511)","v":2.9598039215686276},null,{"$f":"AVERAGE(AFQ11:AFQ511)","v":3.1266666666666674},{"$f":"AVERAGE(AFR11:AFR511)","v":3.4690196078431375},null,{"$f":"AVERAGE(AFT11:AFT511)","v":3.4827450980392167},{"$f":"AVERAGE(AFU11:AFU511)","v":3.9786274509803916},null,{"$f":"AVERAGE(AFW11:AFW511)","v":3.3050980392156868},{"$f":"AVERAGE(AFX11:AFX511)","v":3.9315686274509809},null,{"$f":"AVERAGE(AFZ11:AFZ511)","v":2.481960784313725},{"$f":"AVERAGE(AGA11:AGA511)","v":2.8968627450980375},null,{"$f":"AVERAGE(AGC11:AGC511)","v":2.4156862745098033},{"$f":"AVERAGE(AGD11:AGD511)","v":2.8449019607843131},null,{"$f":"AVERAGE(AGF11:AGF511)","v":2.8766666666666669},{"$f":"AVERAGE(AGG11:AGG511)","v":3.4647058823529413},null,{"$f":"AVERAGE(AGI11:AGI511)","v":2.9872549019607844},{"$f":"AVERAGE(AGJ11:AGJ511)","v":3.4603921568627438},null,{"$f":"AVERAGE(AGL11:AGL511)","v":2.6984313725490203},{"$f":"AVERAGE(AGM11:AGM511)","v":3.1980392156862738},null,{"$f":"AVERAGE(AGO11:AGO511)","v":3.1888235294117657},{"$f":"AVERAGE(AGP11:AGP511)","v":3.8588235294117643},null,{"$f":"AVERAGE(AGR11:AGR511)","v":2.9801960784313737},{"$f":"AVERAGE(AGS11:AGS511)","v":3.4235294117647053},null,{"$f":"AVERAGE(AGU11:AGU511)","v":2.5409803921568628},{"$f":"AVERAGE(AGV11:AGV511)","v":3.4866666666666659},null,{"$f":"AVERAGE(AGX11:AGX511)","v":2.9592156862745105},{"$f":"AVERAGE(AGY11:AGY511)","v":3.6186274509803913},null,{"$f":"AVERAGE(AHA11:AHA511)","v":2.8019607843137257},{"$f":"AVERAGE(AHB11:AHB511)","v":3.3407843137254902},null,{"$f":"AVERAGE(AHD11:AHD511)","v":2.1368627450980395},{"$f":"AVERAGE(AHE11:AHE511)","v":2.7313725490196075},null,{"$f":"AVERAGE(AHG11:AHG511)","v":3.0652941176470585},{"$f":"AVERAGE(AHH11:AHH511)","v":3.4905882352941178},null,{"$f":"AVERAGE(AHJ11:AHJ511)","v":2.9950980392156858},{"$f":"AVERAGE(AHK11:AHK511)","v":3.3449019607843127},null,{"$f":"AVERAGE(AHM11:AHM511)","v":2.8762745098039222},{"$f":"AVERAGE(AHN11:AHN511)","v":3.4096078431372558},null,{"$f":"AVERAGE(AHP11:AHP511)","v":2.4323529411764713},{"$f":"AVERAGE(AHQ11:AHQ511)","v":3.084705882352941},null,{"$f":"AVERAGE(AHS11:AHS511)","v":3.1301960784313736},{"$f":"AVERAGE(AHT11:AHT511)","v":3.4705882352941164},null,{"$f":"AVERAGE(AHV11:AHV511)","v":3.1888235294117653},{"$f":"AVERAGE(AHW11:AHW511)","v":3.8580392156862748},null,{"$f":"AVERAGE(AHY11:AHY511)","v":3.9182352941176473},{"$f":"AVERAGE(AHZ11:AHZ511)","v":4.1162745098039224},null,{"$f":"AVERAGE(AIB11:AIB511)","v":3.0545098039215688},{"$f":"AVERAGE(AIC11:AIC511)","v":3.546470588235294},null,{"$f":"AVERAGE(AIE11:AIE511)","v":2.1164705882352943},{"$f":"AVERAGE(AIF11:AIF511)","v":2.8352941176470585},null,{"$f":"AVERAGE(AIH11:AIH511)","v":3.4221568627450996},{"$f":"AVERAGE(AII11:AII511)","v":3.9411764705882346},null,{"$f":"AVERAGE(AIK11:AIK511)","v":2.5154901960784319},{"$f":"AVERAGE(AIL11:AIL511)","v":3.1076470588235283},null,{"$f":"AVERAGE(AIN11:AIN511)","v":2.2882352941176465},{"$f":"AVERAGE(AIO11:AIO511)","v":3.1527450980392162},null,{"$f":"AVERAGE(AIQ11:AIQ511)","v":2.8898039215686269},{"$f":"AVERAGE(AIR11:AIR511)","v":3.5556862745098043},null,{"$f":"AVERAGE(AIT11:AIT511)","v":2.6572549019607838},{"$f":"AVERAGE(AIU11:AIU511)","v":3.3072549019607842},null,{"$f":"AVERAGE(AIW11:AIW511)","v":2.226078431372549},{"$f":"AVERAGE(AIX11:AIX511)","v":2.9874509803921558},null,{"$f":"AVERAGE(AIZ11:AIZ511)","v":2.708627450980392},{"$f":"AVERAGE(AJA11:AJA511)","v":3.4362745098039214},null,{"$f":"AVERAGE(AJC11:AJC511)","v":2.8239215686274513},{"$f":"AVERAGE(AJD11:AJD511)","v":3.4441176470588242},null,{"$f":"AVERAGE(AJF11:AJF511)","v":3.0460784313725489},{"$f":"AVERAGE(AJG11:AJG511)","v":3.5423529411764694},null,{"$f":"AVERAGE(AJI11:AJI511)","v":2.8094117647058829},{"$f":"AVERAGE(AJJ11:AJJ511)","v":3.3909803921568629},null,{"$f":"AVERAGE(AJL11:AJL511)","v":2.8876470588235295},{"$f":"AVERAGE(AJM11:AJM511)","v":3.6141176470588228},null,{"$f":"AVERAGE(AJO11:AJO511)","v":2.7319607843137264},{"$f":"AVERAGE(AJP11:AJP511)","v":3.270588235294118},null,{"$f":"AVERAGE(AJR11:AJR511)","v":2.5268627450980392},{"$f":"AVERAGE(AJS11:AJS511)","v":3.415294117647059},null,{"$f":"AVERAGE(AJU11:AJU511)","v":2.7911764705882347},{"$f":"AVERAGE(AJV11:AJV511)","v":3.3050980392156868},null,{"$f":"AVERAGE(AJX11:AJX511)","v":2.7590196078431375},{"$f":"AVERAGE(AJY11:AJY511)","v":3.3790196078431372},null,{"$f":"AVERAGE(AKA11:AKA511)","v":2.7198039215686269},{"$f":"AVERAGE(AKB11:AKB511)","v":3.2178431372549028},null,{"$f":"AVERAGE(AKD11:AKD511)","v":2.4629411764705886},{"$f":"AVERAGE(AKE11:AKE511)","v":3.041372549019608},null,{"$f":"AVERAGE(AKG11:AKG511)","v":2.4449019607843132},{"$f":"AVERAGE(AKH11:AKH511)","v":3.2574509803921563},null,{"$f":"AVERAGE(AKJ11:AKJ511)","v":2.7292156862745105},{"$f":"AVERAGE(AKK11:AKK511)","v":3.4205882352941175},null,{"$f":"AVERAGE(AKM11:AKM511)","v":2.8462745098039215},{"$f":"AVERAGE(AKN11:AKN511)","v":3.317843137254902},null,{"$f":"AVERAGE(AKP11:AKP511)","v":3.0856862745098042},{"$f":"AVERAGE(AKQ11:AKQ511)","v":3.5231372549019602},null,{"$f":"AVERAGE(AKS11:AKS511)","v":2.6356862745098044},{"$f":"AVERAGE(AKT11:AKT511)","v":3.3837254901960789},null,{"$f":"AVERAGE(AKV11:AKV511)","v":2.6798039215686278},{"$f":"AVERAGE(AKW11:AKW511)","v":3.5009803921568619},null,{"$f":"AVERAGE(AKY11:AKY511)","v":2.6015686274509813},{"$f":"AVERAGE(AKZ11:AKZ511)","v":3.3658823529411763},null,{"$f":"AVERAGE(ALB11:ALB511)","v":2.6447058823529406},{"$f":"AVERAGE(ALC11:ALC511)","v":3.1174509803921571},null,{"$f":"AVERAGE(ALE11:ALE511)","v":3.3174509803921586},{"$f":"AVERAGE(ALF11:ALF511)","v":3.474901960784313},null,{"$f":"AVERAGE(ALH11:ALH511)","v":3.0931372549019596},{"$f":"AVERAGE(ALI11:ALI511)","v":3.3931372549019612},null,{"$f":"AVERAGE(ALK11:ALK511)","v":2.6294117647058823},{"$f":"AVERAGE(ALL11:ALL511)","v":3.203333333333334},null,{"$f":"AVERAGE(ALN11:ALN511)","v":3.1305882352941188},{"$f":"AVERAGE(ALO11:ALO511)","v":3.5739215686274517},null,{"$f":"AVERAGE(ALQ11:ALQ511)","v":3.0172549019607846},{"$f":"AVERAGE(ALR11:ALR511)","v":3.5358823529411763},null,{"$f":"AVERAGE(ALT11:ALT511)","v":3.4205882352941179},{"$f":"AVERAGE(ALU11:ALU511)","v":3.6103921568627451},null,{"$f":"AVERAGE(ALW11:ALW511)","v":2.5903921568627446},{"$f":"AVERAGE(ALX11:ALX511)","v":2.8421568627450977},null,{"$f":"AVERAGE(ALZ11:ALZ511)","v":2.8656862745098057},{"$f":"AVERAGE(AMA11:AMA511)","v":3.4607843137254903},null,{"$f":"AVERAGE(AMC11:AMC511)","v":2.5543137254901964},{"$f":"AVERAGE(AMD11:AMD511)","v":3.1347058823529417},null,{"$f":"AVERAGE(AMF11:AMF511)","v":2.4913725490196073},{"$f":"AVERAGE(AMG11:AMG511)","v":3.1341176470588232},null,{"$f":"AVERAGE(AMI11:AMI511)","v":2.6076470588235297},{"$f":"AVERAGE(AMJ11:AMJ511)","v":3.0901960784313731},null,{"$f":"AVERAGE(AML11:AML511)","v":2.6809803921568629},{"$f":"AVERAGE(AMM11:AMM511)","v":3.2105882352941166},null,{"$f":"AVERAGE(AMO11:AMO511)","v":2.6898039215686276},{"$f":"AVERAGE(AMP11:AMP511)","v":3.1762745098039207},null,{"$f":"AVERAGE(AMR11:AMR511)","v":2.4639215686274505},{"$f":"AVERAGE(AMS11:AMS511)","v":3.0874509803921564},null,{"$f":"AVERAGE(AMU11:AMU511)","v":3.1494117647058828},{"$f":"AVERAGE(AMV11:AMV511)","v":3.7733333333333334},null,{"$f":"AVERAGE(AMX11:AMX511)","v":3.1360784313725505},{"$f":"AVERAGE(AMY11:AMY511)","v":3.729411764705882},null,{"$f":"AVERAGE(ANA11:ANA511)","v":2.7125490196078426},{"$f":"AVERAGE(ANB11:ANB511)","v":3.186862745098038},null,{"$f":"AVERAGE(AND11:AND511)","v":3.3356862745098033},{"$f":"AVERAGE(ANE11:ANE511)","v":3.6976470588235291},null,{"$f":"AVERAGE(ANG11:ANG511)","v":2.533529411764706},{"$f":"AVERAGE(ANH11:ANH511)","v":3.0239215686274497},null,{"$f":"AVERAGE(ANJ11:ANJ511)","v":3.2825490196078442},{"$f":"AVERAGE(ANK11:ANK511)","v":3.6719607843137263},null,{"$f":"AVERAGE(ANM11:ANM511)","v":3.1286274509803924},{"$f":"AVERAGE(ANN11:ANN511)","v":3.7421568627450981},null,{"$f":"AVERAGE(ANP11:ANP511)","v":2.7080392156862749},{"$f":"AVERAGE(ANQ11:ANQ511)","v":3.3011764705882349},null,{"$f":"AVERAGE(ANS11:ANS511)","v":2.8213725490196069},{"$f":"AVERAGE(ANT11:ANT511)","v":3.3970588235294099},null,{"$f":"AVERAGE(ANV11:ANV511)","v":3.0682352941176467},{"$f":"AVERAGE(ANW11:ANW511)","v":3.7117647058823544},null,{"$f":"AVERAGE(ANY11:ANY511)","v":2.9029411764705877},{"$f":"AVERAGE(ANZ11:ANZ511)","v":3.3762745098039217},null,{"$f":"AVERAGE(AOB11:AOB511)","v":3.1390196078431374},{"$f":"AVERAGE(AOC11:AOC511)","v":3.5605882352941176},null,{"$f":"AVERAGE(AOE11:AOE511)","v":2.4754901960784315},{"$f":"AVERAGE(AOF11:AOF511)","v":2.9249019607843127},null,{"$f":"AVERAGE(AOH11:AOH511)","v":2.4182352941176468},{"$f":"AVERAGE(AOI11:AOI511)","v":3.003921568627451},null,{"$f":"AVERAGE(AOK11:AOK511)","v":3.1364705882352939},{"$f":"AVERAGE(AOL11:AOL511)","v":3.8135294117647054},null,{"$f":"AVERAGE(AON11:AON511)","v":2.9919607843137257},{"$f":"AVERAGE(AOO11:AOO511)","v":3.1607843137254905},null,{"$f":"AVERAGE(AOQ11:AOQ511)","v":3.1825490196078436},{"$f":"AVERAGE(AOR11:AOR511)","v":3.8166666666666664},null,{"$f":"AVERAGE(AOT11:AOT511)","v":3.2631372549019626},{"$f":"AVERAGE(AOU11:AOU511)","v":3.6847058823529411},null,{"$f":"AVERAGE(AOW11:AOW511)","v":2.6641176470588235},{"$f":"AVERAGE(AOX11:AOX511)","v":3.3233333333333346},null,{"$f":"AVERAGE(AOZ11:AOZ511)","v":2.7852941176470587},{"$f":"AVERAGE(APA11:APA511)","v":3.5772549019607838},null,{"$f":"AVERAGE(APC11:APC511)","v":3.1037254901960782},{"$f":"AVERAGE(APD11:APD511)","v":3.7856862745098034},null,{"$f":"AVERAGE(APF11:APF511)","v":2.2072549019607841},{"$f":"AVERAGE(APG11:APG511)","v":2.6043137254901967},null,{"$f":"AVERAGE(API11:API511)","v":3.0827450980392164},{"$f":"AVERAGE(APJ11:APJ511)","v":3.9052941176470579},null,{"$f":"AVERAGE(APL11:APL511)","v":2.6135294117647057},{"$f":"AVERAGE(APM11:APM511)","v":3.1056862745098042},null,{"$f":"AVERAGE(APO11:APO511)","v":2.3562745098039217},{"$f":"AVERAGE(APP11:APP511)","v":2.8860784313725492},null,{"$f":"AVERAGE(APR11:APR511)","v":3.3525490196078431},{"$f":"AVERAGE(APS11:APS511)","v":3.6778431372549014},null,{"$f":"AVERAGE(APU11:APU511)","v":2.6196078431372554},{"$f":"AVERAGE(APV11:APV511)","v":3.186862745098038},null,{"$f":"AVERAGE(APX11:APX511)","v":2.8347058823529414},{"$f":"AVERAGE(APY11:APY511)","v":3.5482352941176472},null,{"$f":"AVERAGE(AQA11:AQA511)","v":2.7435294117647056},{"$f":"AVERAGE(AQB11:AQB511)","v":3.4252941176470584},null,{"$f":"AVERAGE(AQD11:AQD511)","v":3.2143137254901957},{"$f":"AVERAGE(AQE11:AQE511)","v":3.8917647058823528},null,{"$f":"AVERAGE(AQG11:AQG511)","v":2.9601960784313714},{"$f":"AVERAGE(AQH11:AQH511)","v":3.4596078431372561},null,{"$f":"AVERAGE(AQJ11:AQJ511)","v":2.3188235294117647},{"$f":"AVERAGE(AQK11:AQK511)","v":2.9633333333333334},null,{"$f":"AVERAGE(AQM11:AQM511)","v":2.9972549019607846},{"$f":"AVERAGE(AQN11:AQN511)","v":3.7698039215686268},null,{"$f":"AVERAGE(AQP11:AQP511)","v":2.1488235294117644},{"$f":"AVERAGE(AQQ11:AQQ511)","v":2.7535294117647049},null,{"$f":"AVERAGE(AQS11:AQS511)","v":2.8047058823529412},{"$f":"AVERAGE(AQT11:AQT511)","v":3.3101960784313724},null,{"$f":"AVERAGE(AQV11:AQV511)","v":2.9823529411764711},{"$f":"AVERAGE(AQW11:AQW511)","v":3.5531372549019609},null,{"$f":"AVERAGE(AQY11:AQY511)","v":2.6856862745098034},{"$f":"AVERAGE(AQZ11:AQZ511)","v":3.6778431372549005},null,{"$f":"AVERAGE(ARB11:ARB511)","v":2.3776470588235288},{"$f":"AVERAGE(ARC11:ARC511)","v":2.7276470588235298},null,{"$f":"AVERAGE(ARE11:ARE511)","v":3.7080392156862758},{"$f":"AVERAGE(ARF11:ARF511)","v":4.1590196078431383},null,{"$f":"AVERAGE(ARH11:ARH511)","v":2.5498039215686275},{"$f":"AVERAGE(ARI11:ARI511)","v":3.1633333333333327},null,{"$f":"AVERAGE(ARK11:ARK511)","v":3.8280392156862755},{"$f":"AVERAGE(ARL11:ARL511)","v":3.8352941176470576},null,{"$f":"AVERAGE(ARN11:ARN511)","v":2.432156862745098},{"$f":"AVERAGE(ARO11:ARO511)","v":3.1384313725490189},null,{"$f":"AVERAGE(ARQ11:ARQ511)","v":2.2062745098039214},{"$f":"AVERAGE(ARR11:ARR511)","v":2.8058823529411763},null,{"$f":"AVERAGE(ART11:ART511)","v":3.3239215686274517},{"$f":"AVERAGE(ARU11:ARU511)","v":3.7343137254901952},null,{"$f":"AVERAGE(ARW11:ARW511)","v":3.2303921568627456},{"$f":"AVERAGE(ARX11:ARX511)","v":3.7572549019607835},null,{"$f":"AVERAGE(ARZ11:ARZ511)","v":3.3745098039215691},{"$f":"AVERAGE(ASA11:ASA511)","v":3.8443137254901956},null,{"$f":"AVERAGE(ASC11:ASC511)","v":2.9868627450980396},{"$f":"AVERAGE(ASD11:ASD511)","v":3.737254901960783},null,{"$f":"AVERAGE(ASF11:ASF511)","v":2.7131372549019601},{"$f":"AVERAGE(ASG11:ASG511)","v":3.2480392156862745},null,{"$f":"AVERAGE(ASI11:ASI511)","v":2.4690196078431375},{"$f":"AVERAGE(ASJ11:ASJ511)","v":3.158431372549019},null,{"$f":"AVERAGE(ASL11:ASL511)","v":3.2901960784313729},{"$f":"AVERAGE(ASM11:ASM511)","v":3.6982352941176475},null,{"$f":"AVERAGE(ASO11:ASO511)","v":2.0378431372549017},{"$f":"AVERAGE(ASP11:ASP511)","v":2.6080392156862744},null,{"$f":"AVERAGE(ASR11:ASR511)","v":2.9129411764705884},{"$f":"AVERAGE(ASS11:ASS511)","v":3.2445098039215687},null,{"$f":"AVERAGE(ASU11:ASU511)","v":2.9756862745098047},{"$f":"AVERAGE(ASV11:ASV511)","v":3.5696078431372551},null,{"$f":"AVERAGE(ASX11:ASX511)","v":2.5274509803921568},{"$f":"AVERAGE(ASY11:ASY511)","v":3.4296078431372532},null,{"$f":"AVERAGE(ATA11:ATA511)","v":2.4507843137254905},{"$f":"AVERAGE(ATB11:ATB511)","v":3.1521568627450978},null,{"$f":"AVERAGE(ATD11:ATD511)","v":2.6896078431372552},{"$f":"AVERAGE(ATE11:ATE511)","v":3.2313725490196079},null,{"$f":"AVERAGE(ATG11:ATG511)","v":3.0450980392156866},{"$f":"AVERAGE(ATH11:ATH511)","v":3.5239215686274497},null,{"$f":"AVERAGE(ATJ11:ATJ511)","v":2.2788235294117642},{"$f":"AVERAGE(ATK11:ATK511)","v":2.9847058823529413},null,{"$f":"AVERAGE(ATM11:ATM511)","v":2.3390196078431367},{"$f":"AVERAGE(ATN11:ATN511)","v":2.8286274509803921},null,{"$f":"AVERAGE(ATP11:ATP511)","v":2.9245098039215693},{"$f":"AVERAGE(ATQ11:ATQ511)","v":3.5741176470588241},null,{"$f":"AVERAGE(ATS11:ATS511)","v":2.7505882352941189},{"$f":"AVERAGE(ATT11:ATT511)","v":3.276470588235294},null,{"$f":"AVERAGE(ATV11:ATV511)","v":2.8398039215686284},{"$f":"AVERAGE(ATW11:ATW511)","v":3.366470588235293},null,{"$f":"AVERAGE(ATY11:ATY511)","v":2.9345098039215691},{"$f":"AVERAGE(ATZ11:ATZ511)","v":3.4933333333333332},null,{"$f":"AVERAGE(AUB11:AUB511)","v":3.3174509803921572},{"$f":"AVERAGE(AUC11:AUC511)","v":3.7007843137254888},null,{"$f":"AVERAGE(AUE11:AUE511)","v":2.3962745098039222},{"$f":"AVERAGE(AUF11:AUF511)","v":3.1941176470588242},null,{"$f":"AVERAGE(AUH11:AUH511)","v":3.6305882352941183},{"$f":"AVERAGE(AUI11:AUI511)","v":4.0276470588235291},null,{"$f":"AVERAGE(AUK11:AUK511)","v":3.3617647058823525},{"$f":"AVERAGE(AUL11:AUL511)","v":3.7376470588235295},null,{"$f":"AVERAGE(AUN11:AUN511)","v":3.5468627450980383},{"$f":"AVERAGE(AUO11:AUO511)","v":3.9178431372549021},null,{"$f":"AVERAGE(AUQ11:AUQ511)","v":2.375882352941177},{"$f":"AVERAGE(AUR11:AUR511)","v":3.0674509803921568},null,{"$f":"AVERAGE(AUT11:AUT511)","v":3.233137254901961},{"$f":"AVERAGE(AUU11:AUU511)","v":3.522745098039215},null,{"$f":"AVERAGE(AUW11:AUW511)","v":2.2268627450980389},{"$f":"AVERAGE(AUX11:AUX511)","v":3.1633333333333336},null,{"$f":"AVERAGE(AUZ11:AUZ511)","v":2.7654901960784311},{"$f":"AVERAGE(AVA11:AVA511)","v":3.3966666666666661},null,{"$f":"AVERAGE(AVC11:AVC511)","v":3.1713725490196096},{"$f":"AVERAGE(AVD11:AVD511)","v":3.6650980392156844},null,{"$f":"AVERAGE(AVF11:AVF511)","v":3.1874509803921569},{"$f":"AVERAGE(AVG11:AVG511)","v":3.6898039215686267},null,{"$f":"AVERAGE(AVI11:AVI511)","v":2.8368627450980393},{"$f":"AVERAGE(AVJ11:AVJ511)","v":3.496274509803921},null,{"$f":"AVERAGE(AVL11:AVL511)","v":3.1472549019607845},{"$f":"AVERAGE(AVM11:AVM511)","v":3.6984313725490185},null,{"$f":"AVERAGE(AVO11:AVO511)","v":2.7335294117647062},{"$f":"AVERAGE(AVP11:AVP511)","v":3.4945098039215674},null,{"$f":"AVERAGE(AVR11:AVR511)","v":3.3150980392156866},{"$f":"AVERAGE(AVS11:AVS511)","v":3.7139215686274509},null,{"$f":"AVERAGE(AVU11:AVU511)","v":2.8968627450980398},{"$f":"AVERAGE(AVV11:AVV511)","v":3.3354901960784318},null,{"$f":"AVERAGE(AVX11:AVX511)","v":2.5658823529411756},{"$f":"AVERAGE(AVY11:AVY511)","v":3.0833333333333321},null,{"$f":"AVERAGE(AWA11:AWA511)","v":3.165490196078431},{"$f":"AVERAGE(AWB11:AWB511)","v":3.7333333333333325},null,{"$f":"AVERAGE(AWD11:AWD511)","v":3.0682352941176467},{"$f":"AVERAGE(AWE11:AWE511)","v":3.4978431372549026},null,{"$f":"AVERAGE(AWG11:AWG511)","v":3.1774509803921576},{"$f":"AVERAGE(AWH11:AWH511)","v":3.6268627450980389},null,{"$f":"AVERAGE(AWJ11:AWJ511)","v":2.6341176470588237},{"$f":"AVERAGE(AWK11:AWK511)","v":3.2425490196078437},null,{"$f":"AVERAGE(AWM11:AWM511)","v":2.81},{"$f":"AVERAGE(AWN11:AWN511)","v":3.3690196078431369},null,{"$f":"AVERAGE(AWP11:AWP511)","v":2.3766666666666665},{"$f":"AVERAGE(AWQ11:AWQ511)","v":3.0294117647058822},null,{"$f":"AVERAGE(AWS11:AWS511)","v":3.1056862745098037},{"$f":"AVERAGE(AWT11:AWT511)","v":3.4633333333333343},null,{"$f":"AVERAGE(AWV11:AWV511)","v":3.4094117647058835},{"$f":"AVERAGE(AWW11:AWW511)","v":3.6864705882352928},null,{"$f":"AVERAGE(AWY11:AWY511)","v":2.3782352941176472},{"$f":"AVERAGE(AWZ11:AWZ511)","v":3.0199999999999996},null,{"$f":"AVERAGE(AXB11:AXB511)","v":2.0515686274509797},{"$f":"AVERAGE(AXC11:AXC511)","v":2.7264705882352942},null,{"$f":"AVERAGE(AXE11:AXE511)","v":3.1784313725490208},{"$f":"AVERAGE(AXF11:AXF511)","v":3.6894117647058819},null,{"$f":"AVERAGE(AXH11:AXH511)","v":2.9335294117647055},{"$f":"AVERAGE(AXI11:AXI511)","v":3.4578431372549012},null,{"$f":"AVERAGE(AXK11:AXK511)","v":2.6164705882352939},{"$f":"AVERAGE(AXL11:AXL511)","v":3.1113725490196087},null,{"$f":"AVERAGE(AXN11:AXN511)","v":2.1894117647058819},{"$f":"AVERAGE(AXO11:AXO511)","v":2.8247058823529412},null,{"$f":"AVERAGE(AXQ11:AXQ511)","v":3.1411764705882339},{"$f":"AVERAGE(AXR11:AXR511)","v":3.4150980392156862},null,{"$f":"AVERAGE(AXT11:AXT511)","v":3.0621568627450988},{"$f":"AVERAGE(AXU11:AXU511)","v":3.5009803921568632},null,{"$f":"AVERAGE(AXW11:AXW511)","v":2.205490196078431},{"$f":"AVERAGE(AXX11:AXX511)","v":2.7982352941176454},null,{"$f":"AVERAGE(AXZ11:AXZ511)","v":3.0607843137254904},{"$f":"AVERAGE(AYA11:AYA511)","v":3.6227450980392164},null,{"$f":"AVERAGE(AYC11:AYC511)","v":3.1115686274509819},{"$f":"AVERAGE(AYD11:AYD511)","v":3.7896078431372544},null,{"$f":"AVERAGE(AYF11:AYF511)","v":2.4676470588235295},{"$f":"AVERAGE(AYG11:AYG511)","v":3.2449019607843139},null,{"$f":"AVERAGE(AYI11:AYI511)","v":2.7684313725490188},{"$f":"AVERAGE(AYJ11:AYJ511)","v":3.4560784313725499},null,{"$f":"AVERAGE(AYL11:AYL511)","v":3.3352941176470599},{"$f":"AVERAGE(AYM11:AYM511)","v":3.7668627450980399},null,{"$f":"AVERAGE(AYO11:AYO511)","v":2.4929411764705884},{"$f":"AVERAGE(AYP11:AYP511)","v":3.172941176470589},null,{"$f":"AVERAGE(AYR11:AYR511)","v":3.02},{"$f":"AVERAGE(AYS11:AYS511)","v":3.5221568627450974},null,{"$f":"AVERAGE(AYU11:AYU511)","v":2.8678431372549018},{"$f":"AVERAGE(AYV11:AYV511)","v":3.3815686274509802},null,{"$f":"AVERAGE(AYX11:AYX511)","v":2.8139215686274515},{"$f":"AVERAGE(AYY11:AYY511)","v":3.4172549019607836},null,{"$f":"AVERAGE(AZA11:AZA511)","v":3.2323529411764715},{"$f":"AVERAGE(AZB11:AZB511)","v":4.0392156862745106},null,{"$f":"AVERAGE(AZD11:AZD511)","v":3.0956862745098044},{"$f":"AVERAGE(AZE11:AZE511)","v":3.660980392156862},null,{"$f":"AVERAGE(AZG11:AZG511)","v":2.1903921568627451},{"$f":"AVERAGE(AZH11:AZH511)","v":2.6878431372549016},null,{"$f":"AVERAGE(AZJ11:AZJ511)","v":2.6549019607843145},{"$f":"AVERAGE(AZK11:AZK511)","v":3.3137254901960773},null,{"$f":"AVERAGE(AZM11:AZM511)","v":2.5588235294117645},{"$f":"AVERAGE(AZN11:AZN511)","v":3.1625490196078423},null,{"$f":"AVERAGE(AZP11:AZP511)","v":2.7449019607843139},{"$f":"AVERAGE(AZQ11:AZQ511)","v":3.5299999999999989},null,{"$f":"AVERAGE(AZS11:AZS511)","v":2.5527450980392157},{"$f":"AVERAGE(AZT11:AZT511)","v":3.1190196078431369},null,{"$f":"AVERAGE(AZV11:AZV511)","v":2.9815686274509821},{"$f":"AVERAGE(AZW11:AZW511)","v":3.7333333333333347},null,{"$f":"AVERAGE(AZY11:AZY511)","v":2.8372549019607836},{"$f":"AVERAGE(AZZ11:AZZ511)","v":3.6047058823529419},null,{"$f":"AVERAGE(BAB11:BAB511)","v":2.7368627450980401},{"$f":"AVERAGE(BAC11:BAC511)","v":3.4505882352941173},null,{"$f":"AVERAGE(BAE11:BAE511)","v":3.6931372549019605},{"$f":"AVERAGE(BAF11:BAF511)","v":4.0447058823529414},null,{"$f":"AVERAGE(BAH11:BAH511)","v":3.5637254901960795},{"$f":"AVERAGE(BAI11:BAI511)","v":3.9560784313725477},null,{"$f":"AVERAGE(BAK11:BAK511)","v":2.9025490196078443},{"$f":"AVERAGE(BAL11:BAL511)","v":3.5813725490196076},null,{"$f":"AVERAGE(BAN11:BAN511)","v":2.2231372549019612},{"$f":"AVERAGE(BAO11:BAO511)","v":2.8658823529411759},null,{"$f":"AVERAGE(BAQ11:BAQ511)","v":2.7368627450980396},{"$f":"AVERAGE(BAR11:BAR511)","v":3.6462745098039218},null,{"$f":"AVERAGE(BAT11:BAT511)","v":2.5882352941176476},{"$f":"AVERAGE(BAU11:BAU511)","v":3.1205882352941177},null,{"$f":"AVERAGE(BAW11:BAW511)","v":3.4394117647058824},{"$f":"AVERAGE(BAX11:BAX511)","v":3.821568627450981},null,{"$f":"AVERAGE(BAZ11:BAZ511)","v":2.1123529411764705},{"$f":"AVERAGE(BBA11:BBA511)","v":3.1501960784313714},null,{"$f":"AVERAGE(BBC11:BBC511)","v":3.0501960784313731},{"$f":"AVERAGE(BBD11:BBD511)","v":3.7668627450980394},null,{"$f":"AVERAGE(BBF11:BBF511)","v":2.8719607843137256},{"$f":"AVERAGE(BBG11:BBG511)","v":3.3096078431372558},null,{"$f":"AVERAGE(BBI11:BBI511)","v":2.9394117647058828},{"$f":"AVERAGE(BBJ11:BBJ511)","v":3.60549019607843},null,{"$f":"AVERAGE(BBL11:BBL511)","v":3.4311764705882366},{"$f":"AVERAGE(BBM11:BBM511)","v":3.8162745098039208},null,{"$f":"AVERAGE(BBO11:BBO511)","v":2.8309803921568628},{"$f":"AVERAGE(BBP11:BBP511)","v":3.4190196078431372},null,{"$f":"AVERAGE(BBR11:BBR511)","v":2.3323529411764707},{"$f":"AVERAGE(BBS11:BBS511)","v":3.2139215686274518},null,{"$f":"AVERAGE(BBU11:BBU511)","v":3.0190196078431359},{"$f":"AVERAGE(BBV11:BBV511)","v":3.400588235294117},null,{"$f":"AVERAGE(BBX11:BBX511)","v":2.8609803921568639},{"$f":"AVERAGE(BBY11:BBY511)","v":3.4745098039215683},null,{"$f":"AVERAGE(BCA11:BCA511)","v":2.7274509803921561},{"$f":"AVERAGE(BCB11:BCB511)","v":3.2452941176470591},null,{"$f":"AVERAGE(BCD11:BCD511)","v":2.9072549019607847},{"$f":"AVERAGE(BCE11:BCE511)","v":3.3309803921568619},null,{"$f":"AVERAGE(BCG11:BCG511)","v":3.5439215686274523},{"$f":"AVERAGE(BCH11:BCH511)","v":3.9125490196078441},null,{"$f":"AVERAGE(BCJ11:BCJ511)","v":2.9615686274509812},{"$f":"AVERAGE(BCK11:BCK511)","v":3.592941176470589},null,{"$f":"AVERAGE(BCM11:BCM511)","v":2.5788235294117636},{"$f":"AVERAGE(BCN11:BCN511)","v":3.1962745098039225},null,{"$f":"AVERAGE(BCP11:BCP511)","v":3.0937254901960767},{"$f":"AVERAGE(BCQ11:BCQ511)","v":3.8505882352941163},null,{"$f":"AVERAGE(BCS11:BCS511)","v":2.972745098039216},{"$f":"AVERAGE(BCT11:BCT511)","v":3.4350980392156849},null,{"$f":"AVERAGE(BCV11:BCV511)","v":3.0919607843137267},{"$f":"AVERAGE(BCW11:BCW511)","v":3.5664705882352945},null,{"$f":"AVERAGE(BCY11:BCY511)","v":2.6950980392156874},{"$f":"AVERAGE(BCZ11:BCZ511)","v":3.3299999999999996},null,{"$f":"AVERAGE(BDB11:BDB511)","v":2.6237254901960778},{"$f":"AVERAGE(BDC11:BDC511)","v":3.4456862745098031},null,{"$f":"AVERAGE(BDE11:BDE511)","v":2.1901960784313719},{"$f":"AVERAGE(BDF11:BDF511)","v":2.7750980392156857},null,{"$f":"AVERAGE(BDH11:BDH511)","v":3.1213725490196067},{"$f":"AVERAGE(BDI11:BDI511)","v":3.6886274509803916},null,{"$f":"AVERAGE(BDK11:BDK511)","v":2.606470588235295},{"$f":"AVERAGE(BDL11:BDL511)","v":3.2433333333333332},null,{"$f":"AVERAGE(BDN11:BDN511)","v":2.6892156862745105},{"$f":"AVERAGE(BDO11:BDO511)","v":3.3488235294117645},null,{"$f":"AVERAGE(BDQ11:BDQ511)","v":3.9723529411764713},{"$f":"AVERAGE(BDR11:BDR511)","v":4.3419607843137245},null,{"$f":"AVERAGE(BDT11:BDT511)","v":2.4343137254901968},{"$f":"AVERAGE(BDU11:BDU511)","v":3.1219607843137256},null,{"$f":"AVERAGE(BDW11:BDW511)","v":2.8374509803921568},{"$f":"AVERAGE(BDX11:BDX511)","v":3.7556862745098036},null,{"$f":"AVERAGE(BDZ11:BDZ511)","v":2.580000000000001},{"$f":"AVERAGE(BEA11:BEA511)","v":3.227647058823528},null,{"$f":"AVERAGE(BEC11:BEC511)","v":3.1017647058823528},{"$f":"AVERAGE(BED11:BED511)","v":3.3890196078431369},null,{"$f":"AVERAGE(BEF11:BEF511)","v":2.3143137254901958},{"$f":"AVERAGE(BEG11:BEG511)","v":3.148039215686274},null,{"$f":"AVERAGE(BEI11:BEI511)","v":3.1319607843137258},{"$f":"AVERAGE(BEJ11:BEJ511)","v":3.7515686274509803},null,{"$f":"AVERAGE(BEL11:BEL511)","v":2.8386274509803924},{"$f":"AVERAGE(BEM11:BEM511)","v":3.3988235294117652},null,{"$f":"AVERAGE(BEO11:BEO511)","v":2.5823529411764707},{"$f":"AVERAGE(BEP11:BEP511)","v":3.25},null,{"$f":"AVERAGE(BER11:BER511)","v":2.7178431372549023},{"$f":"AVERAGE(BES11:BES511)","v":3.4921568627450981},null,{"$f":"AVERAGE(BEU11:BEU511)","v":2.2892156862745097},{"$f":"AVERAGE(BEV11:BEV511)","v":3.3366666666666664},null,{"$f":"AVERAGE(BEX11:BEX511)","v":3.2149019607843137},{"$f":"AVERAGE(BEY11:BEY511)","v":3.5729411764705876},null,{"$f":"AVERAGE(BFA11:BFA511)","v":3.1317647058823535},{"$f":"AVERAGE(BFB11:BFB511)","v":3.5578431372549022},null,{"$f":"AVERAGE(BFD11:BFD511)","v":2.6974509803921571},{"$f":"AVERAGE(BFE11:BFE511)","v":3.209607843137253},null,{"$f":"AVERAGE(BFG11:BFG511)","v":2.8880392156862755},{"$f":"AVERAGE(BFH11:BFH511)","v":3.7437254901960793},null,{"$f":"AVERAGE(BFJ11:BFJ511)","v":3.169803921568628},{"$f":"AVERAGE(BFK11:BFK511)","v":3.634313725490196},null,{"$f":"AVERAGE(BFM11:BFM511)","v":2.6962745098039202},{"$f":"AVERAGE(BFN11:BFN511)","v":3.4607843137254903},null,{"$f":"AVERAGE(BFP11:BFP511)","v":2.5186274509803925},{"$f":"AVERAGE(BFQ11:BFQ511)","v":3.2225490196078441},null,{"$f":"AVERAGE(BFS11:BFS511)","v":2.3337254901960787},{"$f":"AVERAGE(BFT11:BFT511)","v":3.2115686274509812},null,{"$f":"AVERAGE(BFV11:BFV511)","v":3.6280392156862753},{"$f":"AVERAGE(BFW11:BFW511)","v":4.1982352941176462},null,{"$f":"AVERAGE(BFY11:BFY511)","v":2.9107843137254918},{"$f":"AVERAGE(BFZ11:BFZ511)","v":3.4580392156862749},null,{"$f":"AVERAGE(BGB11:BGB511)","v":2.539411764705882},{"$f":"AVERAGE(BGC11:BGC511)","v":3.2139215686274509},null,{"$f":"AVERAGE(BGE11:BGE511)","v":3.1545098039215684},{"$f":"AVERAGE(BGF11:BGF511)","v":3.7392156862745107},null,{"$f":"AVERAGE(BGH11:BGH511)","v":3.2743137254901966},{"$f":"AVERAGE(BGI11:BGI511)","v":3.5956862745098039},null,{"$f":"AVERAGE(BGK11:BGK511)","v":2.4562745098039214},{"$f":"AVERAGE(BGL11:BGL511)","v":3.2133333333333316},null,{"$f":"AVERAGE(BGN11:BGN511)","v":2.9329411764705888},{"$f":"AVERAGE(BGO11:BGO511)","v":3.7723529411764702},null,{"$f":"AVERAGE(BGQ11:BGQ511)","v":3.1447058823529432},{"$f":"AVERAGE(BGR11:BGR511)","v":3.4749019607843126},null,{"$f":"AVERAGE(BGT11:BGT511)","v":3.2999999999999989},{"$f":"AVERAGE(BGU11:BGU511)","v":3.8368627450980388}]
[null,null,4,0.32,0.75,null,null,0,0,null,"標準偏差：=STDEV(セル範囲) ",null,{"$f":"STDEV(D5:D1304)","v":2.9607680376127106},{"$f":"STDEV(E5:E1304)","v":2.4723859556560925},{"$f":"STDEV(F5:F1304)","v":{"$error":"#DIV/0!"}},{"$f":"STDEV(G5:G1304)","v":{"$error":"#DIV/0!"}},"誤差分散比(λ)",{"$f":"S5/R5","v":{"$error":"#DIV/0!"}},null,null,5.62,47,7,4.54,37,10,null,null,null,{"$f":"AD7+$AC$7","v":-4.0206179673597111},-0.99083660529781259,-2.6180231731060806,0.97430621019705965,null,{"$error":"#DIV/0!"},{"$error":"#DIV/0!"},{"$error":"#DIV/0!"},{"$error":"#DIV/0!"},null,48,48,"","",null,0.53500000000000003,0.43,null,0.53500000000000003,0.43,null,null,null,"Sｘｙ=",{"$f":"COVAR(BB11:BB510,BC11:BC510)*$N$5","v":700.45515294117672},null,null,{"$f":"COVAR(BE11:BE510,BF11:BF510)*$N$5","v":96.591149019607826},null,null,{"$f":"COVAR(BH11:BH510,BI11:BI510)*$N$5","v":134.65589019607842},null,null,{"$f":"COVAR(BK11:BK510,BL11:BL510)*$N$5","v":105.01597647058821},null,null,{"$f":"COVAR(BN11:BN510,BO11:BO510)*$N$5","v":341.47829999999999},null,null,{"$f":"COVAR(BQ11:BQ510,BR11:BR510)*$N$5","v":151.47472941176477},null,null,{"$f":"COVAR(BT11:BT510,BU11:BU510)*$N$5","v":131.95304705882356},null,null,{"$f":"COVAR(BW11:BW510,BX11:BX510)*$N$5","v":121.29386666666666},null,null,{"$f":"COVAR(BZ11:BZ510,CA11:CA510)*$N$5","v":568.49805098039189},null,null,{"$f":"COVAR(CC11:CC510,CD11:CD510)*$N$5","v":105.10157058823526},null,null,{"$f":"COVAR(CF11:CF510,CG11:CG510)*$N$5","v":515.89993529411765},null,null,{"$f":"COVAR(CI11:CI510,CJ11:CJ510)*$N$5","v":116.59008235294118},null,null,{"$f":"COVAR(CL11:CL510,CM11:CM510)*$N$5","v":355.59018823529414},null,null,{"$f":"COVAR(CO11:CO510,CP11:CP510)*$N$5","v":328.11330392156873},null,null,{"$f":"COVAR(CR11:CR510,CS11:CS510)*$N$5","v":327.69853333333327},null,null,{"$f":"COVAR(CU11:CU510,CV11:CV510)*$N$5","v":520.1793725490196},null,null,{"$f":"COVAR(CX11:CX510,CY11:CY510)*$N$5","v":349.25453725490195},null,null,{"$f":"COVAR(DA11:DA510,DB11:DB510)*$N$5","v":353.93700000000013},null,null,{"$f":"COVAR(DD11:DD510,DE11:DE510)*$N$5","v":105.09357058823534},null,null,{"$f":"COVAR(DG11:DG510,DH11:DH510)*$N$5","v":334.18680000000006},null,null,{"$f":"COVAR(DJ11:DJ510,DK11:DK510)*$N$5","v":326.39387647058828},null,null,{"$f":"COVAR(DM11:DM510,DN11:DN510)*$N$5","v":106.56798235294119},null,null,{"$f":"COVAR(DP11:DP510,DQ11:DQ510)*$N$5","v":100.34545882352938},null,null,{"$f":"COVAR(DS11:DS510,DT11:DT510)*$N$5","v":157.55578235294118},null,null,{"$f":"COVAR(DV11:DV510,DW11:DW510)*$N$5","v":323.42189607843164},null,null,{"$f":"COVAR(DY11:DY510,DZ11:DZ510)*$N$5","v":265.67610588235289},null,null,{"$f":"COVAR(EB11:EB510,EC11:EC510)*$N$5","v":128.21792156862745},null,null,{"$f":"COVAR(EE11:EE510,EF11:EF510)*$N$5","v":351.29608039215674},null,null,{"$f":"COVAR(EH11:EH510,EI11:EI510)*$N$5","v":841.88099999999974},null,null,{"$f":"COVAR(EK11:EK510,EL11:EL510)*$N$5","v":322.31349999999992},null,null,{"$f":"COVAR(EN11:EN510,EO11:EO510)*$N$5","v":185.0393235294118},null,null,{"$f":"COVAR(EQ11:EQ510,ER11:ER510)*$N$5","v":136.85665882352944},null,null,{"$f":"COVAR(ET11:ET510,EU11:EU510)*$N$5","v":539.55728235294123},null,null,{"$f":"COVAR(EW11:EW510,EX11:EX510)*$N$5","v":478.67275490196062},null,null,{"$f":"COVAR(EZ11:EZ510,FA11:FA510)*$N$5","v":353.66991764705881},null,null,{"$f":"COVAR(FC11:FC510,FD11:FD510)*$N$5","v":156.89570588235293},null,null,{"$f":"COVAR(FF11:FF510,FG11:FG510)*$N$5","v":302.62249803921571},null,null,{"$f":"COVAR(FI11:FI510,FJ11:FJ510)*$N$5","v":303.5248980392156},null,null,{"$f":"COVAR(FL11:FL510,FM11:FM510)*$N$5","v":328.86031372549019},null,null,{"$f":"COVAR(FO11:FO510,FP11:FP510)*$N$5","v":105.01641960784312},null,null,{"$f":"COVAR(FR11:FR510,FS11:FS510)*$N$5","v":516.40791960784304},null,null,{"$f":"COVAR(FU11:FU510,FV11:FV510)*$N$5","v":304.27841372549034},null,null,{"$f":"COVAR(FX11:FX510,FY11:FY510)*$N$5","v":1067.1430196078438},null,null,{"$f":"COVAR(GA11:GA510,GB11:GB510)*$N$5","v":166.81102156862741},null,null,{"$f":"COVAR(GD11:GD510,GE11:GE510)*$N$5","v":525.96091764705875},null,null,{"$f":"COVAR(GG11:GG510,GH11:GH510)*$N$5","v":100.73698627450982},null,null,{"$f":"COVAR(GJ11:GJ510,GK11:GK510)*$N$5","v":318.35956078431371},null,null,{"$f":"COVAR(GM11:GM510,GN11:GN510)*$N$5","v":343.75015294117645},null,null,{"$f":"COVAR(GP11:GP510,GQ11:GQ510)*$N$5","v":514.94424705882341},null,null,{"$f":"COVAR(GS11:GS510,GT11:GT510)*$N$5","v":124.21585294117645},null,null,{"$f":"COVAR(GV11:GV510,GW11:GW510)*$N$5","v":168.18111176470595},null,null,{"$f":"COVAR(GY11:GY510,GZ11:GZ510)*$N$5","v":663.53365490196086},null,null,{"$f":"COVAR(HB11:HB510,HC11:HC510)*$N$5","v":311.6440137254902},null,null,{"$f":"COVAR(HE11:HE510,HF11:HF510)*$N$5","v":528.91269999999997},null,null,{"$f":"COVAR(HH11:HH510,HI11:HI510)*$N$5","v":117.48049999999998},null,null,{"$f":"COVAR(HK11:HK510,HL11:HL510)*$N$5","v":335.10638235294118},null,null,{"$f":"COVAR(HN11:HN510,HO11:HO510)*$N$5","v":112.84570980392157},null,null,{"$f":"COVAR(HQ11:HQ510,HR11:HR510)*$N$5","v":488.36003333333355},null,null,{"$f":"COVAR(HT11:HT510,HU11:HU510)*$N$5","v":341.87053529411764},null,null,{"$f":"COVAR(HW11:HW510,HX11:HX510)*$N$5","v":113.46661960784314},null,null,{"$f":"COVAR(HZ11:HZ510,IA11:IA510)*$N$5","v":314.58764901960785},null,null,{"$f":"COVAR(IC11:IC510,ID11:ID510)*$N$5","v":312.78656078431385},null,null,{"$f":"COVAR(IF11:IF510,IG11:IG510)*$N$5","v":346.15088235294132},null,null,{"$f":"COVAR(II11:II510,IJ11:IJ510)*$N$5","v":330.46656470588226},null,null,{"$f":"COVAR(IL11:IL510,IM11:IM510)*$N$5","v":1082.8751235294119},null,null,{"$f":"COVAR(IO11:IO510,IP11:IP510)*$N$5","v":569.14805882352937},null,null,{"$f":"COVAR(IR11:IR510,IS11:IS510)*$N$5","v":353.65167647058826},null,null,{"$f":"COVAR(IU11:IU510,IV11:IV510)*$N$5","v":111.28620392156861},null,null,{"$f":"COVAR(IX11:IX510,IY11:IY510)*$N$5","v":508.05087450980386},null,null,{"$f":"COVAR(JA11:JA510,JB11:JB510)*$N$5","v":512.93082352941178},null,null,{"$f":"COVAR(JD11:JD510,JE11:JE510)*$N$5","v":309.53496666666672},null,null,{"$f":"COVAR(JG11:JG510,JH11:JH510)*$N$5","v":329.36919215686288},null,null,{"$f":"COVAR(JJ11:JJ510,JK11:JK510)*$N$5","v":341.12314705882352},null,null,{"$f":"COVAR(JM11:JM510,JN11:JN510)*$N$5","v":328.82341764705887},null,null,{"$f":"COVAR(JP11:JP510,JQ11:JQ510)*$N$5","v":500.08880980392149},null,null,{"$f":"COVAR(JS11:JS510,JT11:JT510)*$N$5","v":344.95827254901963},null,null,{"$f":"COVAR(JV11:JV510,JW11:JW510)*$N$5","v":292.16395882352936},null,null,{"$f":"COVAR(JY11:JY510,JZ11:JZ510)*$N$5","v":513.51211764705874},null,null,{"$f":"COVAR(KB11:KB510,KC11:KC510)*$N$5","v":356.6521941176469},null,null,{"$f":"COVAR(KE11:KE510,KF11:KF510)*$N$5","v":308.75776666666656},null,null,{"$f":"COVAR(KH11:KH510,KI11:KI510)*$N$5","v":151.60922352941179},null,null,{"$f":"COVAR(KK11:KK510,KL11:KL510)*$N$5","v":322.69985294117652},null,null,{"$f":"COVAR(KN11:KN510,KO11:KO510)*$N$5","v":342.41447058823519},null,null,{"$f":"COVAR(KQ11:KQ510,KR11:KR510)*$N$5","v":316.42512745098037},null,null,{"$f":"COVAR(KT11:KT510,KU11:KU510)*$N$5","v":135.65346274509807},null,null,{"$f":"COVAR(KW11:KW510,KX11:KX510)*$N$5","v":134.1396784313726},null,null,{"$f":"COVAR(KZ11:KZ510,LA11:LA510)*$N$5","v":509.51199411764696},null,null,{"$f":"COVAR(LC11:LC510,LD11:LD510)*$N$5","v":138.72599411764705},null,null,{"$f":"COVAR(LF11:LF510,LG11:LG510)*$N$5","v":149.15502745098038},null,null,{"$f":"COVAR(LI11:LI510,LJ11:LJ510)*$N$5","v":544.47946666666655},null,null,{"$f":"COVAR(LL11:LL510,LM11:LM510)*$N$5","v":163.52489803921566},null,null,{"$f":"COVAR(LO11:LO510,LP11:LP510)*$N$5","v":515.08757058823528},null,null,{"$f":"COVAR(LR11:LR510,LS11:LS510)*$N$5","v":111.42243137254903},null,null,{"$f":"COVAR(LU11:LU510,LV11:LV510)*$N$5","v":309.07350588235295},null,null,{"$f":"COVAR(LX11:LX510,LY11:LY510)*$N$5","v":138.53919999999999},null,null,{"$f":"COVAR(MA11:MA510,MB11:MB510)*$N$5","v":112.02721372549016},null,null,{"$f":"COVAR(MD11:MD510,ME11:ME510)*$N$5","v":590.18534509803919},null,null,{"$f":"COVAR(MG11:MG510,MH11:MH510)*$N$5","v":106.42062941176474},null,null,{"$f":"COVAR(MJ11:MJ510,MK11:MK510)*$N$5","v":130.8887},null,null,{"$f":"COVAR(MM11:MM510,MN11:MN510)*$N$5","v":498.58119411764682},null,null,{"$f":"COVAR(MP11:MP510,MQ11:MQ510)*$N$5","v":317.13788431372558},null,null,{"$f":"COVAR(MS11:MS510,MT11:MT510)*$N$5","v":505.00385294117666},null,null,{"$f":"COVAR(MV11:MV510,MW11:MW510)*$N$5","v":331.35134117647044},null,null,{"$f":"COVAR(MY11:MY510,MZ11:MZ510)*$N$5","v":133.23548823529413},null,null,{"$f":"COVAR(NB11:NB510,NC11:NC510)*$N$5","v":131.99062941176473},null,null,{"$f":"COVAR(NE11:NE510,NF11:NF510)*$N$5","v":343.12866666666667},null,null,{"$f":"COVAR(NH11:NH510,NI11:NI510)*$N$5","v":320.15101176470591},null,null,{"$f":"COVAR(NK11:NK510,NL11:NL510)*$N$5","v":108.3664},null,null,{"$f":"COVAR(NN11:NN510,NO11:NO510)*$N$5","v":556.573231372549},null,null,{"$f":"COVAR(NQ11:NQ510,NR11:NR510)*$N$5","v":339.61856470588231},null,null,{"$f":"COVAR(NT11:NT510,NU11:NU510)*$N$5","v":331.58845294117657},null,null,{"$f":"COVAR(NW11:NW510,NX11:NX510)*$N$5","v":97.33472941176467},null,null,{"$f":"COVAR(NZ11:NZ510,OA11:OA510)*$N$5","v":501.34804509803934},null,null,{"$f":"COVAR(OC11:OC510,OD11:OD510)*$N$5","v":141.71671960784315},null,null,{"$f":"COVAR(OF11:OF510,OG11:OG510)*$N$5","v":356.79059999999993},null,null,{"$f":"COVAR(OI11:OI510,OJ11:OJ510)*$N$5","v":135.1434764705883},null,null,{"$f":"COVAR(OL11:OL510,OM11:OM510)*$N$5","v":574.20554705882341},null,null,{"$f":"COVAR(OO11:OO510,OP11:OP510)*$N$5","v":517.92842549019599},null,null,{"$f":"COVAR(OR11:OR510,OS11:OS510)*$N$5","v":306.93764705882376},null,null,{"$f":"COVAR(OU11:OU510,OV11:OV510)*$N$5","v":119.71479411764709},null,null,{"$f":"COVAR(OX11:OX510,OY11:OY510)*$N$5","v":123.26487647058821},null,null,{"$f":"COVAR(PA11:PA510,PB11:PB510)*$N$5","v":309.53176470588227},null,null,{"$f":"COVAR(PD11:PD510,PE11:PE510)*$N$5","v":117.32468823529415},null,null,{"$f":"COVAR(PG11:PG510,PH11:PH510)*$N$5","v":544.95620392156854},null,null,{"$f":"COVAR(PJ11:PJ510,PK11:PK510)*$N$5","v":132.69141764705881},null,null,{"$f":"COVAR(PM11:PM510,PN11:PN510)*$N$5","v":127.40861960784314},null,null,{"$f":"COVAR(PP11:PP510,PQ11:PQ510)*$N$5","v":321.40496470588243},null,null,{"$f":"COVAR(PS11:PS510,PT11:PT510)*$N$5","v":533.8879647058825},null,null,{"$f":"COVAR(PV11:PV510,PW11:PW510)*$N$5","v":151.81170784313727},null,null,{"$f":"COVAR(PY11:PY510,PZ11:PZ510)*$N$5","v":324.64593529411769},null,null,{"$f":"COVAR(QB11:QB510,QC11:QC510)*$N$5","v":296.72246666666666},null,null,{"$f":"COVAR(QE11:QE510,QF11:QF510)*$N$5","v":322.08256274509819},null,null,{"$f":"COVAR(QH11:QH510,QI11:QI510)*$N$5","v":708.65702352941162},null,null,{"$f":"COVAR(QK11:QK510,QL11:QL510)*$N$5","v":514.95118431372543},null,null,{"$f":"COVAR(QN11:QN510,QO11:QO510)*$N$5","v":337.9620352941177},null,null,{"$f":"COVAR(QQ11:QQ510,QR11:QR510)*$N$5","v":157.38887843137255},null,null,{"$f":"COVAR(QT11:QT510,QU11:QU510)*$N$5","v":320.30382941176464},null,null,{"$f":"COVAR(QW11:QW510,QX11:QX510)*$N$5","v":325.74817058823521},null,null,{"$f":"COVAR(QZ11:QZ510,RA11:RA510)*$N$5","v":337.90509999999995},null,null,{"$f":"COVAR(RC11:RC510,RD11:RD510)*$N$5","v":92.703962745098011},null,null,{"$f":"COVAR(RF11:RF510,RG11:RG510)*$N$5","v":527.48744705882348},null,null,{"$f":"COVAR(RI11:RI510,RJ11:RJ510)*$N$5","v":97.35672941176469},null,null,{"$f":"COVAR(RL11:RL510,RM11:RM510)*$N$5","v":327.31947058823528},null,null,{"$f":"COVAR(RO11:RO510,RP11:RP510)*$N$5","v":123.39083333333332},null,null,{"$f":"COVAR(RR11:RR510,RS11:RS510)*$N$5","v":90.738219607843106},null,null,{"$f":"COVAR(RU11:RU510,RV11:RV510)*$N$5","v":114.94701176470592},null,null,{"$f":"COVAR(RX11:RX510,RY11:RY510)*$N$5","v":714.74278039215721},null,null,{"$f":"COVAR(SA11:SA510,SB11:SB510)*$N$5","v":331.71411372549017},null,null,{"$f":"COVAR(SD11:SD510,SE11:SE510)*$N$5","v":117.45246666666665},null,null,{"$f":"COVAR(SG11:SG510,SH11:SH510)*$N$5","v":105.75938235294117},null,null,{"$f":"COVAR(SJ11:SJ510,SK11:SK510)*$N$5","v":330.19258627451001},null,null,{"$f":"COVAR(SM11:SM510,SN11:SN510)*$N$5","v":370.66981176470603},null,null,{"$f":"COVAR(SP11:SP510,SQ11:SQ510)*$N$5","v":337.19626862745093},null,null,{"$f":"COVAR(SS11:SS510,ST11:ST510)*$N$5","v":139.84216274509805},null,null,{"$f":"COVAR(SV11:SV510,SW11:SW510)*$N$5","v":326.037194117647},null,null,{"$f":"COVAR(SY11:SY510,SZ11:SZ510)*$N$5","v":519.41085294117636},null,null,{"$f":"COVAR(TB11:TB510,TC11:TC510)*$N$5","v":315.89983921568626},null,null,{"$f":"COVAR(TE11:TE510,TF11:TF510)*$N$5","v":707.45931764705904},null,null,{"$f":"COVAR(TH11:TH510,TI11:TI510)*$N$5","v":316.09072352941166},null,null,{"$f":"COVAR(TK11:TK510,TL11:TL510)*$N$5","v":369.75659215686278},null,null,{"$f":"COVAR(TN11:TN510,TO11:TO510)*$N$5","v":526.83345294117657},null,null,{"$f":"COVAR(TQ11:TQ510,TR11:TR510)*$N$5","v":357.6644215686274},null,null,{"$f":"COVAR(TT11:TT510,TU11:TU510)*$N$5","v":718.15700392156884},null,null,{"$f":"COVAR(TW11:TW510,TX11:TX510)*$N$5","v":346.51446470588212},null,null,{"$f":"COVAR(TZ11:TZ510,UA11:UA510)*$N$5","v":510.07818235294121},null,null,{"$f":"COVAR(UC11:UC510,UD11:UD510)*$N$5","v":321.0854235294118},null,null,{"$f":"COVAR(UF11:UF510,UG11:UG510)*$N$5","v":301.81503333333336},null,null,{"$f":"COVAR(UI11:UI510,UJ11:UJ510)*$N$5","v":352.87344313725487},null,null,{"$f":"COVAR(UL11:UL510,UM11:UM510)*$N$5","v":535.70182352941163},null,null,{"$f":"COVAR(UO11:UO510,UP11:UP510)*$N$5","v":284.73755294117655},null,null,{"$f":"COVAR(UR11:UR510,US11:US510)*$N$5","v":107.74388823529409},null,null,{"$f":"COVAR(UU11:UU510,UV11:UV510)*$N$5","v":337.08488039215689},null,null,{"$f":"COVAR(UX11:UX510,UY11:UY510)*$N$5","v":120.01849019607847},null,null,{"$f":"COVAR(VA11:VA510,VB11:VB510)*$N$5","v":329.77847058823545},null,null,{"$f":"COVAR(VD11:VD510,VE11:VE510)*$N$5","v":96.49079019607845},null,null,{"$f":"COVAR(VG11:VG510,VH11:VH510)*$N$5","v":536.8949470588235},null,null,{"$f":"COVAR(VJ11:VJ510,VK11:VK510)*$N$5","v":100.58778235294116},null,null,{"$f":"COVAR(VM11:VM510,VN11:VN510)*$N$5","v":354.0240019607844},null,null,{"$f":"COVAR(VP11:VP510,VQ11:VQ510)*$N$5","v":92.71095882352941},null,null,{"$f":"COVAR(VS11:VS510,VT11:VT510)*$N$5","v":315.39700000000005},null,null,{"$f":"COVAR(VV11:VV510,VW11:VW510)*$N$5","v":339.21583333333342},null,null,{"$f":"COVAR(VY11:VY510,VZ11:VZ510)*$N$5","v":836.05229999999995},null,null,{"$f":"COVAR(WB11:WB510,WC11:WC510)*$N$5","v":126.01598235294121},null,null,{"$f":"COVAR(WE11:WE510,WF11:WF510)*$N$5","v":319.41887647058826},null,null,{"$f":"COVAR(WH11:WH510,WI11:WI510)*$N$5","v":160.40378823529409},null,null,{"$f":"COVAR(WK11:WK510,WL11:WL510)*$N$5","v":500.66717254901954},null,null,{"$f":"COVAR(WN11:WN510,WO11:WO510)*$N$5","v":562.90889607843121},null,null,{"$f":"COVAR(WQ11:WQ510,WR11:WR510)*$N$5","v":505.95112549019626},null,null,{"$f":"COVAR(WT11:WT510,WU11:WU510)*$N$5","v":284.73787058823535},null,null,{"$f":"COVAR(WW11:WW510,WX11:WX510)*$N$5","v":506.31532941176465},null,null,{"$f":"COVAR(WZ11:WZ510,XA11:XA510)*$N$5","v":115.96289999999996},null,null,{"$f":"COVAR(XC11:XC510,XD11:XD510)*$N$5","v":150.82363529411768},null,null,{"$f":"COVAR(XF11:XF510,XG11:XG510)*$N$5","v":905.87748235294146},null,null,{"$f":"COVAR(XI11:XI510,XJ11:XJ510)*$N$5","v":101.75168039215686},null,null,{"$f":"COVAR(XL11:XL510,XM11:XM510)*$N$5","v":503.33010000000002},null,null,{"$f":"COVAR(XO11:XO510,XP11:XP510)*$N$5","v":701.14945882352947},null,null,{"$f":"COVAR(XR11:XR510,XS11:XS510)*$N$5","v":483.46007647058838},null,null,{"$f":"COVAR(XU11:XU510,XV11:XV510)*$N$5","v":491.21668235294112},null,null,{"$f":"COVAR(XX11:XX510,XY11:XY510)*$N$5","v":113.55640392156863},null,null,{"$f":"COVAR(YA11:YA510,YB11:YB510)*$N$5","v":116.59294313725488},null,null,{"$f":"COVAR(YD11:YD510,YE11:YE510)*$N$5","v":136.50470784313725},null,null,{"$f":"COVAR(YG11:YG510,YH11:YH510)*$N$5","v":315.57841960784322},null,null,{"$f":"COVAR(YJ11:YJ510,YK11:YK510)*$N$5","v":141.01728431372547},null,null,{"$f":"COVAR(YM11:YM510,YN11:YN510)*$N$5","v":329.23572549019605},null,null,{"$f":"COVAR(YP11:YP510,YQ11:YQ510)*$N$5","v":136.04153529411766},null,null,{"$f":"COVAR(YS11:YS510,YT11:YT510)*$N$5","v":131.23779607843133},null,null,{"$f":"COVAR(YV11:YV510,YW11:YW510)*$N$5","v":132.27270000000001},null,null,{"$f":"COVAR(YY11:YY510,YZ11:YZ510)*$N$5","v":170.15313529411762},null,null,{"$f":"COVAR(ZB11:ZB510,ZC11:ZC510)*$N$5","v":495.42449803921573},null,null,{"$f":"COVAR(ZE11:ZE510,ZF11:ZF510)*$N$5","v":323.68651176470581},null,null,{"$f":"COVAR(ZH11:ZH510,ZI11:ZI510)*$N$5","v":133.21426862745096},null,null,{"$f":"COVAR(ZK11:ZK510,ZL11:ZL510)*$N$5","v":336.51042745098033},null,null,{"$f":"COVAR(ZN11:ZN510,ZO11:ZO510)*$N$5","v":133.80309803921574},null,null,{"$f":"COVAR(ZQ11:ZQ510,ZR11:ZR510)*$N$5","v":544.49566666666658},null,null,{"$f":"COVAR(ZT11:ZT510,ZU11:ZU510)*$N$5","v":335.48380392156872},null,null,{"$f":"COVAR(ZW11:ZW510,ZX11:ZX510)*$N$5","v":756.88832352941199},null,null,{"$f":"COVAR(ZZ11:ZZ510,AAA11:AAA510)*$N$5","v":546.46926078431352},null,null,{"$f":"COVAR(AAC11:AAC510,AAD11:AAD510)*$N$5","v":114.06562745098043},null,null,{"$f":"COVAR(AAF11:AAF510,AAG11:AAG510)*$N$5","v":131.81482156862748},null,null,{"$f":"COVAR(AAI11:AAI510,AAJ11:AAJ510)*$N$5","v":314.93592941176468},null,null,{"$f":"COVAR(AAL11:AAL510,AAM11:AAM510)*$N$5","v":761.26668235294119},null,null,{"$f":"COVAR(AAO11:AAO510,AAP11:AAP510)*$N$5","v":148.59076470588232},null,null,{"$f":"COVAR(AAR11:AAR510,AAS11:AAS510)*$N$5","v":560.82086274509811},null,null,{"$f":"COVAR(AAU11:AAU510,AAV11:AAV510)*$N$5","v":123.95739803921569},null,null,{"$f":"COVAR(AAX11:AAX510,AAY11:AAY510)*$N$5","v":317.87921764705908},null,null,{"$f":"COVAR(ABA11:ABA510,ABB11:ABB510)*$N$5","v":687.85056470588245},null,null,{"$f":"COVAR(ABD11:ABD510,ABE11:ABE510)*$N$5","v":318.45842549019608},null,null,{"$f":"COVAR(ABG11:ABG510,ABH11:ABH510)*$N$5","v":299.10880588235307},null,null,{"$f":"COVAR(ABJ11:ABJ510,ABK11:ABK510)*$N$5","v":100.08901568627449},null,null,{"$f":"COVAR(ABM11:ABM510,ABN11:ABN510)*$N$5","v":704.03233725490213},null,null,{"$f":"COVAR(ABP11:ABP510,ABQ11:ABQ510)*$N$5","v":322.10506666666657},null,null,{"$f":"COVAR(ABS11:ABS510,ABT11:ABT510)*$N$5","v":360.13646666666676},null,null,{"$f":"COVAR(ABV11:ABV510,ABW11:ABW510)*$N$5","v":337.0340823529412},null,null,{"$f":"COVAR(ABY11:ABY510,ABZ11:ABZ510)*$N$5","v":121.71570588235289},null,null,{"$f":"COVAR(ACB11:ACB510,ACC11:ACC510)*$N$5","v":322.02302156862731},null,null,{"$f":"COVAR(ACE11:ACE510,ACF11:ACF510)*$N$5","v":741.00031176470577},null,null,{"$f":"COVAR(ACH11:ACH510,ACI11:ACI510)*$N$5","v":309.19139411764718},null,null,{"$f":"COVAR(ACK11:ACK510,ACL11:ACL510)*$N$5","v":310.21447647058824},null,null,{"$f":"COVAR(ACN11:ACN510,ACO11:ACO510)*$N$5","v":127.74792156862742},null,null,{"$f":"COVAR(ACQ11:ACQ510,ACR11:ACR510)*$N$5","v":334.18508823529407},null,null,{"$f":"COVAR(ACT11:ACT510,ACU11:ACU510)*$N$5","v":328.7405999999998},null,null,{"$f":"COVAR(ACW11:ACW510,ACX11:ACX510)*$N$5","v":137.70918823529416},null,null,{"$f":"COVAR(ACZ11:ACZ510,ADA11:ADA510)*$N$5","v":135.14844117647061},null,null,{"$f":"COVAR(ADC11:ADC510,ADD11:ADD510)*$N$5","v":555.42946274509814},null,null,{"$f":"COVAR(ADF11:ADF510,ADG11:ADG510)*$N$5","v":304.14837254901954},null,null,{"$f":"COVAR(ADI11:ADI510,ADJ11:ADJ510)*$N$5","v":167.28680392156861},null,null,{"$f":"COVAR(ADL11:ADL510,ADM11:ADM510)*$N$5","v":336.70074117647056},null,null,{"$f":"COVAR(ADO11:ADO510,ADP11:ADP510)*$N$5","v":362.9008274509805},null,null,{"$f":"COVAR(ADR11:ADR510,ADS11:ADS510)*$N$5","v":345.26863529411759},null,null,{"$f":"COVAR(ADU11:ADU510,ADV11:ADV510)*$N$5","v":105.02812941176472},null,null,{"$f":"COVAR(ADX11:ADX510,ADY11:ADY510)*$N$5","v":490.52988431372557},null,null,{"$f":"COVAR(AEA11:AEA510,AEB11:AEB510)*$N$5","v":321.87698823529405},null,null,{"$f":"COVAR(AED11:AED510,AEE11:AEE510)*$N$5","v":125.52728823529414},null,null,{"$f":"COVAR(AEG11:AEG510,AEH11:AEH510)*$N$5","v":495.38931764705882},null,null,{"$f":"COVAR(AEJ11:AEJ510,AEK11:AEK510)*$N$5","v":138.80373725490199},null,null,{"$f":"COVAR(AEM11:AEM510,AEN11:AEN510)*$N$5","v":88.676209803921523},null,null,{"$f":"COVAR(AEP11:AEP510,AEQ11:AEQ510)*$N$5","v":358.24730784313715},null,null,{"$f":"COVAR(AES11:AES510,AET11:AET510)*$N$5","v":338.08011764705878},null,null,{"$f":"COVAR(AEV11:AEV510,AEW11:AEW510)*$N$5","v":524.31037058823551},null,null,{"$f":"COVAR(AEY11:AEY510,AEZ11:AEZ510)*$N$5","v":320.46364705882365},null,null,{"$f":"COVAR(AFB11:AFB510,AFC11:AFC510)*$N$5","v":346.48811960784315},null,null,{"$f":"COVAR(AFE11:AFE510,AFF11:AFF510)*$N$5","v":322.00372352941184},null,null,{"$f":"COVAR(AFH11:AFH510,AFI11:AFI510)*$N$5","v":132.64145294117651},null,null,{"$f":"COVAR(AFK11:AFK510,AFL11:AFL510)*$N$5","v":106.86790196078429},null,null,{"$f":"COVAR(AFN11:AFN510,AFO11:AFO510)*$N$5","v":132.75959803921566},null,null,{"$f":"COVAR(AFQ11:AFQ510,AFR11:AFR510)*$N$5","v":576.1624333333333},null,null,{"$f":"COVAR(AFT11:AFT510,AFU11:AFU510)*$N$5","v":692.47969215686248},null,null,{"$f":"COVAR(AFW11:AFW510,AFX11:AFX510)*$N$5","v":487.58679215686271},null,null,{"$f":"COVAR(AFZ11:AFZ510,AGA11:AGA510)*$N$5","v":152.67491372549017},null,null,{"$f":"COVAR(AGC11:AGC510,AGD11:AGD510)*$N$5","v":133.93187843137255},null,null,{"$f":"COVAR(AGF11:AGF510,AGG11:AGG510)*$N$5","v":342.58619999999991},null,null,{"$f":"COVAR(AGI11:AGI510,AGJ11:AGJ510)*$N$5","v":372.31575490196053},null,null,{"$f":"COVAR(AGL11:AGL510,AGM11:AGM510)*$N$5","v":123.98724313725491},null,null,{"$f":"COVAR(AGO11:AGO510,AGP11:AGP510)*$N$5","v":512.38602941176464},null,null,{"$f":"COVAR(AGR11:AGR510,AGS11:AGS510)*$N$5","v":337.69526470588244},null,null,{"$f":"COVAR(AGU11:AGU510,AGV11:AGV510)*$N$5","v":113.43236666666668},null,null,{"$f":"COVAR(AGX11:AGX510,AGY11:AGY510)*$N$5","v":287.78234509803923},null,null,{"$f":"COVAR(AHA11:AHA510,AHB11:AHB510)*$N$5","v":332.56792156862758},null,null,{"$f":"COVAR(AHD11:AHD510,AHE11:AHE510)*$N$5","v":131.99751960784309},null,null,{"$f":"COVAR(AHG11:AHG510,AHH11:AHH510)*$N$5","v":343.06664117647063},null,null,{"$f":"COVAR(AHJ11:AHJ510,AHK11:AHK510)*$N$5","v":545.40842549019601},null,null,{"$f":"COVAR(AHM11:AHM510,AHN11:AHN510)*$N$5","v":539.22502549019612},null,null,{"$f":"COVAR(AHP11:AHP510,AHQ11:AHQ510)*$N$5","v":126.48523529411766},null,null,{"$f":"COVAR(AHS11:AHS510,AHT11:AHT510)*$N$5","v":320.20759411764709},null,null,{"$f":"COVAR(AHV11:AHV510,AHW11:AHW510)*$N$5","v":367.718082352941},null,null,{"$f":"COVAR(AHY11:AHY510,AHZ11:AHZ510)*$N$5","v":656.53986470588245},null,null,{"$f":"COVAR(AIB11:AIB510,AIC11:AIC510)*$N$5","v":540.79051176470614},null,null,{"$f":"COVAR(AIE11:AIE510,AIF11:AIF510)*$N$5","v":116.55805294117647},null,null,{"$f":"COVAR(AIH11:AIH510,AII11:AII510)*$N$5","v":489.52267058823543},null,null,{"$f":"COVAR(AIK11:AIK510,AIL11:AIL510)*$N$5","v":79.509158823529404},null,null,{"$f":"COVAR(AIN11:AIN510,AIO11:AIO510)*$N$5","v":99.495847058823514},null,null,{"$f":"COVAR(AIQ11:AIQ510,AIR11:AIR510)*$N$5","v":131.96935686274512},null,null,{"$f":"COVAR(AIT11:AIT510,AIU11:AIU510)*$N$5","v":345.32531568627445},null,null,{"$f":"COVAR(AIW11:AIW510,AIX11:AIX510)*$N$5","v":116.3103901960784},null,null,{"$f":"COVAR(AIZ11:AIZ510,AJA11:AJA510)*$N$5","v":317.47863921568631},null,null,{"$f":"COVAR(AJC11:AJC510,AJD11:AJD510)*$N$5","v":157.36477647058825},null,null,{"$f":"COVAR(AJF11:AJF510,AJG11:AJG510)*$N$5","v":325.34177058823531},null,null,{"$f":"COVAR(AJI11:AJI510,AJJ11:AJJ510)*$N$5","v":349.52032941176475},null,null,{"$f":"COVAR(AJL11:AJL510,AJM11:AJM510)*$N$5","v":340.95819411764705},null,null,{"$f":"COVAR(AJO11:AJO510,AJP11:AJP510)*$N$5","v":123.87054117647057},null,null,{"$f":"COVAR(AJR11:AJR510,AJS11:AJS510)*$N$5","v":130.11104705882352},null,null,{"$f":"COVAR(AJU11:AJU510,AJV11:AJV510)*$N$5","v":313.81039411764721},null,null,{"$f":"COVAR(AJX11:AJX510,AJY11:AJY510)*$N$5","v":335.28155098039235},null,null,{"$f":"COVAR(AKA11:AKA510,AKB11:AKB510)*$N$5","v":328.44087843137254},null,null,{"$f":"COVAR(AKD11:AKD510,AKE11:AKE510)*$N$5","v":145.64289411764707},null,null,{"$f":"COVAR(AKG11:AKG510,AKH11:AKH510)*$N$5","v":123.54063725490197},null,null,{"$f":"COVAR(AKJ11:AKJ510,AKK11:AKK510)*$N$5","v":137.70792352941177},null,null,{"$f":"COVAR(AKM11:AKM510,AKN11:AKN510)*$N$5","v":315.54079019607849},null,null,{"$f":"COVAR(AKP11:AKP510,AKQ11:AKQ510)*$N$5","v":522.66349019607821},null,null,{"$f":"COVAR(AKS11:AKS510,AKT11:AKT510)*$N$5","v":339.24301960784317},null,null,{"$f":"COVAR(AKV11:AKV510,AKW11:AKW510)*$N$5","v":93.574409803921554},null,null,{"$f":"COVAR(AKY11:AKY510,AKZ11:AKZ510)*$N$5","v":126.73332941176473},null,null,{"$f":"COVAR(ALB11:ALB510,ALC11:ALC510)*$N$5","v":108.1661117647059},null,null,{"$f":"COVAR(ALE11:ALE510,ALF11:ALF510)*$N$5","v":738.26673725490173},null,null,{"$f":"COVAR(ALH11:ALH510,ALI11:ALI510)*$N$5","v":582.87199803921544},null,null,{"$f":"COVAR(ALK11:ALK510,ALL11:ALL510)*$N$5","v":121.52770000000001},null,null,{"$f":"COVAR(ALN11:ALN510,ALO11:ALO510)*$N$5","v":513.19248235294106},null,null,{"$f":"COVAR(ALQ11:ALQ510,ALR11:ALR510)*$N$5","v":190.13802352941178},null,null,{"$f":"COVAR(ALT11:ALT510,ALU11:ALU510)*$N$5","v":725.42688823529409},null,null,{"$f":"COVAR(ALW11:ALW510,ALX11:ALX510)*$N$5","v":356.16235686274513},null,null,{"$f":"COVAR(ALZ11:ALZ510,AMA11:AMA510)*$N$5","v":312.70147254901974},null,null,{"$f":"COVAR(AMC11:AMC510,AMD11:AMD510)*$N$5","v":183.16136470588228},null,null,{"$f":"COVAR(AMF11:AMF510,AMG11:AMG510)*$N$5","v":156.50651176470583},null,null,{"$f":"COVAR(AMI11:AMI510,AMJ11:AMJ510)*$N$5","v":136.22842352941177},null,null,{"$f":"COVAR(AML11:AML510,AMM11:AMM510)*$N$5","v":147.96877058823529},null,null,{"$f":"COVAR(AMO11:AMO510,AMP11:AMP510)*$N$5","v":152.31496274509806},null,null,{"$f":"COVAR(AMR11:AMR510,AMS11:AMS510)*$N$5","v":115.47960980392156},null,null,{"$f":"COVAR(AMU11:AMU510,AMV11:AMV510)*$N$5","v":549.23829999999998},null,null,{"$f":"COVAR(AMX11:AMX510,AMY11:AMY510)*$N$5","v":329.1151823529413},null,null,{"$f":"COVAR(ANA11:ANA510,ANB11:ANB510)*$N$5","v":336.28270784313725},null,null,{"$f":"COVAR(AND11:AND510,ANE11:ANE510)*$N$5","v":572.86058235294092},null,null,{"$f":"COVAR(ANG11:ANG510,ANH11:ANH510)*$N$5","v":121.01879411764703},null,null,{"$f":"COVAR(ANJ11:ANJ510,ANK11:ANK510)*$N$5","v":524.8714450980392},null,null,{"$f":"COVAR(ANM11:ANM510,ANN11:ANN510)*$N$5","v":305.31105098039211},null,null,{"$f":"COVAR(ANP11:ANP510,ANQ11:ANQ510)*$N$5","v":318.59071764705897},null,null,{"$f":"COVAR(ANS11:ANS510,ANT11:ANT510)*$N$5","v":358.7132058823529},null,null,{"$f":"COVAR(ANV11:ANV510,ANW11:ANW510)*$N$5","v":310.69355882352943},null,null,{"$f":"COVAR(ANY11:ANY510,ANZ11:ANZ510)*$N$5","v":330.77895882352936},null,null,{"$f":"COVAR(AOB11:AOB510,AOC11:AOC510)*$N$5","v":344.18862941176468},null,null,{"$f":"COVAR(AOE11:AOE510,AOF11:AOF510)*$N$5","v":136.04652745098042},null,null,{"$f":"COVAR(AOH11:AOH510,AOI11:AOI510)*$N$5","v":136.68775294117646},null,null,{"$f":"COVAR(AOK11:AOK510,AOL11:AOL510)*$N$5","v":340.16913529411767},null,null,{"$f":"COVAR(AON11:AON510,AOO11:AOO510)*$N$5","v":546.04562156862744},null,null,{"$f":"COVAR(AOQ11:AOQ510,AOR11:AOR510)*$N$5","v":343.48293333333334},null,null,{"$f":"COVAR(AOT11:AOT510,AOU11:AOU510)*$N$5","v":742.07134705882345},null,null,{"$f":"COVAR(AOW11:AOW510,AOX11:AOX510)*$N$5","v":117.76399999999998},null,null,{"$f":"COVAR(AOZ11:AOZ510,APA11:APA510)*$N$5","v":357.38314117647053},null,null,{"$f":"COVAR(APC11:APC510,APD11:APD510)*$N$5","v":504.30121960784311},null,null,{"$f":"COVAR(APF11:APF510,APG11:APG510)*$N$5","v":147.7319039215686},null,null,{"$f":"COVAR(API11:API510,APJ11:APJ510)*$N$5","v":324.8653588235295},null,null,{"$f":"COVAR(APL11:APL510,APM11:APM510)*$N$5","v":338.95037647058825},null,null,{"$f":"COVAR(APO11:APO510,APP11:APP510)*$N$5","v":79.991454901960793},null,null,{"$f":"COVAR(APR11:APR510,APS11:APS510)*$N$5","v":333.86228039215695},null,null,{"$f":"COVAR(APU11:APU510,APV11:APV510)*$N$5","v":299.15783725490195},null,null,{"$f":"COVAR(APX11:APX510,APY11:APY510)*$N$5","v":308.92232352941176},null,null,{"$f":"COVAR(AQA11:AQA510,AQB11:AQB510)*$N$5","v":328.80194705882354},null,null,{"$f":"COVAR(AQD11:AQD510,AQE11:AQE510)*$N$5","v":497.44811176470591},null,null,{"$f":"COVAR(AQG11:AQG510,AQH11:AQH510)*$N$5","v":286.95740392156858},null,null,{"$f":"COVAR(AQJ11:AQJ510,AQK11:AQK510)*$N$5","v":167.05230000000003},null,null,{"$f":"COVAR(AQM11:AQM510,AQN11:AQN510)*$N$5","v":151.60407254901958},null,null,{"$f":"COVAR(AQP11:AQP510,AQQ11:AQQ510)*$N$5","v":96.508311764705866},null,null,{"$f":"COVAR(AQS11:AQS510,AQT11:AQT510)*$N$5","v":353.20315294117637},null,null,{"$f":"COVAR(AQV11:AQV510,AQW11:AQW510)*$N$5","v":331.75752352941197},null,null,{"$f":"COVAR(AQY11:AQY510,AQZ11:AQZ510)*$N$5","v":345.41262549019609},null,null,{"$f":"COVAR(ARB11:ARB510,ARC11:ARC510)*$N$5","v":156.10681764705885},null,null,{"$f":"COVAR(ARE11:ARE510,ARF11:ARF510)*$N$5","v":471.69320196078422},null,null,{"$f":"COVAR(ARH11:ARH510,ARI11:ARI510)*$N$5","v":325.02273333333335},null,null,{"$f":"COVAR(ARK11:ARK510,ARL11:ARL510)*$N$5","v":905.3319294117648},null,null,{"$f":"COVAR(ARN11:ARN510,ARO11:ARO510)*$N$5","v":116.1382725490196},null,null,{"$f":"COVAR(ARQ11:ARQ510,ARR11:ARR510)*$N$5","v":120.50241764705882},null,null,{"$f":"COVAR(ART11:ART510,ARU11:ARU510)*$N$5","v":723.18853725490192},null,null,{"$f":"COVAR(ARW11:ARW510,ARX11:ARX510)*$N$5","v":334.77185490196086},null,null,{"$f":"COVAR(ARZ11:ARZ510,ASA11:ASA510)*$N$5","v":327.00470784313717},null,null,{"$f":"COVAR(ASC11:ASC510,ASD11:ASD510)*$N$5","v":305.66936078431371},null,null,{"$f":"COVAR(ASF11:ASF510,ASG11:ASG510)*$N$5","v":321.68111372549015},null,null,{"$f":"COVAR(ASI11:ASI510,ASJ11:ASJ510)*$N$5","v":106.91132156862749},null,null,{"$f":"COVAR(ASL11:ASL510,ASM11:ASM510)*$N$5","v":347.5556176470588},null,null,{"$f":"COVAR(ASO11:ASO510,ASP11:ASP510)*$N$5","v":107.17558431372551},null,null,{"$f":"COVAR(ASR11:ASR510,ASS11:ASS510)*$N$5","v":349.68872352941167},null,null,{"$f":"COVAR(ASU11:ASU510,ASV11:ASV510)*$N$5","v":311.80681372549014},null,null,{"$f":"COVAR(ASX11:ASX510,ASY11:ASY510)*$N$5","v":153.78074901960784},null,null,{"$f":"COVAR(ATA11:ATA510,ATB11:ATB510)*$N$5","v":292.59951372549023},null,null,{"$f":"COVAR(ATD11:ATD510,ATE11:ATE510)*$N$5","v":323.22482745098057},null,null,{"$f":"COVAR(ATG11:ATG510,ATH11:ATH510)*$N$5","v":316.48358039215691},null,null,{"$f":"COVAR(ATJ11:ATJ510,ATK11:ATK510)*$N$5","v":131.11028235294117},null,null,{"$f":"COVAR(ATM11:ATM510,ATN11:ATN510)*$N$5","v":336.90123137254898},null,null,{"$f":"COVAR(ATP11:ATP510,ATQ11:ATQ510)*$N$5","v":158.41935294117653},null,null,{"$f":"COVAR(ATS11:ATS510,ATT11:ATT510)*$N$5","v":319.33840588235302},null,null,{"$f":"COVAR(ATV11:ATV510,ATW11:ATW510)*$N$5","v":355.35216470588239},null,null,{"$f":"COVAR(ATY11:ATY510,ATZ11:ATZ510)*$N$5","v":310.06443333333345},null,null,{"$f":"COVAR(AUB11:AUB510,AUC11:AUC510)*$N$5","v":710.5666019607844},null,null,{"$f":"COVAR(AUE11:AUE510,AUF11:AUF510)*$N$5","v":120.01398235294114},null,null,{"$f":"COVAR(AUH11:AUH510,AUI11:AUI510)*$N$5","v":555.63927058823538},null,null,{"$f":"COVAR(AUK11:AUK510,AUL11:AUL510)*$N$5","v":542.24841176470591},null,null,{"$f":"COVAR(AUN11:AUN510,AUO11:AUO510)*$N$5","v":514.19235490196081},null,null,{"$f":"COVAR(AUQ11:AUQ510,AUR11:AUR510)*$N$5","v":110.33596470588239},null,null,{"$f":"COVAR(AUT11:AUT510,AUU11:AUU510)*$N$5","v":309.90986078431365},null,null,{"$f":"COVAR(AUW11:AUW510,AUX11:AUX510)*$N$5","v":96.188433333333364},null,null,{"$f":"COVAR(AUZ11:AUZ510,AVA11:AVA510)*$N$5","v":119.57633333333334},null,null,{"$f":"COVAR(AVC11:AVC510,AVD11:AVD510)*$N$5","v":511.38674313725494},null,null,{"$f":"COVAR(AVF11:AVF510,AVG11:AVG510)*$N$5","v":357.16137450980386},null,null,{"$f":"COVAR(AVI11:AVI510,AVJ11:AVJ510)*$N$5","v":323.79900392156873},null,null,{"$f":"COVAR(AVL11:AVL510,AVM11:AVM510)*$N$5","v":501.1186803921567},null,null,{"$f":"COVAR(AVO11:AVO510,AVP11:AVP510)*$N$5","v":335.85148823529408},null,null,{"$f":"COVAR(AVR11:AVR510,AVS11:AVS510)*$N$5","v":359.80948039215673},null,null,{"$f":"COVAR(AVU11:AVU510,AVV11:AVV510)*$N$5","v":326.88577843137256},null,null,{"$f":"COVAR(AVX11:AVX510,AVY11:AVY510)*$N$5","v":325.62759999999992},null,null,{"$f":"COVAR(AWA11:AWA510,AWB11:AWB510)*$N$5","v":375.41666666666674},null,null,{"$f":"COVAR(AWD11:AWD510,AWE11:AWE510)*$N$5","v":522.73190588235298},null,null,{"$f":"COVAR(AWG11:AWG510,AWH11:AWH510)*$N$5","v":512.43419215686265},null,null,{"$f":"COVAR(AWJ11:AWJ510,AWK11:AWK510)*$N$5","v":295.05876470588225},null,null,{"$f":"COVAR(AWM11:AWM510,AWN11:AWN510)*$N$5","v":328.65180000000004},null,null,{"$f":"COVAR(AWP11:AWP510,AWQ11:AWQ510)*$N$5","v":159.75340000000003},null,null,{"$f":"COVAR(AWS11:AWS510,AWT11:AWT510)*$N$5","v":320.14683333333318},null,null,{"$f":"COVAR(AWV11:AWV510,AWW11:AWW510)*$N$5","v":749.70689411764704},null,null,{"$f":"COVAR(AWY11:AWY510,AWZ11:AWZ510)*$N$5","v":129.97160000000002},null,null,{"$f":"COVAR(AXB11:AXB510,AXC11:AXC510)*$N$5","v":106.96298235294117},null,null,{"$f":"COVAR(AXE11:AXE510,AXF11:AXF510)*$N$5","v":368.47485294117632},null,null,{"$f":"COVAR(AXH11:AXH510,AXI11:AXI510)*$N$5","v":323.29408823529411},null,null,{"$f":"COVAR(AXK11:AXK510,AXL11:AXL510)*$N$5","v":327.9033470588235},null,null,{"$f":"COVAR(AXN11:AXN510,AXO11:AXO510)*$N$5","v":124.63344117647051},null,null,{"$f":"COVAR(AXQ11:AXQ510,AXR11:AXR510)*$N$5","v":534.35449411764728},null,null,{"$f":"COVAR(AXT11:AXT510,AXU11:AXU510)*$N$5","v":520.20369215686276},null,null,{"$f":"COVAR(AXW11:AXW510,AXX11:AXX510)*$N$5","v":128.83069411764706},null,null,{"$f":"COVAR(AXZ11:AXZ510,AYA11:AYA510)*$N$5","v":335.12789019607828},null,null,{"$f":"COVAR(AYC11:AYC510,AYD11:AYD510)*$N$5","v":353.972931372549},null,null,{"$f":"COVAR(AYF11:AYF510,AYG11:AYG510)*$N$5","v":116.7394882352941},null,null,{"$f":"COVAR(AYI11:AYI510,AYJ11:AYJ510)*$N$5","v":127.44638627450982},null,null,{"$f":"COVAR(AYL11:AYL510,AYM11:AYM510)*$N$5","v":545.26144705882359},null,null,{"$f":"COVAR(AYO11:AYO510,AYP11:AYP510)*$N$5","v":156.34505882352934},null,null,{"$f":"COVAR(AYR11:AYR510,AYS11:AYS510)*$N$5","v":526.66629999999986},null,null,{"$f":"COVAR(AYU11:AYU510,AYV11:AYV510)*$N$5","v":551.61597254901949},null,null,{"$f":"COVAR(AYX11:AYX510,AYY11:AYY510)*$N$5","v":317.64284901960792},null,null,{"$f":"COVAR(AZA11:AZA510,AZB11:AZB510)*$N$5","v":511.79009411764707},null,null,{"$f":"COVAR(AZD11:AZD510,AZE11:AZE510)*$N$5","v":496.90921568627454},null,null,{"$f":"COVAR(AZG11:AZG510,AZH11:AZH510)*$N$5","v":116.79214313725487},null,null,{"$f":"COVAR(AZJ11:AZJ510,AZK11:AZK510)*$N$5","v":303.39756862745116},null,null,{"$f":"COVAR(AZM11:AZM510,AZN11:AZN510)*$N$5","v":131.2480529411765},null,null,{"$f":"COVAR(AZP11:AZP510,AZQ11:AZQ510)*$N$5","v":320.39449999999971},null,null,{"$f":"COVAR(AZS11:AZS510,AZT11:AZT510)*$N$5","v":321.69273725490194},null,null,{"$f":"COVAR(AZV11:AZV510,AZW11:AZW510)*$N$5","v":322.3533333333333},null,null,{"$f":"COVAR(AZY11:AZY510,AZZ11:AZZ510)*$N$5","v":150.33035882352939},null,null,{"$f":"COVAR(BAB11:BAB510,BAC11:BAC510)*$N$5","v":321.66749411764698},null,null,{"$f":"COVAR(BAE11:BAE510,BAF11:BAF510)*$N$5","v":511.00094705882356},null,null,{"$f":"COVAR(BAH11:BAH510,BAI11:BAI510)*$N$5","v":708.50044509803911},null,null,{"$f":"COVAR(BAK11:BAK510,BAL11:BAL510)*$N$5","v":335.32112156862758},null,null,{"$f":"COVAR(BAN11:BAN510,BAO11:BAO510)*$N$5","v":110.38105882352944},null,null,{"$f":"COVAR(BAQ11:BAQ510,BAR11:BAR510)*$N$5","v":361.34650392156857},null,null,{"$f":"COVAR(BAT11:BAT510,BAU11:BAU510)*$N$5","v":337.92865294117655},null,null,{"$f":"COVAR(BAW11:BAW510,BAX11:BAX510)*$N$5","v":511.70764705882362},null,null,{"$f":"COVAR(BAZ11:BAZ510,BBA11:BBA510)*$N$5","v":96.050176470588241},null,null,{"$f":"COVAR(BBC11:BBC510,BBD11:BBD510)*$N$5","v":490.76863137254895},null,null,{"$f":"COVAR(BBF11:BBF510,BBG11:BBG510)*$N$5","v":544.01653921568607},null,null,{"$f":"COVAR(BBI11:BBI510,BBJ11:BBJ510)*$N$5","v":312.8316647058823},null,null,{"$f":"COVAR(BBL11:BBL510,BBM11:BBM510)*$N$5","v":482.31182352941175},null,null,{"$f":"COVAR(BBO11:BBO510,BBP11:BBP510)*$N$5","v":324.98604901960766},null,null,{"$f":"COVAR(BBR11:BBR510,BBS11:BBS510)*$N$5","v":90.433729411764716},null,null,{"$f":"COVAR(BBU11:BBU510,BBV11:BBV510)*$N$5","v":396.51282941176476},null,null,{"$f":"COVAR(BBX11:BBX510,BBY11:BBY510)*$N$5","v":294.94557450980403},null,null,{"$f":"COVAR(BCA11:BCA510,BCB11:BCB510)*$N$5","v":354.4958882352941},null,null,{"$f":"COVAR(BCD11:BCD510,BCE11:BCE510)*$N$5","v":526.27003725490204},null,null,{"$f":"COVAR(BCG11:BCG510,BCH11:BCH510)*$N$5","v":695.36199019607784},null,null,{"$f":"COVAR(BCJ11:BCJ510,BCK11:BCK510)*$N$5","v":513.99096470588245},null,null,{"$f":"COVAR(BCM11:BCM510,BCN11:BCN510)*$N$5","v":143.93467647058824},null,null,{"$f":"COVAR(BCP11:BCP510,BCQ11:BCQ510)*$N$5","v":314.47388823529423},null,null,{"$f":"COVAR(BCS11:BCS510,BCT11:BCT510)*$N$5","v":507.03078627450969},null,null,{"$f":"COVAR(BCV11:BCV510,BCW11:BCW510)*$N$5","v":367.8998529411765},null,null,{"$f":"COVAR(BCY11:BCY510,BCZ11:BCZ510)*$N$5","v":311.67939999999999},null,null,{"$f":"COVAR(BDB11:BDB510,BDC11:BDC510)*$N$5","v":131.95751960784312},null,null,{"$f":"COVAR(BDE11:BDE510,BDF11:BDF510)*$N$5","v":129.20804901960787},null,null,{"$f":"COVAR(BDH11:BDH510,BDI11:BDI510)*$N$5","v":176.30449607843141},null,null,{"$f":"COVAR(BDK11:BDK510,BDL11:BDL510)*$N$5","v":132.7672},null,null,{"$f":"COVAR(BDN11:BDN510,BDO11:BDO510)*$N$5","v":152.44905294117646},null,null,{"$f":"COVAR(BDQ11:BDQ510,BDR11:BDR510)*$N$5","v":847.31406470588195},null,null,{"$f":"COVAR(BDT11:BDT510,BDU11:BDU510)*$N$5","v":130.43076862745099},null,null,{"$f":"COVAR(BDW11:BDW510,BDX11:BDX510)*$N$5","v":347.84783921568635},null,null,{"$f":"COVAR(BDZ11:BDZ510,BEA11:BEA510)*$N$5","v":117.82590000000002},null,null,{"$f":"COVAR(BEC11:BEC510,BED11:BED510)*$N$5","v":535.81178823529399},null,null,{"$f":"COVAR(BEF11:BEF510,BEG11:BEG510)*$N$5","v":128.49683137254905},null,null,{"$f":"COVAR(BEI11:BEI510,BEJ11:BEJ510)*$N$5","v":299.09214313725488},null,null,{"$f":"COVAR(BEL11:BEL510,BEM11:BEM510)*$N$5","v":366.43691764705886},null,null,{"$f":"COVAR(BEO11:BEO510,BEP11:BEP510)*$N$5","v":345.85570000000001},null,null,{"$f":"COVAR(BER11:BER510,BES11:BES510)*$N$5","v":133.25173725490194},null,null,{"$f":"COVAR(BEU11:BEU510,BEV11:BEV510)*$N$5","v":109.88996666666667},null,null,{"$f":"COVAR(BEX11:BEX510,BEY11:BEY510)*$N$5","v":522.39826470588241},null,null,{"$f":"COVAR(BFA11:BFA510,BFB11:BFB510)*$N$5","v":343.38299411764712},null,null,{"$f":"COVAR(BFD11:BFD510,BFE11:BFE510)*$N$5","v":181.13354901960784},null,null,{"$f":"COVAR(BFG11:BFG510,BFH11:BFH510)*$N$5","v":117.89617254901961},null,null,{"$f":"COVAR(BFJ11:BFJ510,BFK11:BFK510)*$N$5","v":309.58174313725488},null,null,{"$f":"COVAR(BFM11:BFM510,BFN11:BFN510)*$N$5","v":339.42074901960774},null,null,{"$f":"COVAR(BFP11:BFP510,BFQ11:BFQ510)*$N$5","v":128.43637843137253},null,null,{"$f":"COVAR(BFS11:BFS510,BFT11:BFT510)*$N$5","v":106.78910196078428},null,null,{"$f":"COVAR(BFV11:BFV510,BFW11:BFW510)*$N$5","v":692.89582352941204},null,null,{"$f":"COVAR(BFY11:BFY510,BFZ11:BFZ510)*$N$5","v":370.50907843137247},null,null,{"$f":"COVAR(BGB11:BGB510,BGC11:BGC510)*$N$5","v":129.88571764705878},null,null,{"$f":"COVAR(BGE11:BGE510,BGF11:BGF510)*$N$5","v":553.45518039215676},null,null,{"$f":"COVAR(BGH11:BGH510,BGI11:BGI510)*$N$5","v":703.30164901960791},null,null,{"$f":"COVAR(BGK11:BGK510,BGL11:BGL510)*$N$5","v":112.21723333333334},null,null,{"$f":"COVAR(BGN11:BGN510,BGO11:BGO510)*$N$5","v":153.56064705882358},null,null,{"$f":"COVAR(BGQ11:BGQ510,BGR11:BGR510)*$N$5","v":567.77252352941173},null,null,{"$f":"COVAR(BGT11:BGT510,BGU11:BGU510)*$N$5","v":526.77100000000019}]
[null,null,5,0.32,0.91,null,null,0,0,null,"変動計数：=SD/n＊100",null,{"$f":"M8/M6*100","v":104.22361258852031},{"$f":"N8/N6*100","v":72.658570783946487},{"$f":"O8/O6*100","v":{"$error":"#DIV/0!"}},{"$f":"P8/P6*100","v":{"$error":"#DIV/0!"}},null,null,null,null,7.42,50,3,5.86,45,8,null,null,null,-3.9239784986120321,-0.8245849584336411,-2.6375938344141625,1.0855705436343992,null,{"$error":"#DIV/0!"},{"$error":"#DIV/0!"},{"$error":"#DIV/0!"},{"$error":"#DIV/0!"},null,48,47,"","",null,{"$f":"IF(D9<>\"\",(D9+E9)/2,\"\")","v":0.61499999999999999},0.59000000000000008,null,0.61499999999999999,0.59000000000000008,null,null,null,"Sｘｘ・Sｙｙ=",{"$f":"DEVSQ(BB11:BB510)","v":992.84666274509846},{"$f":"DEVSQ(BC11:BC510)","v":558.94323529411758},null,{"$f":"DEVSQ(BE11:BE510)","v":101.24156862745095},{"$f":"DEVSQ(BF11:BF510)","v":136.01219215686271},null,{"$f":"DEVSQ(BH11:BH510)","v":159.78119215686272},{"$f":"DEVSQ(BI11:BI510)","v":153.75626274509796},null,{"$f":"DEVSQ(BK11:BK510)","v":115.50543529411766},{"$f":"DEVSQ(BL11:BL510)","v":153.07641568627452},null,{"$f":"DEVSQ(BN11:BN510)","v":454.1546980392157},{"$f":"DEVSQ(BO11:BO510)","v":320.49240000000003},null,{"$f":"DEVSQ(BQ11:BQ510)","v":149.35025098039216},{"$f":"DEVSQ(BR11:BR510)","v":203.69468235294121},null,{"$f":"DEVSQ(BT11:BT510)","v":141.94866274509806},{"$f":"DEVSQ(BU11:BU510)","v":202.58463529411767},null,{"$f":"DEVSQ(BW11:BW510)","v":132.58973333333333},{"$f":"DEVSQ(BX11:BX510)","v":175.57656862745102},null,{"$f":"DEVSQ(BZ11:BZ510)","v":769.76321568627441},{"$f":"DEVSQ(CA11:CA510)","v":456.33941568627466},null,{"$f":"DEVSQ(CC11:CC510)","v":119.81688235294121},{"$f":"DEVSQ(CD11:CD510)","v":123.47771764705884},null,{"$f":"DEVSQ(CF11:CF510)","v":710.94132941176463},{"$f":"DEVSQ(CG11:CG510)","v":444.51928235294116},null,{"$f":"DEVSQ(CI11:CI510)","v":125.44560392156863},{"$f":"DEVSQ(CJ11:CJ510)","v":164.29032941176462},null,{"$f":"DEVSQ(CL11:CL510)","v":466.83432941176477},{"$f":"DEVSQ(CM11:CM510)","v":334.31349803921569},null,{"$f":"DEVSQ(CO11:CO510)","v":430.0873686274511},{"$f":"DEVSQ(CP11:CP510)","v":307.40847450980408},null,{"$f":"DEVSQ(CR11:CR510)","v":431.8255333333334},{"$f":"DEVSQ(CS11:CS510)","v":313.100062745098},null,{"$f":"DEVSQ(CU11:CU510)","v":711.40500392156878},{"$f":"DEVSQ(CV11:CV510)","v":436.78619215686291},null,{"$f":"DEVSQ(CX11:CX510)","v":449.52549803921579},{"$f":"DEVSQ(CY11:CY510)","v":320.01259215686264},null,{"$f":"DEVSQ(DA11:DA510)","v":467.52613333333341},{"$f":"DEVSQ(DB11:DB510)","v":315.86831764705886},null,{"$f":"DEVSQ(DD11:DD510)","v":104.15923529411766},{"$f":"DEVSQ(DE11:DE510)","v":151.54894117647058},null,{"$f":"DEVSQ(DG11:DG510)","v":452.01940000000008},{"$f":"DEVSQ(DH11:DH510)","v":277.68892941176466},null,{"$f":"DEVSQ(DJ11:DJ510)","v":425.42149803921575},{"$f":"DEVSQ(DK11:DK510)","v":297.59691764705877},null,{"$f":"DEVSQ(DM11:DM510)","v":121.16901568627452},{"$f":"DEVSQ(DN11:DN510)","v":160.91068235294114},null,{"$f":"DEVSQ(DP11:DP510)","v":105.25467058823531},{"$f":"DEVSQ(DQ11:DQ510)","v":123.35428235294117},null,{"$f":"DEVSQ(DS11:DS510)","v":172.6802509803922},{"$f":"DEVSQ(DT11:DT510)","v":178.19411764705882},null,{"$f":"DEVSQ(DV11:DV510)","v":414.47249803921557},{"$f":"DEVSQ(DW11:DW510)","v":303.26879215686273},null,{"$f":"DEVSQ(DY11:DY510)","v":364.88403529411772},{"$f":"DEVSQ(DZ11:DZ510)","v":241.61285098039212},null,{"$f":"DEVSQ(EB11:EB510)","v":126.80067450980393},{"$f":"DEVSQ(EC11:EC510)","v":192.9390509803921},null,{"$f":"DEVSQ(EE11:EE510)","v":457.04146274509799},{"$f":"DEVSQ(EF11:EF510)","v":333.95616862745095},null,{"$f":"DEVSQ(EH11:EH510)","v":1207.3596705882355},{"$f":"DEVSQ(EI11:EI510)","v":646.86293333333333},null,{"$f":"DEVSQ(EK11:EK510)","v":409.89473333333319},{"$f":"DEVSQ(EL11:EL510)","v":313.93236470588215},null,{"$f":"DEVSQ(EN11:EN510)","v":204.89589803921572},{"$f":"DEVSQ(EO11:EO510)","v":210.22211764705884},null,{"$f":"DEVSQ(EQ11:EQ510)","v":136.78005098039213},{"$f":"DEVSQ(ER11:ER510)","v":190.97052941176472},null,{"$f":"DEVSQ(ET11:ET510)","v":722.44911764705898},{"$f":"DEVSQ(EU11:EU510)","v":443.44531764705891},null,{"$f":"DEVSQ(EW11:EW510)","v":680.57341568627533},{"$f":"DEVSQ(EX11:EX510)","v":385.44759215686281},null,{"$f":"DEVSQ(EZ11:EZ510)","v":454.38107058823527},{"$f":"DEVSQ(FA11:FA510)","v":317.07586274509805},null,{"$f":"DEVSQ(FC11:FC510)","v":174.94491764705882},{"$f":"DEVSQ(FD11:FD510)","v":197.93656862745098},null,{"$f":"DEVSQ(FF11:FF510)","v":407.98126274509792},{"$f":"DEVSQ(FG11:FG510)","v":277.86001568627449},null,{"$f":"DEVSQ(FI11:FI510)","v":404.17945098039189},{"$f":"DEVSQ(FJ11:FJ510)","v":272.58260392156859},null,{"$f":"DEVSQ(FL11:FL510)","v":416.24716862745095},{"$f":"DEVSQ(FM11:FM510)","v":318.10006274509811},null,{"$f":"DEVSQ(FO11:FO510)","v":98.657250980392149},{"$f":"DEVSQ(FP11:FP510)","v":181.76999215686271},null,{"$f":"DEVSQ(FR11:FR510)","v":717.75479215686278},{"$f":"DEVSQ(FS11:FS510)","v":414.27945098039197},null,{"$f":"DEVSQ(FU11:FU510)","v":405.32345098039218},{"$f":"DEVSQ(FV11:FV510)","v":300.50259215686287},null,{"$f":"DEVSQ(FX11:FX510)","v":1527.3034039215681},{"$f":"DEVSQ(FY11:FY510)","v":804.44989803921555},null,{"$f":"DEVSQ(GA11:GA510)","v":188.1112509803921},{"$f":"DEVSQ(GB11:GB510)","v":186.152674509804},null,{"$f":"DEVSQ(GD11:GD510)","v":729.38736470588276},{"$f":"DEVSQ(GE11:GE510)","v":410.72867450980397},null,{"$f":"DEVSQ(GG11:GG510)","v":99.484003921568572},{"$f":"DEVSQ(GH11:GH510)","v":168.69449803921569},null,{"$f":"DEVSQ(GJ11:GJ510)","v":423.53046274509813},{"$f":"DEVSQ(GK11:GK510)","v":293.01467450980391},null,{"$f":"DEVSQ(GM11:GM510)","v":453.99767450980386},{"$f":"DEVSQ(GN11:GN510)","v":316.28148235294111},null,{"$f":"DEVSQ(GP11:GP510)","v":714.57949803921554},{"$f":"DEVSQ(GQ11:GQ510)","v":415.32287058823533},null,{"$f":"DEVSQ(GS11:GS510)","v":125.66688235294116},{"$f":"DEVSQ(GT11:GT510)","v":170.61947450980395},null,{"$f":"DEVSQ(GV11:GV510)","v":202.75989803921567},{"$f":"DEVSQ(GW11:GW510)","v":197.56252941176473},null,{"$f":"DEVSQ(GY11:GY510)","v":963.82881568627511},{"$f":"DEVSQ(GZ11:GZ510)","v":518.99679215686274},null,{"$f":"DEVSQ(HB11:HB510)","v":405.9188627450979},{"$f":"DEVSQ(HC11:HC510)","v":318.91276862745099},null,{"$f":"DEVSQ(HE11:HE510)","v":722.98239999999998},{"$f":"DEVSQ(HF11:HF510)","v":460.37061568627439},null,{"$f":"DEVSQ(HH11:HH510)","v":125.32640000000001},{"$f":"DEVSQ(HI11:HI510)","v":153.32849803921573},null,{"$f":"DEVSQ(HK11:HK510)","v":434.63436470588238},{"$f":"DEVSQ(HL11:HL510)","v":309.29654117647056},null,{"$f":"DEVSQ(HN11:HN510)","v":110.06045098039213},{"$f":"DEVSQ(HO11:HO510)","v":163.87789803921567},null,{"$f":"DEVSQ(HQ11:HQ510)","v":679.34913333333338},{"$f":"DEVSQ(HR11:HR510)","v":401.35586274509808},null,{"$f":"DEVSQ(HT11:HT510)","v":446.20847450980398},{"$f":"DEVSQ(HU11:HU510)","v":305.75825882352939},null,{"$f":"DEVSQ(HW11:HW510)","v":121.66565098039217},{"$f":"DEVSQ(HX11:HX510)","v":145.79699215686276},null,{"$f":"DEVSQ(HZ11:HZ510)","v":420.77241568627431},{"$f":"DEVSQ(IA11:IA510)","v":297.09581568627442},null,{"$f":"DEVSQ(IC11:IC510)","v":402.89106274509811},{"$f":"DEVSQ(ID11:ID510)","v":295.51727450980388},null,{"$f":"DEVSQ(IF11:IF510)","v":454.07396862745094},{"$f":"DEVSQ(IG11:IG510)","v":319.42045882352943},null,{"$f":"DEVSQ(II11:II510)","v":437.79301568627443},{"$f":"DEVSQ(IJ11:IJ510)","v":280.46712941176474},null,{"$f":"DEVSQ(IL11:IL510)","v":1553.102482352941},{"$f":"DEVSQ(IM11:IM510)","v":797.92696862745095},null,{"$f":"DEVSQ(IO11:IO510)","v":777.79714117647075},{"$f":"DEVSQ(IP11:IP510)","v":446.6066745098039},null,{"$f":"DEVSQ(IR11:IR510)","v":456.26423529411744},{"$f":"DEVSQ(IS11:IS510)","v":324.9934823529411},null,{"$f":"DEVSQ(IU11:IU510)","v":117.31509803921567},{"$f":"DEVSQ(IV11:IV510)","v":144.12139215686275},null,{"$f":"DEVSQ(IX11:IX510)","v":695.7982156862746},{"$f":"DEVSQ(IY11:IY510)","v":430.94940392156866},null,{"$f":"DEVSQ(JA11:JA510)","v":707.48148235294127},{"$f":"DEVSQ(JB11:JB510)","v":441.50436862745096},null,{"$f":"DEVSQ(JD11:JD510)","v":427.5742745098039},{"$f":"DEVSQ(JE11:JE510)","v":267.36993333333334},null,{"$f":"DEVSQ(JG11:JG510)","v":432.1660980392158},{"$f":"DEVSQ(JH11:JH510)","v":294.23156862745105},null,{"$f":"DEVSQ(JJ11:JJ510)","v":430.5804705882353},{"$f":"DEVSQ(JK11:JK510)","v":333.07049803921569},null,{"$f":"DEVSQ(JM11:JM510)","v":428.55727058823555},{"$f":"DEVSQ(JN11:JN510)","v":312.91632941176459},null,{"$f":"DEVSQ(JP11:JP510)","v":694.26776862745089},{"$f":"DEVSQ(JQ11:JQ510)","v":435.56081568627451},null,{"$f":"DEVSQ(JS11:JS510)","v":446.6632745098039},{"$f":"DEVSQ(JT11:JT510)","v":321.57706274509809},null,{"$f":"DEVSQ(JV11:JV510)","v":395.68354117647033},{"$f":"DEVSQ(JW11:JW510)","v":277.74674117647072},null,{"$f":"DEVSQ(JY11:JY510)","v":697.70420392156859},{"$f":"DEVSQ(JZ11:JZ510)","v":453.22552941176457},null,{"$f":"DEVSQ(KB11:KB510)","v":469.41761568627453},{"$f":"DEVSQ(KC11:KC510)","v":319.87216470588231},null,{"$f":"DEVSQ(KE11:KE510)","v":416.62745098039204},{"$f":"DEVSQ(KF11:KF510)","v":290.38713333333334},null,{"$f":"DEVSQ(KH11:KH510)","v":160.49751764705883},{"$f":"DEVSQ(KI11:KI510)","v":214.53189803921563},null,{"$f":"DEVSQ(KK11:KK510)","v":415.33527058823546},{"$f":"DEVSQ(KL11:KL510)","v":304.65129803921582},null,{"$f":"DEVSQ(KN11:KN510)","v":452.74923529411774},{"$f":"DEVSQ(KO11:KO510)","v":293.85287450980388},null,{"$f":"DEVSQ(KQ11:KQ510)","v":410.358368627451},{"$f":"DEVSQ(KR11:KR510)","v":309.23865098039215},null,{"$f":"DEVSQ(KT11:KT510)","v":141.39129803921568},{"$f":"DEVSQ(KU11:KU510)","v":171.59499215686276},null,{"$f":"DEVSQ(KW11:KW510)","v":133.25779215686276},{"$f":"DEVSQ(KX11:KX510)","v":169.0784156862745},null,{"$f":"DEVSQ(KZ11:KZ510)","v":708.70665882352932},{"$f":"DEVSQ(LA11:LA510)","v":445.45460392156843},null,{"$f":"DEVSQ(LC11:LC510)","v":149.05003529411766},{"$f":"DEVSQ(LD11:LD510)","v":169.99645098039215},null,{"$f":"DEVSQ(LF11:LF510)","v":165.9582156862746},{"$f":"DEVSQ(LG11:LG510)","v":198.19269803921563},null,{"$f":"DEVSQ(LI11:LI510)","v":730.92609803921562},{"$f":"DEVSQ(LJ11:LJ510)","v":462.43393333333313},null,{"$f":"DEVSQ(LL11:LL510)","v":186.65716862745097},{"$f":"DEVSQ(LM11:LM510)","v":177.44356862745093},null,{"$f":"DEVSQ(LO11:LO510)","v":708.95246274509782},{"$f":"DEVSQ(LP11:LP510)","v":417.73912941176479},null,{"$f":"DEVSQ(LR11:LR510)","v":109.04619215686277},{"$f":"DEVSQ(LS11:LS510)","v":140.11687450980389},null,{"$f":"DEVSQ(LU11:LU510)","v":401.15914117647094},{"$f":"DEVSQ(LV11:LV510)","v":295.49486274509798},null,{"$f":"DEVSQ(LX11:LX510)","v":130.67547450980388},{"$f":"DEVSQ(LY11:LY510)","v":191.47739999999996},null,{"$f":"DEVSQ(MA11:MA510)","v":110.38599215686273},{"$f":"DEVSQ(MB11:MB510)","v":162.4152509803921},null,{"$f":"DEVSQ(MD11:MD510)","v":788.47759215686278},{"$f":"DEVSQ(ME11:ME510)","v":477.01921568627444},null,{"$f":"DEVSQ(MG11:MG510)","v":102.67527058823536},{"$f":"DEVSQ(MH11:MH510)","v":146.96780392156865},null,{"$f":"DEVSQ(MJ11:MJ510)","v":144.91473333333332},{"$f":"DEVSQ(MK11:MK510)","v":155.43008235294124},null,{"$f":"DEVSQ(MM11:MM510)","v":733.01160392156839},{"$f":"DEVSQ(MN11:MN510)","v":393.9088588235295},null,{"$f":"DEVSQ(MP11:MP510)","v":433.84027450980403},{"$f":"DEVSQ(MQ11:MQ510)","v":291.55769803921578},null,{"$f":"DEVSQ(MS11:MS510)","v":706.07488235294147},{"$f":"DEVSQ(MT11:MT510)","v":431.123674509804},null,{"$f":"DEVSQ(MV11:MV510)","v":442.12736470588243},{"$f":"DEVSQ(MW11:MW510)","v":289.05203529411756},null,{"$f":"DEVSQ(MY11:MY510)","v":139.1738509803921},{"$f":"DEVSQ(MZ11:MZ510)","v":165.71454117647059},null,{"$f":"DEVSQ(NB11:NB510)","v":123.99896862745099},{"$f":"DEVSQ(NC11:NC510)","v":180.56554117647059},null,{"$f":"DEVSQ(NE11:NE510)","v":458.03185098039211},{"$f":"DEVSQ(NF11:NF510)","v":300.44493333333338},null,{"$f":"DEVSQ(NH11:NH510)","v":435.76001568627464},{"$f":"DEVSQ(NI11:NI510)","v":285.10125882352946},null,{"$f":"DEVSQ(NK11:NK510)","v":137.64000000000004},{"$f":"DEVSQ(NL11:NL510)","v":155.79161568627453},null,{"$f":"DEVSQ(NN11:NN510)","v":751.70645098039222},{"$f":"DEVSQ(NO11:NO510)","v":469.43820392156846},null,{"$f":"DEVSQ(NQ11:NQ510)","v":437.84260392156864},{"$f":"DEVSQ(NR11:NR510)","v":318.13871764705874},null,{"$f":"DEVSQ(NT11:NT510)","v":416.24811764705885},{"$f":"DEVSQ(NU11:NU510)","v":321.78685882352937},null,{"$f":"DEVSQ(NW11:NW510)","v":104.4089294117647},{"$f":"DEVSQ(NX11:NX510)","v":123.03366274509806},null,{"$f":"DEVSQ(NZ11:NZ510)","v":708.00716862745116},{"$f":"DEVSQ(OA11:OA510)","v":404.90520392156861},null,{"$f":"DEVSQ(OC11:OC510)","v":150.70949803921567},{"$f":"DEVSQ(OD11:OD510)","v":192.80200392156863},null,{"$f":"DEVSQ(OF11:OF510)","v":459.21611764705881},{"$f":"DEVSQ(OG11:OG510)","v":341.30913333333331},null,{"$f":"DEVSQ(OI11:OI510)","v":150.65488235294117},{"$f":"DEVSQ(OJ11:OJ510)","v":173.39356862745097},null,{"$f":"DEVSQ(OL11:OL510)","v":784.51716470588235},{"$f":"DEVSQ(OM11:OM510)","v":449.89960392156866},null,{"$f":"DEVSQ(OO11:OO510)","v":713.38825098039206},{"$f":"DEVSQ(OP11:OP510)","v":440.67466274509792},null,{"$f":"DEVSQ(OR11:OR510)","v":427.4749921568627},{"$f":"DEVSQ(OS11:OS510)","v":265.5869176470589},null,{"$f":"DEVSQ(OU11:OU510)","v":128.23863529411764},{"$f":"DEVSQ(OV11:OV510)","v":145.99165098039217},null,{"$f":"DEVSQ(OX11:OX510)","v":123.10000392156863},{"$f":"DEVSQ(OY11:OY510)","v":167.66674117647054},null,{"$f":"DEVSQ(PA11:PA510)","v":404.85489803921558},{"$f":"DEVSQ(PB11:PB510)","v":282.71396470588229},null,{"$f":"DEVSQ(PD11:PD510)","v":132.01225882352941},{"$f":"DEVSQ(PE11:PE510)","v":146.10941568627459},null,{"$f":"DEVSQ(PG11:PG510)","v":741.54840392156848},{"$f":"DEVSQ(PH11:PH510)","v":423.55380392156866},null,{"$f":"DEVSQ(PJ11:PJ510)","v":134.385768627451},{"$f":"DEVSQ(PK11:PK510)","v":159.21625882352944},null,{"$f":"DEVSQ(PM11:PM510)","v":150.3944156862745},{"$f":"DEVSQ(PN11:PN510)","v":176.81447450980392},null,{"$f":"DEVSQ(PP11:PP510)","v":422.80726274509806},{"$f":"DEVSQ(PQ11:PQ510)","v":295.06788235294113},null,{"$f":"DEVSQ(PS11:PS510)","v":738.81679215686268},{"$f":"DEVSQ(PT11:PT510)","v":429.0991411764706},null,{"$f":"DEVSQ(PV11:PV510)","v":165.58307450980388},{"$f":"DEVSQ(PW11:PW510)","v":185.94127450980383},null,{"$f":"DEVSQ(PY11:PY510)","v":428.52725882352939},{"$f":"DEVSQ(PZ11:PZ510)","v":292.46774117647067},null,{"$f":"DEVSQ(QB11:QB510)","v":394.92340392156865},{"$f":"DEVSQ(QC11:QC510)","v":281.32913333333323},null,{"$f":"DEVSQ(QE11:QE510)","v":424.78787450980394},{"$f":"DEVSQ(QF11:QF510)","v":307.88976862745108},null,{"$f":"DEVSQ(QH11:QH510)","v":1007.744129411765},{"$f":"DEVSQ(QI11:QI510)","v":559.88459215686282},null,{"$f":"DEVSQ(QK11:QK510)","v":720.05247450980414},{"$f":"DEVSQ(QL11:QL510)","v":411.58409803921558},null,{"$f":"DEVSQ(QN11:QN510)","v":450.24336862745093},{"$f":"DEVSQ(QO11:QO510)","v":274.70583529411766},null,{"$f":"DEVSQ(QQ11:QQ510)","v":170.38996862745103},{"$f":"DEVSQ(QR11:QR510)","v":185.55260392156859},null,{"$f":"DEVSQ(QT11:QT510)","v":452.40165882352937},{"$f":"DEVSQ(QU11:QU510)","v":262.42016470588231},null,{"$f":"DEVSQ(QW11:QW510)","v":441.37856470588235},{"$f":"DEVSQ(QX11:QX510)","v":289.67159215686274},null,{"$f":"DEVSQ(QZ11:QZ510)","v":437.73773333333327},{"$f":"DEVSQ(RA11:RA510)","v":324.31479999999999},null,{"$f":"DEVSQ(RC11:RC510)","v":106.43401568627451},{"$f":"DEVSQ(RD11:RD510)","v":128.27025098039215},null,{"$f":"DEVSQ(RF11:RF510)","v":727.93925882352937},{"$f":"DEVSQ(RG11:RG510)","v":414.79505098039215},null,{"$f":"DEVSQ(RI11:RI510)","v":105.15236862745101},{"$f":"DEVSQ(RJ11:RJ510)","v":141.44154117647059},null,{"$f":"DEVSQ(RL11:RL510)","v":426.32011764705891},{"$f":"DEVSQ(RM11:RM510)","v":297.08321568627457},null,{"$f":"DEVSQ(RO11:RO510)","v":116.39000392156868},{"$f":"DEVSQ(RP11:RP510)","v":172.17333333333335},null,{"$f":"DEVSQ(RR11:RR510)","v":95.300415686274505},{"$f":"DEVSQ(RS11:RS510)","v":133.00307450980389},null,{"$f":"DEVSQ(RU11:RU510)","v":132.44128235294116},{"$f":"DEVSQ(RV11:RV510)","v":128.27125882352937},null,{"$f":"DEVSQ(RX11:RX510)","v":1013.1025921568628},{"$f":"DEVSQ(RY11:RY510)","v":558.75145098039206},null,{"$f":"DEVSQ(SA11:SA510)","v":443.70529803921545},{"$f":"DEVSQ(SB11:SB510)","v":295.0396039215687},null,{"$f":"DEVSQ(SD11:SD510)","v":117.43333333333334},{"$f":"DEVSQ(SE11:SE510)","v":159.23839215686277},null,{"$f":"DEVSQ(SG11:SG510)","v":121.63776470588235},{"$f":"DEVSQ(SH11:SH510)","v":120.86047450980385},null,{"$f":"DEVSQ(SJ11:SJ510)","v":432.640674509804},{"$f":"DEVSQ(SK11:SK510)","v":294.64221568627437},null,{"$f":"DEVSQ(SM11:SM510)","v":474.37325098039224},{"$f":"DEVSQ(SN11:SN510)","v":345.8187411764705},null,{"$f":"DEVSQ(SP11:SP510)","v":438.20785098039198},{"$f":"DEVSQ(SQ11:SQ510)","v":304.58900392156863},null,{"$f":"DEVSQ(SS11:SS510)","v":156.02441568627455},{"$f":"DEVSQ(ST11:ST510)","v":161.45885098039216},null,{"$f":"DEVSQ(SV11:SV510)","v":415.26571764705892},{"$f":"DEVSQ(SW11:SW510)","v":300.92536862745101},null,{"$f":"DEVSQ(SY11:SY510)","v":719.86568235294135},{"$f":"DEVSQ(SZ11:SZ510)","v":409.22087450980376},null,{"$f":"DEVSQ(TB11:TB510)","v":413.57507450980404},{"$f":"DEVSQ(TC11:TC510)","v":288.88426274509806},null,{"$f":"DEVSQ(TE11:TE510)","v":997.85691764705882},{"$f":"DEVSQ(TF11:TF510)","v":558.38885098039214},null,{"$f":"DEVSQ(TH11:TH510)","v":419.80672941176471},{"$f":"DEVSQ(TI11:TI510)","v":285.12979215686278},null,{"$f":"DEVSQ(TK11:TK510)","v":464.15396862745081},{"$f":"DEVSQ(TL11:TL510)","v":344.40069803921557},null,{"$f":"DEVSQ(TN11:TN510)","v":718.33219215686256},{"$f":"DEVSQ(TO11:TO510)","v":434.79411764705884},null,{"$f":"DEVSQ(TQ11:TQ510)","v":452.56246274509806},{"$f":"DEVSQ(TR11:TR510)","v":343.62829803921568},null,{"$f":"DEVSQ(TT11:TT510)","v":1012.2334156862744},{"$f":"DEVSQ(TU11:TU510)","v":555.42105098039224},null,{"$f":"DEVSQ(TW11:TW510)","v":433.78301568627461},{"$f":"DEVSQ(TX11:TX510)","v":331.19752941176455},null,{"$f":"DEVSQ(TZ11:TZ510)","v":702.90372941176474},{"$f":"DEVSQ(UA11:UA510)","v":427.8918039215684},null,{"$f":"DEVSQ(UC11:UC510)","v":426.43403529411762},{"$f":"DEVSQ(UD11:UD510)","v":293.08121568627456},null,{"$f":"DEVSQ(UF11:UF510)","v":402.85480392156853},{"$f":"DEVSQ(UG11:UG510)","v":289.15693333333337},null,{"$f":"DEVSQ(UI11:UI510)","v":457.95105098039215},{"$f":"DEVSQ(UJ11:UJ510)","v":336.5328980392157},null,{"$f":"DEVSQ(UL11:UL510)","v":729.82149803921538},{"$f":"DEVSQ(UM11:UM510)","v":429.35971764705886},null,{"$f":"DEVSQ(UO11:UO510)","v":392.19903529411795},{"$f":"DEVSQ(UP11:UP510)","v":241.69412941176464},null,{"$f":"DEVSQ(UR11:UR510)","v":104.76505882352944},{"$f":"DEVSQ(US11:US510)","v":151.70648235294115},null,{"$f":"DEVSQ(UU11:UU510)","v":454.71681568627457},{"$f":"DEVSQ(UV11:UV510)","v":298.95587450980383},null,{"$f":"DEVSQ(UX11:UX510)","v":135.10946274509803},{"$f":"DEVSQ(UY11:UY510)","v":145.69319215686275},null,{"$f":"DEVSQ(VA11:VA510)","v":436.75071764705888},{"$f":"DEVSQ(VB11:VB510)","v":291.60401568627458},null,{"$f":"DEVSQ(VD11:VD510)","v":107.68269803921564},{"$f":"DEVSQ(VE11:VE510)","v":129.45785098039215},null,{"$f":"DEVSQ(VG11:VG510)","v":733.58912941176436},{"$f":"DEVSQ(VH11:VH510)","v":434.86696862745106},null,{"$f":"DEVSQ(VJ11:VJ510)","v":125.70059215686277},{"$f":"DEVSQ(VK11:VK510)","v":117.05763529411765},null,{"$f":"DEVSQ(VM11:VM510)","v":457.59565098039246},{"$f":"DEVSQ(VN11:VN510)","v":310.91520392156872},null,{"$f":"DEVSQ(VP11:VP510)","v":89.941141176470566},{"$f":"DEVSQ(VQ11:VQ510)","v":149.8645411764706},null,{"$f":"DEVSQ(VS11:VS510)","v":413.67732941176479},{"$f":"DEVSQ(VT11:VT510)","v":321.88133333333326},null,{"$f":"DEVSQ(VV11:VV510)","v":435.99313333333328},{"$f":"DEVSQ(VW11:VW510)","v":305.53521568627451},null,{"$f":"DEVSQ(VY11:VY510)","v":1217.5935333333332},{"$f":"DEVSQ(VZ11:VZ510)","v":634.77654117647057},null,{"$f":"DEVSQ(WB11:WB510)","v":134.85800392156861},{"$f":"DEVSQ(WC11:WC510)","v":169.39172941176469},null,{"$f":"DEVSQ(WE11:WE510)","v":445.54086274509802},{"$f":"DEVSQ(WF11:WF510)","v":301.72225882352944},null,{"$f":"DEVSQ(WH11:WH510)","v":134.80409803921572},{"$f":"DEVSQ(WI11:WI510)","v":227.66872941176482},null,{"$f":"DEVSQ(WK11:WK510)","v":697.42506274509822},{"$f":"DEVSQ(WL11:WL510)","v":414.16007450980402},null,{"$f":"DEVSQ(WN11:WN510)","v":769.4252745098039},{"$f":"DEVSQ(WO11:WO510)","v":462.01216862745082},null,{"$f":"DEVSQ(WQ11:WQ510)","v":702.42501568627461},{"$f":"DEVSQ(WR11:WR510)","v":411.78620392156853},null,{"$f":"DEVSQ(WT11:WT510)","v":380.38523529411788},{"$f":"DEVSQ(WU11:WU510)","v":278.82514117647065},null,{"$f":"DEVSQ(WW11:WW510)","v":709.37245098039216},{"$f":"DEVSQ(WX11:WX510)","v":417.49748235294129},null,{"$f":"DEVSQ(WZ11:WZ510)","v":121.6814},{"$f":"DEVSQ(XA11:XA510)","v":166.33813333333333},null,{"$f":"DEVSQ(XC11:XC510)","v":183.26823529411763},{"$f":"DEVSQ(XD11:XD510)","v":163.18656862745095},null,{"$f":"DEVSQ(XF11:XF510)","v":1273.5300352941172},{"$f":"DEVSQ(XG11:XG510)","v":680.26059215686246},null,{"$f":"DEVSQ(XI11:XI510)","v":99.378568627450974},{"$f":"DEVSQ(XJ11:XJ510)","v":159.18926274509803},null,{"$f":"DEVSQ(XL11:XL510)","v":712.33153333333337},{"$f":"DEVSQ(XM11:XM510)","v":417.53676470588249},null,{"$f":"DEVSQ(XO11:XO510)","v":994.38071764705921},{"$f":"DEVSQ(XP11:XP510)","v":581.96352941176474},null,{"$f":"DEVSQ(XR11:XR510)","v":691.0105921568628},{"$f":"DEVSQ(XS11:XS510)","v":402.59532941176457},null,{"$f":"DEVSQ(XU11:XU510)","v":698.34468235294105},{"$f":"DEVSQ(XV11:XV510)","v":399.85761568627447},null,{"$f":"DEVSQ(XX11:XX510)","v":124.75536862745095},{"$f":"DEVSQ(XY11:XY510)","v":151.27987450980393},null,{"$f":"DEVSQ(YA11:YA510)","v":121.59506274509802},{"$f":"DEVSQ(YB11:YB510)","v":165.80419215686277},null,{"$f":"DEVSQ(YD11:YD510)","v":125.70421568627452},{"$f":"DEVSQ(YE11:YE510)","v":190.38700392156861},null,{"$f":"DEVSQ(YG11:YG510)","v":410.47439215686279},{"$f":"DEVSQ(YH11:YH510)","v":327.89185098039218},null,{"$f":"DEVSQ(YJ11:YJ510)","v":162.60296862745096},{"$f":"DEVSQ(YK11:YK510)","v":166.10839215686266},null,{"$f":"DEVSQ(YM11:YM510)","v":433.94689803921574},{"$f":"DEVSQ(YN11:YN510)","v":294.82456862745096},null,{"$f":"DEVSQ(YP11:YP510)","v":122.50814117647062},{"$f":"DEVSQ(YQ11:YQ510)","v":179.83539215686272},null,{"$f":"DEVSQ(YS11:YS510)","v":131.87725098039218},{"$f":"DEVSQ(YT11:YT510)","v":169.01201568627454},null,{"$f":"DEVSQ(YV11:YV510)","v":136.55859999999996},{"$f":"DEVSQ(YW11:YW510)","v":155.65763529411763},null,{"$f":"DEVSQ(YY11:YY510)","v":196.73692941176478},{"$f":"DEVSQ(YZ11:YZ510)","v":179.56681568627445},null,{"$f":"DEVSQ(ZB11:ZB510)","v":687.39981568627434},{"$f":"DEVSQ(ZC11:ZC510)","v":404.87386274509811},null,{"$f":"DEVSQ(ZE11:ZE510)","v":441.19387450980406},{"$f":"DEVSQ(ZF11:ZF510)","v":274.99211764705888},null,{"$f":"DEVSQ(ZH11:ZH510)","v":122.71441568627451},{"$f":"DEVSQ(ZI11:ZI510)","v":189.98606274509797},null,{"$f":"DEVSQ(ZK11:ZK510)","v":457.00496862745103},{"$f":"DEVSQ(ZL11:ZL510)","v":292.03205098039211},null,{"$f":"DEVSQ(ZN11:ZN510)","v":141.37646274509805},{"$f":"DEVSQ(ZO11:ZO510)","v":171.04721568627448},null,{"$f":"DEVSQ(ZQ11:ZQ510)","v":742.09133333333352},{"$f":"DEVSQ(ZR11:ZR510)","v":436.91745098039223},null,{"$f":"DEVSQ(ZT11:ZT510)","v":440.040262745098},{"$f":"DEVSQ(ZU11:ZU510)","v":340.04346274509794},null,{"$f":"DEVSQ(ZW11:ZW510)","v":1047.0909294117646},{"$f":"DEVSQ(ZX11:ZX510)","v":579.08245882352924},null,{"$f":"DEVSQ(ZZ11:ZZ510)","v":723.91419215686278},{"$f":"DEVSQ(AAA11:AAA510)","v":473.12660392156874},null,{"$f":"DEVSQ(AAC11:AAC510)","v":124.40800392156868},{"$f":"DEVSQ(AAD11:AAD510)","v":140.85819215686274},null,{"$f":"DEVSQ(AAF11:AAF510)","v":126.31766274509806},{"$f":"DEVSQ(AAG11:AAG510)","v":173.01789803921562},null,{"$f":"DEVSQ(AAI11:AAI510)","v":416.19651764705873},{"$f":"DEVSQ(AAJ11:AAJ510)","v":302.79408235294119},null,{"$f":"DEVSQ(AAL11:AAL510)","v":1046.607592156862},{"$f":"DEVSQ(AAM11:AAM510)","v":587.19163529411753},null,{"$f":"DEVSQ(AAO11:AAO510)","v":158.71132941176469},{"$f":"DEVSQ(AAP11:AAP510)","v":183.80721568627459},null,{"$f":"DEVSQ(AAR11:AAR510)","v":761.7683686274512},{"$f":"DEVSQ(AAS11:AAS510)","v":458.05587450980403},null,{"$f":"DEVSQ(AAU11:AAU510)","v":147.40949803921572},{"$f":"DEVSQ(AAV11:AAV510)","v":157.84389803921567},null,{"$f":"DEVSQ(AAX11:AAX510)","v":415.34665882352942},{"$f":"DEVSQ(AAY11:AAY510)","v":322.33356862745103},null,{"$f":"DEVSQ(ABA11:ABA510)","v":960.97567058823495},{"$f":"DEVSQ(ABB11:ABB510)","v":524.57485098039217},null,{"$f":"DEVSQ(ABD11:ABD510)","v":419.39541568627436},{"$f":"DEVSQ(ABE11:ABE510)","v":295.99060392156861},null,{"$f":"DEVSQ(ABG11:ABG510)","v":406.23747450980426},{"$f":"DEVSQ(ABH11:ABH510)","v":273.7979294117647},null,{"$f":"DEVSQ(ABJ11:ABJ510)","v":94.991803921568618},{"$f":"DEVSQ(ABK11:ABK510)","v":147.19906274509808},null,{"$f":"DEVSQ(ABM11:ABM510)","v":992.94141568627435},{"$f":"DEVSQ(ABN11:ABN510)","v":545.26145098039217},null,{"$f":"DEVSQ(ABP11:ABP510)","v":433.31946274509772},{"$f":"DEVSQ(ABQ11:ABQ510)","v":275.5179333333333},null,{"$f":"DEVSQ(ABS11:ABS510)","v":461.70840392156879},{"$f":"DEVSQ(ABT11:ABT510)","v":316.49473333333333},null,{"$f":"DEVSQ(ABV11:ABV510)","v":428.85268235294126},{"$f":"DEVSQ(ABW11:ABW510)","v":323.99721568627439},null,{"$f":"DEVSQ(ABY11:ABY510)","v":142.79311764705884},{"$f":"DEVSQ(ABZ11:ABZ510)","v":147.29236862745091},null,{"$f":"DEVSQ(ACB11:ACB510)","v":443.05819215686284},{"$f":"DEVSQ(ACC11:ACC510)","v":282.74521568627443},null,{"$f":"DEVSQ(ACE11:ACE510)","v":1028.6776980392158},{"$f":"DEVSQ(ACF11:ACF510)","v":610.88652941176463},null,{"$f":"DEVSQ(ACH11:ACH510)","v":425.81481568627453},{"$f":"DEVSQ(ACI11:ACI510)","v":301.56436470588233},null,{"$f":"DEVSQ(ACK11:ACK510)","v":423.121968627451},{"$f":"DEVSQ(ACL11:ACL510)","v":274.53868235294124},null,{"$f":"DEVSQ(ACN11:ACN510)","v":152.12346274509804},{"$f":"DEVSQ(ACO11:ACO510)","v":143.55609803921567},null,{"$f":"DEVSQ(ACQ11:ACQ510)","v":438.17760392156856},{"$f":"DEVSQ(ACR11:ACR510)","v":298.2314352941176},null,{"$f":"DEVSQ(ACT11:ACT510)","v":430.06971764705884},{"$f":"DEVSQ(ACU11:ACU510)","v":300.99293333333327},null,{"$f":"DEVSQ(ACW11:ACW510)","v":133.30669803921569},{"$f":"DEVSQ(ACX11:ACX510)","v":204.77692941176471},null,{"$f":"DEVSQ(ACZ11:ACZ510)","v":136.24639215686281},{"$f":"DEVSQ(ADA11:ADA510)","v":187.13725882352949},null,{"$f":"DEVSQ(ADC11:ADC510)","v":753.86561568627451},{"$f":"DEVSQ(ADD11:ADD510)","v":454.1716509803922},null,{"$f":"DEVSQ(ADF11:ADF510)","v":410.91581568627447},{"$f":"DEVSQ(ADG11:ADG510)","v":260.50589803921565},null,{"$f":"DEVSQ(ADI11:ADI510)","v":181.57887450980388},{"$f":"DEVSQ(ADJ11:ADJ510)","v":196.47276862745093},null,{"$f":"DEVSQ(ADL11:ADL510)","v":449.51148235294124},{"$f":"DEVSQ(ADM11:ADM510)","v":302.15340392156867},null,{"$f":"DEVSQ(ADO11:ADO510)","v":459.94416862745106},{"$f":"DEVSQ(ADP11:ADP510)","v":335.63025098039213},null,{"$f":"DEVSQ(ADR11:ADR510)","v":465.0870627450978},{"$f":"DEVSQ(ADS11:ADS510)","v":301.58328235294124},null,{"$f":"DEVSQ(ADU11:ADU510)","v":95.00028235294117},{"$f":"DEVSQ(ADV11:ADV510)","v":141.95385098039216},null,{"$f":"DEVSQ(ADX11:ADX510)","v":672.8898039215685},{"$f":"DEVSQ(ADY11:ADY510)","v":432.00866274509815},null,{"$f":"DEVSQ(AEA11:AEA510)","v":414.44483529411735},{"$f":"DEVSQ(AEB11:AEB510)","v":317.56400392156871},null,{"$f":"DEVSQ(AED11:AED510)","v":144.51071764705881},{"$f":"DEVSQ(AEE11:AEE510)","v":158.90474117647059},null,{"$f":"DEVSQ(AEG11:AEG510)","v":688.76200392156852},{"$f":"DEVSQ(AEH11:AEH510)","v":424.93792941176497},null,{"$f":"DEVSQ(AEJ11:AEJ510)","v":145.88081568627453},{"$f":"DEVSQ(AEK11:AEK510)","v":175.17545098039221},null,{"$f":"DEVSQ(AEM11:AEM510)","v":93.001662745098031},{"$f":"DEVSQ(AEN11:AEN510)","v":123.34799215686273},null,{"$f":"DEVSQ(AEP11:AEP510)","v":467.67400392156873},{"$f":"DEVSQ(AEQ11:AEQ510)","v":324.83501568627457},null,{"$f":"DEVSQ(AES11:AES510)","v":432.51634117647046},{"$f":"DEVSQ(AET11:AET510)","v":313.42049803921566},null,{"$f":"DEVSQ(AEV11:AEV510)","v":711.12160392156875},{"$f":"DEVSQ(AEW11:AEW510)","v":432.73847058823532},null,{"$f":"DEVSQ(AEY11:AEY510)","v":417.31325882352934},{"$f":"DEVSQ(AEZ11:AEZ510)","v":276.98411764705872},null,{"$f":"DEVSQ(AFB11:AFB510)","v":466.82149803921567},{"$f":"DEVSQ(AFC11:AFC510)","v":295.8414039215686},null,{"$f":"DEVSQ(AFE11:AFE510)","v":424.54568235294118},{"$f":"DEVSQ(AFF11:AFF510)","v":280.0052352941176},null,{"$f":"DEVSQ(AFH11:AFH510)","v":143.86027058823532},{"$f":"DEVSQ(AFI11:AFI510)","v":158.56809803921564},null,{"$f":"DEVSQ(AFK11:AFK510)","v":119.39399215686269},{"$f":"DEVSQ(AFL11:AFL510)","v":154.78967450980389},null,{"$f":"DEVSQ(AFN11:AFN510)","v":126.71909803921567},{"$f":"DEVSQ(AFO11:AFO510)","v":180.40989803921573},null,{"$f":"DEVSQ(AFQ11:AFQ510)","v":764.98873333333324},{"$f":"DEVSQ(AFR11:AFR510)","v":485.46705098039217},null,{"$f":"DEVSQ(AFT11:AFT510)","v":981.19381568627523},{"$f":"DEVSQ(AFU11:AFU510)","v":538.09300392156831},null,{"$f":"DEVSQ(AFW11:AFW510)","v":689.18567450980424},{"$f":"DEVSQ(AFX11:AFX510)","v":394.80407450980391},null,{"$f":"DEVSQ(AFZ11:AFZ510)","v":174.12360392156864},{"$f":"DEVSQ(AGA11:AGA510)","v":164.2428980392157},null,{"$f":"DEVSQ(AGC11:AGC510)","v":154.76025098039216},{"$f":"DEVSQ(AGD11:AGD510)","v":137.90267450980392},null,{"$f":"DEVSQ(AGF11:AGF510)","v":446.75953333333348},{"$f":"DEVSQ(AGG11:AGG510)","v":334.29167058823543},null,{"$f":"DEVSQ(AGI11:AGI510)","v":486.90301568627444},{"$f":"DEVSQ(AGJ11:AGJ510)","v":322.70279215686281},null,{"$f":"DEVSQ(AGL11:AGL510)","v":121.58167450980393},{"$f":"DEVSQ(AGM11:AGM510)","v":172.50100392156867},null,{"$f":"DEVSQ(AGO11:AGO510)","v":710.8875294117646},{"$f":"DEVSQ(AGP11:AGP510)","v":430.9207294117648},null,{"$f":"DEVSQ(AGR11:AGR510)","v":447.47029803921583},{"$f":"DEVSQ(AGS11:AGS510)","v":286.66796470588235},null,{"$f":"DEVSQ(AGU11:AGU510)","v":107.61625098039217},{"$f":"DEVSQ(AGV11:AGV510)","v":183.14933333333335},null,{"$f":"DEVSQ(AGX11:AGX510)","v":400.90016862745085},{"$f":"DEVSQ(AGY11:AGY510)","v":277.99820392156869},null,{"$f":"DEVSQ(AHA11:AHA510)","v":448.99040392156871},{"$f":"DEVSQ(AHB11:AHB510)","v":298.707568627451},null,{"$f":"DEVSQ(AHD11:AHD510)","v":136.80809803921571},{"$f":"DEVSQ(AHE11:AHE510)","v":177.30580392156864},null,{"$f":"DEVSQ(AHG11:AHG510)","v":456.10627058823525},{"$f":"DEVSQ(AHH11:AHH510)","v":297.10528235294123},null,{"$f":"DEVSQ(AHJ11:AHJ510)","v":750.01487450980392},{"$f":"DEVSQ(AHK11:AHK510)","v":442.35447450980394},null,{"$f":"DEVSQ(AHM11:AHM510)","v":739.55179215686269},{"$f":"DEVSQ(AHN11:AHN510)","v":456.34959215686291},null,{"$f":"DEVSQ(AHP11:AHP510)","v":137.88211764705883},{"$f":"DEVSQ(AHQ11:AHQ510)","v":162.21647058823527},null,{"$f":"DEVSQ(AHS11:AHS510)","v":433.11629803921579},{"$f":"DEVSQ(AHT11:AHT510)","v":278.62948235294112},null,{"$f":"DEVSQ(AHV11:AHV510)","v":474.50972941176468},{"$f":"DEVSQ(AHW11:AHW510)","v":339.2574039215686},null,{"$f":"DEVSQ(AHY11:AHY510)","v":931.44934117647063},{"$f":"DEVSQ(AHZ11:AHZ510)","v":512.18979215686272},null,{"$f":"DEVSQ(AIB11:AIB510)","v":745.18626274509825},{"$f":"DEVSQ(AIC11:AIC510)","v":443.22636470588219},null,{"$f":"DEVSQ(AIE11:AIE510)","v":126.89156470588233},{"$f":"DEVSQ(AIF11:AIF510)","v":145.39567058823533},null,{"$f":"DEVSQ(AIH11:AIH510)","v":689.54806274509849},{"$f":"DEVSQ(AII11:AII510)","v":416.77792941176449},null,{"$f":"DEVSQ(AIK11:AIK510)","v":94.950862745098021},{"$f":"DEVSQ(AIL11:AIL510)","v":135.16471764705884},null,{"$f":"DEVSQ(AIN11:AIN510)","v":105.26354117647062},{"$f":"DEVSQ(AIO11:AIO510)","v":167.98421568627447},null,{"$f":"DEVSQ(AIQ11:AIQ510)","v":146.02929803921572},{"$f":"DEVSQ(AIR11:AIR510)","v":163.84945098039216},null,{"$f":"DEVSQ(AIT11:AIT510)","v":443.05561568627468},{"$f":"DEVSQ(AIU11:AIU510)","v":318.13781568627439},null,{"$f":"DEVSQ(AIW11:AIW510)","v":108.96661568627452},{"$f":"DEVSQ(AIX11:AIX510)","v":169.88096862745098},null,{"$f":"DEVSQ(AIZ11:AIZ510)","v":395.92900392156849},{"$f":"DEVSQ(AJA11:AJA510)","v":329.84959215686268},null,{"$f":"DEVSQ(AJC11:AJC510)","v":171.38481568627458},{"$f":"DEVSQ(AJD11:AJD510)","v":196.46183529411766},null,{"$f":"DEVSQ(AJF11:AJF510)","v":436.49481568627442},{"$f":"DEVSQ(AJG11:AJG510)","v":301.37731764705887},null,{"$f":"DEVSQ(AJI11:AJI510)","v":451.02768235294133},{"$f":"DEVSQ(AJJ11:AJJ510)","v":335.60085098039212},null,{"$f":"DEVSQ(AJL11:AJL510)","v":465.33031764705879},{"$f":"DEVSQ(AJM11:AJM510)","v":314.43983529411759},null,{"$f":"DEVSQ(AJO11:AJO510)","v":144.25800392156862},{"$f":"DEVSQ(AJP11:AJP510)","v":140.57828235294116},null,{"$f":"DEVSQ(AJR11:AJR510)","v":126.40089803921566},{"$f":"DEVSQ(AJS11:AJS510)","v":202.90487058823527},null,{"$f":"DEVSQ(AJU11:AJU510)","v":403.50792941176468},{"$f":"DEVSQ(AJV11:AJV510)","v":282.34847450980391},null,{"$f":"DEVSQ(AJX11:AJX510)","v":431.88325098039235},{"$f":"DEVSQ(AJY11:AJY510)","v":307.51005098039224},null,{"$f":"DEVSQ(AKA11:AKA510)","v":435.77909803921568},{"$f":"DEVSQ(AKB11:AKB510)","v":280.33266274509805},null,{"$f":"DEVSQ(AKD11:AKD510)","v":150.1722588235294},{"$f":"DEVSQ(AKE11:AKE510)","v":187.68480392156869},null,{"$f":"DEVSQ(AKG11:AKG510)","v":117.2206745098039},{"$f":"DEVSQ(AKH11:AKH510)","v":185.11756862745102},null,{"$f":"DEVSQ(AKJ11:AKJ510)","v":147.60756862745097},{"$f":"DEVSQ(AKK11:AKK510)","v":162.11268235294122},null,{"$f":"DEVSQ(AKM11:AKM510)","v":428.16039215686283},{"$f":"DEVSQ(AKN11:AKN510)","v":287.89846274509802},null,{"$f":"DEVSQ(AKP11:AKP510)","v":729.63805098039245},{"$f":"DEVSQ(AKQ11:AKQ510)","v":405.99629803921567},null,{"$f":"DEVSQ(AKS11:AKS510)","v":447.17305098039219},{"$f":"DEVSQ(AKT11:AKT510)","v":311.34419215686268},null,{"$f":"DEVSQ(AKV11:AKV510)","v":85.428698039215675},{"$f":"DEVSQ(AKW11:AKW510)","v":143.62025098039217},null,{"$f":"DEVSQ(AKY11:AKY510)","v":122.14127450980388},{"$f":"DEVSQ(AKZ11:AKZ510)","v":182.91803529411763},null,{"$f":"DEVSQ(ALB11:ALB510)","v":124.91667058823531},{"$f":"DEVSQ(ALC11:ALC510)","v":123.47836862745099},null,{"$f":"DEVSQ(ALE11:ALE510)","v":1021.4885686274511},{"$f":"DEVSQ(ALF11:ALF510)","v":562.54107450980371},null,{"$f":"DEVSQ(ALH11:ALH510)","v":793.92089803921522},{"$f":"DEVSQ(ALI11:ALI510)","v":473.08509803921572},null,{"$f":"DEVSQ(ALK11:ALK510)","v":138.24588235294121},{"$f":"DEVSQ(ALL11:ALL510)","v":148.22693333333331},null,{"$f":"DEVSQ(ALN11:ALN510)","v":702.79348235294106},{"$f":"DEVSQ(ALO11:ALO510)","v":461.11001568627455},null,{"$f":"DEVSQ(ALQ11:ALQ510)","v":224.7360156862745},{"$f":"DEVSQ(ALR11:ALR510)","v":199.14723529411765},null,{"$f":"DEVSQ(ALT11:ALT510)","v":1007.3866823529411},{"$f":"DEVSQ(ALU11:ALU510)","v":560.28859215686271},null,{"$f":"DEVSQ(ALW11:ALW510)","v":459.71619215686269},{"$f":"DEVSQ(ALX11:ALX510)","v":303.61546274509811},null,{"$f":"DEVSQ(ALZ11:ALZ510)","v":415.47285098039231},{"$f":"DEVSQ(AMA11:AMA510)","v":299.32696862745109},null,{"$f":"DEVSQ(AMC11:AMC510)","v":204.02345098039217},{"$f":"DEVSQ(AMD11:AMD510)","v":213.61487058823531},null,{"$f":"DEVSQ(AMF11:AMF510)","v":175.93580392156866},{"$f":"DEVSQ(AMG11:AMG510)","v":165.91323529411761},null,{"$f":"DEVSQ(AMI11:AMI510)","v":152.6815176470588},{"$f":"DEVSQ(AMJ11:AMJ510)","v":169.68949803921569},null,{"$f":"DEVSQ(AML11:AML510)","v":167.91885098039219},{"$f":"DEVSQ(AMM11:AMM510)","v":152.79348235294114},null,{"$f":"DEVSQ(AMO11:AMO510)","v":173.46069803921566},{"$f":"DEVSQ(AMP11:AMP510)","v":186.09299215686278},null,{"$f":"DEVSQ(AMR11:AMR510)","v":113.06761568627452},{"$f":"DEVSQ(AMS11:AMS510)","v":159.90416862745096},null,{"$f":"DEVSQ(AMU11:AMU510)","v":758.68268235294136},{"$f":"DEVSQ(AMV11:AMV510)","v":473.60453333333328},null,{"$f":"DEVSQ(AMX11:AMX510)","v":416.6080156862746},{"$f":"DEVSQ(AMY11:AMY510)","v":316.21068235294109},null,{"$f":"DEVSQ(ANA11:ANA510)","v":449.97436862745099},{"$f":"DEVSQ(ANB11:ANB510)","v":313.42249803921567},null,{"$f":"DEVSQ(AND11:AND510)","v":765.32045098039157},{"$f":"DEVSQ(ANE11:ANE510)","v":483.99451764705873},null,{"$f":"DEVSQ(ANG11:ANG510)","v":141.91016470588238},{"$f":"DEVSQ(ANH11:ANH510)","v":150.7770156862745},null,{"$f":"DEVSQ(ANJ11:ANJ510)","v":723.84636862745072},{"$f":"DEVSQ(ANK11:ANK510)","v":437.52040392156863},null,{"$f":"DEVSQ(ANM11:ANM510)","v":410.21580392156875},{"$f":"DEVSQ(ANN11:ANN510)","v":277.79926274509791},null,{"$f":"DEVSQ(ANP11:ANP510)","v":419.25880392156859},{"$f":"DEVSQ(ANQ11:ANQ510)","v":290.14992941176467},null,{"$f":"DEVSQ(ANS11:ANS510)","v":458.96400392156869},{"$f":"DEVSQ(ANT11:ANT510)","v":332.39045882352917},null,{"$f":"DEVSQ(ANV11:ANV510)","v":421.71574117647066},{"$f":"DEVSQ(ANW11:ANW510)","v":279.01314117647058},null,{"$f":"DEVSQ(ANY11:ANY510)","v":432.34345882352943},{"$f":"DEVSQ(ANZ11:ANZ510)","v":291.26099215686281},null,{"$f":"DEVSQ(AOB11:AOB510)","v":464.79765098039206},{"$f":"DEVSQ(AOC11:AOC510)","v":299.55608235294108},null,{"$f":"DEVSQ(AOE11:AOE510)","v":150.31406274509808},{"$f":"DEVSQ(AOF11:AOF510)","v":148.46907450980387},null,{"$f":"DEVSQ(AOH11:AOH510)","v":161.18774117647061},{"$f":"DEVSQ(AOI11:AOI510)","v":160.58461568627447},null,{"$f":"DEVSQ(AOK11:AOK510)","v":448.05576470588232},{"$f":"DEVSQ(AOL11:AOL510)","v":318.43776470588239},null,{"$f":"DEVSQ(AON11:AON510)","v":735.85820392156847},{"$f":"DEVSQ(AOO11:AOO510)","v":447.54536862745101},null,{"$f":"DEVSQ(AOQ11:AOQ510)","v":476.94016862745104},{"$f":"DEVSQ(AOR11:AOR510)","v":294.44933333333347},null,{"$f":"DEVSQ(AOT11:AOT510)","v":1034.3438980392159},{"$f":"DEVSQ(AOU11:AOU510)","v":588.08467058823544},null,{"$f":"DEVSQ(AOW11:AOW510)","v":140.46283529411764},{"$f":"DEVSQ(AOX11:AOX510)","v":143.10993333333334},null,{"$f":"DEVSQ(AOZ11:AOZ510)","v":456.49187058823526},{"$f":"DEVSQ(APA11:APA510)","v":343.19761568627445},null,{"$f":"DEVSQ(APC11:APC510)","v":704.59359215686288},{"$f":"DEVSQ(APD11:APD510)","v":420.43285098039217},null,{"$f":"DEVSQ(APF11:APF510)","v":171.4656156862745},{"$f":"DEVSQ(APG11:APG510)","v":160.63305098039217},null,{"$f":"DEVSQ(API11:API510)","v":417.59321568627462},{"$f":"DEVSQ(APJ11:APJ510)","v":323.6524705882353},null,{"$f":"DEVSQ(APL11:APL510)","v":437.87656470588195},{"$f":"DEVSQ(APM11:APM510)","v":301.68205098039215},null,{"$f":"DEVSQ(APO11:APO510)","v":94.731792156862724},{"$f":"DEVSQ(APP11:APP510)","v":103.06681568627451},null,{"$f":"DEVSQ(APR11:APR510)","v":451.31336862745104},{"$f":"DEVSQ(APS11:APS510)","v":284.97966274509793},null,{"$f":"DEVSQ(APU11:APU510)","v":395.37459215686283},{"$f":"DEVSQ(APV11:APV510)","v":277.15349803921566},null,{"$f":"DEVSQ(APX11:APX510)","v":410.1800705882352},{"$f":"DEVSQ(APY11:APY510)","v":275.60894117647047},null,{"$f":"DEVSQ(AQA11:AQA510)","v":426.69676470588234},{"$f":"DEVSQ(AQB11:AQB510)","v":328.82707058823524},null,{"$f":"DEVSQ(AQD11:AQD510)","v":697.74365098039209},{"$f":"DEVSQ(AQE11:AQE510)","v":416.31954117647058},null,{"$f":"DEVSQ(AQG11:AQG510)","v":395.70389803921597},{"$f":"DEVSQ(AQH11:AQH510)","v":247.75539215686268},null,{"$f":"DEVSQ(AQJ11:AQJ510)","v":162.87992941176469},{"$f":"DEVSQ(AQK11:AQK510)","v":204.07153333333338},null,{"$f":"DEVSQ(AQM11:AQM510)","v":186.68861568627452},{"$f":"DEVSQ(AQN11:AQN510)","v":179.60429803921576},null,{"$f":"DEVSQ(AQP11:AQP510)","v":98.9713294117647},{"$f":"DEVSQ(AQQ11:AQQ510)","v":157.46256470588239},null,{"$f":"DEVSQ(AQS11:AQS510)","v":461.19787058823516},{"$f":"DEVSQ(AQT11:AQT510)","v":326.80809803921568},null,{"$f":"DEVSQ(AQV11:AQV510)","v":439.38751764705887},{"$f":"DEVSQ(AQW11:AQW510)","v":292.67969803921568},null,{"$f":"DEVSQ(AQY11:AQY510)","v":440.92445098039212},{"$f":"DEVSQ(AQZ11:AQZ510)","v":345.1912627450979},null,{"$f":"DEVSQ(ARB11:ARB510)","v":173.93911764705885},{"$f":"DEVSQ(ARC11:ARC510)","v":166.03991764705884},null,{"$f":"DEVSQ(ARE11:ARE510)","v":677.17920392156884},{"$f":"DEVSQ(ARF11:ARF510)","v":375.73545098039222},null,{"$f":"DEVSQ(ARH11:ARH510)","v":414.86869803921559},{"$f":"DEVSQ(ARI11:ARI510)","v":300.22773333333328},null,{"$f":"DEVSQ(ARK11:ARK510)","v":1258.6188039215685},{"$f":"DEVSQ(ARL11:ARL510)","v":685.94387058823543},null,{"$f":"DEVSQ(ARN11:ARN510)","v":106.12006274509801},{"$f":"DEVSQ(ARO11:ARO510)","v":173.29587450980398},null,{"$f":"DEVSQ(ARQ11:ARQ510)","v":119.98259215686276},{"$f":"DEVSQ(ARR11:ARR510)","v":158.9446352941176},null,{"$f":"DEVSQ(ART11:ART510)","v":1012.6038156862745},{"$f":"DEVSQ(ARU11:ARU510)","v":570.91285098039225},null,{"$f":"DEVSQ(ARW11:ARW510)","v":449.15499215686282},{"$f":"DEVSQ(ARX11:ARX510)","v":312.96181568627452},null,{"$f":"DEVSQ(ARZ11:ARZ510)","v":444.12666274509797},{"$f":"DEVSQ(ASA11:ASA510)","v":298.35225098039217},null,{"$f":"DEVSQ(ASC11:ASC510)","v":408.23909803921549},{"$f":"DEVSQ(ASD11:ASD510)","v":305.7758156862746},null,{"$f":"DEVSQ(ASF11:ASF510)","v":433.3420980392155},{"$f":"DEVSQ(ASG11:ASG510)","v":292.70720392156869},null,{"$f":"DEVSQ(ASI11:ASI510)","v":103.45385098039222},{"$f":"DEVSQ(ASJ11:ASJ510)","v":140.56987450980395},null,{"$f":"DEVSQ(ASL11:ASL510)","v":458.32349803921568},{"$f":"DEVSQ(ASM11:ASM510)","v":299.89454117647063},null,{"$f":"DEVSQ(ASO11:ASO510)","v":121.59506274509803},{"$f":"DEVSQ(ASP11:ASP510)","v":129.60520392156863},null,{"$f":"DEVSQ(ASR11:ASR510)","v":470.95825882352943},{"$f":"DEVSQ(ASS11:ASS510)","v":290.53126274509799},null,{"$f":"DEVSQ(ASU11:ASU510)","v":407.4936509803922},{"$f":"DEVSQ(ASV11:ASV510)","v":287.41559215686272},null,{"$f":"DEVSQ(ASX11:ASX510)","v":148.19016862745099},{"$f":"DEVSQ(ASY11:ASY510)","v":207.39499215686277},null,{"$f":"DEVSQ(ATA11:ATA510)","v":393.35476862745088},{"$f":"DEVSQ(ATB11:ATB510)","v":277.286662745098},null,{"$f":"DEVSQ(ATD11:ATD510)","v":430.9377921568626},{"$f":"DEVSQ(ATE11:ATE510)","v":286.37620392156867},null,{"$f":"DEVSQ(ATG11:ATG510)","v":433.38247450980401},{"$f":"DEVSQ(ATH11:ATH510)","v":274.14741568627466},null,{"$f":"DEVSQ(ATJ11:ATJ510)","v":136.48432941176472},{"$f":"DEVSQ(ATK11:ATK510)","v":183.99187058823529},null,{"$f":"DEVSQ(ATM11:ATM510)","v":446.75885098039203},{"$f":"DEVSQ(ATN11:ATN510)","v":295.21640392156866},null,{"$f":"DEVSQ(ATP11:ATP510)","v":191.26746274509804},{"$f":"DEVSQ(ATQ11:ATQ510)","v":169.29843529411764},null,{"$f":"DEVSQ(ATS11:ATS510)","v":420.23368235294123},{"$f":"DEVSQ(ATT11:ATT510)","v":281.61016470588231},null,{"$f":"DEVSQ(ATV11:ATV510)","v":467.54949803921568},{"$f":"DEVSQ(ATW11:ATW510)","v":318.24056470588238},null,{"$f":"DEVSQ(ATY11:ATY510)","v":412.53446274509815},{"$f":"DEVSQ(ATZ11:ATZ510)","v":299.45573333333334},null,{"$f":"DEVSQ(AUB11:AUB510)","v":990.76536862745115},{"$f":"DEVSQ(AUC11:AUC510)","v":554.04936862745069},null,{"$f":"DEVSQ(AUE11:AUE510)","v":114.3199921568628},{"$f":"DEVSQ(AUF11:AUF510)","v":182.26543529411757},null,{"$f":"DEVSQ(AUH11:AUH510)","v":751.11608235294091},{"$f":"DEVSQ(AUI11:AUI510)","v":455.07591764705882},null,{"$f":"DEVSQ(AUK11:AUK510)","v":757.9413411764707},{"$f":"DEVSQ(AUL11:AUL510)","v":453.64551764705885},null,{"$f":"DEVSQ(AUN11:AUN510)","v":735.43469803921528},{"$f":"DEVSQ(AUO11:AUO510)","v":427.18526274509816},null,{"$f":"DEVSQ(AUQ11:AUQ510)","v":109.56523529411761},{"$f":"DEVSQ(AUR11:AUR510)","v":161.13036862745102},null,{"$f":"DEVSQ(AUT11:AUT510)","v":428.8158980392156},{"$f":"DEVSQ(AUU11:AUU510)","v":252.17921568627452},null,{"$f":"DEVSQ(AUW11:AUW510)","v":81.992298039215697},{"$f":"DEVSQ(AUX11:AUX510)","v":162.7901333333333},null,{"$f":"DEVSQ(AUZ11:AUZ510)","v":146.39286274509803},{"$f":"DEVSQ(AVA11:AVA510)","v":135.22633333333332},null,{"$f":"DEVSQ(AVC11:AVC510)","v":714.76720392156869},{"$f":"DEVSQ(AVD11:AVD510)","v":413.69947450980391},null,{"$f":"DEVSQ(AVF11:AVF510)","v":475.70936862745106},{"$f":"DEVSQ(AVG11:AVG510)","v":298.27949803921564},null,{"$f":"DEVSQ(AVI11:AVI510)","v":427.92329803921569},{"$f":"DEVSQ(AVJ11:AVJ510)","v":295.37139215686284},null,{"$f":"DEVSQ(AVL11:AVL510)","v":690.57541568627425},{"$f":"DEVSQ(AVM11:AVM510)","v":426.45047450980417},null,{"$f":"DEVSQ(AVO11:AVO510)","v":429.41396470588234},{"$f":"DEVSQ(AVP11:AVP510)","v":336.19686274509814},null,{"$f":"DEVSQ(AVR11:AVR510)","v":466.60647450980412},{"$f":"DEVSQ(AVS11:AVS510)","v":327.22621568627443},null,{"$f":"DEVSQ(AVU11:AVU510)","v":430.85749803921567},{"$f":"DEVSQ(AVV11:AVV510)","v":297.92946274509802},null,{"$f":"DEVSQ(AVX11:AVX510)","v":425.41443529411742},{"$f":"DEVSQ(AVY11:AVY510)","v":304.67553333333331},null,{"$f":"DEVSQ(AWA11:AWA510)","v":479.2674627450981},{"$f":"DEVSQ(AWB11:AWB510)","v":352.3243333333333},null,{"$f":"DEVSQ(AWD11:AWD510)","v":730.1351411764706},{"$f":"DEVSQ(AWE11:AWE510)","v":431.01366274509803},null,{"$f":"DEVSQ(AWG11:AWG510)","v":723.08156862745079},{"$f":"DEVSQ(AWH11:AWH510)","v":411.12869803921564},null,{"$f":"DEVSQ(AWJ11:AWJ510)","v":391.84783529411754},{"$f":"DEVSQ(AWK11:AWK510)","v":276.42756862745097},null,{"$f":"DEVSQ(AWM11:AWM510)","v":418.56160000000011},{"$f":"DEVSQ(AWN11:AWN510)","v":308.47445098039213},null,{"$f":"DEVSQ(AWP11:AWP510)","v":164.94273333333334},{"$f":"DEVSQ(AWQ11:AWQ510)","v":196.86108235294114},null,{"$f":"DEVSQ(AWS11:AWS510)","v":438.79625098039207},{"$f":"DEVSQ(AWT11:AWT510)","v":275.2745333333333},null,{"$f":"DEVSQ(AWV11:AWV510)","v":1048.9528823529415},{"$f":"DEVSQ(AWW11:AWW510)","v":592.62716470588225},null,{"$f":"DEVSQ(AWY11:AWY510)","v":146.8151411764706},{"$f":"DEVSQ(AWZ11:AWZ510)","v":152.16900000000004},null,{"$f":"DEVSQ(AXB11:AXB510)","v":108.46287450980395},{"$f":"DEVSQ(AXC11:AXC510)","v":130.34916470588234},null,{"$f":"DEVSQ(AXE11:AXE510)","v":485.01707450980376},{"$f":"DEVSQ(AXF11:AXF510)","v":326.04428235294108},null,{"$f":"DEVSQ(AXH11:AXH510)","v":435.18836470588235},{"$f":"DEVSQ(AXI11:AXI510)","v":291.21866274509807},null,{"$f":"DEVSQ(AXK11:AXK510)","v":429.95976470588232},{"$f":"DEVSQ(AXL11:AXL510)","v":301.36900392156866},null,{"$f":"DEVSQ(AXN11:AXN510)","v":117.47648235294116},{"$f":"DEVSQ(AXO11:AXO510)","v":173.92567058823528},null,{"$f":"DEVSQ(AXQ11:AXQ510)","v":748.79692941176449},{"$f":"DEVSQ(AXR11:AXR510)","v":408.30747450980397},null,{"$f":"DEVSQ(AXT11:AXT510)","v":715.39926274509799},{"$f":"DEVSQ(AXU11:AXU510)","v":435.35285098039213},null,{"$f":"DEVSQ(AXW11:AXW510)","v":144.83066274509807},{"$f":"DEVSQ(AXX11:AXX510)","v":152.36494117647058},null,{"$f":"DEVSQ(AXZ11:AXZ510)","v":440.22476862745089},{"$f":"DEVSQ(AYA11:AYA510)","v":317.31421568627439},null,{"$f":"DEVSQ(AYC11:AYC510)","v":455.84807450980372},{"$f":"DEVSQ(AYD11:AYD510)","v":336.43379215686275},null,{"$f":"DEVSQ(AYF11:AYF510)","v":112.81871764705882},{"$f":"DEVSQ(AYG11:AYG510)","v":169.87927450980396},null,{"$f":"DEVSQ(AYI11:AYI510)","v":154.1520745098039},{"$f":"DEVSQ(AYJ11:AYJ510)","v":150.45001568627453},null,{"$f":"DEVSQ(AYL11:AYL510)","v":746.11887058823504},{"$f":"DEVSQ(AYM11:AYM510)","v":429.81189803921569},null,{"$f":"DEVSQ(AYO11:AYO510)","v":157.02765882352944},{"$f":"DEVSQ(AYP11:AYP510)","v":211.37685882352946},null,{"$f":"DEVSQ(AYR11:AYR510)","v":727.51820000000009},{"$f":"DEVSQ(AYS11:AYS510)","v":431.83826274509806},null,{"$f":"DEVSQ(AYU11:AYU510)","v":751.10426274509814},{"$f":"DEVSQ(AYV11:AYV510)","v":460.98267450980404},null,{"$f":"DEVSQ(AYX11:AYX510)","v":418.29101568627459},{"$f":"DEVSQ(AYY11:AYY510)","v":286.43701568627455},null,{"$f":"DEVSQ(AZA11:AZA510)","v":698.36531764705921},{"$f":"DEVSQ(AZB11:AZB510)","v":451.03196862745114},null,{"$f":"DEVSQ(AZD11:AZD510)","v":687.597250980392},{"$f":"DEVSQ(AZE11:AZE510)","v":403.26765098039209},null,{"$f":"DEVSQ(AZG11:AZG510)","v":129.72179215686273},{"$f":"DEVSQ(AZH11:AZH510)","v":132.095662745098},null,{"$f":"DEVSQ(AZJ11:AZJ510)","v":402.62847450980394},{"$f":"DEVSQ(AZK11:AZK510)","v":280.10499215686264},null,{"$f":"DEVSQ(AZM11:AZM510)","v":135.37572941176475},{"$f":"DEVSQ(AZN11:AZN510)","v":172.91496862745095},null,{"$f":"DEVSQ(AZP11:AZP510)","v":437.3504745098038},{"$f":"DEVSQ(AZQ11:AZQ510)","v":300.28619999999984},null,{"$f":"DEVSQ(AZS11:AZS510)","v":427.11961568627447},{"$f":"DEVSQ(AZT11:AZT510)","v":292.67225098039216},null,{"$f":"DEVSQ(AZV11:AZV510)","v":437.14427450980389},{"$f":"DEVSQ(AZW11:AZW510)","v":297.49373333333341},null,{"$f":"DEVSQ(AZY11:AZY510)","v":170.70761568627449},{"$f":"DEVSQ(AZZ11:AZZ510)","v":205.25227058823526},null,{"$f":"DEVSQ(BAB11:BAB510)","v":422.12489803921591},{"$f":"DEVSQ(BAC11:BAC510)","v":302.64808235294129},null,{"$f":"DEVSQ(BAE11:BAE510)","v":702.39769803921581},{"$f":"DEVSQ(BAF11:BAF510)","v":418.38227058823531},null,{"$f":"DEVSQ(BAH11:BAH510)","v":998.31059215686275},{"$f":"DEVSQ(BAI11:BAI510)","v":553.52181568627452},null,{"$f":"DEVSQ(BAK11:BAK510)","v":455.27536862745103},{"$f":"DEVSQ(BAL11:BAL510)","v":286.48780392156863},null,{"$f":"DEVSQ(BAN11:BAN510)","v":121.02829803921567},{"$f":"DEVSQ(BAO11:BAO510)","v":164.81603529411763},null,{"$f":"DEVSQ(BAQ11:BAQ510)","v":441.55749803921583},{"$f":"DEVSQ(BAR11:BAR510)","v":391.31819215686272},null,{"$f":"DEVSQ(BAT11:BAT510)","v":437.10754117647065},{"$f":"DEVSQ(BAU11:BAU510)","v":318.15508235294112},null,{"$f":"DEVSQ(BAW11:BAW510)","v":727.08428235294116},{"$f":"DEVSQ(BAX11:BAX510)","v":400.71387450980387},null,{"$f":"DEVSQ(BAZ11:BAZ510)","v":94.11071764705882},{"$f":"DEVSQ(BBA11:BBA510)","v":165.93289803921562},null,{"$f":"DEVSQ(BBC11:BBC510)","v":675.37089803921583},{"$f":"DEVSQ(BBD11:BBD510)","v":444.14109803921565},null,{"$f":"DEVSQ(BBF11:BBF510)","v":736.21500392156861},{"$f":"DEVSQ(BBG11:BBG510)","v":445.83999215686271},null,{"$f":"DEVSQ(BBI11:BBI510)","v":422.60008235294112},{"$f":"DEVSQ(BBJ11:BBJ510)","v":297.23146274509804},null,{"$f":"DEVSQ(BBL11:BBL510)","v":684.71112941176466},{"$f":"DEVSQ(BBM11:BBM510)","v":379.84539215686266},null,{"$f":"DEVSQ(BBO11:BBO510)","v":422.62665098039201},{"$f":"DEVSQ(BBP11:BBP510)","v":294.84545098039206},null,{"$f":"DEVSQ(BBR11:BBR510)","v":93.406317647058842},{"$f":"DEVSQ(BBS11:BBS510)","v":146.27001568627455},null,{"$f":"DEVSQ(BBU11:BBU510)","v":509.67245098039223},{"$f":"DEVSQ(BBV11:BBV510)","v":368.4674823529412},null,{"$f":"DEVSQ(BBX11:BBX510)","v":388.50925098039204},{"$f":"DEVSQ(BBY11:BBY510)","v":272.76246274509805},null,{"$f":"DEVSQ(BCA11:BCA510)","v":453.85976862745099},{"$f":"DEVSQ(BCB11:BCB510)","v":323.12227058823521},null,{"$f":"DEVSQ(BCD11:BCD510)","v":715.02561568627459},{"$f":"DEVSQ(BCE11:BCE510)","v":441.63725098039214},null,{"$f":"DEVSQ(BCG11:BCG510)","v":981.85561568627475},{"$f":"DEVSQ(BCH11:BCH510)","v":536.67316862745099},null,{"$f":"DEVSQ(BCJ11:BCJ510)","v":703.71327450980402},{"$f":"DEVSQ(BCK11:BCK510)","v":432.04645882352929},null,{"$f":"DEVSQ(BCM11:BCM510)","v":153.1097294117647},{"$f":"DEVSQ(BCN11:BCN510)","v":176.73239215686277},null,{"$f":"DEVSQ(BCP11:BCP510)","v":437.82719215686285},{"$f":"DEVSQ(BCQ11:BCQ510)","v":317.94768235294117},null,{"$f":"DEVSQ(BCS11:BCS510)","v":698.56061568627422},{"$f":"DEVSQ(BCT11:BCT510)","v":415.32767450980396},null,{"$f":"DEVSQ(BCV11:BCV510)","v":478.43880392156871},{"$f":"DEVSQ(BCW11:BCW510)","v":341.31696470588247},null,{"$f":"DEVSQ(BCY11:BCY510)","v":420.36067450980386},{"$f":"DEVSQ(BCZ11:BCZ510)","v":271.28599999999994},null,{"$f":"DEVSQ(BDB11:BDB510)","v":132.18319215686273},{"$f":"DEVSQ(BDC11:BDC510)","v":200.16605098039216},null,{"$f":"DEVSQ(BDE11:BDE510)","v":146.03769803921577},{"$f":"DEVSQ(BDF11:BDF510)","v":136.3618745098039},null,{"$f":"DEVSQ(BDH11:BDH510)","v":203.10020392156858},{"$f":"DEVSQ(BDI11:BDI510)","v":203.83440392156848},null,{"$f":"DEVSQ(BDK11:BDK510)","v":156.49076470588233},{"$f":"DEVSQ(BDL11:BDL510)","v":155.54453333333331},null,{"$f":"DEVSQ(BDN11:BDN510)","v":158.972968627451},{"$f":"DEVSQ(BDO11:BDO510)","v":192.89812941176461},null,{"$f":"DEVSQ(BDQ11:BDQ510)","v":1222.1883176470594},{"$f":"DEVSQ(BDR11:BDR510)","v":657.8826039215686},null,{"$f":"DEVSQ(BDT11:BDT510)","v":131.80845098039214},{"$f":"DEVSQ(BDU11:BDU510)","v":169.44560392156868},null,{"$f":"DEVSQ(BDW11:BDW510)","v":441.356768627451},{"$f":"DEVSQ(BDX11:BDX510)","v":348.54945098039235},null,{"$f":"DEVSQ(BDZ11:BDZ510)","v":138.64460000000003},{"$f":"DEVSQ(BEA11:BEA510)","v":153.18031764705881},null,{"$f":"DEVSQ(BEC11:BEC510)","v":738.21794117647096},{"$f":"DEVSQ(BED11:BED510)","v":437.8868509803923},null,{"$f":"DEVSQ(BEF11:BEF510)","v":138.43605098039214},{"$f":"DEVSQ(BEG11:BEG510)","v":175.65640392156863},null,{"$f":"DEVSQ(BEI11:BEI510)","v":429.72780392156869},{"$f":"DEVSQ(BEJ11:BEJ510)","v":273.9750745098039},null,{"$f":"DEVSQ(BEL11:BEL510)","v":476.22800392156842},{"$f":"DEVSQ(BEM11:BEM510)","v":326.95592941176471},null,{"$f":"DEVSQ(BEO11:BEO510)","v":435.05191764705881},{"$f":"DEVSQ(BEP11:BEP510)","v":319.77159999999975},null,{"$f":"DEVSQ(BER11:BER510)","v":121.28946274509801},{"$f":"DEVSQ(BES11:BES510)","v":197.41326274509805},null,{"$f":"DEVSQ(BEU11:BEU510)","v":101.53556862745097},{"$f":"DEVSQ(BEV11:BEV510)","v":164.84953333333328},null,{"$f":"DEVSQ(BEX11:BEX510)","v":702.65687450980386},{"$f":"DEVSQ(BEY11:BEY510)","v":442.90245882352929},null,{"$f":"DEVSQ(BFA11:BFA510)","v":453.78454117647073},{"$f":"DEVSQ(BFB11:BFB510)","v":311.38426274509794},null,{"$f":"DEVSQ(BFD11:BFD510)","v":202.76356862745101},{"$f":"DEVSQ(BFE11:BFE510)","v":219.44499215686275},null,{"$f":"DEVSQ(BFG11:BFG510)","v":113.33240392156864},{"$f":"DEVSQ(BFH11:BFH510)","v":172.66679215686273},null,{"$f":"DEVSQ(BFJ11:BFJ510)","v":428.58449803921565},{"$f":"DEVSQ(BFK11:BFK510)","v":260.94325098039224},null,{"$f":"DEVSQ(BFM11:BFM510)","v":449.40359215686271},{"$f":"DEVSQ(BFN11:BFN510)","v":318.02056862745087},null,{"$f":"DEVSQ(BFP11:BFP510)","v":129.79220392156864},{"$f":"DEVSQ(BFQ11:BFQ510)","v":169.00996862745097},null,{"$f":"DEVSQ(BFS11:BFS510)","v":116.12239215686276},{"$f":"DEVSQ(BFT11:BFT510)","v":142.8198745098039},null,{"$f":"DEVSQ(BFV11:BFV510)","v":994.1566039215686},{"$f":"DEVSQ(BFW11:BFW510)","v":566.32434117647063},null,{"$f":"DEVSQ(BFY11:BFY510)","v":469.7663686274509},{"$f":"DEVSQ(BFZ11:BFZ510)","v":329.9180039215687},null,{"$f":"DEVSQ(BGB11:BGB510)","v":139.06208235294116},{"$f":"DEVSQ(BGC11:BGC510)","v":168.86021568627453},null,{"$f":"DEVSQ(BGE11:BGE510)","v":742.32986274509801},{"$f":"DEVSQ(BGF11:BGF510)","v":464.74656862745098},null,{"$f":"DEVSQ(BGH11:BGH510)","v":989.66785098039213},{"$f":"DEVSQ(BGI11:BGI510)","v":540.66805098039231},null,{"$f":"DEVSQ(BGK11:BGK510)","v":124.64539215686273},{"$f":"DEVSQ(BGL11:BGL510)","v":156.07313333333332},null,{"$f":"DEVSQ(BGN11:BGN510)","v":155.77705882352942},{"$f":"DEVSQ(BGO11:BGO510)","v":206.19651764705878},null,{"$f":"DEVSQ(BGQ11:BGQ510)","v":764.80487058823542},{"$f":"DEVSQ(BGR11:BGR510)","v":473.46187450980381},null,{"$f":"DEVSQ(BGT11:BGT510)","v":717.59279999999978},{"$f":"DEVSQ(BGU11:BGU510)","v":434.53629803921586}]
[null,null,6,0.38,0.96,null,null,0,0,null,"最小値　：=MIN(セル範囲) ",null,{"$f":"MIN(D5:D1304)","v":0.22},{"$f":"MIN(E5:E1304)","v":0.51},{"$f":"MIN(F5:F1304)","v":0},{"$f":"MIN(G5:G1304)","v":0},"LAM",{"$f":"R5/(M7-R5)","v":0},null,null,9.2200000000000006,50,0,7.1800000000000006,50,5,null,null,null,-3.827339029864353,-0.66815319669800144,-2.6473446105937124,1.1850752236264204,null,{"$error":"#DIV/0!"},{"$error":"#DIV/0!"},{"$error":"#DIV/0!"},{"$error":"#DIV/0!"},null,47,46,"","",null,0.66999999999999993,0.57999999999999996,null,0.66999999999999993,0.57999999999999996,null,"元データ",null,null,null,null,null,null,null,null,null,null,null,null,null,null,null,null,null,null,null,null,null,null,null,null,null,null,null,null,null,null,null,null,null,null,null,null,null,null,null,null,null,null,null,null,null,null,null,null,null,null,null,null,null,null,null,null,null,null,null,null,null,null,null,null,null,null,null,null,null,null,null,null,null,null,null,null,null,null,null,null,null,null,null,null,null,null,null,null,null,null,null,null,null,null,null,null,null,null,null,null,null,null,null,null,null,null,null,null,null,null,null,null,null,null,null,null,null,null,null,null,null,null,null,null,null,null,null,null,null,null,null,null,null,null,null,null,null,null,null,null,null,null,null,null,null,null,null,null,null,null,null,null,null,null,null,null,null,null,null,null,null,null,null,null,null,null,null,null,null,null,null,null,null,null,null,null,null,null,null,null,null,null,null,null,null,null,null,null,null,null,null,null,null,null,null,null,null,null,null,null,null,null,null,null,null,null,null,null,null,null,null,null,null,null,null,null,null,null,null,null,null,null,null,null,null,null,null,null,null,null,null,null,null,null,null,null,null,null,null,null,null,null,null,null,null,null,null,null,null,null,null,null,null,null,null,null,null,null,null,null,null,null,null,null,null,null,null,null,null,null,null,null,null,null,null,null,null,null,null,null,null,null,null,null,null,null,null,null,null,null,null,null,null,null,null,null,null,null,null,null,null,null,null,null,null,null,null,null,null,null,null,null,null,null,null,null,null,null,null,null,null,null,null,null,null,null,null,null,null,null,null,null,null,null,null,null,null,null,null,null,null,null,null,null,null,null,null,null,null,null,null,null,null,null,null,null,null,null,null,null,null,null,null,null,null,null,null,null,null,null,null,null,null,null,null,null,null,null,null,null,null,null,null,null,null,null,null,null,null,null,null,null,null,null,null,null,null,null,null,null,null,null,null,null,null,null,null,null,null,null,null,null,null,null,null,null,null,null,null,null,null,null,null,null,null,null,null,null,null,null,null,null,null,null,null,null,null,null,null,null,null,null,null,null,null,null,null,null,null,null,null,null,null,null,null,null,null,null,null,null,null,null,null,null,null,null,null,null,null,null,null,null,null,null,null,null,null,null,null,null,null,null,null,null,null,null,null,null,null,null,null,null,null,null,null,null,null,null,null,null,null,null,null,null,null,null,null,null,null,null,null,null,null,null,null,null,null,null,null,null,null,null,null,null,null,null,null,null,null,null,null,null,null,null,null,null,null,null,null,null,null,null,null,null,null,null,null,null,null,null,null,null,null,null,null,null,null,null,null,null,null,null,null,null,null,null,null,null,null,null,null,null,null,null,null,null,null,null,null,null,null,null,null,null,null,null,null,null,null,null,null,null,null,null,null,null,null,null,null,null,null,null,null,null,null,null,null,null,null,null,null,null,null,null,null,null,null,null,null,null,null,null,null,null,null,null,null,null,null,null,null,null,null,null,null,null,null,null,null,null,null,null,null,null,null,null,null,null,null,null,null,null,null,null,null,null,null,null,null,null,null,null,null,null,null,null,null,null,null,null,null,null,null,null,null,null,null,null,null,null,null,null,null,null,null,null,null,null,null,null,null,null,null,null,null,null,null,null,null,null,null,null,null,null,null,null,null,null,null,null,null,null,null,null,null,null,null,null,null,null,null,null,null,null,null,null,null,null,null,null,null,null,null,null,null,null,null,null,null,null,null,null,null,null,null,null,null,null,null,null,null,null,null,null,null,null,null,null,null,null,null,null,null,null,null,null,null,null,null,null,null,null,null,null,null,null,null,null,null,null,null,null,null,null,null,null,null,null,null,null,null,null,null,null,null,null,null,null,null,null,null,null,null,null,null,null,null,null,null,null,null,null,null,null,null,null,null,null,null,null,null,null,null,null,null,null,null,null,null,null,null,null,null,null,null,null,null,null,null,null,null,null,null,null,null,null,null,null,null,null,null,null,null,null,null,null,null,null,null,null,null,null,null,null,null,null,null,null,null,null,null,null,null,null,null,null,null,null,null,null,null,null,null,null,null,null,null,null,null,null,null,null,null,null,null,null,null,null,null,null,null,null,null,null,null,null,null,null,null,null,null,null,null,null,null,null,null,null,null,null,null,null,null,null,null,null,null,null,null,null,null,null,null,null,null,null,null,null,null,null,null,null,null,null,null,null,null,null,null,null,null,null,null,null,null,null,null,null,null,null,null,null,null,null,null,null,null,null,null,null,null,null,null,null,null,null,null,null,null,null,null,null,null,null,null,null,null,null,null,null,null,null,null,null,null,null,null,null,null,null,null,null,null,null,null,null,null,null,null,null,null,null,null,null,null,null,null,null,null,null,null,null,null,null,null,null,null,null,null,null,null,null,null,null,null,null,null,null,null,null,null,null,null,null,null,null,null,null,null,null,null,null,null,null,null,null,null,null,null,null,null,null,null,null,null,null,null,null,null,null,null,null,null,null,null,null,null,null,null,null,null,null,null,null,null,null,null,null,null,null,null,null,null,null,null,null,null,null,null,null,null,null,null,null,null,null,null,null,null,null,null,null,null,null,null,null,null,null,null,null,null,null,null,null,null,null,null,null,null,null,null,null,null,null,null,null,null,null,null,null,null,null,null,null,null,null,null,null,null,null,null,null,null,null,null,null,null,null,null,null,null,null,null,null,null,null,null,null,null,null,null,null,null,null,null,null,null,null,null,null,null,null,null,null,null,null,null,null,null,null,null,null,null,null,null,null,null,null,null,null,null,null,null,null,null,null,null,null,null,null,null,null,null,null,null,null,null,null,null,null,null,null,null,null,null,null,null,null,null,null,null,null,null,null,null,null,null,null,null,null,null,null,null,null,null,null,null,null,null,null,null,null,null,null,null,null,null,null,null,null,null,null,null,null,null,null,null,null,null,null,null,null,null,null,null,null,null,null,null,null,null,null,null,null,null,null,null,null,null,null,null,null,null,null,null,null,null,null,null,null,null,null,null,null,null,null,null,null,null,null,null,null,null,null,null,null,null,null,null,null,null,null,null,null,null,null,null,null,null,null,null,null,null,null,null,null,null,null,null,null,null,null,null,null,null,null,null,null,null,null,null,null,null,null,null,null,null,null,null,null,null,null,null,null,null,null,null,null,null,null,null,null,null,null,null,null,null,null,null,null,null,null,null,null,null,null,null,null,null,null,null,null,null,null,null,null,null,null,null,null,null,null,null,null,null,null,null,null,null,null,null,null,null,null,null,null,null,null,null,null,null,null,null,null,null,null,null,null,null,null,null,null,null,null,null,null,null,null,null,null,null,null,null,null,null,null,null,null,null,null,null,null,null,null,null,null,null,null,null,null,null,null,null,null,null,null,null,null,null,null,null,null,null,null,null,null,null,null,null,null,null,null,null,null,null,null,null,null,null,null,null,null,null,null,null,null,null,null,null,null,null,null,null,null,null,null,null,null,null,null,null,null,null,null,null,null,null,null,null,null,null,null,null,null,null,null,null,null,null,null,null,null,null,null,null,null,{"$f":"IF($E10<>\"\",VLOOKUP(BHZ10,$C$5:$E$504,3,FALSE),\"\")","v":{"$error":"#N/A"}}]
[null,null,7,0.4,1.05,null,null,0,0,null,"最大値　：=MAX(セル範囲) ",null,{"$f":"MAX(D5:D1304)","v":20},{"$f":"MAX(E5:E1304)","v":15},{"$f":"MAX(F5:F1304)","v":0},{"$f":"MAX(G5:G1304)","v":0},"SYXD",{"$f":"(N7-(1+R10)*(N7-M29^2))^0.5","v":1.0419280823180046},null,null,11.020000000000001,50,0,8.5,50,0,null,null,null,-3.730699561116674,-0.51924075601029118,-2.6495760657253333,1.2755752555486997,null,{"$error":"#DIV/0!"},{"$error":"#DIV/0!"},{"$error":"#DIV/0!"},{"$error":"#DIV/0!"},null,46,45,"","",null,0.72500000000000009,0.65,null,0.72500000000000009,0.65,null,{"$f":"IF(D5<>\"\",D5,\"\")","v":0.22},{"$f":"IF(E5<>\"\",E5,\"\")","v":0.51},8,1.68,1.1299999999999999,22,2.75,2.4,7,0.4,1.05,1,0.22,0.51,13,1.24,1.7,7,0.4,1.05,47,2.34,6.2,49,3.94,6.8,9,0.6,1.18,28,2.8,3.4,10,1.1200000000000001,1.2,17,1.3,1.89,42,2.97,5.3,34,3.4,4,1,0.22,0.51,14,1.1599999999999999,1.72,21,1.83,2.3199999999999998,38,3.61,4.7,38,3.61,4.7,7,0.4,1.05,20,2.06,2.23,15,1.3,1.8,46,5.9,6.1,28,2.8,3.4,22,2.75,2.4,3,0.46,0.7,16,1.58,1.83,21,1.83,2.3199999999999998,25,3.68,2.88,3,0.46,0.7,2,0.22,0.56000000000000005,43,3.79,5.65,38,3.61,4.7,27,4.01,3,22,2.75,2.4,11,0.91,1.3,32,2.83,3.77,50,4.5,6.8,1,0.22,0.51,9,0.6,1.18,44,3.4,5.8,8,1.68,1.1299999999999999,32,2.83,3.77,30,3.4,3.7,19,1.33,2.06,4,0.32,0.75,17,1.3,1.89,30,3.4,3.7,18,1.32,2,50,4.5,6.8,23,1.1499999999999999,2.5,28,2.8,3.4,13,1.24,1.7,20,2.06,2.23,28,2.8,3.4,5,0.32,0.91,38,3.61,4.7,3,0.46,0.7,21,1.83,2.3199999999999998,6,0.38,0.96,40,5.16,4.92,50,4.5,6.8,8,1.68,1.1299999999999999,38,3.61,4.7,28,2.8,3.4,20,2.06,2.23,3,0.46,0.7,17,1.3,1.89,25,3.68,2.88,43,3.79,5.65,36,2.2799999999999998,4.0999999999999996,28,2.8,3.4,15,1.3,1.8,2,0.22,0.56000000000000005,47,2.34,6.2,13,1.24,1.7,47,2.34,6.2,1,0.22,0.51,38,3.61,4.7,29,2.4,3.5,27,4.01,3,51,20,15,26,2.15,2.91,44,3.4,5.8,30,3.4,3.7,27,4.01,3,40,5.16,4.92,41,5.95,5.0999999999999996,40,5.16,4.92,17,1.3,1.89,19,1.33,2.06,12,2.16,1.6,2,0.22,0.56000000000000005,22,2.75,2.4,18,1.32,2,15,1.3,1.8,29,2.4,3.5,3,0.46,0.7,3,0.46,0.7,19,1.33,2.06,41,5.95,5.0999999999999996,38,3.61,4.7,51,20,15,4,0.32,0.75,23,1.1499999999999999,2.5,11,0.91,1.3,3,0.46,0.7,16,1.58,1.83,21,1.83,2.3199999999999998,25,3.68,2.88,13,1.24,1.7,10,1.1200000000000001,1.2,47,2.34,6.2,42,2.97,5.3,47,2.34,6.2,5,0.32,0.91,20,2.06,2.23,36,2.2799999999999998,4.0999999999999996,32,2.83,3.77,34,3.4,4,27,4.01,3,46,5.9,6.1,10,1.1200000000000001,1.2,38,3.61,4.7,14,1.1599999999999999,1.72,22,2.75,2.4,34,3.4,4,26,2.15,2.91,42,2.97,5.3,26,2.15,2.91,19,1.33,2.06,16,1.58,1.83,31,1.56,3.71,34,3.4,4,46,5.9,6.1,40,5.16,4.92,16,1.58,1.83,34,3.4,4,2,0.22,0.56000000000000005,40,5.16,4.92,46,5.9,6.1,25,3.68,2.88,44,3.4,5.8,25,3.68,2.88,27,4.01,3,21,1.83,2.3199999999999998,35,2.83,4.0199999999999996,12,2.16,1.6,35,2.83,4.0199999999999996,46,5.9,6.1,4,0.32,0.75,35,2.83,4.0199999999999996,1,0.22,0.51,38,3.61,4.7,43,3.79,5.65,35,2.83,4.0199999999999996,25,3.68,2.88,48,7.1,6.2,4,0.32,0.75,20,2.06,2.23,15,1.3,1.8,38,3.61,4.7,3,0.46,0.7,8,1.68,1.1299999999999999,45,5.2,5.8,33,4.28,3.99,20,2.06,2.23,32,2.83,3.77,46,5.9,6.1,21,1.83,2.3199999999999998,44,3.4,5.8,35,2.83,4.0199999999999996,17,1.3,1.89,2,0.22,0.56000000000000005,28,2.8,3.4,23,1.1499999999999999,2.5,19,1.33,2.06,40,5.16,4.92,40,5.16,4.92,15,1.3,1.8,22,2.75,2.4,7,0.4,1.05,5,0.32,0.91,44,3.4,5.8,11,0.91,1.3,45,5.2,5.8,18,1.32,2,2,0.22,0.56000000000000005,35,2.83,4.0199999999999996,51,20,15,29,2.4,3.5,47,2.34,6.2,51,20,15,39,4.1900000000000004,4.8899999999999997,5,0.32,0.91,47,2.34,6.2,31,1.56,3.71,33,4.28,3.99,24,1.7,2.8,33,4.28,3.99,11,0.91,1.3,22,2.75,2.4,28,2.8,3.4,50,4.5,6.8,39,4.1900000000000004,4.8899999999999997,6,0.38,0.96,18,1.32,2,3,0.46,0.7,22,2.75,2.4,48,7.1,6.2,12,2.16,1.6,13,1.24,1.7,34,3.4,4,21,1.83,2.3199999999999998,38,3.61,4.7,11,0.91,1.3,8,1.68,1.1299999999999999,16,1.58,1.83,36,2.2799999999999998,4.0999999999999996,40,5.16,4.92,43,3.79,5.65,31,1.56,3.71,9,0.6,1.18,6,0.38,0.96,47,2.34,6.2,29,2.4,3.5,24,1.7,2.8,30,3.4,3.7,42,2.97,5.3,35,2.83,4.0199999999999996,8,1.68,1.1299999999999999,42,2.97,5.3,13,1.24,1.7,38,3.61,4.7,3,0.46,0.7,35,2.83,4.0199999999999996,8,1.68,1.1299999999999999,37,3.7,4.2,13,1.24,1.7,17,1.3,1.89,36,2.2799999999999998,4.0999999999999996,45,5.2,5.8,2,0.22,0.56000000000000005,7,0.4,1.05,18,1.32,2,37,3.7,4.2,50,4.5,6.8,36,2.2799999999999998,4.0999999999999996,41,5.95,5.0999999999999996,1,0.22,0.51,46,5.9,6.1,48,7.1,6.2,49,3.94,6.8,37,3.7,4.2,44,3.4,5.8,50,4.5,6.8,3,0.46,0.7,8,1.68,1.1299999999999999,10,1.1200000000000001,1.2,8,1.68,1.1299999999999999,26,2.15,2.91,39,4.1900000000000004,4.8899999999999997,23,1.1499999999999999,2.5,8,1.68,1.1299999999999999,1,0.22,0.51,18,1.32,2,22,2.75,2.4,41,5.95,5.0999999999999996,27,4.01,3,45,5.2,5.8,13,1.24,1.7,14,1.1599999999999999,1.72,11,0.91,1.3,31,1.56,3.71,9,0.6,1.18,47,2.34,6.2,27,4.01,3,4,0.32,0.75,41,5.95,5.0999999999999996,19,1.33,2.06,9,0.6,1.18,51,20,15,48,7.1,6.2,27,4.01,3,4,0.32,0.75,20,2.06,2.23,33,4.28,3.99,25,3.68,2.88,22,2.75,2.4,27,4.01,3,13,1.24,1.7,33,4.28,3.99,34,3.4,4,45,5.2,5.8,16,1.58,1.83,33,4.28,3.99,26,2.15,2.91,12,2.16,1.6,34,3.4,4,17,1.3,1.89,44,3.4,5.8,28,2.8,3.4,17,1.3,1.89,44,3.4,5.8,48,7.1,6.2,7,0.4,1.05,34,3.4,4,31,1.56,3.71,9,0.6,1.18,23,1.1499999999999999,2.5,12,2.16,1.6,10,1.1200000000000001,1.2,14,1.1599999999999999,1.72,14,1.1599999999999999,1.72,43,3.79,5.65,26,2.15,2.91,8,1.68,1.1299999999999999,31,1.56,3.71,28,2.8,3.4,34,3.4,4,1,0.22,0.51,35,2.83,4.0199999999999996,35,2.83,4.0199999999999996,3,0.46,0.7,16,1.58,1.83,2,0.22,0.56000000000000005,41,5.95,5.0999999999999996,15,1.3,1.8,36,2.2799999999999998,4.0999999999999996,20,2.06,2.23,37,3.7,4.2,14,1.1599999999999999,1.72,9,0.6,1.18,40,5.16,4.92,27,4.01,3,6,0.38,0.96,45,5.2,5.8,22,2.75,2.4,26,2.15,2.91,11,0.91,1.3,15,1.3,1.8,44,3.4,5.8,13,1.24,1.7,9,0.6,1.18,4,0.32,0.75,43,3.79,5.65,30,3.4,3.7,46,5.9,6.1,10,1.1200000000000001,1.2,17,1.3,1.89,27,4.01,3,25,3.68,2.88,42,2.97,5.3,32,2.83,3.77,23,1.1499999999999999,2.5,18,1.32,2,21,1.83,2.3199999999999998,11,0.91,1.3,45,5.2,5.8,6,0.38,0.96,33,4.28,3.99,43,3.79,5.65,33,4.28,3.99,32,2.83,3.77,24,1.7,2.8,27,4.01,3,42,2.97,5.3,2,0.22,0.56000000000000005,3,0.46,0.7,27,4.01,3,36,2.2799999999999998,4.0999999999999996,37,3.7,4.2,45,5.2,5.8,16,1.58,1.83,45,5.2,5.8,17,1.3,1.89,32,2.83,3.77,35,2.83,4.0199999999999996,9,0.6,1.18,36,2.2799999999999998,4.0999999999999996,11,0.91,1.3,31,1.56,3.71,32,2.83,3.77,51,20,15,44,3.4,5.8,18,1.32,2,28,2.8,3.4,30,3.4,3.7,50,4.5,6.8,22,2.75,2.4,28,2.8,3.4,4,0.32,0.75,15,1.3,1.8,30,3.4,3.7,21,1.83,2.3199999999999998,20,2.06,2.23,37,3.7,4.2,42,2.97,5.3,10,1.1200000000000001,1.2,31,1.56,3.71,23,1.1499999999999999,2.5,20,2.06,2.23,13,1.24,1.7,8,1.68,1.1299999999999999,49,3.94,6.8,41,5.95,5.0999999999999996,6,0.38,0.96,32,2.83,3.77,45,5.2,5.8,41,5.95,5.0999999999999996,31,1.56,3.71,47,2.34,6.2,11,0.91,1.3,21,1.83,2.3199999999999998,41,5.95,5.0999999999999996,8,1.68,1.1299999999999999,6,0.38,0.96,44,3.4,5.8,1,0.22,0.51,36,2.2799999999999998,4.0999999999999996,2,0.22,0.56000000000000005,35,2.83,4.0199999999999996,42,2.97,5.3,11,0.91,1.3,34,3.4,4,31,1.56,3.71,1,0.22,0.51,28,2.8,3.4,48,7.1,6.2,33,4.28,3.99,35,2.83,4.0199999999999996,43,3.79,5.65,4,0.32,0.75,2,0.22,0.56000000000000005,7,0.4,1.05,25,3.68,2.88,25,3.68,2.88,17,1.3,1.89,47,2.34,6.2,5,0.32,0.91,45,5.2,5.8,12,2.16,1.6,45,5.2,5.8,28,2.8,3.4,9,0.6,1.18,39,4.1900000000000004,4.8899999999999997,4,0.32,0.75,49,3.94,6.8,30,3.4,3.7,9,0.6,1.18,42,2.97,5.3,38,3.61,4.7,28,2.8,3.4,50,4.5,6.8,35,2.83,4.0199999999999996,26,2.15,2.91,39,4.1900000000000004,4.8899999999999997,47,2.34,6.2,24,1.7,2.8,7,0.4,1.05,8,1.68,1.1299999999999999,51,20,15,13,1.24,1.7,38,3.61,4.7,47,2.34,6.2,25,3.68,2.88,19,1.33,2.06,37,3.7,4.2,25,3.68,2.88,45,5.2,5.8,18,1.32,2,37,3.7,4.2,30,3.4,3.7,47,2.34,6.2,1,0.22,0.51,29,2.4,3.5,6,0.38,0.96,32,2.83,3.77,24,1.7,2.8,23,1.1499999999999999,2.5,15,1.3,1.8,13,1.24,1.7,50,4.5,6.8,36,2.2799999999999998,4.0999999999999996,28,2.8,3.4,15,1.3,1.8,8,1.68,1.1299999999999999,49,3.94,6.8,30,3.4,3.7,26,2.15,2.91,40,5.16,4.92,6,0.38,0.96,17,1.3,1.89,46,5.9,6.1,48,7.1,6.2,16,1.58,1.83,50,4.5,6.8,37,3.7,4.2,48,7.1,6.2,45,5.2,5.8,50,4.5,6.8,null,null,null,null,null,null,null,null,null,null,null,null,null,null,null,null,null,null,null,null,null,null,null,null,null,null,null,null,null,null,null,null,{"$error":"#N/A"}]
[null,null,8,1.68,1.1299999999999999,null,null,0,0,null,"歪　　度：=SKEW(セル範囲) ",null,{"$f":"SKEW(D5:D1304)","v":4.0564389551605897},{"$f":"SKEW(E5:E1304)","v":2.1404888281573737},{"$f":"SKEW(F5:F1304)","v":{"$error":"#DIV/0!"}},{"$f":"SKEW(G5:G1304)","v":{"$error":"#DIV/0!"}},"Sy.x / SDy(<2) = ",{"$f":"R11/S6","v":{"$error":"#DIV/0!"}},null,null,12.820000000000002,50,0,9.82,50,0,null,null,null,-3.634060092368995,-0.37634429300250694,-2.6457915431770287,1.3588709452893026,null,{"$error":"#DIV/0!"},{"$error":"#DIV/0!"},{"$error":"#DIV/0!"},{"$error":"#DIV/0!"},null,32,44,"","",null,1.4049999999999998,-0.55000000000000004,null,1.4049999999999998,-0.55000000000000004,null,0.22,0.56000000000000005,38,3.61,4.7,18,1.32,2,2,0.22,0.56000000000000005,6,0.38,0.96,29,2.4,3.5,7,0.4,1.05,32,2.83,3.77,23,1.1499999999999999,2.5,28,2.8,3.4,19,1.33,2.06,14,1.1599999999999999,1.72,4,0.32,0.75,43,3.79,5.65,2,0.22,0.56000000000000005,42,2.97,5.3,31,1.56,3.71,46,5.9,6.1,20,2.06,2.23,16,1.58,1.83,46,5.9,6.1,19,1.33,2.06,47,2.34,6.2,1,0.22,0.51,4,0.32,0.75,10,1.1200000000000001,1.2,17,1.3,1.89,26,2.15,2.91,25,3.68,2.88,29,2.4,3.5,33,4.28,3.99,30,3.4,3.7,39,4.1900000000000004,4.8899999999999997,45,5.2,5.8,5,0.32,0.91,16,1.58,1.83,38,3.61,4.7,42,2.97,5.3,8,1.68,1.1299999999999999,49,3.94,6.8,29,2.4,3.5,16,1.58,1.83,30,3.4,3.7,5,0.32,0.91,30,3.4,3.7,28,2.8,3.4,18,1.32,2,27,4.01,3,21,1.83,2.3199999999999998,48,7.1,6.2,36,2.2799999999999998,4.0999999999999996,15,1.3,1.8,47,2.34,6.2,8,1.68,1.1299999999999999,6,0.38,0.96,36,2.2799999999999998,4.0999999999999996,10,1.1200000000000001,1.2,8,1.68,1.1299999999999999,18,1.32,2,15,1.3,1.8,33,4.28,3.99,3,0.46,0.7,20,2.06,2.23,46,5.9,6.1,43,3.79,5.65,17,1.3,1.89,24,1.7,2.8,27,4.01,3,33,4.28,3.99,33,4.28,3.99,3,0.46,0.7,26,2.15,2.91,11,0.91,1.3,47,2.34,6.2,47,2.34,6.2,19,1.33,2.06,45,5.2,5.8,18,1.32,2,2,0.22,0.56000000000000005,48,7.1,6.2,13,1.24,1.7,16,1.58,1.83,33,4.28,3.99,13,1.24,1.7,11,0.91,1.3,27,4.01,3,12,2.16,1.6,31,1.56,3.71,44,3.4,5.8,47,2.34,6.2,27,4.01,3,28,2.8,3.4,28,2.8,3.4,33,4.28,3.99,28,2.8,3.4,46,5.9,6.1,47,2.34,6.2,7,0.4,1.05,25,3.68,2.88,36,2.2799999999999998,4.0999999999999996,42,2.97,5.3,3,0.46,0.7,44,3.4,5.8,13,1.24,1.7,19,1.33,2.06,19,1.33,2.06,22,2.75,2.4,5,0.32,0.91,47,2.34,6.2,11,0.91,1.3,7,0.4,1.05,3,0.46,0.7,5,0.32,0.91,2,0.22,0.56000000000000005,12,2.16,1.6,8,1.68,1.1299999999999999,39,4.1900000000000004,4.8899999999999997,25,3.68,2.88,12,2.16,1.6,36,2.2799999999999998,4.0999999999999996,1,0.22,0.51,27,4.01,3,43,3.79,5.65,13,1.24,1.7,13,1.24,1.7,16,1.58,1.83,4,0.32,0.75,32,2.83,3.77,2,0.22,0.56000000000000005,13,1.24,1.7,8,1.68,1.1299999999999999,43,3.79,5.65,14,1.1599999999999999,1.72,3,0.46,0.7,29,2.4,3.5,11,0.91,1.3,3,0.46,0.7,33,4.28,3.99,3,0.46,0.7,15,1.3,1.8,38,3.61,4.7,9,0.6,1.18,32,2.83,3.77,45,5.2,5.8,50,4.5,6.8,4,0.32,0.75,24,1.7,2.8,1,0.22,0.51,30,3.4,3.7,2,0.22,0.56000000000000005,7,0.4,1.05,1,0.22,0.51,36,2.2799999999999998,4.0999999999999996,49,3.94,6.8,16,1.58,1.83,22,2.75,2.4,36,2.2799999999999998,4.0999999999999996,3,0.46,0.7,51,20,15,3,0.46,0.7,9,0.6,1.18,37,3.7,4.2,24,1.7,2.8,48,7.1,6.2,50,4.5,6.8,33,4.28,3.99,8,1.68,1.1299999999999999,19,1.33,2.06,13,1.24,1.7,38,3.61,4.7,43,3.79,5.65,48,7.1,6.2,18,1.32,2,10,1.1200000000000001,1.2,25,3.68,2.88,21,1.83,2.3199999999999998,44,3.4,5.8,23,1.1499999999999999,2.5,18,1.32,2,43,3.79,5.65,35,2.83,4.0199999999999996,8,1.68,1.1299999999999999,47,2.34,6.2,27,4.01,3,47,2.34,6.2,12,2.16,1.6,47,2.34,6.2,3,0.46,0.7,47,2.34,6.2,45,5.2,5.8,17,1.3,1.89,9,0.6,1.18,17,1.3,1.89,26,2.15,2.91,21,1.83,2.3199999999999998,50,4.5,6.8,49,3.94,6.8,41,5.95,5.0999999999999996,33,4.28,3.99,38,3.61,4.7,50,4.5,6.8,35,2.83,4.0199999999999996,39,4.1900000000000004,4.8899999999999997,2,0.22,0.56000000000000005,36,2.2799999999999998,4.0999999999999996,16,1.58,1.83,39,4.1900000000000004,4.8899999999999997,33,4.28,3.99,40,5.16,4.92,8,1.68,1.1299999999999999,45,5.2,5.8,31,1.56,3.71,3,0.46,0.7,43,3.79,5.65,31,1.56,3.71,13,1.24,1.7,33,4.28,3.99,17,1.3,1.89,34,3.4,4,7,0.4,1.05,47,2.34,6.2,40,5.16,4.92,3,0.46,0.7,1,0.22,0.51,25,3.68,2.88,32,2.83,3.77,1,0.22,0.51,50,4.5,6.8,11,0.91,1.3,28,2.8,3.4,2,0.22,0.56000000000000005,17,1.3,1.89,11,0.91,1.3,23,1.1499999999999999,2.5,43,3.79,5.65,30,3.4,3.7,43,3.79,5.65,27,4.01,3,22,2.75,2.4,30,3.4,3.7,36,2.2799999999999998,4.0999999999999996,10,1.1200000000000001,1.2,3,0.46,0.7,18,1.32,2,36,2.2799999999999998,4.0999999999999996,7,0.4,1.05,9,0.6,1.18,10,1.1200000000000001,1.2,46,5.9,6.1,14,1.1599999999999999,1.72,29,2.4,3.5,34,3.4,4,35,2.83,4.0199999999999996,40,5.16,4.92,9,0.6,1.18,29,2.4,3.5,35,2.83,4.0199999999999996,4,0.32,0.75,13,1.24,1.7,49,3.94,6.8,38,3.61,4.7,44,3.4,5.8,16,1.58,1.83,6,0.38,0.96,50,4.5,6.8,2,0.22,0.56000000000000005,3,0.46,0.7,31,1.56,3.71,38,3.61,4.7,41,5.95,5.0999999999999996,26,2.15,2.91,12,2.16,1.6,34,3.4,4,29,2.4,3.5,45,5.2,5.8,2,0.22,0.56000000000000005,31,1.56,3.71,51,20,15,34,3.4,4,17,1.3,1.89,34,3.4,4,2,0.22,0.56000000000000005,31,1.56,3.71,34,3.4,4,12,2.16,1.6,43,3.79,5.65,35,2.83,4.0199999999999996,42,2.97,5.3,46,5.9,6.1,45,5.2,5.8,7,0.4,1.05,44,3.4,5.8,27,4.01,3,39,4.1900000000000004,4.8899999999999997,25,3.68,2.88,5,0.32,0.91,13,1.24,1.7,25,3.68,2.88,22,2.75,2.4,4,0.32,0.75,21,1.83,2.3199999999999998,9,0.6,1.18,49,3.94,6.8,30,3.4,3.7,32,2.83,3.77,14,1.1599999999999999,1.72,17,1.3,1.89,35,2.83,4.0199999999999996,40,5.16,4.92,23,1.1499999999999999,2.5,1,0.22,0.51,35,2.83,4.0199999999999996,49,3.94,6.8,32,2.83,3.77,40,5.16,4.92,6,0.38,0.96,27,4.01,3,51,20,15,30,3.4,3.7,40,5.16,4.92,6,0.38,0.96,51,20,15,35,2.83,4.0199999999999996,38,3.61,4.7,30,3.4,3.7,13,1.24,1.7,28,2.8,3.4,16,1.58,1.83,2,0.22,0.56000000000000005,38,3.61,4.7,47,2.34,6.2,51,20,15,44,3.4,5.8,31,1.56,3.71,41,5.95,5.0999999999999996,33,4.28,3.99,32,2.83,3.77,15,1.3,1.8,22,2.75,2.4,15,1.3,1.8,11,0.91,1.3,24,1.7,2.8,15,1.3,1.8,12,2.16,1.6,39,4.1900000000000004,4.8899999999999997,3,0.46,0.7,6,0.38,0.96,1,0.22,0.51,31,1.56,3.71,12,2.16,1.6,45,5.2,5.8,23,1.1499999999999999,2.5,19,1.33,2.06,23,1.1499999999999999,2.5,44,3.4,5.8,30,3.4,3.7,47,2.34,6.2,17,1.3,1.89,26,2.15,2.91,36,2.2799999999999998,4.0999999999999996,19,1.33,2.06,43,3.79,5.65,30,3.4,3.7,20,2.06,2.23,3,0.46,0.7,7,0.4,1.05,3,0.46,0.7,22,2.75,2.4,32,2.83,3.77,34,3.4,4,9,0.6,1.18,44,3.4,5.8,48,7.1,6.2,4,0.32,0.75,23,1.1499999999999999,2.5,51,20,15,5,0.32,0.91,17,1.3,1.89,30,3.4,3.7,20,2.06,2.23,23,1.1499999999999999,2.5,29,2.4,3.5,30,3.4,3.7,42,2.97,5.3,33,4.28,3.99,11,0.91,1.3,35,2.83,4.0199999999999996,19,1.33,2.06,27,4.01,3,50,4.5,6.8,18,1.32,2,17,1.3,1.89,10,1.1200000000000001,1.2,39,4.1900000000000004,4.8899999999999997,19,1.33,2.06,12,2.16,1.6,2,0.22,0.56000000000000005,38,3.61,4.7,36,2.2799999999999998,4.0999999999999996,46,5.9,6.1,34,3.4,4,19,1.33,2.06,30,3.4,3.7,19,1.33,2.06,47,2.34,6.2,14,1.1599999999999999,1.72,25,3.68,2.88,49,3.94,6.8,48,7.1,6.2,21,1.83,2.3199999999999998,10,1.1200000000000001,1.2,11,0.91,1.3,4,0.32,0.75,49,3.94,6.8,34,3.4,4,46,5.9,6.1,48,7.1,6.2,17,1.3,1.89,7,0.4,1.05,6,0.38,0.96,20,2.06,2.23,11,0.91,1.3,6,0.38,0.96,8,1.68,1.1299999999999999,28,2.8,3.4,27,4.01,3,16,1.58,1.83,27,4.01,3,40,5.16,4.92,23,1.1499999999999999,2.5,37,3.7,4.2,5,0.32,0.91,36,2.2799999999999998,4.0999999999999996,20,2.06,2.23,31,1.56,3.71,44,3.4,5.8,9,0.6,1.18,3,0.46,0.7,23,1.1499999999999999,2.5,7,0.4,1.05,16,1.58,1.83,18,1.32,2,49,3.94,6.8,25,3.68,2.88,23,1.1499999999999999,2.5,23,1.1499999999999999,2.5,8,1.68,1.1299999999999999,36,2.2799999999999998,4.0999999999999996,12,2.16,1.6,40,5.16,4.92,13,1.24,1.7,42,2.97,5.3,27,4.01,3,2,0.22,0.56000000000000005,39,4.1900000000000004,4.8899999999999997,9,0.6,1.18,22,2.75,2.4,6,0.38,0.96,20,2.06,2.23,15,1.3,1.8,16,1.58,1.83,11,0.91,1.3,8,1.68,1.1299999999999999,50,4.5,6.8,40,5.16,4.92,39,4.1900000000000004,4.8899999999999997,15,1.3,1.8,15,1.3,1.8,36,2.2799999999999998,4.0999999999999996,21,1.83,2.3199999999999998,15,1.3,1.8,27,4.01,3,10,1.1200000000000001,1.2,5,0.32,0.91,44,3.4,5.8,11,0.91,1.3,31,1.56,3.71,1,0.22,0.51,1,0.22,0.51,10,1.1200000000000001,1.2,29,2.4,3.5,29,2.4,3.5,51,20,15,25,3.68,2.88,48,7.1,6.2,22,2.75,2.4,15,1.3,1.8,21,1.83,2.3199999999999998,42,2.97,5.3,28,2.8,3.4,32,2.83,3.77,26,2.15,2.91,31,1.56,3.71,4,0.32,0.75,50,4.5,6.8,30,3.4,3.7,44,3.4,5.8,23,1.1499999999999999,2.5,32,2.83,3.77,35,2.83,4.0199999999999996,25,3.68,2.88,18,1.32,2,null,null,null,null,null,null,null,null,null,null,null,null,null,null,null,null,null,null,null,null,null,null,null,null,null,null,null,null,null,null,null,null,{"$error":"#N/A"}]
[null,null,9,0.6,1.18,null,null,0,0,null,"尖　　 　度 ： =KURT(セル範囲) ",null,{"$f":"KURT(D5:D1304)","v":22.538202216536305},{"$f":"KURT(E5:E1304)","v":8.3703876550286171},{"$f":"KURT(F5:F1304)","v":{"$error":"#DIV/0!"}},{"$f":"KURT(G5:G1304)","v":{"$error":"#DIV/0!"}},null,null,null,null,14.620000000000003,50,0,11.14,50,0,null,null,null,-3.5374206236213159,-0.23841663142252556,-2.6370382192009205,1.4362163227742371,null,{"$error":"#DIV/0!"},{"$error":"#DIV/0!"},{"$error":"#DIV/0!"},{"$error":"#DIV/0!"},null,44,43,"","",null,0.8899999999999999,0.57999999999999996,null,0.8899999999999999,{"$f":"IF(D13<>\"\",(E13-D13),\"\")","v":0.57999999999999996},null,0.46,0.7,22,2.75,2.4,25,3.68,2.88,15,1.3,1.8,10,1.1200000000000001,1.2,27,4.01,3,21,1.83,2.3199999999999998,40,5.16,4.92,32,2.83,3.77,25,3.68,2.88,16,1.58,1.83,18,1.32,2,25,3.68,2.88,41,5.95,5.0999999999999996,10,1.1200000000000001,1.2,29,2.4,3.5,49,3.94,6.8,8,1.68,1.1299999999999999,19,1.33,2.06,16,1.58,1.83,23,1.1499999999999999,2.5,28,2.8,3.4,18,1.32,2,34,3.4,4,32,2.83,3.77,10,1.1200000000000001,1.2,47,2.34,6.2,49,3.94,6.8,19,1.33,2.06,29,2.4,3.5,7,0.4,1.05,43,3.79,5.65,44,3.4,5.8,20,2.06,2.23,13,1.24,1.7,5,0.32,0.91,26,2.15,2.91,32,2.83,3.77,43,3.79,5.65,45,5.2,5.8,50,4.5,6.8,26,2.15,2.91,34,3.4,4,25,3.68,2.88,9,0.6,1.18,27,4.01,3,39,4.1900000000000004,4.8899999999999997,29,2.4,3.5,13,1.24,1.7,19,1.33,2.06,22,2.75,2.4,48,7.1,6.2,32,2.83,3.77,1,0.22,0.51,9,0.6,1.18,35,2.83,4.0199999999999996,49,3.94,6.8,37,3.7,4.2,42,2.97,5.3,10,1.1200000000000001,1.2,8,1.68,1.1299999999999999,47,2.34,6.2,19,1.33,2.06,1,0.22,0.51,19,1.33,2.06,18,1.32,2,6,0.38,0.96,2,0.22,0.56000000000000005,2,0.22,0.56000000000000005,50,4.5,6.8,30,3.4,3.7,18,1.32,2,40,5.16,4.92,2,0.22,0.56000000000000005,31,1.56,3.71,14,1.1599999999999999,1.72,28,2.8,3.4,51,20,15,8,1.68,1.1299999999999999,23,1.1499999999999999,2.5,24,1.7,2.8,30,3.4,3.7,29,2.4,3.5,35,2.83,4.0199999999999996,50,4.5,6.8,39,4.1900000000000004,4.8899999999999997,17,1.3,1.89,5,0.32,0.91,37,3.7,4.2,38,3.61,4.7,14,1.1599999999999999,1.72,2,0.22,0.56000000000000005,32,2.83,3.77,2,0.22,0.56000000000000005,21,1.83,2.3199999999999998,5,0.32,0.91,42,2.97,5.3,16,1.58,1.83,1,0.22,0.51,6,0.38,0.96,38,3.61,4.7,30,3.4,3.7,34,3.4,4,10,1.1200000000000001,1.2,2,0.22,0.56000000000000005,4,0.32,0.75,5,0.32,0.91,35,2.83,4.0199999999999996,31,1.56,3.71,12,2.16,1.6,19,1.33,2.06,10,1.1200000000000001,1.2,33,4.28,3.99,41,5.95,5.0999999999999996,39,4.1900000000000004,4.8899999999999997,29,2.4,3.5,27,4.01,3,38,3.61,4.7,41,5.95,5.0999999999999996,45,5.2,5.8,48,7.1,6.2,15,1.3,1.8,16,1.58,1.83,26,2.15,2.91,40,5.16,4.92,46,5.9,6.1,14,1.1599999999999999,1.72,2,0.22,0.56000000000000005,11,0.91,1.3,15,1.3,1.8,1,0.22,0.51,16,1.58,1.83,32,2.83,3.77,24,1.7,2.8,2,0.22,0.56000000000000005,22,2.75,2.4,37,3.7,4.2,31,1.56,3.71,8,1.68,1.1299999999999999,37,3.7,4.2,19,1.33,2.06,12,2.16,1.6,20,2.06,2.23,43,3.79,5.65,39,4.1900000000000004,4.8899999999999997,2,0.22,0.56000000000000005,1,0.22,0.51,29,2.4,3.5,14,1.1599999999999999,1.72,50,4.5,6.8,31,1.56,3.71,3,0.46,0.7,31,1.56,3.71,17,1.3,1.89,46,5.9,6.1,31,1.56,3.71,32,2.83,3.77,26,2.15,2.91,49,3.94,6.8,44,3.4,5.8,27,4.01,3,14,1.1599999999999999,1.72,3,0.46,0.7,32,2.83,3.77,37,3.7,4.2,30,3.4,3.7,38,3.61,4.7,2,0.22,0.56000000000000005,43,3.79,5.65,34,3.4,4,40,5.16,4.92,21,1.83,2.3199999999999998,42,2.97,5.3,50,4.5,6.8,12,2.16,1.6,18,1.32,2,41,5.95,5.0999999999999996,13,1.24,1.7,18,1.32,2,37,3.7,4.2,11,0.91,1.3,25,3.68,2.88,36,2.2799999999999998,4.0999999999999996,31,1.56,3.71,36,2.2799999999999998,4.0999999999999996,44,3.4,5.8,3,0.46,0.7,18,1.32,2,9,0.6,1.18,45,5.2,5.8,23,1.1499999999999999,2.5,29,2.4,3.5,41,5.95,5.0999999999999996,13,1.24,1.7,9,0.6,1.18,4,0.32,0.75,51,20,15,49,3.94,6.8,38,3.61,4.7,1,0.22,0.51,21,1.83,2.3199999999999998,10,1.1200000000000001,1.2,50,4.5,6.8,36,2.2799999999999998,4.0999999999999996,49,3.94,6.8,24,1.7,2.8,45,5.2,5.8,38,3.61,4.7,41,5.95,5.0999999999999996,25,3.68,2.88,39,4.1900000000000004,4.8899999999999997,50,4.5,6.8,17,1.3,1.89,12,2.16,1.6,7,0.4,1.05,27,4.01,3,12,2.16,1.6,47,2.34,6.2,40,5.16,4.92,36,2.2799999999999998,4.0999999999999996,21,1.83,2.3199999999999998,51,20,15,39,4.1900000000000004,4.8899999999999997,7,0.4,1.05,1,0.22,0.51,12,2.16,1.6,18,1.32,2,34,3.4,4,24,1.7,2.8,29,2.4,3.5,4,0.32,0.75,19,1.33,2.06,22,2.75,2.4,13,1.24,1.7,38,3.61,4.7,32,2.83,3.77,40,5.16,4.92,37,3.7,4.2,18,1.32,2,1,0.22,0.51,37,3.7,4.2,37,3.7,4.2,11,0.91,1.3,19,1.33,2.06,33,4.28,3.99,12,2.16,1.6,44,3.4,5.8,42,2.97,5.3,11,0.91,1.3,24,1.7,2.8,4,0.32,0.75,36,2.2799999999999998,4.0999999999999996,17,1.3,1.89,45,5.2,5.8,46,5.9,6.1,31,1.56,3.71,9,0.6,1.18,12,2.16,1.6,31,1.56,3.71,19,1.33,2.06,7,0.4,1.05,23,1.1499999999999999,2.5,37,3.7,4.2,6,0.38,0.96,45,5.2,5.8,41,5.95,5.0999999999999996,3,0.46,0.7,9,0.6,1.18,16,1.58,1.83,37,3.7,4.2,33,4.28,3.99,8,1.68,1.1299999999999999,31,1.56,3.71,50,4.5,6.8,38,3.61,4.7,46,5.9,6.1,8,1.68,1.1299999999999999,25,3.68,2.88,47,2.34,6.2,26,2.15,2.91,33,4.28,3.99,26,2.15,2.91,48,7.1,6.2,17,1.3,1.89,49,3.94,6.8,26,2.15,2.91,43,3.79,5.65,48,7.1,6.2,14,1.1599999999999999,1.72,11,0.91,1.3,47,2.34,6.2,11,0.91,1.3,50,4.5,6.8,30,3.4,3.7,35,2.83,4.0199999999999996,13,1.24,1.7,39,4.1900000000000004,4.8899999999999997,44,3.4,5.8,49,3.94,6.8,19,1.33,2.06,27,4.01,3,25,3.68,2.88,38,3.61,4.7,10,1.1200000000000001,1.2,21,1.83,2.3199999999999998,11,0.91,1.3,18,1.32,2,29,2.4,3.5,44,3.4,5.8,51,20,15,15,1.3,1.8,29,2.4,3.5,26,2.15,2.91,4,0.32,0.75,19,1.33,2.06,29,2.4,3.5,14,1.1599999999999999,1.72,46,5.9,6.1,31,1.56,3.71,8,1.68,1.1299999999999999,16,1.58,1.83,11,0.91,1.3,15,1.3,1.8,10,1.1200000000000001,1.2,2,0.22,0.56000000000000005,50,4.5,6.8,50,4.5,6.8,38,3.61,4.7,5,0.32,0.91,21,1.83,2.3199999999999998,21,1.83,2.3199999999999998,9,0.6,1.18,22,2.75,2.4,51,20,15,34,3.4,4,5,0.32,0.91,9,0.6,1.18,24,1.7,2.8,1,0.22,0.51,18,1.32,2,38,3.61,4.7,39,4.1900000000000004,4.8899999999999997,50,4.5,6.8,1,0.22,0.51,41,5.95,5.0999999999999996,7,0.4,1.05,18,1.32,2,23,1.1499999999999999,2.5,14,1.1599999999999999,1.72,2,0.22,0.56000000000000005,9,0.6,1.18,13,1.24,1.7,14,1.1599999999999999,1.72,11,0.91,1.3,38,3.61,4.7,15,1.3,1.8,14,1.1599999999999999,1.72,32,2.83,3.77,29,2.4,3.5,32,2.83,3.77,45,5.2,5.8,25,3.68,2.88,23,1.1499999999999999,2.5,32,2.83,3.77,1,0.22,0.51,14,1.1599999999999999,1.72,21,1.83,2.3199999999999998,45,5.2,5.8,45,5.2,5.8,37,3.7,4.2,38,3.61,4.7,13,1.24,1.7,42,2.97,5.3,40,5.16,4.92,50,4.5,6.8,42,2.97,5.3,28,2.8,3.4,36,2.2799999999999998,4.0999999999999996,47,2.34,6.2,49,3.94,6.8,49,3.94,6.8,48,7.1,6.2,30,3.4,3.7,12,2.16,1.6,10,1.1200000000000001,1.2,11,0.91,1.3,13,1.24,1.7,26,2.15,2.91,35,2.83,4.0199999999999996,26,2.15,2.91,24,1.7,2.8,45,5.2,5.8,5,0.32,0.91,3,0.46,0.7,2,0.22,0.56000000000000005,36,2.2799999999999998,4.0999999999999996,16,1.58,1.83,15,1.3,1.8,49,3.94,6.8,28,2.8,3.4,26,2.15,2.91,50,4.5,6.8,27,4.01,3,15,1.3,1.8,5,0.32,0.91,3,0.46,0.7,16,1.58,1.83,2,0.22,0.56000000000000005,38,3.61,4.7,39,4.1900000000000004,4.8899999999999997,2,0.22,0.56000000000000005,5,0.32,0.91,17,1.3,1.89,30,3.4,3.7,40,5.16,4.92,5,0.32,0.91,3,0.46,0.7,12,2.16,1.6,43,3.79,5.65,44,3.4,5.8,16,1.58,1.83,34,3.4,4,36,2.2799999999999998,4.0999999999999996,27,4.01,3,38,3.61,4.7,6,0.38,0.96,10,1.1200000000000001,1.2,20,2.06,2.23,15,1.3,1.8,4,0.32,0.75,17,1.3,1.89,5,0.32,0.91,5,0.32,0.91,12,2.16,1.6,20,2.06,2.23,24,1.7,2.8,29,2.4,3.5,30,3.4,3.7,48,7.1,6.2,31,1.56,3.71,19,1.33,2.06,18,1.32,2,38,3.61,4.7,44,3.4,5.8,21,1.83,2.3199999999999998,50,4.5,6.8,42,2.97,5.3,42,2.97,5.3,44,3.4,5.8,12,2.16,1.6,25,3.68,2.88,18,1.32,2,6,0.38,0.96,3,0.46,0.7,13,1.24,1.7,28,2.8,3.4,43,3.79,5.65,36,2.2799999999999998,4.0999999999999996,47,2.34,6.2,37,3.7,4.2,49,3.94,6.8,31,1.56,3.71,26,2.15,2.91,27,4.01,3,32,2.83,3.77,25,3.68,2.88,17,1.3,1.89,39,4.1900000000000004,4.8899999999999997,11,0.91,1.3,19,1.33,2.06,46,5.9,6.1,29,2.4,3.5,23,1.1499999999999999,2.5,22,2.75,2.4,51,20,15,13,1.24,1.7,9,0.6,1.18,7,0.4,1.05,34,3.4,4,23,1.1499999999999999,2.5,31,1.56,3.71,13,1.24,1.7,10,1.1200000000000001,1.2,49,3.94,6.8,6,0.38,0.96,37,3.7,4.2,6,0.38,0.96,48,7.1,6.2,20,2.06,2.23,40,5.16,4.92,11,0.91,1.3,35,2.83,4.0199999999999996,17,1.3,1.89,45,5.2,5.8,26,2.15,2.91,42,2.97,5.3,4,0.32,0.75,39,4.1900000000000004,4.8899999999999997,17,1.3,1.89,10,1.1200000000000001,1.2,4,0.32,0.75,20,2.06,2.23,null,null,null,null,null,null,null,null,null,null,null,null,null,null,null,null,null,null,null,null,null,null,null,null,null,null,null,null,null,null,null,null,{"$error":"#N/A"}]
[null,null,10,1.1200000000000001,1.2,null,null,0,0,null,null,null,null,null,null,null,null,null,null,null,16.420000000000002,50,0,12.46,50,0,null,null,null,-3.4407811548736369,-0.10469325628593218,-2.624080608781425,1.5085269212457759,null,{"$error":"#DIV/0!"},{"$error":"#DIV/0!"},{"$error":"#DIV/0!"},{"$error":"#DIV/0!"},null,42,42,"","",null,1.1600000000000001,7.9999999999999849E-2,null,1.1600000000000001,7.9999999999999849E-2,null,0.32,0.75,22,2.75,2.4,42,2.97,5.3,4,0.32,0.75,13,1.24,1.7,20,2.06,2.23,9,0.6,1.18,46,5.9,6.1,34,3.4,4,43,3.79,5.65,37,3.7,4.2,31,1.56,3.71,42,2.97,5.3,17,1.3,1.89,18,1.32,2,18,1.32,2,11,0.91,1.3,36,2.2799999999999998,4.0999999999999996,11,0.91,1.3,32,2.83,3.77,32,2.83,3.77,3,0.46,0.7,35,2.83,4.0199999999999996,7,0.4,1.05,4,0.32,0.75,36,2.2799999999999998,4.0999999999999996,22,2.75,2.4,42,2.97,5.3,43,3.79,5.65,12,2.16,1.6,17,1.3,1.89,46,5.9,6.1,22,2.75,2.4,25,3.68,2.88,28,2.8,3.4,43,3.79,5.65,31,1.56,3.71,27,4.01,3,23,1.1499999999999999,2.5,17,1.3,1.89,21,1.83,2.3199999999999998,36,2.2799999999999998,4.0999999999999996,36,2.2799999999999998,4.0999999999999996,17,1.3,1.89,5,0.32,0.91,30,3.4,3.7,11,0.91,1.3,3,0.46,0.7,9,0.6,1.18,1,0.22,0.51,4,0.32,0.75,49,3.94,6.8,23,1.1499999999999999,2.5,3,0.46,0.7,38,3.61,4.7,38,3.61,4.7,46,5.9,6.1,4,0.32,0.75,42,2.97,5.3,19,1.33,2.06,42,2.97,5.3,32,2.83,3.77,11,0.91,1.3,2,0.22,0.56000000000000005,37,3.7,4.2,28,2.8,3.4,4,0.32,0.75,11,0.91,1.3,20,2.06,2.23,46,5.9,6.1,40,5.16,4.92,31,1.56,3.71,42,2.97,5.3,3,0.46,0.7,51,20,15,9,0.6,1.18,15,1.3,1.8,30,3.4,3.7,31,1.56,3.71,6,0.38,0.96,17,1.3,1.89,16,1.58,1.83,39,4.1900000000000004,4.8899999999999997,46,5.9,6.1,35,2.83,4.0199999999999996,16,1.58,1.83,43,3.79,5.65,11,0.91,1.3,21,1.83,2.3199999999999998,47,2.34,6.2,26,2.15,2.91,1,0.22,0.51,38,3.61,4.7,38,3.61,4.7,33,4.28,3.99,27,4.01,3,11,0.91,1.3,29,2.4,3.5,20,2.06,2.23,11,0.91,1.3,30,3.4,3.7,27,4.01,3,8,1.68,1.1299999999999999,39,4.1900000000000004,4.8899999999999997,46,5.9,6.1,47,2.34,6.2,30,3.4,3.7,7,0.4,1.05,21,1.83,2.3199999999999998,17,1.3,1.89,29,2.4,3.5,28,2.8,3.4,33,4.28,3.99,30,3.4,3.7,12,2.16,1.6,23,1.1499999999999999,2.5,18,1.32,2,41,5.95,5.0999999999999996,51,20,15,28,2.8,3.4,29,2.4,3.5,14,1.1599999999999999,1.72,25,3.68,2.88,40,5.16,4.92,29,2.4,3.5,30,3.4,3.7,32,2.83,3.77,20,2.06,2.23,44,3.4,5.8,31,1.56,3.71,27,4.01,3,42,2.97,5.3,12,2.16,1.6,19,1.33,2.06,30,3.4,3.7,40,5.16,4.92,34,3.4,4,13,1.24,1.7,24,1.7,2.8,11,0.91,1.3,24,1.7,2.8,41,5.95,5.0999999999999996,3,0.46,0.7,17,1.3,1.89,7,0.4,1.05,44,3.4,5.8,26,2.15,2.91,31,1.56,3.71,23,1.1499999999999999,2.5,26,2.15,2.91,10,1.1200000000000001,1.2,37,3.7,4.2,22,2.75,2.4,5,0.32,0.91,40,5.16,4.92,34,3.4,4,17,1.3,1.89,10,1.1200000000000001,1.2,8,1.68,1.1299999999999999,32,2.83,3.77,36,2.2799999999999998,4.0999999999999996,32,2.83,3.77,23,1.1499999999999999,2.5,2,0.22,0.56000000000000005,14,1.1599999999999999,1.72,24,1.7,2.8,4,0.32,0.75,33,4.28,3.99,6,0.38,0.96,4,0.32,0.75,34,3.4,4,20,2.06,2.23,23,1.1499999999999999,2.5,1,0.22,0.51,6,0.38,0.96,25,3.68,2.88,41,5.95,5.0999999999999996,6,0.38,0.96,30,3.4,3.7,20,2.06,2.23,50,4.5,6.8,24,1.7,2.8,23,1.1499999999999999,2.5,40,5.16,4.92,49,3.94,6.8,21,1.83,2.3199999999999998,19,1.33,2.06,34,3.4,4,1,0.22,0.51,27,4.01,3,12,2.16,1.6,11,0.91,1.3,36,2.2799999999999998,4.0999999999999996,32,2.83,3.77,9,0.6,1.18,45,5.2,5.8,39,4.1900000000000004,4.8899999999999997,41,5.95,5.0999999999999996,31,1.56,3.71,20,2.06,2.23,11,0.91,1.3,20,2.06,2.23,8,1.68,1.1299999999999999,36,2.2799999999999998,4.0999999999999996,18,1.32,2,49,3.94,6.8,37,3.7,4.2,1,0.22,0.51,33,4.28,3.99,19,1.33,2.06,23,1.1499999999999999,2.5,40,5.16,4.92,47,2.34,6.2,35,2.83,4.0199999999999996,39,4.1900000000000004,4.8899999999999997,36,2.2799999999999998,4.0999999999999996,8,1.68,1.1299999999999999,12,2.16,1.6,13,1.24,1.7,39,4.1900000000000004,4.8899999999999997,33,4.28,3.99,30,3.4,3.7,44,3.4,5.8,8,1.68,1.1299999999999999,46,5.9,6.1,31,1.56,3.71,36,2.2799999999999998,4.0999999999999996,17,1.3,1.89,34,3.4,4,19,1.33,2.06,9,0.6,1.18,51,20,15,1,0.22,0.51,10,1.1200000000000001,1.2,48,7.1,6.2,6,0.38,0.96,9,0.6,1.18,33,4.28,3.99,45,5.2,5.8,45,5.2,5.8,34,3.4,4,31,1.56,3.71,7,0.4,1.05,40,5.16,4.92,15,1.3,1.8,6,0.38,0.96,6,0.38,0.96,25,3.68,2.88,2,0.22,0.56000000000000005,27,4.01,3,23,1.1499999999999999,2.5,50,4.5,6.8,9,0.6,1.18,21,1.83,2.3199999999999998,2,0.22,0.56000000000000005,24,1.7,2.8,13,1.24,1.7,30,3.4,3.7,1,0.22,0.51,20,2.06,2.23,1,0.22,0.51,9,0.6,1.18,41,5.95,5.0999999999999996,24,1.7,2.8,24,1.7,2.8,24,1.7,2.8,2,0.22,0.56000000000000005,33,4.28,3.99,47,2.34,6.2,4,0.32,0.75,30,3.4,3.7,7,0.4,1.05,45,5.2,5.8,42,2.97,5.3,31,1.56,3.71,20,2.06,2.23,4,0.32,0.75,40,5.16,4.92,26,2.15,2.91,7,0.4,1.05,30,3.4,3.7,15,1.3,1.8,48,7.1,6.2,16,1.58,1.83,33,4.28,3.99,48,7.1,6.2,39,4.1900000000000004,4.8899999999999997,7,0.4,1.05,40,5.16,4.92,29,2.4,3.5,8,1.68,1.1299999999999999,3,0.46,0.7,39,4.1900000000000004,4.8899999999999997,11,0.91,1.3,25,3.68,2.88,40,5.16,4.92,32,2.83,3.77,13,1.24,1.7,22,2.75,2.4,14,1.1599999999999999,1.72,31,1.56,3.71,13,1.24,1.7,43,3.79,5.65,38,3.61,4.7,13,1.24,1.7,2,0.22,0.56000000000000005,46,5.9,6.1,32,2.83,3.77,16,1.58,1.83,36,2.2799999999999998,4.0999999999999996,50,4.5,6.8,33,4.28,3.99,42,2.97,5.3,29,2.4,3.5,37,3.7,4.2,39,4.1900000000000004,4.8899999999999997,2,0.22,0.56000000000000005,12,2.16,1.6,3,0.46,0.7,9,0.6,1.18,25,3.68,2.88,26,2.15,2.91,4,0.32,0.75,18,1.32,2,49,3.94,6.8,26,2.15,2.91,11,0.91,1.3,50,4.5,6.8,22,2.75,2.4,26,2.15,2.91,6,0.38,0.96,2,0.22,0.56000000000000005,11,0.91,1.3,8,1.68,1.1299999999999999,33,4.28,3.99,36,2.2799999999999998,4.0999999999999996,41,5.95,5.0999999999999996,12,2.16,1.6,50,4.5,6.8,24,1.7,2.8,49,3.94,6.8,44,3.4,5.8,25,3.68,2.88,1,0.22,0.51,37,3.7,4.2,17,1.3,1.89,42,2.97,5.3,17,1.3,1.89,18,1.32,2,13,1.24,1.7,45,5.2,5.8,30,3.4,3.7,20,2.06,2.23,23,1.1499999999999999,2.5,42,2.97,5.3,13,1.24,1.7,29,2.4,3.5,1,0.22,0.51,51,20,15,2,0.22,0.56000000000000005,48,7.1,6.2,14,1.1599999999999999,1.72,5,0.32,0.91,46,5.9,6.1,38,3.61,4.7,41,5.95,5.0999999999999996,51,20,15,2,0.22,0.56000000000000005,27,4.01,3,22,2.75,2.4,44,3.4,5.8,48,7.1,6.2,2,0.22,0.56000000000000005,13,1.24,1.7,2,0.22,0.56000000000000005,13,1.24,1.7,16,1.58,1.83,30,3.4,3.7,11,0.91,1.3,51,20,15,31,1.56,3.71,1,0.22,0.51,14,1.1599999999999999,1.72,18,1.32,2,23,1.1499999999999999,2.5,20,2.06,2.23,18,1.32,2,39,4.1900000000000004,4.8899999999999997,31,1.56,3.71,40,5.16,4.92,43,3.79,5.65,49,3.94,6.8,5,0.32,0.91,26,2.15,2.91,20,2.06,2.23,45,5.2,5.8,10,1.1200000000000001,1.2,9,0.6,1.18,47,2.34,6.2,38,3.61,4.7,22,2.75,2.4,31,1.56,3.71,27,4.01,3,51,20,15,27,4.01,3,45,5.2,5.8,33,4.28,3.99,19,1.33,2.06,29,2.4,3.5,16,1.58,1.83,46,5.9,6.1,40,5.16,4.92,40,5.16,4.92,27,4.01,3,10,1.1200000000000001,1.2,24,1.7,2.8,35,2.83,4.0199999999999996,16,1.58,1.83,35,2.83,4.0199999999999996,46,5.9,6.1,4,0.32,0.75,40,5.16,4.92,37,3.7,4.2,38,3.61,4.7,48,7.1,6.2,13,1.24,1.7,51,20,15,50,4.5,6.8,30,3.4,3.7,15,1.3,1.8,19,1.33,2.06,41,5.95,5.0999999999999996,25,3.68,2.88,39,4.1900000000000004,4.8899999999999997,1,0.22,0.51,35,2.83,4.0199999999999996,24,1.7,2.8,38,3.61,4.7,16,1.58,1.83,17,1.3,1.89,25,3.68,2.88,28,2.8,3.4,46,5.9,6.1,35,2.83,4.0199999999999996,44,3.4,5.8,39,4.1900000000000004,4.8899999999999997,35,2.83,4.0199999999999996,49,3.94,6.8,5,0.32,0.91,11,0.91,1.3,41,5.95,5.0999999999999996,32,2.83,3.77,49,3.94,6.8,1,0.22,0.51,34,3.4,4,20,2.06,2.23,24,1.7,2.8,24,1.7,2.8,45,5.2,5.8,9,0.6,1.18,45,5.2,5.8,8,1.68,1.1299999999999999,20,2.06,2.23,12,2.16,1.6,38,3.61,4.7,47,2.34,6.2,15,1.3,1.8,50,4.5,6.8,42,2.97,5.3,43,3.79,5.65,1,0.22,0.51,8,1.68,1.1299999999999999,5,0.32,0.91,13,1.24,1.7,10,1.1200000000000001,1.2,36,2.2799999999999998,4.0999999999999996,46,5.9,6.1,38,3.61,4.7,37,3.7,4.2,42,2.97,5.3,35,2.83,4.0199999999999996,6,0.38,0.96,38,3.61,4.7,50,4.5,6.8,14,1.1599999999999999,1.72,25,3.68,2.88,33,4.28,3.99,46,5.9,6.1,34,3.4,4,9,0.6,1.18,4,0.32,0.75,25,3.68,2.88,6,0.38,0.96,38,3.61,4.7,48,7.1,6.2,1,0.22,0.51,9,0.6,1.18,3,0.46,0.7,20,2.06,2.23,46,5.9,6.1,30,3.4,3.7,10,1.1200000000000001,1.2,null,null,null,null,null,null,null,null,null,null,null,null,null,null,null,null,null,null,null,null,null,null,null,null,null,null,null,null,null,null,null,null,{"$error":"#N/A"}]
[null,null,11,0.91,1.3,null,null,0,0,null,"統計項目",null,"結  果",null,null,null,null,null,null,null,18.220000000000002,50,0,13.780000000000001,50,0,null,null,null,-3.3441416861259579,2.5404485364419083E-2,-2.6074973648756874,1.5764956977143199,null,{"$error":"#DIV/0!"},{"$error":"#DIV/0!"},{"$error":"#DIV/0!"},{"$error":"#DIV/0!"},null,43,41,"","",null,1.105,0.39,null,1.105,0.39,null,0.32,0.91,51,20,15,19,1.33,2.06,41,5.95,5.0999999999999996,44,3.4,5.8,14,1.1599999999999999,1.72,41,5.95,5.0999999999999996,19,1.33,2.06,27,4.01,3,48,7.1,6.2,25,3.68,2.88,10,1.1200000000000001,1.2,41,5.95,5.0999999999999996,14,1.1599999999999999,1.72,37,3.7,4.2,33,4.28,3.99,8,1.68,1.1299999999999999,38,3.61,4.7,5,0.32,0.91,17,1.3,1.89,13,1.24,1.7,6,0.38,0.96,22,2.75,2.4,8,1.68,1.1299999999999999,3,0.46,0.7,21,1.83,2.3199999999999998,39,4.1900000000000004,4.8899999999999997,12,2.16,1.6,39,4.1900000000000004,4.8899999999999997,44,3.4,5.8,22,2.75,2.4,48,7.1,6.2,40,5.16,4.92,50,4.5,6.8,51,20,15,46,5.9,6.1,43,3.79,5.65,27,4.01,3,14,1.1599999999999999,1.72,1,0.22,0.51,44,3.4,5.8,25,3.68,2.88,16,1.58,1.83,21,1.83,2.3199999999999998,1,0.22,0.51,8,1.68,1.1299999999999999,24,1.7,2.8,23,1.1499999999999999,2.5,40,5.16,4.92,50,4.5,6.8,14,1.1599999999999999,1.72,40,5.16,4.92,43,3.79,5.65,39,4.1900000000000004,4.8899999999999997,29,2.4,3.5,13,1.24,1.7,7,0.4,1.05,24,1.7,2.8,20,2.06,2.23,1,0.22,0.51,43,3.79,5.65,20,2.06,2.23,5,0.32,0.91,23,1.1499999999999999,2.5,21,1.83,2.3199999999999998,51,20,15,11,0.91,1.3,9,0.6,1.18,27,4.01,3,3,0.46,0.7,29,2.4,3.5,4,0.32,0.75,8,1.68,1.1299999999999999,30,3.4,3.7,13,1.24,1.7,15,1.3,1.8,24,1.7,2.8,42,2.97,5.3,28,2.8,3.4,9,0.6,1.18,46,5.9,6.1,14,1.1599999999999999,1.72,2,0.22,0.56000000000000005,19,1.33,2.06,8,1.68,1.1299999999999999,35,2.83,4.0199999999999996,28,2.8,3.4,39,4.1900000000000004,4.8899999999999997,9,0.6,1.18,4,0.32,0.75,7,0.4,1.05,24,1.7,2.8,7,0.4,1.05,36,2.2799999999999998,4.0999999999999996,5,0.32,0.91,45,5.2,5.8,26,2.15,2.91,2,0.22,0.56000000000000005,2,0.22,0.56000000000000005,31,1.56,3.71,49,3.94,6.8,45,5.2,5.8,37,3.7,4.2,28,2.8,3.4,22,2.75,2.4,10,1.1200000000000001,1.2,14,1.1599999999999999,1.72,42,2.97,5.3,7,0.4,1.05,14,1.1599999999999999,1.72,50,4.5,6.8,41,5.95,5.0999999999999996,25,3.68,2.88,30,3.4,3.7,21,1.83,2.3199999999999998,7,0.4,1.05,10,1.1200000000000001,1.2,46,5.9,6.1,19,1.33,2.06,35,2.83,4.0199999999999996,10,1.1200000000000001,1.2,11,0.91,1.3,49,3.94,6.8,30,3.4,3.7,34,3.4,4,40,5.16,4.92,23,1.1499999999999999,2.5,11,0.91,1.3,4,0.32,0.75,7,0.4,1.05,23,1.1499999999999999,2.5,10,1.1200000000000001,1.2,5,0.32,0.91,50,4.5,6.8,38,3.61,4.7,22,2.75,2.4,35,2.83,4.0199999999999996,18,1.32,2,21,1.83,2.3199999999999998,1,0.22,0.51,1,0.22,0.51,26,2.15,2.91,39,4.1900000000000004,4.8899999999999997,18,1.32,2,28,2.8,3.4,48,7.1,6.2,19,1.33,2.06,3,0.46,0.7,48,7.1,6.2,20,2.06,2.23,3,0.46,0.7,1,0.22,0.51,9,0.6,1.18,45,5.2,5.8,45,5.2,5.8,18,1.32,2,21,1.83,2.3199999999999998,34,3.4,4,8,1.68,1.1299999999999999,24,1.7,2.8,6,0.38,0.96,13,1.24,1.7,23,1.1499999999999999,2.5,49,3.94,6.8,49,3.94,6.8,19,1.33,2.06,30,3.4,3.7,36,2.2799999999999998,4.0999999999999996,46,5.9,6.1,3,0.46,0.7,32,2.83,3.77,44,3.4,5.8,6,0.38,0.96,27,4.01,3,45,5.2,5.8,41,5.95,5.0999999999999996,3,0.46,0.7,17,1.3,1.89,48,7.1,6.2,7,0.4,1.05,22,2.75,2.4,9,0.6,1.18,30,3.4,3.7,39,4.1900000000000004,4.8899999999999997,7,0.4,1.05,5,0.32,0.91,46,5.9,6.1,41,5.95,5.0999999999999996,20,2.06,2.23,17,1.3,1.89,11,0.91,1.3,32,2.83,3.77,32,2.83,3.77,21,1.83,2.3199999999999998,3,0.46,0.7,44,3.4,5.8,28,2.8,3.4,3,0.46,0.7,15,1.3,1.8,21,1.83,2.3199999999999998,5,0.32,0.91,14,1.1599999999999999,1.72,49,3.94,6.8,20,2.06,2.23,23,1.1499999999999999,2.5,18,1.32,2,19,1.33,2.06,8,1.68,1.1299999999999999,4,0.32,0.75,38,3.61,4.7,5,0.32,0.91,19,1.33,2.06,32,2.83,3.77,13,1.24,1.7,49,3.94,6.8,47,2.34,6.2,3,0.46,0.7,43,3.79,5.65,1,0.22,0.51,45,5.2,5.8,30,3.4,3.7,40,5.16,4.92,31,1.56,3.71,35,2.83,4.0199999999999996,32,2.83,3.77,30,3.4,3.7,14,1.1599999999999999,1.72,48,7.1,6.2,44,3.4,5.8,1,0.22,0.51,43,3.79,5.65,26,2.15,2.91,14,1.1599999999999999,1.72,2,0.22,0.56000000000000005,19,1.33,2.06,28,2.8,3.4,1,0.22,0.51,48,7.1,6.2,10,1.1200000000000001,1.2,22,2.75,2.4,28,2.8,3.4,11,0.91,1.3,44,3.4,5.8,40,5.16,4.92,28,2.8,3.4,31,1.56,3.71,9,0.6,1.18,24,1.7,2.8,49,3.94,6.8,6,0.38,0.96,13,1.24,1.7,33,4.28,3.99,51,20,15,1,0.22,0.51,18,1.32,2,34,3.4,4,4,0.32,0.75,42,2.97,5.3,4,0.32,0.75,9,0.6,1.18,46,5.9,6.1,13,1.24,1.7,12,2.16,1.6,2,0.22,0.56000000000000005,21,1.83,2.3199999999999998,17,1.3,1.89,46,5.9,6.1,20,2.06,2.23,40,5.16,4.92,16,1.58,1.83,18,1.32,2,32,2.83,3.77,25,3.68,2.88,36,2.2799999999999998,4.0999999999999996,11,0.91,1.3,18,1.32,2,10,1.1200000000000001,1.2,12,2.16,1.6,13,1.24,1.7,23,1.1499999999999999,2.5,43,3.79,5.65,48,7.1,6.2,29,2.4,3.5,3,0.46,0.7,33,4.28,3.99,3,0.46,0.7,23,1.1499999999999999,2.5,28,2.8,3.4,1,0.22,0.51,4,0.32,0.75,25,3.68,2.88,29,2.4,3.5,34,3.4,4,40,5.16,4.92,25,3.68,2.88,49,3.94,6.8,27,4.01,3,9,0.6,1.18,26,2.15,2.91,45,5.2,5.8,40,5.16,4.92,25,3.68,2.88,45,5.2,5.8,36,2.2799999999999998,4.0999999999999996,46,5.9,6.1,12,2.16,1.6,8,1.68,1.1299999999999999,3,0.46,0.7,29,2.4,3.5,8,1.68,1.1299999999999999,9,0.6,1.18,42,2.97,5.3,35,2.83,4.0199999999999996,15,1.3,1.8,50,4.5,6.8,7,0.4,1.05,26,2.15,2.91,44,3.4,5.8,46,5.9,6.1,18,1.32,2,21,1.83,2.3199999999999998,19,1.33,2.06,25,3.68,2.88,6,0.38,0.96,7,0.4,1.05,31,1.56,3.71,29,2.4,3.5,15,1.3,1.8,31,1.56,3.71,27,4.01,3,11,0.91,1.3,2,0.22,0.56000000000000005,1,0.22,0.51,22,2.75,2.4,38,3.61,4.7,36,2.2799999999999998,4.0999999999999996,41,5.95,5.0999999999999996,40,5.16,4.92,36,2.2799999999999998,4.0999999999999996,48,7.1,6.2,33,4.28,3.99,19,1.33,2.06,48,7.1,6.2,32,2.83,3.77,26,2.15,2.91,9,0.6,1.18,25,3.68,2.88,44,3.4,5.8,30,3.4,3.7,23,1.1499999999999999,2.5,35,2.83,4.0199999999999996,3,0.46,0.7,15,1.3,1.8,36,2.2799999999999998,4.0999999999999996,4,0.32,0.75,42,2.97,5.3,18,1.32,2,36,2.2799999999999998,4.0999999999999996,26,2.15,2.91,2,0.22,0.56000000000000005,34,3.4,4,22,2.75,2.4,2,0.22,0.56000000000000005,44,3.4,5.8,23,1.1499999999999999,2.5,8,1.68,1.1299999999999999,49,3.94,6.8,32,2.83,3.77,8,1.68,1.1299999999999999,20,2.06,2.23,44,3.4,5.8,51,20,15,24,1.7,2.8,44,3.4,5.8,28,2.8,3.4,42,2.97,5.3,16,1.58,1.83,30,3.4,3.7,5,0.32,0.91,13,1.24,1.7,45,5.2,5.8,42,2.97,5.3,42,2.97,5.3,34,3.4,4,33,4.28,3.99,4,0.32,0.75,14,1.1599999999999999,1.72,36,2.2799999999999998,4.0999999999999996,14,1.1599999999999999,1.72,5,0.32,0.91,15,1.3,1.8,11,0.91,1.3,36,2.2799999999999998,4.0999999999999996,45,5.2,5.8,48,7.1,6.2,17,1.3,1.89,7,0.4,1.05,35,2.83,4.0199999999999996,26,2.15,2.91,23,1.1499999999999999,2.5,51,20,15,1,0.22,0.51,31,1.56,3.71,10,1.1200000000000001,1.2,51,20,15,33,4.28,3.99,1,0.22,0.51,22,2.75,2.4,4,0.32,0.75,28,2.8,3.4,41,5.95,5.0999999999999996,16,1.58,1.83,21,1.83,2.3199999999999998,50,4.5,6.8,16,1.58,1.83,10,1.1200000000000001,1.2,24,1.7,2.8,24,1.7,2.8,4,0.32,0.75,37,3.7,4.2,47,2.34,6.2,39,4.1900000000000004,4.8899999999999997,48,7.1,6.2,39,4.1900000000000004,4.8899999999999997,36,2.2799999999999998,4.0999999999999996,43,3.79,5.65,48,7.1,6.2,24,1.7,2.8,1,0.22,0.51,51,20,15,22,2.75,2.4,9,0.6,1.18,16,1.58,1.83,35,2.83,4.0199999999999996,48,7.1,6.2,28,2.8,3.4,13,1.24,1.7,36,2.2799999999999998,4.0999999999999996,16,1.58,1.83,24,1.7,2.8,42,2.97,5.3,2,0.22,0.56000000000000005,31,1.56,3.71,2,0.22,0.56000000000000005,9,0.6,1.18,48,7.1,6.2,7,0.4,1.05,33,4.28,3.99,39,4.1900000000000004,4.8899999999999997,47,2.34,6.2,24,1.7,2.8,47,2.34,6.2,15,1.3,1.8,37,3.7,4.2,21,1.83,2.3199999999999998,38,3.61,4.7,35,2.83,4.0199999999999996,18,1.32,2,2,0.22,0.56000000000000005,13,1.24,1.7,7,0.4,1.05,4,0.32,0.75,35,2.83,4.0199999999999996,42,2.97,5.3,5,0.32,0.91,20,2.06,2.23,45,5.2,5.8,4,0.32,0.75,12,2.16,1.6,3,0.46,0.7,24,1.7,2.8,46,5.9,6.1,27,4.01,3,3,0.46,0.7,26,2.15,2.91,21,1.83,2.3199999999999998,8,1.68,1.1299999999999999,34,3.4,4,16,1.58,1.83,50,4.5,6.8,27,4.01,3,20,2.06,2.23,23,1.1499999999999999,2.5,14,1.1599999999999999,1.72,19,1.33,2.06,49,3.94,6.8,38,3.61,4.7,7,0.4,1.05,32,2.83,3.77,20,2.06,2.23,13,1.24,1.7,37,3.7,4.2,24,1.7,2.8,49,3.94,6.8,15,1.3,1.8,19,1.33,2.06,18,1.32,2,7,0.4,1.05,22,2.75,2.4,39,4.1900000000000004,4.8899999999999997,48,7.1,6.2,35,2.83,4.0199999999999996,null,null,null,null,null,null,null,null,null,null,null,null,null,null,null,null,null,null,null,null,null,null,null,null,null,null,null,null,null,null,null,null,{"$error":"#N/A"}]
[null,null,12,2.16,1.6,null,null,0,0,null,"相関係数(ﾋﾟｱｿﾝ)：=CORREL(セル範囲) ",null,null,{"$f":"CORREL($D5:$D1304,E5:E1304)","v":0.90881901619607541},null,{"$f":"CORREL($F5:$F1304,G5:G1304)","v":{"$error":"#DIV/0!"}},null,null,null,null,20.020000000000003,51,1,15.100000000000001,51,1,null,null,null,-3.2475022173782788,0.15232727201813434,-2.5877391659733124,1.6406623553213666,null,{"$error":"#DIV/0!"},{"$error":"#DIV/0!"},{"$error":"#DIV/0!"},{"$error":"#DIV/0!"},null,27,40,"","",null,1.8800000000000001,-0.56000000000000005,null,1.8800000000000001,-0.56000000000000005,null,0.38,0.96,24,1.7,2.8,48,7.1,6.2,19,1.33,2.06,32,2.83,3.77,6,0.38,0.96,6,0.38,0.96,19,1.33,2.06,47,2.34,6.2,7,0.4,1.05,6,0.38,0.96,12,2.16,1.6,46,5.9,6.1,40,5.16,4.92,51,20,15,40,5.16,4.92,13,1.24,1.7,27,4.01,3,2,0.22,0.56000000000000005,7,0.4,1.05,45,5.2,5.8,5,0.32,0.91,41,5.95,5.0999999999999996,35,2.83,4.0199999999999996,50,4.5,6.8,27,4.01,3,5,0.32,0.91,2,0.22,0.56000000000000005,50,4.5,6.8,51,20,15,49,3.94,6.8,2,0.22,0.56000000000000005,27,4.01,3,2,0.22,0.56000000000000005,36,2.2799999999999998,4.0999999999999996,41,5.95,5.0999999999999996,30,3.4,3.7,19,1.33,2.06,44,3.4,5.8,36,2.2799999999999998,4.0999999999999996,16,1.58,1.83,51,20,15,13,1.24,1.7,18,1.32,2,7,0.4,1.05,7,0.4,1.05,47,2.34,6.2,31,1.56,3.71,37,3.7,4.2,15,1.3,1.8,8,1.68,1.1299999999999999,30,3.4,3.7,51,20,15,10,1.1200000000000001,1.2,27,4.01,3,33,4.28,3.99,8,1.68,1.1299999999999999,42,2.97,5.3,43,3.79,5.65,21,1.83,2.3199999999999998,31,1.56,3.71,22,2.75,2.4,6,0.38,0.96,38,3.61,4.7,2,0.22,0.56000000000000005,26,2.15,2.91,35,2.83,4.0199999999999996,38,3.61,4.7,19,1.33,2.06,40,5.16,4.92,4,0.32,0.75,40,5.16,4.92,40,5.16,4.92,13,1.24,1.7,5,0.32,0.91,25,3.68,2.88,35,2.83,4.0199999999999996,7,0.4,1.05,41,5.95,5.0999999999999996,36,2.2799999999999998,4.0999999999999996,39,4.1900000000000004,4.8899999999999997,48,7.1,6.2,25,3.68,2.88,27,4.01,3,49,3.94,6.8,21,1.83,2.3199999999999998,37,3.7,4.2,19,1.33,2.06,21,1.83,2.3199999999999998,27,4.01,3,14,1.1599999999999999,1.72,41,5.95,5.0999999999999996,30,3.4,3.7,26,2.15,2.91,11,0.91,1.3,37,3.7,4.2,7,0.4,1.05,44,3.4,5.8,44,3.4,5.8,11,0.91,1.3,51,20,15,17,1.3,1.89,37,3.7,4.2,33,4.28,3.99,17,1.3,1.89,46,5.9,6.1,33,4.28,3.99,33,4.28,3.99,29,2.4,3.5,40,5.16,4.92,33,4.28,3.99,3,0.46,0.7,21,1.83,2.3199999999999998,26,2.15,2.91,1,0.22,0.51,1,0.22,0.51,38,3.61,4.7,40,5.16,4.92,18,1.32,2,44,3.4,5.8,39,4.1900000000000004,4.8899999999999997,31,1.56,3.71,22,2.75,2.4,12,2.16,1.6,46,5.9,6.1,12,2.16,1.6,15,1.3,1.8,49,3.94,6.8,41,5.95,5.0999999999999996,6,0.38,0.96,13,1.24,1.7,10,1.1200000000000001,1.2,23,1.1499999999999999,2.5,1,0.22,0.51,43,3.79,5.65,14,1.1599999999999999,1.72,49,3.94,6.8,48,7.1,6.2,45,5.2,5.8,42,2.97,5.3,41,5.95,5.0999999999999996,4,0.32,0.75,22,2.75,2.4,35,2.83,4.0199999999999996,32,2.83,3.77,49,3.94,6.8,39,4.1900000000000004,4.8899999999999997,51,20,15,18,1.32,2,15,1.3,1.8,23,1.1499999999999999,2.5,6,0.38,0.96,10,1.1200000000000001,1.2,5,0.32,0.91,14,1.1599999999999999,1.72,34,3.4,4,27,4.01,3,30,3.4,3.7,16,1.58,1.83,25,3.68,2.88,4,0.32,0.75,14,1.1599999999999999,1.72,43,3.79,5.65,36,2.2799999999999998,4.0999999999999996,37,3.7,4.2,44,3.4,5.8,21,1.83,2.3199999999999998,34,3.4,4,35,2.83,4.0199999999999996,19,1.33,2.06,43,3.79,5.65,1,0.22,0.51,18,1.32,2,1,0.22,0.51,9,0.6,1.18,30,3.4,3.7,21,1.83,2.3199999999999998,15,1.3,1.8,37,3.7,4.2,27,4.01,3,41,5.95,5.0999999999999996,49,3.94,6.8,51,20,15,8,1.68,1.1299999999999999,35,2.83,4.0199999999999996,50,4.5,6.8,43,3.79,5.65,6,0.38,0.96,26,2.15,2.91,31,1.56,3.71,15,1.3,1.8,14,1.1599999999999999,1.72,46,5.9,6.1,16,1.58,1.83,33,4.28,3.99,37,3.7,4.2,43,3.79,5.65,43,3.79,5.65,23,1.1499999999999999,2.5,43,3.79,5.65,24,1.7,2.8,10,1.1200000000000001,1.2,26,2.15,2.91,12,2.16,1.6,12,2.16,1.6,30,3.4,3.7,45,5.2,5.8,39,4.1900000000000004,4.8899999999999997,41,5.95,5.0999999999999996,28,2.8,3.4,44,3.4,5.8,28,2.8,3.4,5,0.32,0.91,39,4.1900000000000004,4.8899999999999997,1,0.22,0.51,49,3.94,6.8,14,1.1599999999999999,1.72,13,1.24,1.7,6,0.38,0.96,30,3.4,3.7,41,5.95,5.0999999999999996,13,1.24,1.7,12,2.16,1.6,17,1.3,1.89,17,1.3,1.89,13,1.24,1.7,33,4.28,3.99,14,1.1599999999999999,1.72,40,5.16,4.92,50,4.5,6.8,48,7.1,6.2,40,5.16,4.92,18,1.32,2,21,1.83,2.3199999999999998,45,5.2,5.8,24,1.7,2.8,23,1.1499999999999999,2.5,42,2.97,5.3,28,2.8,3.4,11,0.91,1.3,39,4.1900000000000004,4.8899999999999997,34,3.4,4,12,2.16,1.6,6,0.38,0.96,10,1.1200000000000001,1.2,36,2.2799999999999998,4.0999999999999996,24,1.7,2.8,27,4.01,3,49,3.94,6.8,47,2.34,6.2,5,0.32,0.91,5,0.32,0.91,22,2.75,2.4,28,2.8,3.4,6,0.38,0.96,33,4.28,3.99,17,1.3,1.89,4,0.32,0.75,44,3.4,5.8,17,1.3,1.89,29,2.4,3.5,12,2.16,1.6,45,5.2,5.8,25,3.68,2.88,16,1.58,1.83,2,0.22,0.56000000000000005,49,3.94,6.8,37,3.7,4.2,51,20,15,35,2.83,4.0199999999999996,9,0.6,1.18,47,2.34,6.2,16,1.58,1.83,36,2.2799999999999998,4.0999999999999996,41,5.95,5.0999999999999996,9,0.6,1.18,8,1.68,1.1299999999999999,41,5.95,5.0999999999999996,21,1.83,2.3199999999999998,45,5.2,5.8,36,2.2799999999999998,4.0999999999999996,51,20,15,39,4.1900000000000004,4.8899999999999997,31,1.56,3.71,21,1.83,2.3199999999999998,25,3.68,2.88,49,3.94,6.8,13,1.24,1.7,47,2.34,6.2,41,5.95,5.0999999999999996,15,1.3,1.8,47,2.34,6.2,9,0.6,1.18,34,3.4,4,15,1.3,1.8,49,3.94,6.8,18,1.32,2,2,0.22,0.56000000000000005,39,4.1900000000000004,4.8899999999999997,51,20,15,45,5.2,5.8,11,0.91,1.3,38,3.61,4.7,46,5.9,6.1,22,2.75,2.4,32,2.83,3.77,30,3.4,3.7,39,4.1900000000000004,4.8899999999999997,47,2.34,6.2,2,0.22,0.56000000000000005,40,5.16,4.92,50,4.5,6.8,28,2.8,3.4,23,1.1499999999999999,2.5,8,1.68,1.1299999999999999,7,0.4,1.05,36,2.2799999999999998,4.0999999999999996,4,0.32,0.75,40,5.16,4.92,6,0.38,0.96,5,0.32,0.91,22,2.75,2.4,47,2.34,6.2,1,0.22,0.51,32,2.83,3.77,11,0.91,1.3,7,0.4,1.05,10,1.1200000000000001,1.2,25,3.68,2.88,23,1.1499999999999999,2.5,13,1.24,1.7,15,1.3,1.8,5,0.32,0.91,19,1.33,2.06,15,1.3,1.8,8,1.68,1.1299999999999999,7,0.4,1.05,23,1.1499999999999999,2.5,29,2.4,3.5,45,5.2,5.8,27,4.01,3,22,2.75,2.4,32,2.83,3.77,44,3.4,5.8,23,1.1499999999999999,2.5,16,1.58,1.83,13,1.24,1.7,36,2.2799999999999998,4.0999999999999996,17,1.3,1.89,16,1.58,1.83,28,2.8,3.4,13,1.24,1.7,43,3.79,5.65,48,7.1,6.2,39,4.1900000000000004,4.8899999999999997,32,2.83,3.77,46,5.9,6.1,47,2.34,6.2,23,1.1499999999999999,2.5,11,0.91,1.3,35,2.83,4.0199999999999996,13,1.24,1.7,23,1.1499999999999999,2.5,31,1.56,3.71,33,4.28,3.99,9,0.6,1.18,40,5.16,4.92,34,3.4,4,22,2.75,2.4,8,1.68,1.1299999999999999,38,3.61,4.7,26,2.15,2.91,50,4.5,6.8,49,3.94,6.8,47,2.34,6.2,26,2.15,2.91,23,1.1499999999999999,2.5,28,2.8,3.4,3,0.46,0.7,14,1.1599999999999999,1.72,15,1.3,1.8,10,1.1200000000000001,1.2,13,1.24,1.7,33,4.28,3.99,9,0.6,1.18,18,1.32,2,41,5.95,5.0999999999999996,40,5.16,4.92,51,20,15,39,4.1900000000000004,4.8899999999999997,12,2.16,1.6,51,20,15,50,4.5,6.8,23,1.1499999999999999,2.5,18,1.32,2,48,7.1,6.2,27,4.01,3,32,2.83,3.77,12,2.16,1.6,23,1.1499999999999999,2.5,16,1.58,1.83,39,4.1900000000000004,4.8899999999999997,8,1.68,1.1299999999999999,34,3.4,4,13,1.24,1.7,32,2.83,3.77,34,3.4,4,48,7.1,6.2,27,4.01,3,10,1.1200000000000001,1.2,30,3.4,3.7,44,3.4,5.8,30,3.4,3.7,36,2.2799999999999998,4.0999999999999996,48,7.1,6.2,17,1.3,1.89,4,0.32,0.75,33,4.28,3.99,3,0.46,0.7,22,2.75,2.4,48,7.1,6.2,39,4.1900000000000004,4.8899999999999997,24,1.7,2.8,28,2.8,3.4,18,1.32,2,2,0.22,0.56000000000000005,50,4.5,6.8,15,1.3,1.8,38,3.61,4.7,36,2.2799999999999998,4.0999999999999996,33,4.28,3.99,26,2.15,2.91,39,4.1900000000000004,4.8899999999999997,14,1.1599999999999999,1.72,38,3.61,4.7,17,1.3,1.89,18,1.32,2,23,1.1499999999999999,2.5,45,5.2,5.8,6,0.38,0.96,36,2.2799999999999998,4.0999999999999996,12,2.16,1.6,41,5.95,5.0999999999999996,24,1.7,2.8,11,0.91,1.3,45,5.2,5.8,29,2.4,3.5,14,1.1599999999999999,1.72,30,3.4,3.7,43,3.79,5.65,26,2.15,2.91,32,2.83,3.77,37,3.7,4.2,46,5.9,6.1,8,1.68,1.1299999999999999,45,5.2,5.8,41,5.95,5.0999999999999996,1,0.22,0.51,15,1.3,1.8,34,3.4,4,14,1.1599999999999999,1.72,23,1.1499999999999999,2.5,51,20,15,43,3.79,5.65,41,5.95,5.0999999999999996,34,3.4,4,29,2.4,3.5,27,4.01,3,15,1.3,1.8,21,1.83,2.3199999999999998,28,2.8,3.4,4,0.32,0.75,48,7.1,6.2,34,3.4,4,37,3.7,4.2,6,0.38,0.96,9,0.6,1.18,35,2.83,4.0199999999999996,9,0.6,1.18,25,3.68,2.88,34,3.4,4,48,7.1,6.2,9,0.6,1.18,16,1.58,1.83,17,1.3,1.89,10,1.1200000000000001,1.2,15,1.3,1.8,50,4.5,6.8,18,1.32,2,21,1.83,2.3199999999999998,17,1.3,1.89,3,0.46,0.7,8,1.68,1.1299999999999999,42,2.97,5.3,16,1.58,1.83,23,1.1499999999999999,2.5,21,1.83,2.3199999999999998,49,3.94,6.8,30,3.4,3.7,12,2.16,1.6,3,0.46,0.7,26,2.15,2.91,null,null,null,null,null,null,null,null,null,null,null,null,null,null,null,null,null,null,null,null,null,null,null,null,null,null,null,null,null,null,null,null,{"$error":"#N/A"}]
[null,null,13,1.24,1.7,null,null,0,0,null,"Spearmanの相関係数",null,null,{"$f":"AP4","v":0.89776535482312902},null,{"$f":"AQ4","v":{"$error":"#DIV/0!"}},null,null,null,null,21.820000000000004,51,0,16.420000000000002,51,0,null,null,null,-3.1508627486305998,0.27643435811941275,-2.5651652665185019,1.7014571137392638,null,{"$error":"#DIV/0!"},{"$error":"#DIV/0!"},{"$error":"#DIV/0!"},{"$error":"#DIV/0!"},null,39,39,"","",null,1.47,0.45999999999999996,null,1.47,0.45999999999999996,null,0.4,1.05,34,3.4,4,42,2.97,5.3,30,3.4,3.7,37,3.7,4.2,16,1.58,1.83,42,2.97,5.3,16,1.58,1.83,3,0.46,0.7,8,1.68,1.1299999999999999,34,3.4,4,43,3.79,5.65,32,2.83,3.77,23,1.1499999999999999,2.5,11,0.91,1.3,28,2.8,3.4,21,1.83,2.3199999999999998,38,3.61,4.7,28,2.8,3.4,7,0.4,1.05,33,4.28,3.99,43,3.79,5.65,2,0.22,0.56000000000000005,25,3.68,2.88,41,5.95,5.0999999999999996,38,3.61,4.7,14,1.1599999999999999,1.72,40,5.16,4.92,30,3.4,3.7,39,4.1900000000000004,4.8899999999999997,6,0.38,0.96,21,1.83,2.3199999999999998,50,4.5,6.8,22,2.75,2.4,32,2.83,3.77,2,0.22,0.56000000000000005,11,0.91,1.3,26,2.15,2.91,9,0.6,1.18,30,3.4,3.7,38,3.61,4.7,3,0.46,0.7,19,1.33,2.06,11,0.91,1.3,15,1.3,1.8,18,1.32,2,2,0.22,0.56000000000000005,16,1.58,1.83,44,3.4,5.8,47,2.34,6.2,15,1.3,1.8,28,2.8,3.4,33,4.28,3.99,29,2.4,3.5,24,1.7,2.8,44,3.4,5.8,6,0.38,0.96,16,1.58,1.83,9,0.6,1.18,19,1.33,2.06,1,0.22,0.51,23,1.1499999999999999,2.5,13,1.24,1.7,26,2.15,2.91,15,1.3,1.8,26,2.15,2.91,41,5.95,5.0999999999999996,48,7.1,6.2,10,1.1200000000000001,1.2,14,1.1599999999999999,1.72,9,0.6,1.18,28,2.8,3.4,9,0.6,1.18,40,5.16,4.92,49,3.94,6.8,26,2.15,2.91,50,4.5,6.8,16,1.58,1.83,51,20,15,13,1.24,1.7,28,2.8,3.4,21,1.83,2.3199999999999998,21,1.83,2.3199999999999998,21,1.83,2.3199999999999998,7,0.4,1.05,44,3.4,5.8,27,4.01,3,47,2.34,6.2,10,1.1200000000000001,1.2,36,2.2799999999999998,4.0999999999999996,49,3.94,6.8,46,5.9,6.1,23,1.1499999999999999,2.5,10,1.1200000000000001,1.2,27,4.01,3,41,5.95,5.0999999999999996,44,3.4,5.8,46,5.9,6.1,19,1.33,2.06,13,1.24,1.7,35,2.83,4.0199999999999996,31,1.56,3.71,41,5.95,5.0999999999999996,10,1.1200000000000001,1.2,20,2.06,2.23,17,1.3,1.89,22,2.75,2.4,39,4.1900000000000004,4.8899999999999997,34,3.4,4,18,1.32,2,5,0.32,0.91,20,2.06,2.23,26,2.15,2.91,12,2.16,1.6,47,2.34,6.2,37,3.7,4.2,7,0.4,1.05,37,3.7,4.2,11,0.91,1.3,34,3.4,4,1,0.22,0.51,46,5.9,6.1,31,1.56,3.71,19,1.33,2.06,45,5.2,5.8,1,0.22,0.51,48,7.1,6.2,14,1.1599999999999999,1.72,36,2.2799999999999998,4.0999999999999996,32,2.83,3.77,16,1.58,1.83,2,0.22,0.56000000000000005,35,2.83,4.0199999999999996,26,2.15,2.91,2,0.22,0.56000000000000005,28,2.8,3.4,17,1.3,1.89,35,2.83,4.0199999999999996,39,4.1900000000000004,4.8899999999999997,49,3.94,6.8,18,1.32,2,23,1.1499999999999999,2.5,16,1.58,1.83,37,3.7,4.2,36,2.2799999999999998,4.0999999999999996,18,1.32,2,40,5.16,4.92,23,1.1499999999999999,2.5,32,2.83,3.77,8,1.68,1.1299999999999999,27,4.01,3,5,0.32,0.91,30,3.4,3.7,47,2.34,6.2,8,1.68,1.1299999999999999,40,5.16,4.92,16,1.58,1.83,46,5.9,6.1,24,1.7,2.8,49,3.94,6.8,40,5.16,4.92,34,3.4,4,32,2.83,3.77,13,1.24,1.7,10,1.1200000000000001,1.2,49,3.94,6.8,47,2.34,6.2,29,2.4,3.5,2,0.22,0.56000000000000005,44,3.4,5.8,51,20,15,5,0.32,0.91,2,0.22,0.56000000000000005,32,2.83,3.77,34,3.4,4,12,2.16,1.6,8,1.68,1.1299999999999999,41,5.95,5.0999999999999996,2,0.22,0.56000000000000005,33,4.28,3.99,32,2.83,3.77,8,1.68,1.1299999999999999,24,1.7,2.8,12,2.16,1.6,47,2.34,6.2,38,3.61,4.7,29,2.4,3.5,8,1.68,1.1299999999999999,39,4.1900000000000004,4.8899999999999997,44,3.4,5.8,7,0.4,1.05,42,2.97,5.3,6,0.38,0.96,51,20,15,16,1.58,1.83,46,5.9,6.1,10,1.1200000000000001,1.2,51,20,15,22,2.75,2.4,15,1.3,1.8,25,3.68,2.88,43,3.79,5.65,5,0.32,0.91,9,0.6,1.18,37,3.7,4.2,44,3.4,5.8,8,1.68,1.1299999999999999,48,7.1,6.2,44,3.4,5.8,28,2.8,3.4,35,2.83,4.0199999999999996,14,1.1599999999999999,1.72,7,0.4,1.05,37,3.7,4.2,3,0.46,0.7,2,0.22,0.56000000000000005,51,20,15,20,2.06,2.23,44,3.4,5.8,23,1.1499999999999999,2.5,10,1.1200000000000001,1.2,45,5.2,5.8,48,7.1,6.2,45,5.2,5.8,35,2.83,4.0199999999999996,34,3.4,4,20,2.06,2.23,51,20,15,36,2.2799999999999998,4.0999999999999996,30,3.4,3.7,29,2.4,3.5,37,3.7,4.2,36,2.2799999999999998,4.0999999999999996,33,4.28,3.99,4,0.32,0.75,10,1.1200000000000001,1.2,22,2.75,2.4,8,1.68,1.1299999999999999,39,4.1900000000000004,4.8899999999999997,43,3.79,5.65,43,3.79,5.65,32,2.83,3.77,36,2.2799999999999998,4.0999999999999996,17,1.3,1.89,8,1.68,1.1299999999999999,43,3.79,5.65,13,1.24,1.7,29,2.4,3.5,43,3.79,5.65,44,3.4,5.8,1,0.22,0.51,35,2.83,4.0199999999999996,33,4.28,3.99,49,3.94,6.8,44,3.4,5.8,6,0.38,0.96,27,4.01,3,33,4.28,3.99,43,3.79,5.65,27,4.01,3,37,3.7,4.2,38,3.61,4.7,18,1.32,2,42,2.97,5.3,35,2.83,4.0199999999999996,14,1.1599999999999999,1.72,48,7.1,6.2,8,1.68,1.1299999999999999,7,0.4,1.05,27,4.01,3,25,3.68,2.88,48,7.1,6.2,3,0.46,0.7,1,0.22,0.51,5,0.32,0.91,43,3.79,5.65,34,3.4,4,28,2.8,3.4,4,0.32,0.75,39,4.1900000000000004,4.8899999999999997,23,1.1499999999999999,2.5,8,1.68,1.1299999999999999,4,0.32,0.75,44,3.4,5.8,5,0.32,0.91,5,0.32,0.91,46,5.9,6.1,29,2.4,3.5,32,2.83,3.77,49,3.94,6.8,35,2.83,4.0199999999999996,26,2.15,2.91,12,2.16,1.6,25,3.68,2.88,38,3.61,4.7,32,2.83,3.77,20,2.06,2.23,37,3.7,4.2,35,2.83,4.0199999999999996,3,0.46,0.7,43,3.79,5.65,49,3.94,6.8,18,1.32,2,12,2.16,1.6,27,4.01,3,37,3.7,4.2,44,3.4,5.8,40,5.16,4.92,35,2.83,4.0199999999999996,41,5.95,5.0999999999999996,28,2.8,3.4,34,3.4,4,40,5.16,4.92,13,1.24,1.7,51,20,15,50,4.5,6.8,29,2.4,3.5,16,1.58,1.83,5,0.32,0.91,10,1.1200000000000001,1.2,50,4.5,6.8,29,2.4,3.5,46,5.9,6.1,48,7.1,6.2,13,1.24,1.7,40,5.16,4.92,39,4.1900000000000004,4.8899999999999997,6,0.38,0.96,44,3.4,5.8,50,4.5,6.8,15,1.3,1.8,46,5.9,6.1,28,2.8,3.4,23,1.1499999999999999,2.5,18,1.32,2,36,2.2799999999999998,4.0999999999999996,13,1.24,1.7,38,3.61,4.7,1,0.22,0.51,9,0.6,1.18,11,0.91,1.3,33,4.28,3.99,33,4.28,3.99,13,1.24,1.7,45,5.2,5.8,8,1.68,1.1299999999999999,42,2.97,5.3,3,0.46,0.7,1,0.22,0.51,31,1.56,3.71,20,2.06,2.23,1,0.22,0.51,30,3.4,3.7,26,2.15,2.91,25,3.68,2.88,41,5.95,5.0999999999999996,40,5.16,4.92,33,4.28,3.99,21,1.83,2.3199999999999998,15,1.3,1.8,5,0.32,0.91,3,0.46,0.7,41,5.95,5.0999999999999996,35,2.83,4.0199999999999996,13,1.24,1.7,1,0.22,0.51,24,1.7,2.8,19,1.33,2.06,12,2.16,1.6,4,0.32,0.75,28,2.8,3.4,1,0.22,0.51,12,2.16,1.6,2,0.22,0.56000000000000005,18,1.32,2,27,4.01,3,38,3.61,4.7,46,5.9,6.1,26,2.15,2.91,3,0.46,0.7,25,3.68,2.88,49,3.94,6.8,43,3.79,5.65,2,0.22,0.56000000000000005,22,2.75,2.4,38,3.61,4.7,23,1.1499999999999999,2.5,5,0.32,0.91,41,5.95,5.0999999999999996,3,0.46,0.7,36,2.2799999999999998,4.0999999999999996,9,0.6,1.18,4,0.32,0.75,48,7.1,6.2,9,0.6,1.18,21,1.83,2.3199999999999998,50,4.5,6.8,33,4.28,3.99,37,3.7,4.2,12,2.16,1.6,24,1.7,2.8,38,3.61,4.7,23,1.1499999999999999,2.5,15,1.3,1.8,39,4.1900000000000004,4.8899999999999997,51,20,15,36,2.2799999999999998,4.0999999999999996,25,3.68,2.88,18,1.32,2,22,2.75,2.4,4,0.32,0.75,51,20,15,49,3.94,6.8,19,1.33,2.06,21,1.83,2.3199999999999998,12,2.16,1.6,28,2.8,3.4,16,1.58,1.83,41,5.95,5.0999999999999996,43,3.79,5.65,18,1.32,2,3,0.46,0.7,31,1.56,3.71,38,3.61,4.7,42,2.97,5.3,33,4.28,3.99,22,2.75,2.4,4,0.32,0.75,35,2.83,4.0199999999999996,18,1.32,2,6,0.38,0.96,14,1.1599999999999999,1.72,48,7.1,6.2,36,2.2799999999999998,4.0999999999999996,38,3.61,4.7,51,20,15,41,5.95,5.0999999999999996,27,4.01,3,35,2.83,4.0199999999999996,8,1.68,1.1299999999999999,37,3.7,4.2,41,5.95,5.0999999999999996,26,2.15,2.91,46,5.9,6.1,22,2.75,2.4,43,3.79,5.65,5,0.32,0.91,32,2.83,3.77,47,2.34,6.2,10,1.1200000000000001,1.2,27,4.01,3,1,0.22,0.51,19,1.33,2.06,32,2.83,3.77,8,1.68,1.1299999999999999,51,20,15,16,1.58,1.83,9,0.6,1.18,29,2.4,3.5,35,2.83,4.0199999999999996,21,1.83,2.3199999999999998,6,0.38,0.96,32,2.83,3.77,27,4.01,3,35,2.83,4.0199999999999996,51,20,15,21,1.83,2.3199999999999998,8,1.68,1.1299999999999999,17,1.3,1.89,31,1.56,3.71,15,1.3,1.8,26,2.15,2.91,43,3.79,5.65,50,4.5,6.8,43,3.79,5.65,37,3.7,4.2,46,5.9,6.1,20,2.06,2.23,47,2.34,6.2,11,0.91,1.3,27,4.01,3,20,2.06,2.23,32,2.83,3.77,33,4.28,3.99,47,2.34,6.2,38,3.61,4.7,16,1.58,1.83,48,7.1,6.2,28,2.8,3.4,26,2.15,2.91,30,3.4,3.7,12,2.16,1.6,8,1.68,1.1299999999999999,48,7.1,6.2,13,1.24,1.7,49,3.94,6.8,35,2.83,4.0199999999999996,31,1.56,3.71,23,1.1499999999999999,2.5,39,4.1900000000000004,4.8899999999999997,19,1.33,2.06,14,1.1599999999999999,1.72,null,null,null,null,null,null,null,null,null,null,null,null,null,null,null,null,null,null,null,null,null,null,null,null,null,null,null,null,null,null,null,null,{"$error":"#N/A"}]
[null,null,14,1.1599999999999999,1.72,null,null,0,0,null,"傾　　き:=SLOPE(既知のy, 既知のx)",null,null,{"$f":"SLOPE(E5:E1304,$D5:$D1304)","v":0.7589082776265369},null,{"$f":"SLOPE(G5:G1304,$F5:$F1304)","v":{"$error":"#DIV/0!"}},null,null,null,null,23.620000000000005,51,0,17.740000000000002,51,0,null,null,null,-3.0542232798829207,0.39801768426678774,-2.5400676071097874,1.7592295819726407,null,{"$error":"#DIV/0!"},{"$error":"#DIV/0!"},{"$error":"#DIV/0!"},{"$error":"#DIV/0!"},null,40,38,"","",null,1.44,0.56000000000000005,null,1.44,0.56000000000000005,null,1.68,1.1299999999999999,39,4.1900000000000004,4.8899999999999997,43,3.79,5.65,28,2.8,3.4,35,2.83,4.0199999999999996,1,0.22,0.51,12,2.16,1.6,7,0.4,1.05,5,0.32,0.91,41,5.95,5.0999999999999996,7,0.4,1.05,21,1.83,2.3199999999999998,43,3.79,5.65,13,1.24,1.7,50,4.5,6.8,7,0.4,1.05,51,20,15,39,4.1900000000000004,4.8899999999999997,26,2.15,2.91,17,1.3,1.89,45,5.2,5.8,50,4.5,6.8,33,4.28,3.99,14,1.1599999999999999,1.72,4,0.32,0.75,40,5.16,4.92,32,2.83,3.77,25,3.68,2.88,22,2.75,2.4,17,1.3,1.89,45,5.2,5.8,37,3.7,4.2,1,0.22,0.51,1,0.22,0.51,7,0.4,1.05,2,0.22,0.56000000000000005,9,0.6,1.18,26,2.15,2.91,17,1.3,1.89,33,4.28,3.99,25,3.68,2.88,33,4.28,3.99,36,2.2799999999999998,4.0999999999999996,6,0.38,0.96,39,4.1900000000000004,4.8899999999999997,32,2.83,3.77,35,2.83,4.0199999999999996,10,1.1200000000000001,1.2,6,0.38,0.96,41,5.95,5.0999999999999996,50,4.5,6.8,46,5.9,6.1,44,3.4,5.8,43,3.79,5.65,28,2.8,3.4,26,2.15,2.91,29,2.4,3.5,33,4.28,3.99,32,2.83,3.77,27,4.01,3,5,0.32,0.91,18,1.32,2,32,2.83,3.77,39,4.1900000000000004,4.8899999999999997,26,2.15,2.91,18,1.32,2,15,1.3,1.8,9,0.6,1.18,8,1.68,1.1299999999999999,14,1.1599999999999999,1.72,28,2.8,3.4,5,0.32,0.91,31,1.56,3.71,2,0.22,0.56000000000000005,32,2.83,3.77,51,20,15,35,2.83,4.0199999999999996,40,5.16,4.92,50,4.5,6.8,35,2.83,4.0199999999999996,24,1.7,2.8,46,5.9,6.1,16,1.58,1.83,7,0.4,1.05,17,1.3,1.89,2,0.22,0.56000000000000005,29,2.4,3.5,34,3.4,4,41,5.95,5.0999999999999996,4,0.32,0.75,50,4.5,6.8,39,4.1900000000000004,4.8899999999999997,39,4.1900000000000004,4.8899999999999997,9,0.6,1.18,50,4.5,6.8,10,1.1200000000000001,1.2,13,1.24,1.7,37,3.7,4.2,15,1.3,1.8,1,0.22,0.51,32,2.83,3.77,18,1.32,2,45,5.2,5.8,23,1.1499999999999999,2.5,23,1.1499999999999999,2.5,50,4.5,6.8,47,2.34,6.2,3,0.46,0.7,30,3.4,3.7,38,3.61,4.7,46,5.9,6.1,30,3.4,3.7,4,0.32,0.75,2,0.22,0.56000000000000005,26,2.15,2.91,3,0.46,0.7,15,1.3,1.8,26,2.15,2.91,36,2.2799999999999998,4.0999999999999996,38,3.61,4.7,40,5.16,4.92,2,0.22,0.56000000000000005,36,2.2799999999999998,4.0999999999999996,8,1.68,1.1299999999999999,20,2.06,2.23,40,5.16,4.92,49,3.94,6.8,4,0.32,0.75,11,0.91,1.3,7,0.4,1.05,9,0.6,1.18,27,4.01,3,29,2.4,3.5,38,3.61,4.7,16,1.58,1.83,38,3.61,4.7,2,0.22,0.56000000000000005,25,3.68,2.88,30,3.4,3.7,15,1.3,1.8,24,1.7,2.8,27,4.01,3,22,2.75,2.4,47,2.34,6.2,47,2.34,6.2,12,2.16,1.6,29,2.4,3.5,33,4.28,3.99,37,3.7,4.2,15,1.3,1.8,49,3.94,6.8,38,3.61,4.7,25,3.68,2.88,29,2.4,3.5,41,5.95,5.0999999999999996,37,3.7,4.2,2,0.22,0.56000000000000005,10,1.1200000000000001,1.2,28,2.8,3.4,19,1.33,2.06,22,2.75,2.4,31,1.56,3.71,47,2.34,6.2,36,2.2799999999999998,4.0999999999999996,1,0.22,0.51,21,1.83,2.3199999999999998,45,5.2,5.8,50,4.5,6.8,19,1.33,2.06,27,4.01,3,31,1.56,3.71,36,2.2799999999999998,4.0999999999999996,17,1.3,1.89,4,0.32,0.75,29,2.4,3.5,35,2.83,4.0199999999999996,51,20,15,25,3.68,2.88,25,3.68,2.88,47,2.34,6.2,34,3.4,4,19,1.33,2.06,16,1.58,1.83,35,2.83,4.0199999999999996,48,7.1,6.2,32,2.83,3.77,13,1.24,1.7,25,3.68,2.88,33,4.28,3.99,22,2.75,2.4,38,3.61,4.7,5,0.32,0.91,45,5.2,5.8,7,0.4,1.05,27,4.01,3,28,2.8,3.4,48,7.1,6.2,20,2.06,2.23,28,2.8,3.4,6,0.38,0.96,23,1.1499999999999999,2.5,6,0.38,0.96,50,4.5,6.8,15,1.3,1.8,11,0.91,1.3,23,1.1499999999999999,2.5,17,1.3,1.89,45,5.2,5.8,16,1.58,1.83,40,5.16,4.92,14,1.1599999999999999,1.72,44,3.4,5.8,5,0.32,0.91,38,3.61,4.7,40,5.16,4.92,27,4.01,3,7,0.4,1.05,13,1.24,1.7,3,0.46,0.7,21,1.83,2.3199999999999998,13,1.24,1.7,23,1.1499999999999999,2.5,29,2.4,3.5,13,1.24,1.7,29,2.4,3.5,36,2.2799999999999998,4.0999999999999996,51,20,15,5,0.32,0.91,19,1.33,2.06,35,2.83,4.0199999999999996,16,1.58,1.83,10,1.1200000000000001,1.2,13,1.24,1.7,14,1.1599999999999999,1.72,38,3.61,4.7,3,0.46,0.7,3,0.46,0.7,32,2.83,3.77,36,2.2799999999999998,4.0999999999999996,25,3.68,2.88,44,3.4,5.8,7,0.4,1.05,48,7.1,6.2,25,3.68,2.88,51,20,15,22,2.75,2.4,19,1.33,2.06,16,1.58,1.83,3,0.46,0.7,22,2.75,2.4,13,1.24,1.7,26,2.15,2.91,44,3.4,5.8,13,1.24,1.7,51,20,15,42,2.97,5.3,25,3.68,2.88,17,1.3,1.89,17,1.3,1.89,15,1.3,1.8,14,1.1599999999999999,1.72,13,1.24,1.7,11,0.91,1.3,9,0.6,1.18,41,5.95,5.0999999999999996,50,4.5,6.8,43,3.79,5.65,51,20,15,46,5.9,6.1,30,3.4,3.7,35,2.83,4.0199999999999996,27,4.01,3,34,3.4,4,27,4.01,3,23,1.1499999999999999,2.5,40,5.16,4.92,21,1.83,2.3199999999999998,21,1.83,2.3199999999999998,4,0.32,0.75,1,0.22,0.51,37,3.7,4.2,8,1.68,1.1299999999999999,40,5.16,4.92,40,5.16,4.92,23,1.1499999999999999,2.5,45,5.2,5.8,2,0.22,0.56000000000000005,43,3.79,5.65,33,4.28,3.99,51,20,15,27,4.01,3,9,0.6,1.18,34,3.4,4,7,0.4,1.05,11,0.91,1.3,5,0.32,0.91,4,0.32,0.75,11,0.91,1.3,16,1.58,1.83,6,0.38,0.96,37,3.7,4.2,19,1.33,2.06,15,1.3,1.8,51,20,15,35,2.83,4.0199999999999996,50,4.5,6.8,42,2.97,5.3,38,3.61,4.7,15,1.3,1.8,36,2.2799999999999998,4.0999999999999996,46,5.9,6.1,34,3.4,4,6,0.38,0.96,22,2.75,2.4,36,2.2799999999999998,4.0999999999999996,12,2.16,1.6,1,0.22,0.51,15,1.3,1.8,35,2.83,4.0199999999999996,13,1.24,1.7,2,0.22,0.56000000000000005,37,3.7,4.2,30,3.4,3.7,38,3.61,4.7,28,2.8,3.4,17,1.3,1.89,17,1.3,1.89,49,3.94,6.8,5,0.32,0.91,1,0.22,0.51,8,1.68,1.1299999999999999,21,1.83,2.3199999999999998,28,2.8,3.4,48,7.1,6.2,26,2.15,2.91,45,5.2,5.8,49,3.94,6.8,24,1.7,2.8,3,0.46,0.7,20,2.06,2.23,34,3.4,4,15,1.3,1.8,42,2.97,5.3,11,0.91,1.3,14,1.1599999999999999,1.72,13,1.24,1.7,49,3.94,6.8,44,3.4,5.8,29,2.4,3.5,27,4.01,3,49,3.94,6.8,6,0.38,0.96,35,2.83,4.0199999999999996,25,3.68,2.88,26,2.15,2.91,50,4.5,6.8,47,2.34,6.2,42,2.97,5.3,29,2.4,3.5,37,3.7,4.2,44,3.4,5.8,19,1.33,2.06,18,1.32,2,45,5.2,5.8,18,1.32,2,16,1.58,1.83,17,1.3,1.89,10,1.1200000000000001,1.2,24,1.7,2.8,2,0.22,0.56000000000000005,9,0.6,1.18,37,3.7,4.2,27,4.01,3,9,0.6,1.18,44,3.4,5.8,36,2.2799999999999998,4.0999999999999996,7,0.4,1.05,32,2.83,3.77,31,1.56,3.71,35,2.83,4.0199999999999996,6,0.38,0.96,28,2.8,3.4,43,3.79,5.65,20,2.06,2.23,29,2.4,3.5,17,1.3,1.89,15,1.3,1.8,45,5.2,5.8,40,5.16,4.92,31,1.56,3.71,47,2.34,6.2,22,2.75,2.4,19,1.33,2.06,14,1.1599999999999999,1.72,47,2.34,6.2,27,4.01,3,7,0.4,1.05,25,3.68,2.88,39,4.1900000000000004,4.8899999999999997,48,7.1,6.2,11,0.91,1.3,32,2.83,3.77,7,0.4,1.05,37,3.7,4.2,45,5.2,5.8,18,1.32,2,1,0.22,0.51,6,0.38,0.96,39,4.1900000000000004,4.8899999999999997,28,2.8,3.4,30,3.4,3.7,34,3.4,4,34,3.4,4,19,1.33,2.06,17,1.3,1.89,5,0.32,0.91,34,3.4,4,10,1.1200000000000001,1.2,48,7.1,6.2,24,1.7,2.8,6,0.38,0.96,35,2.83,4.0199999999999996,20,2.06,2.23,3,0.46,0.7,31,1.56,3.71,37,3.7,4.2,44,3.4,5.8,17,1.3,1.89,47,2.34,6.2,23,1.1499999999999999,2.5,41,5.95,5.0999999999999996,6,0.38,0.96,10,1.1200000000000001,1.2,15,1.3,1.8,49,3.94,6.8,20,2.06,2.23,37,3.7,4.2,43,3.79,5.65,14,1.1599999999999999,1.72,23,1.1499999999999999,2.5,6,0.38,0.96,2,0.22,0.56000000000000005,49,3.94,6.8,42,2.97,5.3,10,1.1200000000000001,1.2,51,20,15,23,1.1499999999999999,2.5,12,2.16,1.6,1,0.22,0.51,7,0.4,1.05,23,1.1499999999999999,2.5,38,3.61,4.7,49,3.94,6.8,4,0.32,0.75,49,3.94,6.8,31,1.56,3.71,29,2.4,3.5,37,3.7,4.2,7,0.4,1.05,17,1.3,1.89,36,2.2799999999999998,4.0999999999999996,12,2.16,1.6,24,1.7,2.8,36,2.2799999999999998,4.0999999999999996,21,1.83,2.3199999999999998,50,4.5,6.8,34,3.4,4,38,3.61,4.7,3,0.46,0.7,32,2.83,3.77,34,3.4,4,37,3.7,4.2,11,0.91,1.3,3,0.46,0.7,34,3.4,4,7,0.4,1.05,36,2.2799999999999998,4.0999999999999996,22,2.75,2.4,8,1.68,1.1299999999999999,40,5.16,4.92,32,2.83,3.77,6,0.38,0.96,43,3.79,5.65,35,2.83,4.0199999999999996,15,1.3,1.8,39,4.1900000000000004,4.8899999999999997,33,4.28,3.99,4,0.32,0.75,15,1.3,1.8,14,1.1599999999999999,1.72,41,5.95,5.0999999999999996,26,2.15,2.91,23,1.1499999999999999,2.5,41,5.95,5.0999999999999996,39,4.1900000000000004,4.8899999999999997,37,3.7,4.2,45,5.2,5.8,38,3.61,4.7,11,0.91,1.3,40,5.16,4.92,45,5.2,5.8,37,3.7,4.2,null,null,null,null,null,null,null,null,null,null,null,null,null,null,null,null,null,null,null,null,null,null,null,null,null,null,null,null,null,null,null,null,{"$error":"#N/A"}]
[null,null,15,1.3,1.8,null,null,0,0,null,"切　片：=INTERCEPT(既知のy, 既知のx)",null,null,{"$f":"INTERCEPT(E5:E1304,$D5:$D1304)","v":1.2468503674013198},null,{"$f":"INTERCEPT(G5:G1304,$F5:$F1304)","v":{"$error":"#DIV/0!"}},null,null,null,null,null,null,null,null,null,null,null,null,null,-2.9575838111352417,0.51731836490094552,-2.5126873021878557,1.8142685029371246,null,{"$error":"#DIV/0!"},{"$error":"#DIV/0!"},{"$error":"#DIV/0!"},{"$error":"#DIV/0!"},null,37,37,"","",null,1.55,0.5,null,1.55,0.5,null,0.6,1.18,9,0.6,1.18,22,2.75,2.4,25,3.68,2.88,38,3.61,4.7,36,2.2799999999999998,4.0999999999999996,8,1.68,1.1299999999999999,23,1.1499999999999999,2.5,15,1.3,1.8,25,3.68,2.88,9,0.6,1.18,10,1.1200000000000001,1.2,35,2.83,4.0199999999999996,4,0.32,0.75,7,0.4,1.05,18,1.32,2,35,2.83,4.0199999999999996,16,1.58,1.83,46,5.9,6.1,47,2.34,6.2,14,1.1599999999999999,1.72,13,1.24,1.7,32,2.83,3.77,3,0.46,0.7,36,2.2799999999999998,4.0999999999999996,10,1.1200000000000001,1.2,34,3.4,4,11,0.91,1.3,26,2.15,2.91,37,3.7,4.2,34,3.4,4,4,0.32,0.75,21,1.83,2.3199999999999998,34,3.4,4,25,3.68,2.88,30,3.4,3.7,22,2.75,2.4,3,0.46,0.7,13,1.24,1.7,49,3.94,6.8,42,2.97,5.3,13,1.24,1.7,20,2.06,2.23,31,1.56,3.71,4,0.32,0.75,40,5.16,4.92,24,1.7,2.8,11,0.91,1.3,50,4.5,6.8,24,1.7,2.8,21,1.83,2.3199999999999998,39,4.1900000000000004,4.8899999999999997,25,3.68,2.88,21,1.83,2.3199999999999998,16,1.58,1.83,21,1.83,2.3199999999999998,45,5.2,5.8,45,5.2,5.8,30,3.4,3.7,31,1.56,3.71,34,3.4,4,24,1.7,2.8,42,2.97,5.3,2,0.22,0.56000000000000005,31,1.56,3.71,51,20,15,48,7.1,6.2,34,3.4,4,34,3.4,4,27,4.01,3,2,0.22,0.56000000000000005,34,3.4,4,7,0.4,1.05,18,1.32,2,26,2.15,2.91,25,3.68,2.88,26,2.15,2.91,4,0.32,0.75,50,4.5,6.8,41,5.95,5.0999999999999996,28,2.8,3.4,25,3.68,2.88,16,1.58,1.83,29,2.4,3.5,12,2.16,1.6,34,3.4,4,34,3.4,4,50,4.5,6.8,43,3.79,5.65,47,2.34,6.2,21,1.83,2.3199999999999998,24,1.7,2.8,44,3.4,5.8,42,2.97,5.3,8,1.68,1.1299999999999999,38,3.61,4.7,4,0.32,0.75,9,0.6,1.18,41,5.95,5.0999999999999996,37,3.7,4.2,23,1.1499999999999999,2.5,4,0.32,0.75,24,1.7,2.8,31,1.56,3.71,13,1.24,1.7,41,5.95,5.0999999999999996,27,4.01,3,43,3.79,5.65,50,4.5,6.8,49,3.94,6.8,32,2.83,3.77,6,0.38,0.96,21,1.83,2.3199999999999998,17,1.3,1.89,33,4.28,3.99,18,1.32,2,27,4.01,3,1,0.22,0.51,35,2.83,4.0199999999999996,40,5.16,4.92,30,3.4,3.7,15,1.3,1.8,7,0.4,1.05,42,2.97,5.3,5,0.32,0.91,39,4.1900000000000004,4.8899999999999997,33,4.28,3.99,8,1.68,1.1299999999999999,42,2.97,5.3,11,0.91,1.3,4,0.32,0.75,38,3.61,4.7,38,3.61,4.7,37,3.7,4.2,29,2.4,3.5,39,4.1900000000000004,4.8899999999999997,7,0.4,1.05,31,1.56,3.71,24,1.7,2.8,34,3.4,4,25,3.68,2.88,23,1.1499999999999999,2.5,23,1.1499999999999999,2.5,7,0.4,1.05,28,2.8,3.4,2,0.22,0.56000000000000005,19,1.33,2.06,6,0.38,0.96,18,1.32,2,24,1.7,2.8,18,1.32,2,41,5.95,5.0999999999999996,6,0.38,0.96,1,0.22,0.51,40,5.16,4.92,32,2.83,3.77,19,1.33,2.06,15,1.3,1.8,15,1.3,1.8,15,1.3,1.8,44,3.4,5.8,4,0.32,0.75,39,4.1900000000000004,4.8899999999999997,38,3.61,4.7,30,3.4,3.7,24,1.7,2.8,16,1.58,1.83,8,1.68,1.1299999999999999,41,5.95,5.0999999999999996,39,4.1900000000000004,4.8899999999999997,17,1.3,1.89,49,3.94,6.8,1,0.22,0.51,27,4.01,3,22,2.75,2.4,45,5.2,5.8,50,4.5,6.8,30,3.4,3.7,26,2.15,2.91,43,3.79,5.65,36,2.2799999999999998,4.0999999999999996,51,20,15,35,2.83,4.0199999999999996,2,0.22,0.56000000000000005,22,2.75,2.4,5,0.32,0.91,17,1.3,1.89,47,2.34,6.2,35,2.83,4.0199999999999996,22,2.75,2.4,5,0.32,0.91,8,1.68,1.1299999999999999,9,0.6,1.18,41,5.95,5.0999999999999996,44,3.4,5.8,36,2.2799999999999998,4.0999999999999996,49,3.94,6.8,16,1.58,1.83,37,3.7,4.2,38,3.61,4.7,13,1.24,1.7,14,1.1599999999999999,1.72,4,0.32,0.75,38,3.61,4.7,30,3.4,3.7,11,0.91,1.3,29,2.4,3.5,19,1.33,2.06,36,2.2799999999999998,4.0999999999999996,51,20,15,3,0.46,0.7,28,2.8,3.4,31,1.56,3.71,33,4.28,3.99,35,2.83,4.0199999999999996,26,2.15,2.91,27,4.01,3,27,4.01,3,41,5.95,5.0999999999999996,35,2.83,4.0199999999999996,1,0.22,0.51,8,1.68,1.1299999999999999,4,0.32,0.75,38,3.61,4.7,40,5.16,4.92,20,2.06,2.23,18,1.32,2,33,4.28,3.99,44,3.4,5.8,13,1.24,1.7,41,5.95,5.0999999999999996,30,3.4,3.7,26,2.15,2.91,6,0.38,0.96,39,4.1900000000000004,4.8899999999999997,50,4.5,6.8,10,1.1200000000000001,1.2,25,3.68,2.88,44,3.4,5.8,29,2.4,3.5,36,2.2799999999999998,4.0999999999999996,12,2.16,1.6,1,0.22,0.51,12,2.16,1.6,1,0.22,0.51,20,2.06,2.23,17,1.3,1.89,10,1.1200000000000001,1.2,21,1.83,2.3199999999999998,15,1.3,1.8,9,0.6,1.18,47,2.34,6.2,20,2.06,2.23,25,3.68,2.88,11,0.91,1.3,3,0.46,0.7,35,2.83,4.0199999999999996,41,5.95,5.0999999999999996,14,1.1599999999999999,1.72,29,2.4,3.5,16,1.58,1.83,15,1.3,1.8,27,4.01,3,32,2.83,3.77,27,4.01,3,16,1.58,1.83,17,1.3,1.89,36,2.2799999999999998,4.0999999999999996,43,3.79,5.65,19,1.33,2.06,17,1.3,1.89,24,1.7,2.8,51,20,15,17,1.3,1.89,20,2.06,2.23,45,5.2,5.8,50,4.5,6.8,12,2.16,1.6,33,4.28,3.99,6,0.38,0.96,5,0.32,0.91,21,1.83,2.3199999999999998,24,1.7,2.8,32,2.83,3.77,41,5.95,5.0999999999999996,21,1.83,2.3199999999999998,25,3.68,2.88,4,0.32,0.75,44,3.4,5.8,4,0.32,0.75,31,1.56,3.71,23,1.1499999999999999,2.5,15,1.3,1.8,23,1.1499999999999999,2.5,47,2.34,6.2,46,5.9,6.1,18,1.32,2,43,3.79,5.65,42,2.97,5.3,46,5.9,6.1,26,2.15,2.91,43,3.79,5.65,49,3.94,6.8,6,0.38,0.96,29,2.4,3.5,14,1.1599999999999999,1.72,9,0.6,1.18,26,2.15,2.91,25,3.68,2.88,9,0.6,1.18,31,1.56,3.71,13,1.24,1.7,28,2.8,3.4,45,5.2,5.8,34,3.4,4,41,5.95,5.0999999999999996,12,2.16,1.6,48,7.1,6.2,48,7.1,6.2,43,3.79,5.65,17,1.3,1.89,9,0.6,1.18,17,1.3,1.89,16,1.58,1.83,41,5.95,5.0999999999999996,35,2.83,4.0199999999999996,50,4.5,6.8,21,1.83,2.3199999999999998,48,7.1,6.2,38,3.61,4.7,12,2.16,1.6,29,2.4,3.5,12,2.16,1.6,47,2.34,6.2,37,3.7,4.2,25,3.68,2.88,21,1.83,2.3199999999999998,3,0.46,0.7,18,1.32,2,5,0.32,0.91,27,4.01,3,11,0.91,1.3,13,1.24,1.7,31,1.56,3.71,40,5.16,4.92,35,2.83,4.0199999999999996,39,4.1900000000000004,4.8899999999999997,23,1.1499999999999999,2.5,37,3.7,4.2,3,0.46,0.7,28,2.8,3.4,16,1.58,1.83,4,0.32,0.75,7,0.4,1.05,25,3.68,2.88,7,0.4,1.05,44,3.4,5.8,1,0.22,0.51,35,2.83,4.0199999999999996,6,0.38,0.96,17,1.3,1.89,50,4.5,6.8,28,2.8,3.4,36,2.2799999999999998,4.0999999999999996,50,4.5,6.8,30,3.4,3.7,34,3.4,4,29,2.4,3.5,29,2.4,3.5,35,2.83,4.0199999999999996,49,3.94,6.8,34,3.4,4,5,0.32,0.91,17,1.3,1.89,28,2.8,3.4,10,1.1200000000000001,1.2,41,5.95,5.0999999999999996,43,3.79,5.65,40,5.16,4.92,29,2.4,3.5,12,2.16,1.6,40,5.16,4.92,17,1.3,1.89,26,2.15,2.91,6,0.38,0.96,49,3.94,6.8,2,0.22,0.56000000000000005,48,7.1,6.2,23,1.1499999999999999,2.5,23,1.1499999999999999,2.5,3,0.46,0.7,3,0.46,0.7,25,3.68,2.88,28,2.8,3.4,39,4.1900000000000004,4.8899999999999997,16,1.58,1.83,39,4.1900000000000004,4.8899999999999997,44,3.4,5.8,39,4.1900000000000004,4.8899999999999997,19,1.33,2.06,50,4.5,6.8,9,0.6,1.18,50,4.5,6.8,11,0.91,1.3,10,1.1200000000000001,1.2,29,2.4,3.5,25,3.68,2.88,51,20,15,32,2.83,3.77,18,1.32,2,36,2.2799999999999998,4.0999999999999996,9,0.6,1.18,40,5.16,4.92,5,0.32,0.91,13,1.24,1.7,22,2.75,2.4,22,2.75,2.4,31,1.56,3.71,51,20,15,37,3.7,4.2,29,2.4,3.5,50,4.5,6.8,5,0.32,0.91,12,2.16,1.6,23,1.1499999999999999,2.5,25,3.68,2.88,46,5.9,6.1,20,2.06,2.23,29,2.4,3.5,37,3.7,4.2,2,0.22,0.56000000000000005,47,2.34,6.2,36,2.2799999999999998,4.0999999999999996,26,2.15,2.91,20,2.06,2.23,37,3.7,4.2,42,2.97,5.3,46,5.9,6.1,6,0.38,0.96,1,0.22,0.51,11,0.91,1.3,11,0.91,1.3,28,2.8,3.4,12,2.16,1.6,19,1.33,2.06,1,0.22,0.51,18,1.32,2,4,0.32,0.75,2,0.22,0.56000000000000005,6,0.38,0.96,20,2.06,2.23,24,1.7,2.8,12,2.16,1.6,31,1.56,3.71,40,5.16,4.92,31,1.56,3.71,10,1.1200000000000001,1.2,39,4.1900000000000004,4.8899999999999997,48,7.1,6.2,49,3.94,6.8,22,2.75,2.4,10,1.1200000000000001,1.2,23,1.1499999999999999,2.5,9,0.6,1.18,36,2.2799999999999998,4.0999999999999996,35,2.83,4.0199999999999996,12,2.16,1.6,11,0.91,1.3,51,20,15,17,1.3,1.89,19,1.33,2.06,14,1.1599999999999999,1.72,31,1.56,3.71,21,1.83,2.3199999999999998,15,1.3,1.8,40,5.16,4.92,51,20,15,27,4.01,3,31,1.56,3.71,23,1.1499999999999999,2.5,47,2.34,6.2,24,1.7,2.8,9,0.6,1.18,10,1.1200000000000001,1.2,21,1.83,2.3199999999999998,17,1.3,1.89,7,0.4,1.05,12,2.16,1.6,36,2.2799999999999998,4.0999999999999996,20,2.06,2.23,45,5.2,5.8,50,4.5,6.8,16,1.58,1.83,13,1.24,1.7,2,0.22,0.56000000000000005,8,1.68,1.1299999999999999,50,4.5,6.8,37,3.7,4.2,24,1.7,2.8,34,3.4,4,36,2.2799999999999998,4.0999999999999996,43,3.79,5.65,null,null,null,null,null,null,null,null,null,null,null,null,null,null,null,null,null,null,null,null,null,null,null,null,null,null,null,null,null,null,null,null,{"$error":"#N/A"}]
[null,null,16,1.58,1.83,null,null,0,0,null,null,null,null,null,null,null,null,null,null,null,null,null,null,null,null,null,null,null,null,-2.8609443423875627,0.63453830932348088,-2.4832262610543019,1.8668156700328482,null,{"$error":"#DIV/0!"},{"$error":"#DIV/0!"},{"$error":"#DIV/0!"},{"$error":"#DIV/0!"},null,33,36,"","",null,1.7050000000000001,0.25,null,1.7050000000000001,0.25,null,1.1200000000000001,1.2,34,3.4,4,32,2.83,3.77,10,1.1200000000000001,1.2,35,2.83,4.0199999999999996,6,0.38,0.96,41,5.95,5.0999999999999996,6,0.38,0.96,31,1.56,3.71,20,2.06,2.23,31,1.56,3.71,16,1.58,1.83,30,3.4,3.7,40,5.16,4.92,9,0.6,1.18,39,4.1900000000000004,4.8899999999999997,17,1.3,1.89,42,2.97,5.3,43,3.79,5.65,31,1.56,3.71,43,3.79,5.65,16,1.58,1.83,13,1.24,1.7,14,1.1599999999999999,1.72,19,1.33,2.06,17,1.3,1.89,14,1.1599999999999999,1.72,23,1.1499999999999999,2.5,20,2.06,2.23,8,1.68,1.1299999999999999,50,4.5,6.8,3,0.46,0.7,32,2.83,3.77,17,1.3,1.89,39,4.1900000000000004,4.8899999999999997,14,1.1599999999999999,1.72,5,0.32,0.91,35,2.83,4.0199999999999996,12,2.16,1.6,26,2.15,2.91,2,0.22,0.56000000000000005,13,1.24,1.7,12,2.16,1.6,24,1.7,2.8,46,5.9,6.1,17,1.3,1.89,47,2.34,6.2,3,0.46,0.7,24,1.7,2.8,24,1.7,2.8,31,1.56,3.71,23,1.1499999999999999,2.5,36,2.2799999999999998,4.0999999999999996,25,3.68,2.88,48,7.1,6.2,5,0.32,0.91,44,3.4,5.8,21,1.83,2.3199999999999998,40,5.16,4.92,33,4.28,3.99,21,1.83,2.3199999999999998,28,2.8,3.4,12,2.16,1.6,1,0.22,0.51,5,0.32,0.91,24,1.7,2.8,33,4.28,3.99,21,1.83,2.3199999999999998,46,5.9,6.1,49,3.94,6.8,34,3.4,4,13,1.24,1.7,4,0.32,0.75,3,0.46,0.7,7,0.4,1.05,10,1.1200000000000001,1.2,6,0.38,0.96,4,0.32,0.75,9,0.6,1.18,10,1.1200000000000001,1.2,38,3.61,4.7,30,3.4,3.7,7,0.4,1.05,20,2.06,2.23,49,3.94,6.8,18,1.32,2,33,4.28,3.99,13,1.24,1.7,50,4.5,6.8,23,1.1499999999999999,2.5,29,2.4,3.5,21,1.83,2.3199999999999998,16,1.58,1.83,8,1.68,1.1299999999999999,51,20,15,42,2.97,5.3,35,2.83,4.0199999999999996,3,0.46,0.7,16,1.58,1.83,33,4.28,3.99,5,0.32,0.91,47,2.34,6.2,7,0.4,1.05,16,1.58,1.83,40,5.16,4.92,42,2.97,5.3,16,1.58,1.83,26,2.15,2.91,12,2.16,1.6,2,0.22,0.56000000000000005,49,3.94,6.8,8,1.68,1.1299999999999999,9,0.6,1.18,8,1.68,1.1299999999999999,22,2.75,2.4,21,1.83,2.3199999999999998,31,1.56,3.71,48,7.1,6.2,19,1.33,2.06,37,3.7,4.2,39,4.1900000000000004,4.8899999999999997,23,1.1499999999999999,2.5,31,1.56,3.71,39,4.1900000000000004,4.8899999999999997,6,0.38,0.96,50,4.5,6.8,15,1.3,1.8,23,1.1499999999999999,2.5,23,1.1499999999999999,2.5,5,0.32,0.91,38,3.61,4.7,49,3.94,6.8,36,2.2799999999999998,4.0999999999999996,31,1.56,3.71,31,1.56,3.71,37,3.7,4.2,7,0.4,1.05,28,2.8,3.4,38,3.61,4.7,21,1.83,2.3199999999999998,12,2.16,1.6,11,0.91,1.3,13,1.24,1.7,49,3.94,6.8,38,3.61,4.7,9,0.6,1.18,26,2.15,2.91,27,4.01,3,33,4.28,3.99,11,0.91,1.3,6,0.38,0.96,28,2.8,3.4,9,0.6,1.18,20,2.06,2.23,48,7.1,6.2,36,2.2799999999999998,4.0999999999999996,42,2.97,5.3,51,20,15,5,0.32,0.91,47,2.34,6.2,17,1.3,1.89,31,1.56,3.71,49,3.94,6.8,18,1.32,2,35,2.83,4.0199999999999996,51,20,15,6,0.38,0.96,23,1.1499999999999999,2.5,6,0.38,0.96,12,2.16,1.6,23,1.1499999999999999,2.5,45,5.2,5.8,7,0.4,1.05,30,3.4,3.7,4,0.32,0.75,30,3.4,3.7,23,1.1499999999999999,2.5,34,3.4,4,17,1.3,1.89,36,2.2799999999999998,4.0999999999999996,4,0.32,0.75,11,0.91,1.3,45,5.2,5.8,36,2.2799999999999998,4.0999999999999996,12,2.16,1.6,15,1.3,1.8,27,4.01,3,11,0.91,1.3,22,2.75,2.4,12,2.16,1.6,22,2.75,2.4,11,0.91,1.3,19,1.33,2.06,29,2.4,3.5,47,2.34,6.2,43,3.79,5.65,4,0.32,0.75,5,0.32,0.91,32,2.83,3.77,27,4.01,3,39,4.1900000000000004,4.8899999999999997,44,3.4,5.8,22,2.75,2.4,48,7.1,6.2,48,7.1,6.2,9,0.6,1.18,21,1.83,2.3199999999999998,2,0.22,0.56000000000000005,16,1.58,1.83,30,3.4,3.7,48,7.1,6.2,50,4.5,6.8,46,5.9,6.1,46,5.9,6.1,33,4.28,3.99,9,0.6,1.18,48,7.1,6.2,9,0.6,1.18,20,2.06,2.23,17,1.3,1.89,47,2.34,6.2,35,2.83,4.0199999999999996,14,1.1599999999999999,1.72,17,1.3,1.89,28,2.8,3.4,50,4.5,6.8,34,3.4,4,20,2.06,2.23,43,3.79,5.65,46,5.9,6.1,9,0.6,1.18,47,2.34,6.2,2,0.22,0.56000000000000005,23,1.1499999999999999,2.5,34,3.4,4,30,3.4,3.7,32,2.83,3.77,50,4.5,6.8,14,1.1599999999999999,1.72,17,1.3,1.89,16,1.58,1.83,51,20,15,17,1.3,1.89,17,1.3,1.89,7,0.4,1.05,16,1.58,1.83,23,1.1499999999999999,2.5,51,20,15,15,1.3,1.8,51,20,15,27,4.01,3,51,20,15,15,1.3,1.8,16,1.58,1.83,33,4.28,3.99,15,1.3,1.8,45,5.2,5.8,44,3.4,5.8,9,0.6,1.18,2,0.22,0.56000000000000005,1,0.22,0.51,21,1.83,2.3199999999999998,38,3.61,4.7,33,4.28,3.99,49,3.94,6.8,1,0.22,0.51,10,1.1200000000000001,1.2,42,2.97,5.3,10,1.1200000000000001,1.2,50,4.5,6.8,33,4.28,3.99,24,1.7,2.8,24,1.7,2.8,43,3.79,5.65,24,1.7,2.8,39,4.1900000000000004,4.8899999999999997,39,4.1900000000000004,4.8899999999999997,22,2.75,2.4,14,1.1599999999999999,1.72,7,0.4,1.05,15,1.3,1.8,39,4.1900000000000004,4.8899999999999997,47,2.34,6.2,14,1.1599999999999999,1.72,30,3.4,3.7,9,0.6,1.18,27,4.01,3,4,0.32,0.75,18,1.32,2,10,1.1200000000000001,1.2,23,1.1499999999999999,2.5,39,4.1900000000000004,4.8899999999999997,30,3.4,3.7,32,2.83,3.77,16,1.58,1.83,36,2.2799999999999998,4.0999999999999996,27,4.01,3,27,4.01,3,50,4.5,6.8,32,2.83,3.77,35,2.83,4.0199999999999996,9,0.6,1.18,28,2.8,3.4,21,1.83,2.3199999999999998,39,4.1900000000000004,4.8899999999999997,8,1.68,1.1299999999999999,20,2.06,2.23,14,1.1599999999999999,1.72,39,4.1900000000000004,4.8899999999999997,13,1.24,1.7,6,0.38,0.96,31,1.56,3.71,48,7.1,6.2,26,2.15,2.91,30,3.4,3.7,6,0.38,0.96,39,4.1900000000000004,4.8899999999999997,12,2.16,1.6,48,7.1,6.2,36,2.2799999999999998,4.0999999999999996,49,3.94,6.8,50,4.5,6.8,26,2.15,2.91,29,2.4,3.5,28,2.8,3.4,28,2.8,3.4,47,2.34,6.2,5,0.32,0.91,38,3.61,4.7,50,4.5,6.8,1,0.22,0.51,1,0.22,0.51,3,0.46,0.7,30,3.4,3.7,49,3.94,6.8,11,0.91,1.3,10,1.1200000000000001,1.2,47,2.34,6.2,4,0.32,0.75,44,3.4,5.8,9,0.6,1.18,40,5.16,4.92,50,4.5,6.8,22,2.75,2.4,11,0.91,1.3,10,1.1200000000000001,1.2,27,4.01,3,28,2.8,3.4,42,2.97,5.3,26,2.15,2.91,44,3.4,5.8,8,1.68,1.1299999999999999,37,3.7,4.2,12,2.16,1.6,17,1.3,1.89,23,1.1499999999999999,2.5,46,5.9,6.1,9,0.6,1.18,27,4.01,3,42,2.97,5.3,31,1.56,3.71,21,1.83,2.3199999999999998,18,1.32,2,50,4.5,6.8,16,1.58,1.83,11,0.91,1.3,46,5.9,6.1,42,2.97,5.3,40,5.16,4.92,7,0.4,1.05,27,4.01,3,28,2.8,3.4,50,4.5,6.8,51,20,15,43,3.79,5.65,29,2.4,3.5,8,1.68,1.1299999999999999,43,3.79,5.65,38,3.61,4.7,29,2.4,3.5,40,5.16,4.92,50,4.5,6.8,16,1.58,1.83,23,1.1499999999999999,2.5,32,2.83,3.77,47,2.34,6.2,47,2.34,6.2,21,1.83,2.3199999999999998,33,4.28,3.99,26,2.15,2.91,9,0.6,1.18,45,5.2,5.8,6,0.38,0.96,40,5.16,4.92,48,7.1,6.2,27,4.01,3,25,3.68,2.88,2,0.22,0.56000000000000005,18,1.32,2,14,1.1599999999999999,1.72,26,2.15,2.91,42,2.97,5.3,38,3.61,4.7,16,1.58,1.83,9,0.6,1.18,49,3.94,6.8,38,3.61,4.7,2,0.22,0.56000000000000005,37,3.7,4.2,23,1.1499999999999999,2.5,11,0.91,1.3,8,1.68,1.1299999999999999,33,4.28,3.99,33,4.28,3.99,14,1.1599999999999999,1.72,29,2.4,3.5,35,2.83,4.0199999999999996,5,0.32,0.91,14,1.1599999999999999,1.72,24,1.7,2.8,41,5.95,5.0999999999999996,29,2.4,3.5,42,2.97,5.3,14,1.1599999999999999,1.72,13,1.24,1.7,6,0.38,0.96,41,5.95,5.0999999999999996,34,3.4,4,27,4.01,3,4,0.32,0.75,17,1.3,1.89,29,2.4,3.5,19,1.33,2.06,49,3.94,6.8,38,3.61,4.7,8,1.68,1.1299999999999999,39,4.1900000000000004,4.8899999999999997,31,1.56,3.71,34,3.4,4,43,3.79,5.65,48,7.1,6.2,1,0.22,0.51,49,3.94,6.8,17,1.3,1.89,21,1.83,2.3199999999999998,28,2.8,3.4,39,4.1900000000000004,4.8899999999999997,27,4.01,3,44,3.4,5.8,36,2.2799999999999998,4.0999999999999996,20,2.06,2.23,31,1.56,3.71,17,1.3,1.89,16,1.58,1.83,26,2.15,2.91,51,20,15,3,0.46,0.7,21,1.83,2.3199999999999998,48,7.1,6.2,20,2.06,2.23,25,3.68,2.88,16,1.58,1.83,42,2.97,5.3,35,2.83,4.0199999999999996,20,2.06,2.23,29,2.4,3.5,26,2.15,2.91,4,0.32,0.75,39,4.1900000000000004,4.8899999999999997,49,3.94,6.8,31,1.56,3.71,50,4.5,6.8,41,5.95,5.0999999999999996,28,2.8,3.4,50,4.5,6.8,4,0.32,0.75,3,0.46,0.7,33,4.28,3.99,39,4.1900000000000004,4.8899999999999997,16,1.58,1.83,11,0.91,1.3,40,5.16,4.92,15,1.3,1.8,42,2.97,5.3,14,1.1599999999999999,1.72,39,4.1900000000000004,4.8899999999999997,10,1.1200000000000001,1.2,3,0.46,0.7,25,3.68,2.88,34,3.4,4,18,1.32,2,35,2.83,4.0199999999999996,17,1.3,1.89,39,4.1900000000000004,4.8899999999999997,43,3.79,5.65,32,2.83,3.77,28,2.8,3.4,31,1.56,3.71,2,0.22,0.56000000000000005,4,0.32,0.75,7,0.4,1.05,1,0.22,0.51,null,null,null,null,null,null,null,null,null,null,null,null,null,null,null,null,null,null,null,null,null,null,null,null,null,null,null,null,null,null,null,null,{"$error":"#N/A"}]
[null,null,17,1.3,1.89,null,null,0,0,null,"Sｘｙ：=Covar(データ範囲)＊n",null,null,{"$f":"COVAR($D5:$D1304,E5:E1304)*N5","v":332.63509019607847},null,{"$f":"COVAR($F5:$F1304,G5:G1304)*P5","v":{"$error":"#DIV/0!"}},null,null,null,null,null,null,null,null,null,null,null,null,null,-2.7643048736398836,0.74984862598935265,-2.4518555921640841,1.9170759915765114,null,{"$error":"#DIV/0!"},{"$error":"#DIV/0!"},{"$error":"#DIV/0!"},{"$error":"#DIV/0!"},null,37,35,"","",null,1.595,0.58999999999999986,null,1.595,0.58999999999999986,null,0.91,1.3,9,0.6,1.18,15,1.3,1.8,36,2.2799999999999998,4.0999999999999996,38,3.61,4.7,33,4.28,3.99,43,3.79,5.65,25,3.68,2.88,9,0.6,1.18,51,20,15,41,5.95,5.0999999999999996,35,2.83,4.0199999999999996,41,5.95,5.0999999999999996,17,1.3,1.89,40,5.16,4.92,26,2.15,2.91,20,2.06,2.23,1,0.22,0.51,38,3.61,4.7,22,2.75,2.4,51,20,15,31,1.56,3.71,42,2.97,5.3,9,0.6,1.18,46,5.9,6.1,51,20,15,22,2.75,2.4,37,3.7,4.2,33,4.28,3.99,13,1.24,1.7,12,2.16,1.6,15,1.3,1.8,50,4.5,6.8,38,3.61,4.7,7,0.4,1.05,18,1.32,2,50,4.5,6.8,3,0.46,0.7,15,1.3,1.8,32,2.83,3.77,47,2.34,6.2,2,0.22,0.56000000000000005,7,0.4,1.05,4,0.32,0.75,16,1.58,1.83,40,5.16,4.92,15,1.3,1.8,49,3.94,6.8,49,3.94,6.8,33,4.28,3.99,36,2.2799999999999998,4.0999999999999996,36,2.2799999999999998,4.0999999999999996,46,5.9,6.1,12,2.16,1.6,26,2.15,2.91,3,0.46,0.7,22,2.75,2.4,18,1.32,2,6,0.38,0.96,51,20,15,3,0.46,0.7,8,1.68,1.1299999999999999,11,0.91,1.3,38,3.61,4.7,30,3.4,3.7,49,3.94,6.8,35,2.83,4.0199999999999996,38,3.61,4.7,2,0.22,0.56000000000000005,18,1.32,2,36,2.2799999999999998,4.0999999999999996,39,4.1900000000000004,4.8899999999999997,37,3.7,4.2,11,0.91,1.3,34,3.4,4,38,3.61,4.7,7,0.4,1.05,32,2.83,3.77,12,2.16,1.6,46,5.9,6.1,5,0.32,0.91,47,2.34,6.2,18,1.32,2,38,3.61,4.7,32,2.83,3.77,36,2.2799999999999998,4.0999999999999996,6,0.38,0.96,49,3.94,6.8,1,0.22,0.51,43,3.79,5.65,51,20,15,27,4.01,3,41,5.95,5.0999999999999996,22,2.75,2.4,32,2.83,3.77,36,2.2799999999999998,4.0999999999999996,38,3.61,4.7,40,5.16,4.92,47,2.34,6.2,47,2.34,6.2,47,2.34,6.2,27,4.01,3,2,0.22,0.56000000000000005,46,5.9,6.1,30,3.4,3.7,26,2.15,2.91,20,2.06,2.23,33,4.28,3.99,14,1.1599999999999999,1.72,42,2.97,5.3,32,2.83,3.77,19,1.33,2.06,41,5.95,5.0999999999999996,42,2.97,5.3,35,2.83,4.0199999999999996,27,4.01,3,8,1.68,1.1299999999999999,4,0.32,0.75,35,2.83,4.0199999999999996,44,3.4,5.8,34,3.4,4,24,1.7,2.8,4,0.32,0.75,16,1.58,1.83,43,3.79,5.65,4,0.32,0.75,25,3.68,2.88,8,1.68,1.1299999999999999,25,3.68,2.88,13,1.24,1.7,43,3.79,5.65,42,2.97,5.3,31,1.56,3.71,30,3.4,3.7,16,1.58,1.83,3,0.46,0.7,27,4.01,3,48,7.1,6.2,15,1.3,1.8,41,5.95,5.0999999999999996,38,3.61,4.7,21,1.83,2.3199999999999998,23,1.1499999999999999,2.5,17,1.3,1.89,3,0.46,0.7,18,1.32,2,36,2.2799999999999998,4.0999999999999996,3,0.46,0.7,26,2.15,2.91,17,1.3,1.89,10,1.1200000000000001,1.2,38,3.61,4.7,20,2.06,2.23,11,0.91,1.3,17,1.3,1.89,18,1.32,2,11,0.91,1.3,5,0.32,0.91,40,5.16,4.92,6,0.38,0.96,40,5.16,4.92,18,1.32,2,24,1.7,2.8,25,3.68,2.88,6,0.38,0.96,27,4.01,3,28,2.8,3.4,10,1.1200000000000001,1.2,27,4.01,3,26,2.15,2.91,21,1.83,2.3199999999999998,12,2.16,1.6,27,4.01,3,20,2.06,2.23,37,3.7,4.2,40,5.16,4.92,46,5.9,6.1,26,2.15,2.91,21,1.83,2.3199999999999998,18,1.32,2,35,2.83,4.0199999999999996,23,1.1499999999999999,2.5,32,2.83,3.77,33,4.28,3.99,9,0.6,1.18,5,0.32,0.91,40,5.16,4.92,33,4.28,3.99,46,5.9,6.1,26,2.15,2.91,27,4.01,3,30,3.4,3.7,33,4.28,3.99,3,0.46,0.7,40,5.16,4.92,46,5.9,6.1,23,1.1499999999999999,2.5,18,1.32,2,36,2.2799999999999998,4.0999999999999996,18,1.32,2,30,3.4,3.7,10,1.1200000000000001,1.2,36,2.2799999999999998,4.0999999999999996,46,5.9,6.1,31,1.56,3.71,37,3.7,4.2,22,2.75,2.4,39,4.1900000000000004,4.8899999999999997,15,1.3,1.8,15,1.3,1.8,42,2.97,5.3,21,1.83,2.3199999999999998,34,3.4,4,23,1.1499999999999999,2.5,1,0.22,0.51,29,2.4,3.5,2,0.22,0.56000000000000005,5,0.32,0.91,22,2.75,2.4,10,1.1200000000000001,1.2,46,5.9,6.1,15,1.3,1.8,36,2.2799999999999998,4.0999999999999996,28,2.8,3.4,4,0.32,0.75,21,1.83,2.3199999999999998,40,5.16,4.92,4,0.32,0.75,30,3.4,3.7,2,0.22,0.56000000000000005,41,5.95,5.0999999999999996,26,2.15,2.91,37,3.7,4.2,1,0.22,0.51,10,1.1200000000000001,1.2,42,2.97,5.3,1,0.22,0.51,23,1.1499999999999999,2.5,30,3.4,3.7,12,2.16,1.6,13,1.24,1.7,36,2.2799999999999998,4.0999999999999996,47,2.34,6.2,10,1.1200000000000001,1.2,24,1.7,2.8,17,1.3,1.89,17,1.3,1.89,24,1.7,2.8,48,7.1,6.2,12,2.16,1.6,13,1.24,1.7,51,20,15,11,0.91,1.3,24,1.7,2.8,17,1.3,1.89,1,0.22,0.51,4,0.32,0.75,20,2.06,2.23,24,1.7,2.8,1,0.22,0.51,28,2.8,3.4,31,1.56,3.71,44,3.4,5.8,35,2.83,4.0199999999999996,48,7.1,6.2,49,3.94,6.8,44,3.4,5.8,51,20,15,38,3.61,4.7,29,2.4,3.5,9,0.6,1.18,10,1.1200000000000001,1.2,40,5.16,4.92,38,3.61,4.7,36,2.2799999999999998,4.0999999999999996,39,4.1900000000000004,4.8899999999999997,5,0.32,0.91,5,0.32,0.91,31,1.56,3.71,20,2.06,2.23,48,7.1,6.2,25,3.68,2.88,14,1.1599999999999999,1.72,3,0.46,0.7,44,3.4,5.8,51,20,15,20,2.06,2.23,51,20,15,33,4.28,3.99,51,20,15,44,3.4,5.8,35,2.83,4.0199999999999996,17,1.3,1.89,3,0.46,0.7,43,3.79,5.65,43,3.79,5.65,10,1.1200000000000001,1.2,2,0.22,0.56000000000000005,38,3.61,4.7,22,2.75,2.4,41,5.95,5.0999999999999996,2,0.22,0.56000000000000005,11,0.91,1.3,35,2.83,4.0199999999999996,45,5.2,5.8,21,1.83,2.3199999999999998,10,1.1200000000000001,1.2,3,0.46,0.7,27,4.01,3,38,3.61,4.7,42,2.97,5.3,16,1.58,1.83,50,4.5,6.8,45,5.2,5.8,25,3.68,2.88,19,1.33,2.06,41,5.95,5.0999999999999996,47,2.34,6.2,46,5.9,6.1,25,3.68,2.88,40,5.16,4.92,12,2.16,1.6,48,7.1,6.2,7,0.4,1.05,47,2.34,6.2,20,2.06,2.23,39,4.1900000000000004,4.8899999999999997,1,0.22,0.51,28,2.8,3.4,13,1.24,1.7,41,5.95,5.0999999999999996,6,0.38,0.96,8,1.68,1.1299999999999999,46,5.9,6.1,36,2.2799999999999998,4.0999999999999996,34,3.4,4,28,2.8,3.4,36,2.2799999999999998,4.0999999999999996,19,1.33,2.06,7,0.4,1.05,40,5.16,4.92,13,1.24,1.7,49,3.94,6.8,12,2.16,1.6,5,0.32,0.91,21,1.83,2.3199999999999998,46,5.9,6.1,48,7.1,6.2,4,0.32,0.75,12,2.16,1.6,43,3.79,5.65,24,1.7,2.8,24,1.7,2.8,5,0.32,0.91,36,2.2799999999999998,4.0999999999999996,16,1.58,1.83,17,1.3,1.89,31,1.56,3.71,33,4.28,3.99,10,1.1200000000000001,1.2,48,7.1,6.2,30,3.4,3.7,3,0.46,0.7,3,0.46,0.7,42,2.97,5.3,8,1.68,1.1299999999999999,31,1.56,3.71,8,1.68,1.1299999999999999,40,5.16,4.92,33,4.28,3.99,12,2.16,1.6,48,7.1,6.2,43,3.79,5.65,34,3.4,4,3,0.46,0.7,8,1.68,1.1299999999999999,15,1.3,1.8,3,0.46,0.7,26,2.15,2.91,38,3.61,4.7,34,3.4,4,47,2.34,6.2,12,2.16,1.6,49,3.94,6.8,38,3.61,4.7,30,3.4,3.7,9,0.6,1.18,13,1.24,1.7,29,2.4,3.5,35,2.83,4.0199999999999996,23,1.1499999999999999,2.5,19,1.33,2.06,21,1.83,2.3199999999999998,3,0.46,0.7,26,2.15,2.91,13,1.24,1.7,42,2.97,5.3,39,4.1900000000000004,4.8899999999999997,50,4.5,6.8,7,0.4,1.05,30,3.4,3.7,10,1.1200000000000001,1.2,40,5.16,4.92,26,2.15,2.91,37,3.7,4.2,48,7.1,6.2,4,0.32,0.75,4,0.32,0.75,28,2.8,3.4,42,2.97,5.3,15,1.3,1.8,42,2.97,5.3,29,2.4,3.5,50,4.5,6.8,4,0.32,0.75,49,3.94,6.8,29,2.4,3.5,36,2.2799999999999998,4.0999999999999996,16,1.58,1.83,49,3.94,6.8,31,1.56,3.71,33,4.28,3.99,11,0.91,1.3,28,2.8,3.4,48,7.1,6.2,33,4.28,3.99,7,0.4,1.05,36,2.2799999999999998,4.0999999999999996,7,0.4,1.05,39,4.1900000000000004,4.8899999999999997,40,5.16,4.92,33,4.28,3.99,48,7.1,6.2,20,2.06,2.23,2,0.22,0.56000000000000005,43,3.79,5.65,22,2.75,2.4,5,0.32,0.91,3,0.46,0.7,1,0.22,0.51,44,3.4,5.8,38,3.61,4.7,14,1.1599999999999999,1.72,8,1.68,1.1299999999999999,40,5.16,4.92,21,1.83,2.3199999999999998,17,1.3,1.89,23,1.1499999999999999,2.5,49,3.94,6.8,24,1.7,2.8,8,1.68,1.1299999999999999,21,1.83,2.3199999999999998,24,1.7,2.8,26,2.15,2.91,46,5.9,6.1,37,3.7,4.2,28,2.8,3.4,18,1.32,2,49,3.94,6.8,21,1.83,2.3199999999999998,39,4.1900000000000004,4.8899999999999997,8,1.68,1.1299999999999999,1,0.22,0.51,33,4.28,3.99,45,5.2,5.8,10,1.1200000000000001,1.2,49,3.94,6.8,47,2.34,6.2,48,7.1,6.2,7,0.4,1.05,50,4.5,6.8,49,3.94,6.8,13,1.24,1.7,39,4.1900000000000004,4.8899999999999997,23,1.1499999999999999,2.5,37,3.7,4.2,16,1.58,1.83,12,2.16,1.6,3,0.46,0.7,23,1.1499999999999999,2.5,47,2.34,6.2,43,3.79,5.65,36,2.2799999999999998,4.0999999999999996,31,1.56,3.71,7,0.4,1.05,12,2.16,1.6,27,4.01,3,47,2.34,6.2,11,0.91,1.3,11,0.91,1.3,50,4.5,6.8,18,1.32,2,36,2.2799999999999998,4.0999999999999996,46,5.9,6.1,36,2.2799999999999998,4.0999999999999996,7,0.4,1.05,19,1.33,2.06,33,4.28,3.99,31,1.56,3.71,38,3.61,4.7,14,1.1599999999999999,1.72,2,0.22,0.56000000000000005,null,null,null,null,null,null,null,null,null,null,null,null,null,null,null,null,null,null,null,null,null,null,null,null,null,null,null,null,null,null,null,null,{"$error":"#N/A"}]
[null,null,18,1.32,2,null,null,0,0,null,"Sｘｘ：=DEVSQ(データ範囲)",null,null,{"$f":"DEVSQ($D5:$D1304)","v":438.30736862745107},null,{"$f":"DEVSQ($F5:$F1304)","v":{"$error":"#NUM!"}},null,null,null,null,null,null,null,null,null,null,null,null,null,-2.6676654048922046,0.86339583673694686,-2.4187218173555896,1.9652249325576785,null,{"$error":"#DIV/0!"},{"$error":"#DIV/0!"},{"$error":"#DIV/0!"},{"$error":"#DIV/0!"},null,36,34,"","",null,1.6600000000000001,0.67999999999999994,null,1.6600000000000001,0.67999999999999994,null,2.16,1.6,10,1.1200000000000001,1.2,2,0.22,0.56000000000000005,36,2.2799999999999998,4.0999999999999996,17,1.3,1.89,12,2.16,1.6,9,0.6,1.18,41,5.95,5.0999999999999996,19,1.33,2.06,34,3.4,4,11,0.91,1.3,38,3.61,4.7,47,2.34,6.2,10,1.1200000000000001,1.2,8,1.68,1.1299999999999999,44,3.4,5.8,30,3.4,3.7,41,5.95,5.0999999999999996,15,1.3,1.8,38,3.61,4.7,16,1.58,1.83,34,3.4,4,7,0.4,1.05,10,1.1200000000000001,1.2,10,1.1200000000000001,1.2,12,2.16,1.6,22,2.75,2.4,17,1.3,1.89,34,3.4,4,13,1.24,1.7,12,2.16,1.6,25,3.68,2.88,19,1.33,2.06,34,3.4,4,40,5.16,4.92,11,0.91,1.3,9,0.6,1.18,34,3.4,4,32,2.83,3.77,18,1.32,2,12,2.16,1.6,37,3.7,4.2,26,2.15,2.91,51,20,15,48,7.1,6.2,28,2.8,3.4,24,1.7,2.8,24,1.7,2.8,49,3.94,6.8,4,0.32,0.75,39,4.1900000000000004,4.8899999999999997,18,1.32,2,9,0.6,1.18,27,4.01,3,47,2.34,6.2,25,3.68,2.88,36,2.2799999999999998,4.0999999999999996,18,1.32,2,36,2.2799999999999998,4.0999999999999996,49,3.94,6.8,50,4.5,6.8,14,1.1599999999999999,1.72,7,0.4,1.05,4,0.32,0.75,32,2.83,3.77,13,1.24,1.7,24,1.7,2.8,22,2.75,2.4,28,2.8,3.4,24,1.7,2.8,13,1.24,1.7,45,5.2,5.8,45,5.2,5.8,20,2.06,2.23,12,2.16,1.6,24,1.7,2.8,2,0.22,0.56000000000000005,38,3.61,4.7,23,1.1499999999999999,2.5,28,2.8,3.4,32,2.83,3.77,23,1.1499999999999999,2.5,8,1.68,1.1299999999999999,36,2.2799999999999998,4.0999999999999996,30,3.4,3.7,39,4.1900000000000004,4.8899999999999997,45,5.2,5.8,39,4.1900000000000004,4.8899999999999997,1,0.22,0.51,5,0.32,0.91,20,2.06,2.23,41,5.95,5.0999999999999996,18,1.32,2,9,0.6,1.18,36,2.2799999999999998,4.0999999999999996,8,1.68,1.1299999999999999,11,0.91,1.3,48,7.1,6.2,4,0.32,0.75,21,1.83,2.3199999999999998,25,3.68,2.88,32,2.83,3.77,3,0.46,0.7,20,2.06,2.23,18,1.32,2,35,2.83,4.0199999999999996,20,2.06,2.23,10,1.1200000000000001,1.2,9,0.6,1.18,41,5.95,5.0999999999999996,6,0.38,0.96,7,0.4,1.05,31,1.56,3.71,49,3.94,6.8,25,3.68,2.88,41,5.95,5.0999999999999996,28,2.8,3.4,18,1.32,2,1,0.22,0.51,1,0.22,0.51,7,0.4,1.05,22,2.75,2.4,26,2.15,2.91,45,5.2,5.8,39,4.1900000000000004,4.8899999999999997,47,2.34,6.2,48,7.1,6.2,37,3.7,4.2,4,0.32,0.75,38,3.61,4.7,32,2.83,3.77,6,0.38,0.96,50,4.5,6.8,8,1.68,1.1299999999999999,2,0.22,0.56000000000000005,46,5.9,6.1,31,1.56,3.71,30,3.4,3.7,50,4.5,6.8,7,0.4,1.05,18,1.32,2,38,3.61,4.7,23,1.1499999999999999,2.5,10,1.1200000000000001,1.2,45,5.2,5.8,29,2.4,3.5,37,3.7,4.2,32,2.83,3.77,3,0.46,0.7,16,1.58,1.83,17,1.3,1.89,14,1.1599999999999999,1.72,2,0.22,0.56000000000000005,20,2.06,2.23,3,0.46,0.7,11,0.91,1.3,11,0.91,1.3,27,4.01,3,44,3.4,5.8,40,5.16,4.92,13,1.24,1.7,34,3.4,4,4,0.32,0.75,29,2.4,3.5,1,0.22,0.51,2,0.22,0.56000000000000005,10,1.1200000000000001,1.2,20,2.06,2.23,34,3.4,4,5,0.32,0.91,50,4.5,6.8,17,1.3,1.89,31,1.56,3.71,27,4.01,3,24,1.7,2.8,38,3.61,4.7,23,1.1499999999999999,2.5,15,1.3,1.8,46,5.9,6.1,10,1.1200000000000001,1.2,6,0.38,0.96,32,2.83,3.77,43,3.79,5.65,26,2.15,2.91,38,3.61,4.7,49,3.94,6.8,1,0.22,0.51,40,5.16,4.92,38,3.61,4.7,51,20,15,24,1.7,2.8,17,1.3,1.89,37,3.7,4.2,36,2.2799999999999998,4.0999999999999996,24,1.7,2.8,38,3.61,4.7,31,1.56,3.71,15,1.3,1.8,27,4.01,3,45,5.2,5.8,27,4.01,3,11,0.91,1.3,21,1.83,2.3199999999999998,40,5.16,4.92,45,5.2,5.8,9,0.6,1.18,8,1.68,1.1299999999999999,40,5.16,4.92,17,1.3,1.89,7,0.4,1.05,51,20,15,25,3.68,2.88,37,3.7,4.2,16,1.58,1.83,26,2.15,2.91,37,3.7,4.2,13,1.24,1.7,7,0.4,1.05,21,1.83,2.3199999999999998,30,3.4,3.7,15,1.3,1.8,17,1.3,1.89,38,3.61,4.7,19,1.33,2.06,25,3.68,2.88,44,3.4,5.8,40,5.16,4.92,35,2.83,4.0199999999999996,38,3.61,4.7,47,2.34,6.2,1,0.22,0.51,18,1.32,2,10,1.1200000000000001,1.2,49,3.94,6.8,14,1.1599999999999999,1.72,23,1.1499999999999999,2.5,12,2.16,1.6,36,2.2799999999999998,4.0999999999999996,26,2.15,2.91,16,1.58,1.83,25,3.68,2.88,5,0.32,0.91,2,0.22,0.56000000000000005,28,2.8,3.4,46,5.9,6.1,18,1.32,2,18,1.32,2,48,7.1,6.2,29,2.4,3.5,48,7.1,6.2,12,2.16,1.6,32,2.83,3.77,47,2.34,6.2,27,4.01,3,35,2.83,4.0199999999999996,45,5.2,5.8,29,2.4,3.5,6,0.38,0.96,1,0.22,0.51,17,1.3,1.89,22,2.75,2.4,45,5.2,5.8,36,2.2799999999999998,4.0999999999999996,41,5.95,5.0999999999999996,33,4.28,3.99,16,1.58,1.83,28,2.8,3.4,18,1.32,2,32,2.83,3.77,4,0.32,0.75,28,2.8,3.4,17,1.3,1.89,50,4.5,6.8,8,1.68,1.1299999999999999,50,4.5,6.8,17,1.3,1.89,31,1.56,3.71,39,4.1900000000000004,4.8899999999999997,19,1.33,2.06,8,1.68,1.1299999999999999,35,2.83,4.0199999999999996,17,1.3,1.89,24,1.7,2.8,46,5.9,6.1,30,3.4,3.7,30,3.4,3.7,16,1.58,1.83,46,5.9,6.1,48,7.1,6.2,25,3.68,2.88,9,0.6,1.18,38,3.61,4.7,35,2.83,4.0199999999999996,12,2.16,1.6,29,2.4,3.5,13,1.24,1.7,47,2.34,6.2,14,1.1599999999999999,1.72,13,1.24,1.7,26,2.15,2.91,3,0.46,0.7,17,1.3,1.89,13,1.24,1.7,43,3.79,5.65,38,3.61,4.7,18,1.32,2,44,3.4,5.8,43,3.79,5.65,45,5.2,5.8,28,2.8,3.4,29,2.4,3.5,17,1.3,1.89,31,1.56,3.71,19,1.33,2.06,7,0.4,1.05,21,1.83,2.3199999999999998,15,1.3,1.8,27,4.01,3,32,2.83,3.77,21,1.83,2.3199999999999998,32,2.83,3.77,50,4.5,6.8,14,1.1599999999999999,1.72,45,5.2,5.8,24,1.7,2.8,48,7.1,6.2,31,1.56,3.71,35,2.83,4.0199999999999996,50,4.5,6.8,44,3.4,5.8,20,2.06,2.23,45,5.2,5.8,28,2.8,3.4,22,2.75,2.4,33,4.28,3.99,43,3.79,5.65,42,2.97,5.3,33,4.28,3.99,34,3.4,4,5,0.32,0.91,36,2.2799999999999998,4.0999999999999996,34,3.4,4,48,7.1,6.2,27,4.01,3,16,1.58,1.83,51,20,15,12,2.16,1.6,9,0.6,1.18,3,0.46,0.7,16,1.58,1.83,31,1.56,3.71,20,2.06,2.23,31,1.56,3.71,30,3.4,3.7,15,1.3,1.8,39,4.1900000000000004,4.8899999999999997,42,2.97,5.3,51,20,15,41,5.95,5.0999999999999996,5,0.32,0.91,43,3.79,5.65,2,0.22,0.56000000000000005,48,7.1,6.2,26,2.15,2.91,5,0.32,0.91,21,1.83,2.3199999999999998,37,3.7,4.2,16,1.58,1.83,10,1.1200000000000001,1.2,2,0.22,0.56000000000000005,20,2.06,2.23,5,0.32,0.91,3,0.46,0.7,9,0.6,1.18,25,3.68,2.88,35,2.83,4.0199999999999996,42,2.97,5.3,13,1.24,1.7,39,4.1900000000000004,4.8899999999999997,8,1.68,1.1299999999999999,45,5.2,5.8,49,3.94,6.8,13,1.24,1.7,44,3.4,5.8,45,5.2,5.8,15,1.3,1.8,12,2.16,1.6,19,1.33,2.06,36,2.2799999999999998,4.0999999999999996,22,2.75,2.4,10,1.1200000000000001,1.2,26,2.15,2.91,26,2.15,2.91,43,3.79,5.65,48,7.1,6.2,19,1.33,2.06,35,2.83,4.0199999999999996,12,2.16,1.6,24,1.7,2.8,15,1.3,1.8,45,5.2,5.8,29,2.4,3.5,2,0.22,0.56000000000000005,43,3.79,5.65,50,4.5,6.8,2,0.22,0.56000000000000005,10,1.1200000000000001,1.2,43,3.79,5.65,7,0.4,1.05,5,0.32,0.91,36,2.2799999999999998,4.0999999999999996,20,2.06,2.23,39,4.1900000000000004,4.8899999999999997,25,3.68,2.88,30,3.4,3.7,42,2.97,5.3,23,1.1499999999999999,2.5,6,0.38,0.96,5,0.32,0.91,37,3.7,4.2,8,1.68,1.1299999999999999,12,2.16,1.6,39,4.1900000000000004,4.8899999999999997,47,2.34,6.2,50,4.5,6.8,14,1.1599999999999999,1.72,18,1.32,2,24,1.7,2.8,17,1.3,1.89,48,7.1,6.2,45,5.2,5.8,38,3.61,4.7,44,3.4,5.8,10,1.1200000000000001,1.2,32,2.83,3.77,16,1.58,1.83,23,1.1499999999999999,2.5,14,1.1599999999999999,1.72,5,0.32,0.91,50,4.5,6.8,13,1.24,1.7,30,3.4,3.7,4,0.32,0.75,44,3.4,5.8,35,2.83,4.0199999999999996,44,3.4,5.8,30,3.4,3.7,15,1.3,1.8,17,1.3,1.89,3,0.46,0.7,45,5.2,5.8,42,2.97,5.3,8,1.68,1.1299999999999999,20,2.06,2.23,25,3.68,2.88,15,1.3,1.8,13,1.24,1.7,15,1.3,1.8,9,0.6,1.18,42,2.97,5.3,2,0.22,0.56000000000000005,26,2.15,2.91,50,4.5,6.8,35,2.83,4.0199999999999996,7,0.4,1.05,48,7.1,6.2,7,0.4,1.05,26,2.15,2.91,24,1.7,2.8,44,3.4,5.8,9,0.6,1.18,6,0.38,0.96,9,0.6,1.18,34,3.4,4,45,5.2,5.8,29,2.4,3.5,33,4.28,3.99,5,0.32,0.91,14,1.1599999999999999,1.72,12,2.16,1.6,27,4.01,3,6,0.38,0.96,31,1.56,3.71,33,4.28,3.99,35,2.83,4.0199999999999996,46,5.9,6.1,21,1.83,2.3199999999999998,35,2.83,4.0199999999999996,16,1.58,1.83,48,7.1,6.2,23,1.1499999999999999,2.5,20,2.06,2.23,40,5.16,4.92,47,2.34,6.2,38,3.61,4.7,7,0.4,1.05,37,3.7,4.2,41,5.95,5.0999999999999996,29,2.4,3.5,24,1.7,2.8,3,0.46,0.7,41,5.95,5.0999999999999996,null,null,null,null,null,null,null,null,null,null,null,null,null,null,null,null,null,null,null,null,null,null,null,null,null,null,null,null,null,null,null,null,{"$error":"#N/A"}]
[null,null,19,1.33,2.06,null,null,0,0,null,"Sｙｙ：=DEVSQ(データ範囲)",null,null,{"$f":"DEVSQ(E5:E1304)","v":305.63461568627451},null,{"$f":"DEVSQ(G5:G1304)","v":{"$error":"#NUM!"}},null,null,null,null,null,null,null,null,null,null,null,null,null,-2.5710259361445256,0.97530656126385795,-2.3839515563264118,2.0114141244611954,null,{"$error":"#DIV/0!"},{"$error":"#DIV/0!"},{"$error":"#DIV/0!"},{"$error":"#DIV/0!"},null,35,33,"","",null,1.6950000000000001,0.73,null,1.6950000000000001,0.73,null,1.24,1.7,6,0.38,0.96,19,1.33,2.06,43,3.79,5.65,1,0.22,0.51,37,3.7,4.2,25,3.68,2.88,8,1.68,1.1299999999999999,42,2.97,5.3,48,7.1,6.2,37,3.7,4.2,39,4.1900000000000004,4.8899999999999997,50,4.5,6.8,35,2.83,4.0199999999999996,2,0.22,0.56000000000000005,33,4.28,3.99,26,2.15,2.91,2,0.22,0.56000000000000005,31,1.56,3.71,4,0.32,0.75,38,3.61,4.7,21,1.83,2.3199999999999998,46,5.9,6.1,28,2.8,3.4,12,2.16,1.6,22,2.75,2.4,29,2.4,3.5,42,2.97,5.3,42,2.97,5.3,49,3.94,6.8,30,3.4,3.7,46,5.9,6.1,30,3.4,3.7,7,0.4,1.05,7,0.4,1.05,1,0.22,0.51,41,5.95,5.0999999999999996,17,1.3,1.89,34,3.4,4,36,2.2799999999999998,4.0999999999999996,3,0.46,0.7,9,0.6,1.18,44,3.4,5.8,36,2.2799999999999998,4.0999999999999996,8,1.68,1.1299999999999999,29,2.4,3.5,33,4.28,3.99,1,0.22,0.51,9,0.6,1.18,32,2.83,3.77,12,2.16,1.6,46,5.9,6.1,23,1.1499999999999999,2.5,37,3.7,4.2,3,0.46,0.7,44,3.4,5.8,26,2.15,2.91,25,3.68,2.88,42,2.97,5.3,33,4.28,3.99,10,1.1200000000000001,1.2,41,5.95,5.0999999999999996,23,1.1499999999999999,2.5,14,1.1599999999999999,1.72,28,2.8,3.4,41,5.95,5.0999999999999996,7,0.4,1.05,50,4.5,6.8,47,2.34,6.2,43,3.79,5.65,17,1.3,1.89,14,1.1599999999999999,1.72,44,3.4,5.8,30,3.4,3.7,36,2.2799999999999998,4.0999999999999996,47,2.34,6.2,10,1.1200000000000001,1.2,45,5.2,5.8,12,2.16,1.6,47,2.34,6.2,49,3.94,6.8,45,5.2,5.8,4,0.32,0.75,26,2.15,2.91,25,3.68,2.88,48,7.1,6.2,36,2.2799999999999998,4.0999999999999996,11,0.91,1.3,19,1.33,2.06,37,3.7,4.2,40,5.16,4.92,39,4.1900000000000004,4.8899999999999997,20,2.06,2.23,3,0.46,0.7,14,1.1599999999999999,1.72,10,1.1200000000000001,1.2,32,2.83,3.77,7,0.4,1.05,18,1.32,2,38,3.61,4.7,21,1.83,2.3199999999999998,14,1.1599999999999999,1.72,23,1.1499999999999999,2.5,46,5.9,6.1,14,1.1599999999999999,1.72,7,0.4,1.05,15,1.3,1.8,22,2.75,2.4,3,0.46,0.7,31,1.56,3.71,41,5.95,5.0999999999999996,18,1.32,2,43,3.79,5.65,40,5.16,4.92,8,1.68,1.1299999999999999,46,5.9,6.1,46,5.9,6.1,4,0.32,0.75,42,2.97,5.3,30,3.4,3.7,43,3.79,5.65,5,0.32,0.91,24,1.7,2.8,9,0.6,1.18,23,1.1499999999999999,2.5,38,3.61,4.7,3,0.46,0.7,33,4.28,3.99,41,5.95,5.0999999999999996,6,0.38,0.96,40,5.16,4.92,14,1.1599999999999999,1.72,12,2.16,1.6,31,1.56,3.71,3,0.46,0.7,28,2.8,3.4,15,1.3,1.8,44,3.4,5.8,30,3.4,3.7,12,2.16,1.6,40,5.16,4.92,37,3.7,4.2,17,1.3,1.89,17,1.3,1.89,41,5.95,5.0999999999999996,18,1.32,2,23,1.1499999999999999,2.5,4,0.32,0.75,33,4.28,3.99,6,0.38,0.96,21,1.83,2.3199999999999998,1,0.22,0.51,46,5.9,6.1,33,4.28,3.99,45,5.2,5.8,44,3.4,5.8,18,1.32,2,42,2.97,5.3,43,3.79,5.65,32,2.83,3.77,4,0.32,0.75,39,4.1900000000000004,4.8899999999999997,22,2.75,2.4,30,3.4,3.7,21,1.83,2.3199999999999998,44,3.4,5.8,7,0.4,1.05,12,2.16,1.6,46,5.9,6.1,38,3.61,4.7,32,2.83,3.77,16,1.58,1.83,19,1.33,2.06,14,1.1599999999999999,1.72,43,3.79,5.65,42,2.97,5.3,45,5.2,5.8,30,3.4,3.7,50,4.5,6.8,2,0.22,0.56000000000000005,38,3.61,4.7,4,0.32,0.75,24,1.7,2.8,24,1.7,2.8,28,2.8,3.4,18,1.32,2,1,0.22,0.51,42,2.97,5.3,5,0.32,0.91,16,1.58,1.83,29,2.4,3.5,8,1.68,1.1299999999999999,23,1.1499999999999999,2.5,4,0.32,0.75,16,1.58,1.83,36,2.2799999999999998,4.0999999999999996,47,2.34,6.2,1,0.22,0.51,35,2.83,4.0199999999999996,49,3.94,6.8,5,0.32,0.91,40,5.16,4.92,19,1.33,2.06,34,3.4,4,40,5.16,4.92,11,0.91,1.3,16,1.58,1.83,44,3.4,5.8,2,0.22,0.56000000000000005,25,3.68,2.88,36,2.2799999999999998,4.0999999999999996,41,5.95,5.0999999999999996,10,1.1200000000000001,1.2,48,7.1,6.2,51,20,15,48,7.1,6.2,41,5.95,5.0999999999999996,12,2.16,1.6,45,5.2,5.8,5,0.32,0.91,35,2.83,4.0199999999999996,11,0.91,1.3,15,1.3,1.8,11,0.91,1.3,47,2.34,6.2,3,0.46,0.7,21,1.83,2.3199999999999998,30,3.4,3.7,41,5.95,5.0999999999999996,5,0.32,0.91,36,2.2799999999999998,4.0999999999999996,36,2.2799999999999998,4.0999999999999996,46,5.9,6.1,50,4.5,6.8,43,3.79,5.65,17,1.3,1.89,3,0.46,0.7,30,3.4,3.7,39,4.1900000000000004,4.8899999999999997,23,1.1499999999999999,2.5,16,1.58,1.83,2,0.22,0.56000000000000005,35,2.83,4.0199999999999996,17,1.3,1.89,50,4.5,6.8,37,3.7,4.2,1,0.22,0.51,24,1.7,2.8,34,3.4,4,13,1.24,1.7,24,1.7,2.8,32,2.83,3.77,7,0.4,1.05,27,4.01,3,50,4.5,6.8,41,5.95,5.0999999999999996,24,1.7,2.8,35,2.83,4.0199999999999996,38,3.61,4.7,13,1.24,1.7,1,0.22,0.51,4,0.32,0.75,10,1.1200000000000001,1.2,25,3.68,2.88,16,1.58,1.83,17,1.3,1.89,2,0.22,0.56000000000000005,13,1.24,1.7,9,0.6,1.18,18,1.32,2,10,1.1200000000000001,1.2,28,2.8,3.4,34,3.4,4,12,2.16,1.6,44,3.4,5.8,33,4.28,3.99,7,0.4,1.05,20,2.06,2.23,25,3.68,2.88,1,0.22,0.51,6,0.38,0.96,23,1.1499999999999999,2.5,39,4.1900000000000004,4.8899999999999997,23,1.1499999999999999,2.5,22,2.75,2.4,13,1.24,1.7,33,4.28,3.99,48,7.1,6.2,7,0.4,1.05,50,4.5,6.8,15,1.3,1.8,37,3.7,4.2,30,3.4,3.7,49,3.94,6.8,8,1.68,1.1299999999999999,16,1.58,1.83,16,1.58,1.83,43,3.79,5.65,48,7.1,6.2,24,1.7,2.8,7,0.4,1.05,27,4.01,3,30,3.4,3.7,10,1.1200000000000001,1.2,7,0.4,1.05,6,0.38,0.96,14,1.1599999999999999,1.72,38,3.61,4.7,32,2.83,3.77,51,20,15,23,1.1499999999999999,2.5,32,2.83,3.77,8,1.68,1.1299999999999999,41,5.95,5.0999999999999996,41,5.95,5.0999999999999996,29,2.4,3.5,29,2.4,3.5,20,2.06,2.23,14,1.1599999999999999,1.72,31,1.56,3.71,46,5.9,6.1,47,2.34,6.2,3,0.46,0.7,50,4.5,6.8,25,3.68,2.88,39,4.1900000000000004,4.8899999999999997,31,1.56,3.71,9,0.6,1.18,46,5.9,6.1,27,4.01,3,30,3.4,3.7,50,4.5,6.8,48,7.1,6.2,6,0.38,0.96,49,3.94,6.8,20,2.06,2.23,35,2.83,4.0199999999999996,33,4.28,3.99,46,5.9,6.1,33,4.28,3.99,23,1.1499999999999999,2.5,25,3.68,2.88,44,3.4,5.8,13,1.24,1.7,41,5.95,5.0999999999999996,16,1.58,1.83,28,2.8,3.4,49,3.94,6.8,28,2.8,3.4,48,7.1,6.2,45,5.2,5.8,41,5.95,5.0999999999999996,39,4.1900000000000004,4.8899999999999997,27,4.01,3,3,0.46,0.7,51,20,15,38,3.61,4.7,24,1.7,2.8,26,2.15,2.91,4,0.32,0.75,5,0.32,0.91,19,1.33,2.06,48,7.1,6.2,40,5.16,4.92,31,1.56,3.71,6,0.38,0.96,15,1.3,1.8,5,0.32,0.91,18,1.32,2,43,3.79,5.65,39,4.1900000000000004,4.8899999999999997,16,1.58,1.83,33,4.28,3.99,47,2.34,6.2,39,4.1900000000000004,4.8899999999999997,47,2.34,6.2,2,0.22,0.56000000000000005,50,4.5,6.8,1,0.22,0.51,33,4.28,3.99,19,1.33,2.06,46,5.9,6.1,23,1.1499999999999999,2.5,27,4.01,3,36,2.2799999999999998,4.0999999999999996,41,5.95,5.0999999999999996,14,1.1599999999999999,1.72,42,2.97,5.3,18,1.32,2,4,0.32,0.75,46,5.9,6.1,51,20,15,45,5.2,5.8,19,1.33,2.06,1,0.22,0.51,43,3.79,5.65,6,0.38,0.96,27,4.01,3,31,1.56,3.71,18,1.32,2,5,0.32,0.91,35,2.83,4.0199999999999996,42,2.97,5.3,39,4.1900000000000004,4.8899999999999997,9,0.6,1.18,12,2.16,1.6,7,0.4,1.05,31,1.56,3.71,45,5.2,5.8,41,5.95,5.0999999999999996,11,0.91,1.3,32,2.83,3.77,3,0.46,0.7,13,1.24,1.7,51,20,15,41,5.95,5.0999999999999996,39,4.1900000000000004,4.8899999999999997,38,3.61,4.7,36,2.2799999999999998,4.0999999999999996,22,2.75,2.4,16,1.58,1.83,32,2.83,3.77,38,3.61,4.7,50,4.5,6.8,14,1.1599999999999999,1.72,27,4.01,3,42,2.97,5.3,11,0.91,1.3,24,1.7,2.8,18,1.32,2,46,5.9,6.1,7,0.4,1.05,49,3.94,6.8,10,1.1200000000000001,1.2,7,0.4,1.05,1,0.22,0.51,3,0.46,0.7,24,1.7,2.8,50,4.5,6.8,18,1.32,2,17,1.3,1.89,40,5.16,4.92,7,0.4,1.05,45,5.2,5.8,30,3.4,3.7,2,0.22,0.56000000000000005,27,4.01,3,31,1.56,3.71,47,2.34,6.2,17,1.3,1.89,19,1.33,2.06,41,5.95,5.0999999999999996,32,2.83,3.77,3,0.46,0.7,4,0.32,0.75,50,4.5,6.8,14,1.1599999999999999,1.72,43,3.79,5.65,18,1.32,2,44,3.4,5.8,34,3.4,4,29,2.4,3.5,8,1.68,1.1299999999999999,24,1.7,2.8,46,5.9,6.1,19,1.33,2.06,33,4.28,3.99,2,0.22,0.56000000000000005,14,1.1599999999999999,1.72,32,2.83,3.77,15,1.3,1.8,6,0.38,0.96,18,1.32,2,48,7.1,6.2,39,4.1900000000000004,4.8899999999999997,21,1.83,2.3199999999999998,49,3.94,6.8,11,0.91,1.3,1,0.22,0.51,48,7.1,6.2,8,1.68,1.1299999999999999,30,3.4,3.7,13,1.24,1.7,50,4.5,6.8,14,1.1599999999999999,1.72,21,1.83,2.3199999999999998,45,5.2,5.8,1,0.22,0.51,43,3.79,5.65,17,1.3,1.89,31,1.56,3.71,40,5.16,4.92,37,3.7,4.2,11,0.91,1.3,20,2.06,2.23,16,1.58,1.83,49,3.94,6.8,11,0.91,1.3,20,2.06,2.23,44,3.4,5.8,43,3.79,5.65,34,3.4,4,null,null,null,null,null,null,null,null,null,null,null,null,null,null,null,null,null,null,null,null,null,null,null,null,null,null,null,null,null,null,null,null,{"$error":"#N/A"}]
[null,null,20,2.06,2.23,null,null,0,0,null,"誤差分散比(λ)",null,null,null,null,null,null,null,null,null,null,null,null,null,null,null,null,null,null,-2.4743864673968465,1.0856911088892707,-2.3476551183957346,2.0557756665273708,null,{"$error":"#DIV/0!"},{"$error":"#DIV/0!"},{"$error":"#DIV/0!"},{"$error":"#DIV/0!"},null,29,32,"","",null,2.145,0.16999999999999993,null,2.145,0.16999999999999993,null,1.1599999999999999,1.72,17,1.3,1.89,27,4.01,3,46,5.9,6.1,26,2.15,2.91,20,2.06,2.23,30,3.4,3.7,5,0.32,0.91,11,0.91,1.3,8,1.68,1.1299999999999999,43,3.79,5.65,1,0.22,0.51,27,4.01,3,49,3.94,6.8,21,1.83,2.3199999999999998,32,2.83,3.77,12,2.16,1.6,23,1.1499999999999999,2.5,39,4.1900000000000004,4.8899999999999997,9,0.6,1.18,20,2.06,2.23,23,1.1499999999999999,2.5,29,2.4,3.5,9,0.6,1.18,16,1.58,1.83,6,0.38,0.96,37,3.7,4.2,17,1.3,1.89,26,2.15,2.91,39,4.1900000000000004,4.8899999999999997,22,2.75,2.4,34,3.4,4,42,2.97,5.3,3,0.46,0.7,5,0.32,0.91,19,1.33,2.06,14,1.1599999999999999,1.72,42,2.97,5.3,22,2.75,2.4,50,4.5,6.8,10,1.1200000000000001,1.2,10,1.1200000000000001,1.2,16,1.58,1.83,10,1.1200000000000001,1.2,6,0.38,0.96,27,4.01,3,49,3.94,6.8,2,0.22,0.56000000000000005,42,2.97,5.3,22,2.75,2.4,39,4.1900000000000004,4.8899999999999997,37,3.7,4.2,21,1.83,2.3199999999999998,39,4.1900000000000004,4.8899999999999997,22,2.75,2.4,38,3.61,4.7,7,0.4,1.05,34,3.4,4,44,3.4,5.8,43,3.79,5.65,29,2.4,3.5,24,1.7,2.8,13,1.24,1.7,1,0.22,0.51,26,2.15,2.91,41,5.95,5.0999999999999996,1,0.22,0.51,25,3.68,2.88,1,0.22,0.51,27,4.01,3,43,3.79,5.65,38,3.61,4.7,19,1.33,2.06,39,4.1900000000000004,4.8899999999999997,32,2.83,3.77,27,4.01,3,8,1.68,1.1299999999999999,44,3.4,5.8,30,3.4,3.7,43,3.79,5.65,7,0.4,1.05,22,2.75,2.4,5,0.32,0.91,46,5.9,6.1,19,1.33,2.06,18,1.32,2,45,5.2,5.8,11,0.91,1.3,9,0.6,1.18,38,3.61,4.7,43,3.79,5.65,26,2.15,2.91,5,0.32,0.91,48,7.1,6.2,9,0.6,1.18,39,4.1900000000000004,4.8899999999999997,47,2.34,6.2,29,2.4,3.5,14,1.1599999999999999,1.72,12,2.16,1.6,37,3.7,4.2,26,2.15,2.91,42,2.97,5.3,21,1.83,2.3199999999999998,40,5.16,4.92,43,3.79,5.65,40,5.16,4.92,1,0.22,0.51,33,4.28,3.99,49,3.94,6.8,14,1.1599999999999999,1.72,2,0.22,0.56000000000000005,7,0.4,1.05,24,1.7,2.8,39,4.1900000000000004,4.8899999999999997,38,3.61,4.7,15,1.3,1.8,11,0.91,1.3,47,2.34,6.2,30,3.4,3.7,22,2.75,2.4,17,1.3,1.89,34,3.4,4,16,1.58,1.83,4,0.32,0.75,9,0.6,1.18,8,1.68,1.1299999999999999,47,2.34,6.2,2,0.22,0.56000000000000005,18,1.32,2,44,3.4,5.8,33,4.28,3.99,19,1.33,2.06,38,3.61,4.7,21,1.83,2.3199999999999998,50,4.5,6.8,19,1.33,2.06,23,1.1499999999999999,2.5,38,3.61,4.7,33,4.28,3.99,31,1.56,3.71,43,3.79,5.65,3,0.46,0.7,33,4.28,3.99,44,3.4,5.8,26,2.15,2.91,39,4.1900000000000004,4.8899999999999997,11,0.91,1.3,9,0.6,1.18,18,1.32,2,28,2.8,3.4,43,3.79,5.65,45,5.2,5.8,23,1.1499999999999999,2.5,16,1.58,1.83,13,1.24,1.7,26,2.15,2.91,9,0.6,1.18,12,2.16,1.6,24,1.7,2.8,43,3.79,5.65,8,1.68,1.1299999999999999,39,4.1900000000000004,4.8899999999999997,35,2.83,4.0199999999999996,50,4.5,6.8,13,1.24,1.7,29,2.4,3.5,22,2.75,2.4,9,0.6,1.18,29,2.4,3.5,29,2.4,3.5,21,1.83,2.3199999999999998,1,0.22,0.51,24,1.7,2.8,47,2.34,6.2,32,2.83,3.77,14,1.1599999999999999,1.72,29,2.4,3.5,5,0.32,0.91,17,1.3,1.89,1,0.22,0.51,38,3.61,4.7,38,3.61,4.7,50,4.5,6.8,28,2.8,3.4,4,0.32,0.75,40,5.16,4.92,18,1.32,2,20,2.06,2.23,49,3.94,6.8,20,2.06,2.23,20,2.06,2.23,19,1.33,2.06,51,20,15,1,0.22,0.51,19,1.33,2.06,28,2.8,3.4,2,0.22,0.56000000000000005,16,1.58,1.83,40,5.16,4.92,10,1.1200000000000001,1.2,11,0.91,1.3,10,1.1200000000000001,1.2,17,1.3,1.89,45,5.2,5.8,45,5.2,5.8,45,5.2,5.8,1,0.22,0.51,21,1.83,2.3199999999999998,34,3.4,4,39,4.1900000000000004,4.8899999999999997,5,0.32,0.91,41,5.95,5.0999999999999996,21,1.83,2.3199999999999998,26,2.15,2.91,2,0.22,0.56000000000000005,21,1.83,2.3199999999999998,12,2.16,1.6,4,0.32,0.75,30,3.4,3.7,38,3.61,4.7,26,2.15,2.91,32,2.83,3.77,37,3.7,4.2,31,1.56,3.71,43,3.79,5.65,30,3.4,3.7,36,2.2799999999999998,4.0999999999999996,4,0.32,0.75,5,0.32,0.91,32,2.83,3.77,1,0.22,0.51,21,1.83,2.3199999999999998,19,1.33,2.06,34,3.4,4,20,2.06,2.23,11,0.91,1.3,3,0.46,0.7,46,5.9,6.1,41,5.95,5.0999999999999996,12,2.16,1.6,39,4.1900000000000004,4.8899999999999997,38,3.61,4.7,25,3.68,2.88,29,2.4,3.5,17,1.3,1.89,45,5.2,5.8,50,4.5,6.8,25,3.68,2.88,46,5.9,6.1,11,0.91,1.3,49,3.94,6.8,28,2.8,3.4,42,2.97,5.3,49,3.94,6.8,23,1.1499999999999999,2.5,28,2.8,3.4,36,2.2799999999999998,4.0999999999999996,25,3.68,2.88,35,2.83,4.0199999999999996,28,2.8,3.4,21,1.83,2.3199999999999998,27,4.01,3,8,1.68,1.1299999999999999,43,3.79,5.65,3,0.46,0.7,50,4.5,6.8,30,3.4,3.7,51,20,15,1,0.22,0.51,1,0.22,0.51,50,4.5,6.8,40,5.16,4.92,45,5.2,5.8,4,0.32,0.75,28,2.8,3.4,14,1.1599999999999999,1.72,28,2.8,3.4,42,2.97,5.3,41,5.95,5.0999999999999996,39,4.1900000000000004,4.8899999999999997,5,0.32,0.91,10,1.1200000000000001,1.2,25,3.68,2.88,41,5.95,5.0999999999999996,46,5.9,6.1,18,1.32,2,30,3.4,3.7,10,1.1200000000000001,1.2,30,3.4,3.7,38,3.61,4.7,16,1.58,1.83,50,4.5,6.8,51,20,15,1,0.22,0.51,10,1.1200000000000001,1.2,25,3.68,2.88,13,1.24,1.7,6,0.38,0.96,48,7.1,6.2,12,2.16,1.6,38,3.61,4.7,11,0.91,1.3,28,2.8,3.4,2,0.22,0.56000000000000005,2,0.22,0.56000000000000005,37,3.7,4.2,13,1.24,1.7,48,7.1,6.2,1,0.22,0.51,18,1.32,2,28,2.8,3.4,13,1.24,1.7,41,5.95,5.0999999999999996,51,20,15,8,1.68,1.1299999999999999,27,4.01,3,39,4.1900000000000004,4.8899999999999997,43,3.79,5.65,5,0.32,0.91,28,2.8,3.4,25,3.68,2.88,16,1.58,1.83,30,3.4,3.7,20,2.06,2.23,44,3.4,5.8,4,0.32,0.75,6,0.38,0.96,17,1.3,1.89,50,4.5,6.8,4,0.32,0.75,22,2.75,2.4,47,2.34,6.2,12,2.16,1.6,25,3.68,2.88,26,2.15,2.91,51,20,15,10,1.1200000000000001,1.2,37,3.7,4.2,30,3.4,3.7,29,2.4,3.5,39,4.1900000000000004,4.8899999999999997,24,1.7,2.8,8,1.68,1.1299999999999999,48,7.1,6.2,2,0.22,0.56000000000000005,32,2.83,3.77,50,4.5,6.8,36,2.2799999999999998,4.0999999999999996,20,2.06,2.23,21,1.83,2.3199999999999998,51,20,15,31,1.56,3.71,21,1.83,2.3199999999999998,11,0.91,1.3,25,3.68,2.88,38,3.61,4.7,50,4.5,6.8,38,3.61,4.7,48,7.1,6.2,19,1.33,2.06,12,2.16,1.6,45,5.2,5.8,3,0.46,0.7,4,0.32,0.75,25,3.68,2.88,43,3.79,5.65,44,3.4,5.8,33,4.28,3.99,20,2.06,2.23,2,0.22,0.56000000000000005,29,2.4,3.5,7,0.4,1.05,40,5.16,4.92,8,1.68,1.1299999999999999,35,2.83,4.0199999999999996,44,3.4,5.8,40,5.16,4.92,5,0.32,0.91,48,7.1,6.2,17,1.3,1.89,40,5.16,4.92,3,0.46,0.7,16,1.58,1.83,19,1.33,2.06,18,1.32,2,23,1.1499999999999999,2.5,3,0.46,0.7,2,0.22,0.56000000000000005,20,2.06,2.23,49,3.94,6.8,33,4.28,3.99,32,2.83,3.77,50,4.5,6.8,27,4.01,3,43,3.79,5.65,35,2.83,4.0199999999999996,26,2.15,2.91,15,1.3,1.8,31,1.56,3.71,1,0.22,0.51,30,3.4,3.7,36,2.2799999999999998,4.0999999999999996,10,1.1200000000000001,1.2,35,2.83,4.0199999999999996,3,0.46,0.7,22,2.75,2.4,5,0.32,0.91,49,3.94,6.8,3,0.46,0.7,20,2.06,2.23,2,0.22,0.56000000000000005,21,1.83,2.3199999999999998,48,7.1,6.2,40,5.16,4.92,1,0.22,0.51,43,3.79,5.65,16,1.58,1.83,1,0.22,0.51,13,1.24,1.7,16,1.58,1.83,3,0.46,0.7,40,5.16,4.92,14,1.1599999999999999,1.72,5,0.32,0.91,14,1.1599999999999999,1.72,50,4.5,6.8,39,4.1900000000000004,4.8899999999999997,39,4.1900000000000004,4.8899999999999997,16,1.58,1.83,41,5.95,5.0999999999999996,39,4.1900000000000004,4.8899999999999997,5,0.32,0.91,41,5.95,5.0999999999999996,35,2.83,4.0199999999999996,24,1.7,2.8,9,0.6,1.18,31,1.56,3.71,14,1.1599999999999999,1.72,21,1.83,2.3199999999999998,14,1.1599999999999999,1.72,43,3.79,5.65,27,4.01,3,15,1.3,1.8,49,3.94,6.8,45,5.2,5.8,31,1.56,3.71,5,0.32,0.91,2,0.22,0.56000000000000005,15,1.3,1.8,47,2.34,6.2,5,0.32,0.91,27,4.01,3,51,20,15,9,0.6,1.18,39,4.1900000000000004,4.8899999999999997,39,4.1900000000000004,4.8899999999999997,3,0.46,0.7,14,1.1599999999999999,1.72,43,3.79,5.65,15,1.3,1.8,45,5.2,5.8,21,1.83,2.3199999999999998,15,1.3,1.8,45,5.2,5.8,3,0.46,0.7,51,20,15,20,2.06,2.23,32,2.83,3.77,22,2.75,2.4,37,3.7,4.2,31,1.56,3.71,41,5.95,5.0999999999999996,8,1.68,1.1299999999999999,25,3.68,2.88,35,2.83,4.0199999999999996,49,3.94,6.8,29,2.4,3.5,25,3.68,2.88,30,3.4,3.7,47,2.34,6.2,15,1.3,1.8,8,1.68,1.1299999999999999,30,3.4,3.7,36,2.2799999999999998,4.0999999999999996,10,1.1200000000000001,1.2,8,1.68,1.1299999999999999,9,0.6,1.18,33,4.28,3.99,20,2.06,2.23,21,1.83,2.3199999999999998,3,0.46,0.7,14,1.1599999999999999,1.72,11,0.91,1.3,5,0.32,0.91,12,2.16,1.6,19,1.33,2.06,16,1.58,1.83,33,4.28,3.99,49,3.94,6.8,2,0.22,0.56000000000000005,27,4.01,3,null,null,null,null,null,null,null,null,null,null,null,null,null,null,null,null,null,null,null,null,null,null,null,null,null,null,null,null,null,null,null,null,{"$error":"#N/A"}]
[null,null,21,1.83,2.3199999999999998,null,null,0,0,null,"直線回帰（古典的回帰式）",null,"b","a","b","a",null,null,null,null,null,null,null,null,null,null,null,null,null,-2.3777469986491675,1.1946462742313242,-2.3099292981816992,2.098425473672703,null,{"$error":"#DIV/0!"},{"$error":"#DIV/0!"},{"$error":"#DIV/0!"},{"$error":"#DIV/0!"},null,30,31,"","",null,2.0750000000000002,0.48999999999999977,null,2.0750000000000002,0.48999999999999977,null,1.3,1.8,51,20,15,38,3.61,4.7,28,2.8,3.4,34,3.4,4,9,0.6,1.18,17,1.3,1.89,25,3.68,2.88,1,0.22,0.51,30,3.4,3.7,38,3.61,4.7,31,1.56,3.71,44,3.4,5.8,8,1.68,1.1299999999999999,23,1.1499999999999999,2.5,46,5.9,6.1,43,3.79,5.65,1,0.22,0.51,8,1.68,1.1299999999999999,35,2.83,4.0199999999999996,40,5.16,4.92,31,1.56,3.71,44,3.4,5.8,25,3.68,2.88,41,5.95,5.0999999999999996,30,3.4,3.7,39,4.1900000000000004,4.8899999999999997,5,0.32,0.91,11,0.91,1.3,43,3.79,5.65,18,1.32,2,28,2.8,3.4,33,4.28,3.99,27,4.01,3,17,1.3,1.89,6,0.38,0.96,47,2.34,6.2,5,0.32,0.91,36,2.2799999999999998,4.0999999999999996,17,1.3,1.89,9,0.6,1.18,9,0.6,1.18,34,3.4,4,51,20,15,37,3.7,4.2,35,2.83,4.0199999999999996,35,2.83,4.0199999999999996,7,0.4,1.05,8,1.68,1.1299999999999999,40,5.16,4.92,26,2.15,2.91,3,0.46,0.7,18,1.32,2,45,5.2,5.8,5,0.32,0.91,13,1.24,1.7,20,2.06,2.23,33,4.28,3.99,34,3.4,4,28,2.8,3.4,32,2.83,3.77,49,3.94,6.8,36,2.2799999999999998,4.0999999999999996,48,7.1,6.2,33,4.28,3.99,1,0.22,0.51,48,7.1,6.2,38,3.61,4.7,16,1.58,1.83,11,0.91,1.3,16,1.58,1.83,26,2.15,2.91,36,2.2799999999999998,4.0999999999999996,11,0.91,1.3,4,0.32,0.75,50,4.5,6.8,10,1.1200000000000001,1.2,47,2.34,6.2,35,2.83,4.0199999999999996,10,1.1200000000000001,1.2,19,1.33,2.06,25,3.68,2.88,44,3.4,5.8,24,1.7,2.8,3,0.46,0.7,18,1.32,2,30,3.4,3.7,17,1.3,1.89,19,1.33,2.06,7,0.4,1.05,5,0.32,0.91,28,2.8,3.4,34,3.4,4,40,5.16,4.92,43,3.79,5.65,8,1.68,1.1299999999999999,28,2.8,3.4,23,1.1499999999999999,2.5,28,2.8,3.4,23,1.1499999999999999,2.5,42,2.97,5.3,27,4.01,3,9,0.6,1.18,50,4.5,6.8,32,2.83,3.77,35,2.83,4.0199999999999996,50,4.5,6.8,26,2.15,2.91,16,1.58,1.83,43,3.79,5.65,22,2.75,2.4,4,0.32,0.75,23,1.1499999999999999,2.5,7,0.4,1.05,11,0.91,1.3,49,3.94,6.8,45,5.2,5.8,51,20,15,17,1.3,1.89,36,2.2799999999999998,4.0999999999999996,38,3.61,4.7,4,0.32,0.75,1,0.22,0.51,6,0.38,0.96,18,1.32,2,15,1.3,1.8,36,2.2799999999999998,4.0999999999999996,10,1.1200000000000001,1.2,16,1.58,1.83,41,5.95,5.0999999999999996,8,1.68,1.1299999999999999,12,2.16,1.6,24,1.7,2.8,1,0.22,0.51,16,1.58,1.83,40,5.16,4.92,48,7.1,6.2,31,1.56,3.71,21,1.83,2.3199999999999998,31,1.56,3.71,2,0.22,0.56000000000000005,23,1.1499999999999999,2.5,47,2.34,6.2,39,4.1900000000000004,4.8899999999999997,20,2.06,2.23,37,3.7,4.2,29,2.4,3.5,26,2.15,2.91,43,3.79,5.65,43,3.79,5.65,17,1.3,1.89,21,1.83,2.3199999999999998,24,1.7,2.8,24,1.7,2.8,22,2.75,2.4,13,1.24,1.7,33,4.28,3.99,26,2.15,2.91,17,1.3,1.89,2,0.22,0.56000000000000005,49,3.94,6.8,6,0.38,0.96,39,4.1900000000000004,4.8899999999999997,4,0.32,0.75,13,1.24,1.7,36,2.2799999999999998,4.0999999999999996,35,2.83,4.0199999999999996,45,5.2,5.8,31,1.56,3.71,49,3.94,6.8,17,1.3,1.89,14,1.1599999999999999,1.72,21,1.83,2.3199999999999998,38,3.61,4.7,9,0.6,1.18,14,1.1599999999999999,1.72,12,2.16,1.6,13,1.24,1.7,48,7.1,6.2,7,0.4,1.05,47,2.34,6.2,45,5.2,5.8,30,3.4,3.7,23,1.1499999999999999,2.5,30,3.4,3.7,15,1.3,1.8,18,1.32,2,48,7.1,6.2,30,3.4,3.7,21,1.83,2.3199999999999998,36,2.2799999999999998,4.0999999999999996,36,2.2799999999999998,4.0999999999999996,25,3.68,2.88,19,1.33,2.06,19,1.33,2.06,50,4.5,6.8,7,0.4,1.05,31,1.56,3.71,16,1.58,1.83,16,1.58,1.83,34,3.4,4,38,3.61,4.7,39,4.1900000000000004,4.8899999999999997,26,2.15,2.91,21,1.83,2.3199999999999998,38,3.61,4.7,10,1.1200000000000001,1.2,30,3.4,3.7,48,7.1,6.2,37,3.7,4.2,16,1.58,1.83,42,2.97,5.3,7,0.4,1.05,6,0.38,0.96,5,0.32,0.91,40,5.16,4.92,5,0.32,0.91,29,2.4,3.5,40,5.16,4.92,11,0.91,1.3,7,0.4,1.05,51,20,15,43,3.79,5.65,9,0.6,1.18,45,5.2,5.8,29,2.4,3.5,51,20,15,48,7.1,6.2,9,0.6,1.18,34,3.4,4,10,1.1200000000000001,1.2,3,0.46,0.7,6,0.38,0.96,50,4.5,6.8,36,2.2799999999999998,4.0999999999999996,16,1.58,1.83,2,0.22,0.56000000000000005,22,2.75,2.4,48,7.1,6.2,37,3.7,4.2,28,2.8,3.4,7,0.4,1.05,35,2.83,4.0199999999999996,30,3.4,3.7,25,3.68,2.88,27,4.01,3,44,3.4,5.8,22,2.75,2.4,49,3.94,6.8,14,1.1599999999999999,1.72,37,3.7,4.2,3,0.46,0.7,17,1.3,1.89,14,1.1599999999999999,1.72,38,3.61,4.7,24,1.7,2.8,9,0.6,1.18,35,2.83,4.0199999999999996,31,1.56,3.71,50,4.5,6.8,17,1.3,1.89,48,7.1,6.2,17,1.3,1.89,7,0.4,1.05,47,2.34,6.2,34,3.4,4,7,0.4,1.05,35,2.83,4.0199999999999996,15,1.3,1.8,41,5.95,5.0999999999999996,24,1.7,2.8,35,2.83,4.0199999999999996,1,0.22,0.51,25,3.68,2.88,3,0.46,0.7,21,1.83,2.3199999999999998,49,3.94,6.8,7,0.4,1.05,45,5.2,5.8,21,1.83,2.3199999999999998,11,0.91,1.3,22,2.75,2.4,8,1.68,1.1299999999999999,23,1.1499999999999999,2.5,8,1.68,1.1299999999999999,13,1.24,1.7,19,1.33,2.06,30,3.4,3.7,17,1.3,1.89,39,4.1900000000000004,4.8899999999999997,12,2.16,1.6,5,0.32,0.91,32,2.83,3.77,20,2.06,2.23,38,3.61,4.7,26,2.15,2.91,6,0.38,0.96,40,5.16,4.92,4,0.32,0.75,31,1.56,3.71,9,0.6,1.18,44,3.4,5.8,37,3.7,4.2,23,1.1499999999999999,2.5,19,1.33,2.06,40,5.16,4.92,22,2.75,2.4,15,1.3,1.8,29,2.4,3.5,48,7.1,6.2,8,1.68,1.1299999999999999,35,2.83,4.0199999999999996,44,3.4,5.8,1,0.22,0.51,6,0.38,0.96,21,1.83,2.3199999999999998,30,3.4,3.7,46,5.9,6.1,40,5.16,4.92,26,2.15,2.91,19,1.33,2.06,40,5.16,4.92,45,5.2,5.8,14,1.1599999999999999,1.72,2,0.22,0.56000000000000005,2,0.22,0.56000000000000005,20,2.06,2.23,10,1.1200000000000001,1.2,35,2.83,4.0199999999999996,18,1.32,2,26,2.15,2.91,6,0.38,0.96,35,2.83,4.0199999999999996,32,2.83,3.77,39,4.1900000000000004,4.8899999999999997,2,0.22,0.56000000000000005,30,3.4,3.7,1,0.22,0.51,42,2.97,5.3,13,1.24,1.7,15,1.3,1.8,48,7.1,6.2,35,2.83,4.0199999999999996,15,1.3,1.8,44,3.4,5.8,3,0.46,0.7,28,2.8,3.4,49,3.94,6.8,34,3.4,4,13,1.24,1.7,47,2.34,6.2,13,1.24,1.7,15,1.3,1.8,38,3.61,4.7,26,2.15,2.91,26,2.15,2.91,30,3.4,3.7,45,5.2,5.8,14,1.1599999999999999,1.72,11,0.91,1.3,33,4.28,3.99,18,1.32,2,24,1.7,2.8,9,0.6,1.18,42,2.97,5.3,4,0.32,0.75,27,4.01,3,22,2.75,2.4,36,2.2799999999999998,4.0999999999999996,10,1.1200000000000001,1.2,10,1.1200000000000001,1.2,14,1.1599999999999999,1.72,8,1.68,1.1299999999999999,6,0.38,0.96,23,1.1499999999999999,2.5,11,0.91,1.3,13,1.24,1.7,27,4.01,3,26,2.15,2.91,3,0.46,0.7,19,1.33,2.06,16,1.58,1.83,42,2.97,5.3,42,2.97,5.3,5,0.32,0.91,32,2.83,3.77,8,1.68,1.1299999999999999,41,5.95,5.0999999999999996,13,1.24,1.7,47,2.34,6.2,22,2.75,2.4,28,2.8,3.4,50,4.5,6.8,41,5.95,5.0999999999999996,47,2.34,6.2,42,2.97,5.3,30,3.4,3.7,11,0.91,1.3,3,0.46,0.7,34,3.4,4,35,2.83,4.0199999999999996,16,1.58,1.83,30,3.4,3.7,18,1.32,2,7,0.4,1.05,26,2.15,2.91,25,3.68,2.88,23,1.1499999999999999,2.5,2,0.22,0.56000000000000005,23,1.1499999999999999,2.5,49,3.94,6.8,37,3.7,4.2,36,2.2799999999999998,4.0999999999999996,2,0.22,0.56000000000000005,25,3.68,2.88,10,1.1200000000000001,1.2,39,4.1900000000000004,4.8899999999999997,24,1.7,2.8,40,5.16,4.92,9,0.6,1.18,3,0.46,0.7,7,0.4,1.05,43,3.79,5.65,10,1.1200000000000001,1.2,35,2.83,4.0199999999999996,35,2.83,4.0199999999999996,45,5.2,5.8,1,0.22,0.51,50,4.5,6.8,2,0.22,0.56000000000000005,18,1.32,2,35,2.83,4.0199999999999996,29,2.4,3.5,19,1.33,2.06,51,20,15,26,2.15,2.91,13,1.24,1.7,3,0.46,0.7,39,4.1900000000000004,4.8899999999999997,51,20,15,9,0.6,1.18,41,5.95,5.0999999999999996,47,2.34,6.2,49,3.94,6.8,34,3.4,4,24,1.7,2.8,46,5.9,6.1,20,2.06,2.23,17,1.3,1.89,13,1.24,1.7,22,2.75,2.4,31,1.56,3.71,51,20,15,28,2.8,3.4,26,2.15,2.91,8,1.68,1.1299999999999999,40,5.16,4.92,1,0.22,0.51,17,1.3,1.89,40,5.16,4.92,1,0.22,0.51,29,2.4,3.5,20,2.06,2.23,28,2.8,3.4,16,1.58,1.83,19,1.33,2.06,20,2.06,2.23,37,3.7,4.2,26,2.15,2.91,42,2.97,5.3,16,1.58,1.83,44,3.4,5.8,36,2.2799999999999998,4.0999999999999996,31,1.56,3.71,19,1.33,2.06,38,3.61,4.7,13,1.24,1.7,30,3.4,3.7,3,0.46,0.7,21,1.83,2.3199999999999998,39,4.1900000000000004,4.8899999999999997,50,4.5,6.8,5,0.32,0.91,6,0.38,0.96,3,0.46,0.7,8,1.68,1.1299999999999999,22,2.75,2.4,22,2.75,2.4,12,2.16,1.6,40,5.16,4.92,15,1.3,1.8,6,0.38,0.96,34,3.4,4,40,5.16,4.92,9,0.6,1.18,11,0.91,1.3,48,7.1,6.2,16,1.58,1.83,40,5.16,4.92,1,0.22,0.51,45,5.2,5.8,40,5.16,4.92,null,null,null,null,null,null,null,null,null,null,null,null,null,null,null,null,null,null,null,null,null,null,null,null,null,null,null,null,null,null,null,null,{"$error":"#N/A"}]
[null,null,22,2.75,2.4,null,null,0,0,null,"x  →　y",null,{"$f":"N21/N22","v":0.7589082776265369},{"$f":"N6-(M26*M6)","v":1.2468503674013198},{"$f":"P21/P22","v":{"$error":"#DIV/0!"}},{"$f":"P6-(O26*O6)","v":{"$error":"#DIV/0!"}},null,null,null,null,null,null,null,null,null,null,null,null,null,-2.2811075299014885,1.302257542648914,-2.2708595810431995,2.1394659175830211,null,{"$error":"#DIV/0!"},{"$error":"#DIV/0!"},{"$error":"#DIV/0!"},{"$error":"#DIV/0!"},null,23,30,"","",null,2.5750000000000002,-0.35000000000000009,null,2.5750000000000002,-0.35000000000000009,null,1.58,1.83,27,4.01,3,31,1.56,3.71,29,2.4,3.5,35,2.83,4.0199999999999996,45,5.2,5.8,17,1.3,1.89,7,0.4,1.05,12,2.16,1.6,29,2.4,3.5,35,2.83,4.0199999999999996,15,1.3,1.8,14,1.1599999999999999,1.72,45,5.2,5.8,12,2.16,1.6,47,2.34,6.2,1,0.22,0.51,18,1.32,2,41,5.95,5.0999999999999996,8,1.68,1.1299999999999999,48,7.1,6.2,37,3.7,4.2,25,3.68,2.88,21,1.83,2.3199999999999998,37,3.7,4.2,1,0.22,0.51,31,1.56,3.71,16,1.58,1.83,17,1.3,1.89,26,2.15,2.91,39,4.1900000000000004,4.8899999999999997,39,4.1900000000000004,4.8899999999999997,50,4.5,6.8,37,3.7,4.2,39,4.1900000000000004,4.8899999999999997,47,2.34,6.2,5,0.32,0.91,21,1.83,2.3199999999999998,36,2.2799999999999998,4.0999999999999996,9,0.6,1.18,22,2.75,2.4,32,2.83,3.77,46,5.9,6.1,8,1.68,1.1299999999999999,47,2.34,6.2,31,1.56,3.71,49,3.94,6.8,39,4.1900000000000004,4.8899999999999997,39,4.1900000000000004,4.8899999999999997,45,5.2,5.8,36,2.2799999999999998,4.0999999999999996,8,1.68,1.1299999999999999,21,1.83,2.3199999999999998,11,0.91,1.3,11,0.91,1.3,36,2.2799999999999998,4.0999999999999996,31,1.56,3.71,33,4.28,3.99,42,2.97,5.3,4,0.32,0.75,14,1.1599999999999999,1.72,22,2.75,2.4,5,0.32,0.91,8,1.68,1.1299999999999999,33,4.28,3.99,5,0.32,0.91,46,5.9,6.1,4,0.32,0.75,7,0.4,1.05,20,2.06,2.23,15,1.3,1.8,13,1.24,1.7,26,2.15,2.91,18,1.32,2,31,1.56,3.71,16,1.58,1.83,34,3.4,4,12,2.16,1.6,22,2.75,2.4,9,0.6,1.18,44,3.4,5.8,30,3.4,3.7,30,3.4,3.7,49,3.94,6.8,26,2.15,2.91,8,1.68,1.1299999999999999,9,0.6,1.18,3,0.46,0.7,18,1.32,2,49,3.94,6.8,27,4.01,3,7,0.4,1.05,17,1.3,1.89,15,1.3,1.8,10,1.1200000000000001,1.2,4,0.32,0.75,34,3.4,4,32,2.83,3.77,2,0.22,0.56000000000000005,1,0.22,0.51,41,5.95,5.0999999999999996,40,5.16,4.92,7,0.4,1.05,19,1.33,2.06,22,2.75,2.4,38,3.61,4.7,41,5.95,5.0999999999999996,40,5.16,4.92,27,4.01,3,41,5.95,5.0999999999999996,33,4.28,3.99,6,0.38,0.96,16,1.58,1.83,24,1.7,2.8,24,1.7,2.8,28,2.8,3.4,12,2.16,1.6,26,2.15,2.91,20,2.06,2.23,24,1.7,2.8,50,4.5,6.8,49,3.94,6.8,36,2.2799999999999998,4.0999999999999996,25,3.68,2.88,26,2.15,2.91,3,0.46,0.7,1,0.22,0.51,28,2.8,3.4,3,0.46,0.7,18,1.32,2,8,1.68,1.1299999999999999,40,5.16,4.92,3,0.46,0.7,31,1.56,3.71,10,1.1200000000000001,1.2,29,2.4,3.5,12,2.16,1.6,42,2.97,5.3,25,3.68,2.88,28,2.8,3.4,27,4.01,3,15,1.3,1.8,30,3.4,3.7,32,2.83,3.77,7,0.4,1.05,27,4.01,3,17,1.3,1.89,49,3.94,6.8,28,2.8,3.4,15,1.3,1.8,42,2.97,5.3,47,2.34,6.2,23,1.1499999999999999,2.5,32,2.83,3.77,20,2.06,2.23,8,1.68,1.1299999999999999,41,5.95,5.0999999999999996,39,4.1900000000000004,4.8899999999999997,30,3.4,3.7,30,3.4,3.7,42,2.97,5.3,13,1.24,1.7,14,1.1599999999999999,1.72,17,1.3,1.89,48,7.1,6.2,43,3.79,5.65,26,2.15,2.91,40,5.16,4.92,45,5.2,5.8,30,3.4,3.7,33,4.28,3.99,31,1.56,3.71,31,1.56,3.71,36,2.2799999999999998,4.0999999999999996,14,1.1599999999999999,1.72,35,2.83,4.0199999999999996,17,1.3,1.89,39,4.1900000000000004,4.8899999999999997,10,1.1200000000000001,1.2,8,1.68,1.1299999999999999,25,3.68,2.88,26,2.15,2.91,26,2.15,2.91,22,2.75,2.4,40,5.16,4.92,49,3.94,6.8,28,2.8,3.4,7,0.4,1.05,10,1.1200000000000001,1.2,20,2.06,2.23,45,5.2,5.8,9,0.6,1.18,48,7.1,6.2,17,1.3,1.89,19,1.33,2.06,35,2.83,4.0199999999999996,22,2.75,2.4,27,4.01,3,3,0.46,0.7,4,0.32,0.75,21,1.83,2.3199999999999998,1,0.22,0.51,16,1.58,1.83,50,4.5,6.8,42,2.97,5.3,3,0.46,0.7,35,2.83,4.0199999999999996,15,1.3,1.8,45,5.2,5.8,9,0.6,1.18,2,0.22,0.56000000000000005,8,1.68,1.1299999999999999,2,0.22,0.56000000000000005,7,0.4,1.05,22,2.75,2.4,50,4.5,6.8,51,20,15,50,4.5,6.8,10,1.1200000000000001,1.2,20,2.06,2.23,37,3.7,4.2,48,7.1,6.2,48,7.1,6.2,15,1.3,1.8,21,1.83,2.3199999999999998,29,2.4,3.5,23,1.1499999999999999,2.5,43,3.79,5.65,27,4.01,3,32,2.83,3.77,44,3.4,5.8,21,1.83,2.3199999999999998,41,5.95,5.0999999999999996,6,0.38,0.96,23,1.1499999999999999,2.5,33,4.28,3.99,7,0.4,1.05,16,1.58,1.83,44,3.4,5.8,23,1.1499999999999999,2.5,40,5.16,4.92,39,4.1900000000000004,4.8899999999999997,44,3.4,5.8,49,3.94,6.8,10,1.1200000000000001,1.2,11,0.91,1.3,30,3.4,3.7,30,3.4,3.7,3,0.46,0.7,34,3.4,4,17,1.3,1.89,49,3.94,6.8,18,1.32,2,22,2.75,2.4,36,2.2799999999999998,4.0999999999999996,50,4.5,6.8,13,1.24,1.7,51,20,15,27,4.01,3,40,5.16,4.92,13,1.24,1.7,7,0.4,1.05,45,5.2,5.8,40,5.16,4.92,2,0.22,0.56000000000000005,46,5.9,6.1,5,0.32,0.91,31,1.56,3.71,30,3.4,3.7,26,2.15,2.91,38,3.61,4.7,8,1.68,1.1299999999999999,4,0.32,0.75,27,4.01,3,35,2.83,4.0199999999999996,29,2.4,3.5,50,4.5,6.8,35,2.83,4.0199999999999996,50,4.5,6.8,13,1.24,1.7,51,20,15,2,0.22,0.56000000000000005,49,3.94,6.8,42,2.97,5.3,5,0.32,0.91,43,3.79,5.65,12,2.16,1.6,11,0.91,1.3,24,1.7,2.8,30,3.4,3.7,30,3.4,3.7,28,2.8,3.4,30,3.4,3.7,5,0.32,0.91,7,0.4,1.05,11,0.91,1.3,8,1.68,1.1299999999999999,18,1.32,2,11,0.91,1.3,45,5.2,5.8,7,0.4,1.05,32,2.83,3.77,20,2.06,2.23,21,1.83,2.3199999999999998,36,2.2799999999999998,4.0999999999999996,24,1.7,2.8,25,3.68,2.88,50,4.5,6.8,18,1.32,2,31,1.56,3.71,32,2.83,3.77,49,3.94,6.8,40,5.16,4.92,4,0.32,0.75,4,0.32,0.75,51,20,15,48,7.1,6.2,8,1.68,1.1299999999999999,25,3.68,2.88,51,20,15,2,0.22,0.56000000000000005,19,1.33,2.06,33,4.28,3.99,5,0.32,0.91,27,4.01,3,24,1.7,2.8,33,4.28,3.99,36,2.2799999999999998,4.0999999999999996,7,0.4,1.05,25,3.68,2.88,42,2.97,5.3,23,1.1499999999999999,2.5,40,5.16,4.92,35,2.83,4.0199999999999996,39,4.1900000000000004,4.8899999999999997,11,0.91,1.3,36,2.2799999999999998,4.0999999999999996,29,2.4,3.5,15,1.3,1.8,9,0.6,1.18,19,1.33,2.06,48,7.1,6.2,25,3.68,2.88,37,3.7,4.2,23,1.1499999999999999,2.5,41,5.95,5.0999999999999996,35,2.83,4.0199999999999996,24,1.7,2.8,47,2.34,6.2,22,2.75,2.4,25,3.68,2.88,17,1.3,1.89,50,4.5,6.8,17,1.3,1.89,35,2.83,4.0199999999999996,24,1.7,2.8,5,0.32,0.91,14,1.1599999999999999,1.72,20,2.06,2.23,12,2.16,1.6,50,4.5,6.8,15,1.3,1.8,47,2.34,6.2,16,1.58,1.83,29,2.4,3.5,33,4.28,3.99,45,5.2,5.8,30,3.4,3.7,4,0.32,0.75,44,3.4,5.8,4,0.32,0.75,10,1.1200000000000001,1.2,50,4.5,6.8,36,2.2799999999999998,4.0999999999999996,31,1.56,3.71,27,4.01,3,49,3.94,6.8,10,1.1200000000000001,1.2,40,5.16,4.92,12,2.16,1.6,51,20,15,31,1.56,3.71,11,0.91,1.3,11,0.91,1.3,14,1.1599999999999999,1.72,23,1.1499999999999999,2.5,36,2.2799999999999998,4.0999999999999996,32,2.83,3.77,14,1.1599999999999999,1.72,26,2.15,2.91,19,1.33,2.06,42,2.97,5.3,34,3.4,4,40,5.16,4.92,26,2.15,2.91,25,3.68,2.88,23,1.1499999999999999,2.5,28,2.8,3.4,37,3.7,4.2,25,3.68,2.88,41,5.95,5.0999999999999996,17,1.3,1.89,43,3.79,5.65,51,20,15,11,0.91,1.3,46,5.9,6.1,48,7.1,6.2,20,2.06,2.23,18,1.32,2,14,1.1599999999999999,1.72,19,1.33,2.06,16,1.58,1.83,10,1.1200000000000001,1.2,37,3.7,4.2,35,2.83,4.0199999999999996,34,3.4,4,48,7.1,6.2,39,4.1900000000000004,4.8899999999999997,37,3.7,4.2,29,2.4,3.5,3,0.46,0.7,8,1.68,1.1299999999999999,30,3.4,3.7,24,1.7,2.8,12,2.16,1.6,48,7.1,6.2,30,3.4,3.7,49,3.94,6.8,23,1.1499999999999999,2.5,19,1.33,2.06,16,1.58,1.83,49,3.94,6.8,46,5.9,6.1,50,4.5,6.8,31,1.56,3.71,31,1.56,3.71,3,0.46,0.7,26,2.15,2.91,27,4.01,3,15,1.3,1.8,30,3.4,3.7,1,0.22,0.51,22,2.75,2.4,35,2.83,4.0199999999999996,25,3.68,2.88,38,3.61,4.7,46,5.9,6.1,33,4.28,3.99,49,3.94,6.8,12,2.16,1.6,38,3.61,4.7,17,1.3,1.89,23,1.1499999999999999,2.5,12,2.16,1.6,2,0.22,0.56000000000000005,8,1.68,1.1299999999999999,34,3.4,4,39,4.1900000000000004,4.8899999999999997,8,1.68,1.1299999999999999,37,3.7,4.2,29,2.4,3.5,6,0.38,0.96,33,4.28,3.99,50,4.5,6.8,18,1.32,2,40,5.16,4.92,18,1.32,2,1,0.22,0.51,26,2.15,2.91,28,2.8,3.4,19,1.33,2.06,13,1.24,1.7,36,2.2799999999999998,4.0999999999999996,23,1.1499999999999999,2.5,51,20,15,18,1.32,2,47,2.34,6.2,36,2.2799999999999998,4.0999999999999996,43,3.79,5.65,9,0.6,1.18,18,1.32,2,45,5.2,5.8,37,3.7,4.2,46,5.9,6.1,24,1.7,2.8,38,3.61,4.7,38,3.61,4.7,45,5.2,5.8,49,3.94,6.8,14,1.1599999999999999,1.72,11,0.91,1.3,41,5.95,5.0999999999999996,41,5.95,5.0999999999999996,40,5.16,4.92,37,3.7,4.2,27,4.01,3,9,0.6,1.18,40,5.16,4.92,5,0.32,0.91,12,2.16,1.6,29,2.4,3.5,1,0.22,0.51,null,null,null,null,null,null,null,null,null,null,null,null,null,null,null,null,null,null,null,null,null,null,null,null,null,null,null,null,null,null,null,null,{"$error":"#N/A"}]
[null,null,23,1.1499999999999999,2.5,null,null,0,0,null,"y　→　x",null,{"$f":"N23/N21","v":0.91882854423480098},{"$f":"N6-(M27*M6)","v":0.79255138257376512},null,null,null,null,null,null,null,null,null,null,null,null,null,null,null,-2.1844680611538094,1.4086008511534869,-2.2305219039916833,2.1789879354665098,null,{"$error":"#DIV/0!"},{"$error":"#DIV/0!"},{"$error":"#DIV/0!"},{"$error":"#DIV/0!"},null,41,29,"","",null,1.825,1.35,null,1.825,1.35,null,1.3,1.89,3,0.46,0.7,7,0.4,1.05,17,1.3,1.89,40,5.16,4.92,18,1.32,2,18,1.32,2,20,2.06,2.23,24,1.7,2.8,21,1.83,2.3199999999999998,28,2.8,3.4,26,2.15,2.91,24,1.7,2.8,22,2.75,2.4,49,3.94,6.8,2,0.22,0.56000000000000005,9,0.6,1.18,43,3.79,5.65,6,0.38,0.96,26,2.15,2.91,10,1.1200000000000001,1.2,17,1.3,1.89,38,3.61,4.7,39,4.1900000000000004,4.8899999999999997,22,2.75,2.4,44,3.4,5.8,44,3.4,5.8,44,3.4,5.8,51,20,15,31,1.56,3.71,37,3.7,4.2,6,0.38,0.96,15,1.3,1.8,51,20,15,43,3.79,5.65,4,0.32,0.75,47,2.34,6.2,39,4.1900000000000004,4.8899999999999997,48,7.1,6.2,31,1.56,3.71,39,4.1900000000000004,4.8899999999999997,41,5.95,5.0999999999999996,3,0.46,0.7,37,3.7,4.2,49,3.94,6.8,17,1.3,1.89,22,2.75,2.4,39,4.1900000000000004,4.8899999999999997,45,5.2,5.8,40,5.16,4.92,29,2.4,3.5,15,1.3,1.8,9,0.6,1.18,44,3.4,5.8,11,0.91,1.3,7,0.4,1.05,35,2.83,4.0199999999999996,25,3.68,2.88,20,2.06,2.23,18,1.32,2,29,2.4,3.5,44,3.4,5.8,17,1.3,1.89,13,1.24,1.7,10,1.1200000000000001,1.2,22,2.75,2.4,29,2.4,3.5,22,2.75,2.4,11,0.91,1.3,45,5.2,5.8,42,2.97,5.3,33,4.28,3.99,24,1.7,2.8,8,1.68,1.1299999999999999,6,0.38,0.96,1,0.22,0.51,5,0.32,0.91,23,1.1499999999999999,2.5,35,2.83,4.0199999999999996,43,3.79,5.65,26,2.15,2.91,10,1.1200000000000001,1.2,3,0.46,0.7,35,2.83,4.0199999999999996,15,1.3,1.8,5,0.32,0.91,50,4.5,6.8,19,1.33,2.06,18,1.32,2,4,0.32,0.75,24,1.7,2.8,49,3.94,6.8,41,5.95,5.0999999999999996,18,1.32,2,38,3.61,4.7,39,4.1900000000000004,4.8899999999999997,2,0.22,0.56000000000000005,17,1.3,1.89,17,1.3,1.89,18,1.32,2,34,3.4,4,38,3.61,4.7,50,4.5,6.8,28,2.8,3.4,30,3.4,3.7,25,3.68,2.88,35,2.83,4.0199999999999996,21,1.83,2.3199999999999998,47,2.34,6.2,41,5.95,5.0999999999999996,37,3.7,4.2,14,1.1599999999999999,1.72,2,0.22,0.56000000000000005,5,0.32,0.91,30,3.4,3.7,34,3.4,4,30,3.4,3.7,3,0.46,0.7,2,0.22,0.56000000000000005,23,1.1499999999999999,2.5,22,2.75,2.4,33,4.28,3.99,3,0.46,0.7,33,4.28,3.99,35,2.83,4.0199999999999996,3,0.46,0.7,47,2.34,6.2,31,1.56,3.71,39,4.1900000000000004,4.8899999999999997,37,3.7,4.2,6,0.38,0.96,46,5.9,6.1,14,1.1599999999999999,1.72,16,1.58,1.83,21,1.83,2.3199999999999998,16,1.58,1.83,6,0.38,0.96,41,5.95,5.0999999999999996,42,2.97,5.3,47,2.34,6.2,20,2.06,2.23,19,1.33,2.06,29,2.4,3.5,2,0.22,0.56000000000000005,24,1.7,2.8,23,1.1499999999999999,2.5,8,1.68,1.1299999999999999,13,1.24,1.7,1,0.22,0.51,38,3.61,4.7,19,1.33,2.06,19,1.33,2.06,46,5.9,6.1,10,1.1200000000000001,1.2,10,1.1200000000000001,1.2,23,1.1499999999999999,2.5,12,2.16,1.6,50,4.5,6.8,46,5.9,6.1,41,5.95,5.0999999999999996,21,1.83,2.3199999999999998,29,2.4,3.5,49,3.94,6.8,1,0.22,0.51,3,0.46,0.7,31,1.56,3.71,8,1.68,1.1299999999999999,46,5.9,6.1,2,0.22,0.56000000000000005,4,0.32,0.75,24,1.7,2.8,26,2.15,2.91,26,2.15,2.91,8,1.68,1.1299999999999999,9,0.6,1.18,9,0.6,1.18,42,2.97,5.3,15,1.3,1.8,39,4.1900000000000004,4.8899999999999997,22,2.75,2.4,32,2.83,3.77,8,1.68,1.1299999999999999,51,20,15,7,0.4,1.05,41,5.95,5.0999999999999996,36,2.2799999999999998,4.0999999999999996,44,3.4,5.8,18,1.32,2,23,1.1499999999999999,2.5,7,0.4,1.05,33,4.28,3.99,18,1.32,2,50,4.5,6.8,45,5.2,5.8,42,2.97,5.3,38,3.61,4.7,51,20,15,32,2.83,3.77,8,1.68,1.1299999999999999,18,1.32,2,20,2.06,2.23,17,1.3,1.89,34,3.4,4,10,1.1200000000000001,1.2,15,1.3,1.8,9,0.6,1.18,29,2.4,3.5,32,2.83,3.77,5,0.32,0.91,31,1.56,3.71,20,2.06,2.23,11,0.91,1.3,20,2.06,2.23,15,1.3,1.8,46,5.9,6.1,39,4.1900000000000004,4.8899999999999997,5,0.32,0.91,10,1.1200000000000001,1.2,4,0.32,0.75,17,1.3,1.89,16,1.58,1.83,26,2.15,2.91,10,1.1200000000000001,1.2,13,1.24,1.7,23,1.1499999999999999,2.5,35,2.83,4.0199999999999996,37,3.7,4.2,4,0.32,0.75,5,0.32,0.91,19,1.33,2.06,23,1.1499999999999999,2.5,33,4.28,3.99,8,1.68,1.1299999999999999,29,2.4,3.5,20,2.06,2.23,51,20,15,38,3.61,4.7,21,1.83,2.3199999999999998,38,3.61,4.7,23,1.1499999999999999,2.5,14,1.1599999999999999,1.72,19,1.33,2.06,4,0.32,0.75,30,3.4,3.7,17,1.3,1.89,8,1.68,1.1299999999999999,5,0.32,0.91,12,2.16,1.6,41,5.95,5.0999999999999996,34,3.4,4,42,2.97,5.3,22,2.75,2.4,43,3.79,5.65,6,0.38,0.96,26,2.15,2.91,25,3.68,2.88,42,2.97,5.3,48,7.1,6.2,34,3.4,4,51,20,15,18,1.32,2,43,3.79,5.65,2,0.22,0.56000000000000005,40,5.16,4.92,16,1.58,1.83,39,4.1900000000000004,4.8899999999999997,33,4.28,3.99,45,5.2,5.8,44,3.4,5.8,45,5.2,5.8,37,3.7,4.2,32,2.83,3.77,18,1.32,2,32,2.83,3.77,40,5.16,4.92,29,2.4,3.5,21,1.83,2.3199999999999998,37,3.7,4.2,29,2.4,3.5,28,2.8,3.4,48,7.1,6.2,5,0.32,0.91,5,0.32,0.91,31,1.56,3.71,2,0.22,0.56000000000000005,48,7.1,6.2,32,2.83,3.77,4,0.32,0.75,5,0.32,0.91,35,2.83,4.0199999999999996,33,4.28,3.99,27,4.01,3,39,4.1900000000000004,4.8899999999999997,2,0.22,0.56000000000000005,47,2.34,6.2,39,4.1900000000000004,4.8899999999999997,46,5.9,6.1,47,2.34,6.2,22,2.75,2.4,44,3.4,5.8,32,2.83,3.77,28,2.8,3.4,24,1.7,2.8,7,0.4,1.05,17,1.3,1.89,18,1.32,2,26,2.15,2.91,7,0.4,1.05,34,3.4,4,1,0.22,0.51,17,1.3,1.89,36,2.2799999999999998,4.0999999999999996,24,1.7,2.8,26,2.15,2.91,46,5.9,6.1,45,5.2,5.8,45,5.2,5.8,50,4.5,6.8,26,2.15,2.91,1,0.22,0.51,16,1.58,1.83,46,5.9,6.1,33,4.28,3.99,33,4.28,3.99,18,1.32,2,48,7.1,6.2,3,0.46,0.7,31,1.56,3.71,45,5.2,5.8,4,0.32,0.75,39,4.1900000000000004,4.8899999999999997,48,7.1,6.2,3,0.46,0.7,23,1.1499999999999999,2.5,51,20,15,51,20,15,12,2.16,1.6,28,2.8,3.4,15,1.3,1.8,16,1.58,1.83,3,0.46,0.7,2,0.22,0.56000000000000005,19,1.33,2.06,36,2.2799999999999998,4.0999999999999996,21,1.83,2.3199999999999998,45,5.2,5.8,13,1.24,1.7,14,1.1599999999999999,1.72,20,2.06,2.23,12,2.16,1.6,10,1.1200000000000001,1.2,15,1.3,1.8,21,1.83,2.3199999999999998,30,3.4,3.7,35,2.83,4.0199999999999996,19,1.33,2.06,4,0.32,0.75,30,3.4,3.7,26,2.15,2.91,15,1.3,1.8,15,1.3,1.8,9,0.6,1.18,32,2.83,3.77,6,0.38,0.96,8,1.68,1.1299999999999999,30,3.4,3.7,17,1.3,1.89,10,1.1200000000000001,1.2,3,0.46,0.7,11,0.91,1.3,5,0.32,0.91,4,0.32,0.75,32,2.83,3.77,40,5.16,4.92,36,2.2799999999999998,4.0999999999999996,29,2.4,3.5,39,4.1900000000000004,4.8899999999999997,12,2.16,1.6,7,0.4,1.05,38,3.61,4.7,29,2.4,3.5,37,3.7,4.2,34,3.4,4,48,7.1,6.2,22,2.75,2.4,38,3.61,4.7,39,4.1900000000000004,4.8899999999999997,35,2.83,4.0199999999999996,50,4.5,6.8,48,7.1,6.2,12,2.16,1.6,42,2.97,5.3,5,0.32,0.91,14,1.1599999999999999,1.72,2,0.22,0.56000000000000005,20,2.06,2.23,46,5.9,6.1,48,7.1,6.2,22,2.75,2.4,38,3.61,4.7,40,5.16,4.92,19,1.33,2.06,48,7.1,6.2,22,2.75,2.4,19,1.33,2.06,13,1.24,1.7,16,1.58,1.83,14,1.1599999999999999,1.72,27,4.01,3,28,2.8,3.4,28,2.8,3.4,17,1.3,1.89,20,2.06,2.23,23,1.1499999999999999,2.5,47,2.34,6.2,46,5.9,6.1,18,1.32,2,19,1.33,2.06,45,5.2,5.8,30,3.4,3.7,2,0.22,0.56000000000000005,1,0.22,0.51,12,2.16,1.6,10,1.1200000000000001,1.2,16,1.58,1.83,17,1.3,1.89,49,3.94,6.8,40,5.16,4.92,16,1.58,1.83,26,2.15,2.91,17,1.3,1.89,33,4.28,3.99,21,1.83,2.3199999999999998,50,4.5,6.8,42,2.97,5.3,20,2.06,2.23,13,1.24,1.7,23,1.1499999999999999,2.5,11,0.91,1.3,42,2.97,5.3,36,2.2799999999999998,4.0999999999999996,44,3.4,5.8,26,2.15,2.91,51,20,15,45,5.2,5.8,19,1.33,2.06,48,7.1,6.2,12,2.16,1.6,10,1.1200000000000001,1.2,24,1.7,2.8,2,0.22,0.56000000000000005,5,0.32,0.91,13,1.24,1.7,42,2.97,5.3,27,4.01,3,21,1.83,2.3199999999999998,48,7.1,6.2,19,1.33,2.06,22,2.75,2.4,13,1.24,1.7,19,1.33,2.06,16,1.58,1.83,1,0.22,0.51,46,5.9,6.1,49,3.94,6.8,4,0.32,0.75,38,3.61,4.7,49,3.94,6.8,15,1.3,1.8,19,1.33,2.06,21,1.83,2.3199999999999998,12,2.16,1.6,14,1.1599999999999999,1.72,6,0.38,0.96,51,20,15,39,4.1900000000000004,4.8899999999999997,2,0.22,0.56000000000000005,27,4.01,3,39,4.1900000000000004,4.8899999999999997,47,2.34,6.2,48,7.1,6.2,2,0.22,0.56000000000000005,11,0.91,1.3,11,0.91,1.3,32,2.83,3.77,18,1.32,2,6,0.38,0.96,25,3.68,2.88,50,4.5,6.8,19,1.33,2.06,23,1.1499999999999999,2.5,42,2.97,5.3,6,0.38,0.96,16,1.58,1.83,24,1.7,2.8,26,2.15,2.91,21,1.83,2.3199999999999998,32,2.83,3.77,36,2.2799999999999998,4.0999999999999996,6,0.38,0.96,26,2.15,2.91,51,20,15,null,null,null,null,null,null,null,null,null,null,null,null,null,null,null,null,null,null,null,null,null,null,null,null,null,null,null,null,null,null,null,null,{"$error":"#N/A"}]
[null,null,24,1.7,2.8,null,null,0,0,null,null,null,null,null,null,null,null,null,null,null,null,null,null,null,null,null,null,null,null,-2.0878285924061304,1.5137440097695594,-2.1889840770516664,2.2170727321822894,null,{"$error":"#DIV/0!"},{"$error":"#DIV/0!"},{"$error":"#DIV/0!"},{"$error":"#DIV/0!"},null,31,28,"","",null,2.25,1.0999999999999999,null,2.25,1.0999999999999999,null,1.32,2,4,0.32,0.75,3,0.46,0.7,18,1.32,2,4,0.32,0.75,6,0.38,0.96,7,0.4,1.05,48,7.1,6.2,1,0.22,0.51,23,1.1499999999999999,2.5,44,3.4,5.8,44,3.4,5.8,29,2.4,3.5,24,1.7,2.8,23,1.1499999999999999,2.5,8,1.68,1.1299999999999999,30,3.4,3.7,45,5.2,5.8,21,1.83,2.3199999999999998,8,1.68,1.1299999999999999,10,1.1200000000000001,1.2,31,1.56,3.71,25,3.68,2.88,20,2.06,2.23,38,3.61,4.7,41,5.95,5.0999999999999996,34,3.4,4,34,3.4,4,43,3.79,5.65,46,5.9,6.1,9,0.6,1.18,1,0.22,0.51,19,1.33,2.06,30,3.4,3.7,25,3.68,2.88,39,4.1900000000000004,4.8899999999999997,22,2.75,2.4,40,5.16,4.92,20,2.06,2.23,23,1.1499999999999999,2.5,20,2.06,2.23,34,3.4,4,42,2.97,5.3,45,5.2,5.8,44,3.4,5.8,33,4.28,3.99,3,0.46,0.7,5,0.32,0.91,37,3.7,4.2,22,2.75,2.4,28,2.8,3.4,22,2.75,2.4,3,0.46,0.7,47,2.34,6.2,3,0.46,0.7,19,1.33,2.06,12,2.16,1.6,15,1.3,1.8,30,3.4,3.7,40,5.16,4.92,46,5.9,6.1,51,20,15,17,1.3,1.89,35,2.83,4.0199999999999996,45,5.2,5.8,35,2.83,4.0199999999999996,42,2.97,5.3,19,1.33,2.06,15,1.3,1.8,14,1.1599999999999999,1.72,40,5.16,4.92,22,2.75,2.4,27,4.01,3,49,3.94,6.8,9,0.6,1.18,31,1.56,3.71,9,0.6,1.18,9,0.6,1.18,15,1.3,1.8,51,20,15,6,0.38,0.96,29,2.4,3.5,29,2.4,3.5,45,5.2,5.8,22,2.75,2.4,4,0.32,0.75,40,5.16,4.92,42,2.97,5.3,26,2.15,2.91,46,5.9,6.1,45,5.2,5.8,32,2.83,3.77,49,3.94,6.8,22,2.75,2.4,8,1.68,1.1299999999999999,16,1.58,1.83,34,3.4,4,18,1.32,2,2,0.22,0.56000000000000005,10,1.1200000000000001,1.2,35,2.83,4.0199999999999996,31,1.56,3.71,16,1.58,1.83,43,3.79,5.65,22,2.75,2.4,18,1.32,2,48,7.1,6.2,3,0.46,0.7,26,2.15,2.91,1,0.22,0.51,9,0.6,1.18,44,3.4,5.8,39,4.1900000000000004,4.8899999999999997,14,1.1599999999999999,1.72,25,3.68,2.88,29,2.4,3.5,17,1.3,1.89,4,0.32,0.75,32,2.83,3.77,38,3.61,4.7,28,2.8,3.4,29,2.4,3.5,30,3.4,3.7,8,1.68,1.1299999999999999,3,0.46,0.7,9,0.6,1.18,31,1.56,3.71,46,5.9,6.1,36,2.2799999999999998,4.0999999999999996,31,1.56,3.71,8,1.68,1.1299999999999999,12,2.16,1.6,31,1.56,3.71,39,4.1900000000000004,4.8899999999999997,51,20,15,37,3.7,4.2,6,0.38,0.96,41,5.95,5.0999999999999996,5,0.32,0.91,10,1.1200000000000001,1.2,44,3.4,5.8,10,1.1200000000000001,1.2,36,2.2799999999999998,4.0999999999999996,34,3.4,4,36,2.2799999999999998,4.0999999999999996,29,2.4,3.5,15,1.3,1.8,23,1.1499999999999999,2.5,38,3.61,4.7,46,5.9,6.1,32,2.83,3.77,5,0.32,0.91,19,1.33,2.06,16,1.58,1.83,35,2.83,4.0199999999999996,21,1.83,2.3199999999999998,9,0.6,1.18,14,1.1599999999999999,1.72,36,2.2799999999999998,4.0999999999999996,22,2.75,2.4,1,0.22,0.51,23,1.1499999999999999,2.5,9,0.6,1.18,24,1.7,2.8,2,0.22,0.56000000000000005,38,3.61,4.7,42,2.97,5.3,4,0.32,0.75,29,2.4,3.5,18,1.32,2,33,4.28,3.99,2,0.22,0.56000000000000005,12,2.16,1.6,36,2.2799999999999998,4.0999999999999996,45,5.2,5.8,22,2.75,2.4,46,5.9,6.1,23,1.1499999999999999,2.5,51,20,15,28,2.8,3.4,35,2.83,4.0199999999999996,28,2.8,3.4,40,5.16,4.92,47,2.34,6.2,48,7.1,6.2,8,1.68,1.1299999999999999,9,0.6,1.18,19,1.33,2.06,15,1.3,1.8,36,2.2799999999999998,4.0999999999999996,23,1.1499999999999999,2.5,47,2.34,6.2,31,1.56,3.71,44,3.4,5.8,4,0.32,0.75,47,2.34,6.2,50,4.5,6.8,29,2.4,3.5,40,5.16,4.92,45,5.2,5.8,40,5.16,4.92,50,4.5,6.8,29,2.4,3.5,31,1.56,3.71,32,2.83,3.77,28,2.8,3.4,35,2.83,4.0199999999999996,8,1.68,1.1299999999999999,19,1.33,2.06,47,2.34,6.2,31,1.56,3.71,43,3.79,5.65,7,0.4,1.05,2,0.22,0.56000000000000005,4,0.32,0.75,10,1.1200000000000001,1.2,15,1.3,1.8,4,0.32,0.75,4,0.32,0.75,1,0.22,0.51,23,1.1499999999999999,2.5,24,1.7,2.8,43,3.79,5.65,20,2.06,2.23,24,1.7,2.8,44,3.4,5.8,44,3.4,5.8,29,2.4,3.5,23,1.1499999999999999,2.5,11,0.91,1.3,46,5.9,6.1,7,0.4,1.05,39,4.1900000000000004,4.8899999999999997,35,2.83,4.0199999999999996,47,2.34,6.2,44,3.4,5.8,2,0.22,0.56000000000000005,36,2.2799999999999998,4.0999999999999996,8,1.68,1.1299999999999999,43,3.79,5.65,6,0.38,0.96,49,3.94,6.8,5,0.32,0.91,18,1.32,2,6,0.38,0.96,18,1.32,2,26,2.15,2.91,47,2.34,6.2,21,1.83,2.3199999999999998,4,0.32,0.75,18,1.32,2,20,2.06,2.23,32,2.83,3.77,28,2.8,3.4,45,5.2,5.8,40,5.16,4.92,30,3.4,3.7,23,1.1499999999999999,2.5,29,2.4,3.5,22,2.75,2.4,22,2.75,2.4,36,2.2799999999999998,4.0999999999999996,8,1.68,1.1299999999999999,43,3.79,5.65,27,4.01,3,25,3.68,2.88,33,4.28,3.99,43,3.79,5.65,24,1.7,2.8,11,0.91,1.3,13,1.24,1.7,25,3.68,2.88,6,0.38,0.96,30,3.4,3.7,25,3.68,2.88,3,0.46,0.7,32,2.83,3.77,26,2.15,2.91,5,0.32,0.91,6,0.38,0.96,16,1.58,1.83,8,1.68,1.1299999999999999,1,0.22,0.51,24,1.7,2.8,41,5.95,5.0999999999999996,50,4.5,6.8,28,2.8,3.4,8,1.68,1.1299999999999999,50,4.5,6.8,31,1.56,3.71,8,1.68,1.1299999999999999,25,3.68,2.88,48,7.1,6.2,1,0.22,0.51,28,2.8,3.4,1,0.22,0.51,2,0.22,0.56000000000000005,18,1.32,2,39,4.1900000000000004,4.8899999999999997,27,4.01,3,47,2.34,6.2,3,0.46,0.7,51,20,15,4,0.32,0.75,21,1.83,2.3199999999999998,40,5.16,4.92,40,5.16,4.92,50,4.5,6.8,32,2.83,3.77,25,3.68,2.88,41,5.95,5.0999999999999996,39,4.1900000000000004,4.8899999999999997,49,3.94,6.8,17,1.3,1.89,5,0.32,0.91,13,1.24,1.7,1,0.22,0.51,37,3.7,4.2,45,5.2,5.8,25,3.68,2.88,33,4.28,3.99,19,1.33,2.06,32,2.83,3.77,39,4.1900000000000004,4.8899999999999997,49,3.94,6.8,9,0.6,1.18,5,0.32,0.91,33,4.28,3.99,17,1.3,1.89,16,1.58,1.83,14,1.1599999999999999,1.72,46,5.9,6.1,19,1.33,2.06,11,0.91,1.3,21,1.83,2.3199999999999998,32,2.83,3.77,49,3.94,6.8,30,3.4,3.7,49,3.94,6.8,5,0.32,0.91,9,0.6,1.18,16,1.58,1.83,35,2.83,4.0199999999999996,45,5.2,5.8,20,2.06,2.23,29,2.4,3.5,29,2.4,3.5,38,3.61,4.7,13,1.24,1.7,41,5.95,5.0999999999999996,43,3.79,5.65,39,4.1900000000000004,4.8899999999999997,30,3.4,3.7,35,2.83,4.0199999999999996,51,20,15,12,2.16,1.6,26,2.15,2.91,8,1.68,1.1299999999999999,41,5.95,5.0999999999999996,37,3.7,4.2,21,1.83,2.3199999999999998,18,1.32,2,10,1.1200000000000001,1.2,51,20,15,44,3.4,5.8,37,3.7,4.2,23,1.1499999999999999,2.5,7,0.4,1.05,39,4.1900000000000004,4.8899999999999997,49,3.94,6.8,2,0.22,0.56000000000000005,22,2.75,2.4,12,2.16,1.6,48,7.1,6.2,35,2.83,4.0199999999999996,22,2.75,2.4,30,3.4,3.7,46,5.9,6.1,22,2.75,2.4,48,7.1,6.2,25,3.68,2.88,12,2.16,1.6,23,1.1499999999999999,2.5,51,20,15,40,5.16,4.92,31,1.56,3.71,14,1.1599999999999999,1.72,47,2.34,6.2,29,2.4,3.5,49,3.94,6.8,32,2.83,3.77,13,1.24,1.7,12,2.16,1.6,24,1.7,2.8,26,2.15,2.91,41,5.95,5.0999999999999996,19,1.33,2.06,29,2.4,3.5,7,0.4,1.05,31,1.56,3.71,44,3.4,5.8,46,5.9,6.1,51,20,15,50,4.5,6.8,41,5.95,5.0999999999999996,22,2.75,2.4,44,3.4,5.8,23,1.1499999999999999,2.5,29,2.4,3.5,16,1.58,1.83,35,2.83,4.0199999999999996,43,3.79,5.65,39,4.1900000000000004,4.8899999999999997,50,4.5,6.8,36,2.2799999999999998,4.0999999999999996,10,1.1200000000000001,1.2,13,1.24,1.7,5,0.32,0.91,23,1.1499999999999999,2.5,42,2.97,5.3,8,1.68,1.1299999999999999,31,1.56,3.71,31,1.56,3.71,13,1.24,1.7,43,3.79,5.65,34,3.4,4,10,1.1200000000000001,1.2,16,1.58,1.83,46,5.9,6.1,37,3.7,4.2,23,1.1499999999999999,2.5,2,0.22,0.56000000000000005,11,0.91,1.3,22,2.75,2.4,44,3.4,5.8,37,3.7,4.2,46,5.9,6.1,38,3.61,4.7,8,1.68,1.1299999999999999,47,2.34,6.2,15,1.3,1.8,41,5.95,5.0999999999999996,17,1.3,1.89,23,1.1499999999999999,2.5,2,0.22,0.56000000000000005,3,0.46,0.7,31,1.56,3.71,18,1.32,2,51,20,15,9,0.6,1.18,26,2.15,2.91,47,2.34,6.2,13,1.24,1.7,4,0.32,0.75,38,3.61,4.7,36,2.2799999999999998,4.0999999999999996,11,0.91,1.3,49,3.94,6.8,15,1.3,1.8,27,4.01,3,23,1.1499999999999999,2.5,11,0.91,1.3,22,2.75,2.4,21,1.83,2.3199999999999998,43,3.79,5.65,28,2.8,3.4,32,2.83,3.77,34,3.4,4,26,2.15,2.91,45,5.2,5.8,31,1.56,3.71,44,3.4,5.8,41,5.95,5.0999999999999996,19,1.33,2.06,19,1.33,2.06,40,5.16,4.92,18,1.32,2,24,1.7,2.8,8,1.68,1.1299999999999999,24,1.7,2.8,1,0.22,0.51,42,2.97,5.3,23,1.1499999999999999,2.5,12,2.16,1.6,45,5.2,5.8,20,2.06,2.23,51,20,15,32,2.83,3.77,18,1.32,2,16,1.58,1.83,40,5.16,4.92,23,1.1499999999999999,2.5,1,0.22,0.51,3,0.46,0.7,3,0.46,0.7,38,3.61,4.7,38,3.61,4.7,13,1.24,1.7,14,1.1599999999999999,1.72,43,3.79,5.65,33,4.28,3.99,44,3.4,5.8,null,null,null,null,null,null,null,null,null,null,null,null,null,null,null,null,null,null,null,null,null,null,null,null,null,null,null,null,null,null,null,null,{"$error":"#N/A"}]
[null,null,25,3.68,2.88,null,null,0,0,null,"Sy･x","→",{"$f":"(($N$23-2*M26*$N$21+M26^2*$N$22)/($M$5-2))^0.5","v":1.0419280823180048},null,{"$f":"(($P$23-2*O26*$P$21+O26^2*$P$22)/($O$5-2))^0.5","v":{"$error":"#NUM!"}},null,null,null,null,null,null,null,null,null,null,null,null,null,null,-1.9911891236584516,1.6177478601981456,-2.146306941924164,2.253793167780104,null,{"$error":"#DIV/0!"},{"$error":"#DIV/0!"},{"$error":"#DIV/0!"},{"$error":"#DIV/0!"},null,14,27,"","",null,3.2800000000000002,-0.80000000000000027,null,3.2800000000000002,-0.80000000000000027,null,1.33,2.06,19,1.33,2.06,42,2.97,5.3,29,2.4,3.5,27,4.01,3,19,1.33,2.06,22,2.75,2.4,31,1.56,3.71,35,2.83,4.0199999999999996,44,3.4,5.8,23,1.1499999999999999,2.5,49,3.94,6.8,18,1.32,2,27,4.01,3,6,0.38,0.96,24,1.7,2.8,47,2.34,6.2,20,2.06,2.23,51,20,15,11,0.91,1.3,3,0.46,0.7,32,2.83,3.77,44,3.4,5.8,29,2.4,3.5,34,3.4,4,38,3.61,4.7,38,3.61,4.7,6,0.38,0.96,47,2.34,6.2,22,2.75,2.4,49,3.94,6.8,36,2.2799999999999998,4.0999999999999996,10,1.1200000000000001,1.2,36,2.2799999999999998,4.0999999999999996,51,20,15,23,1.1499999999999999,2.5,10,1.1200000000000001,1.2,38,3.61,4.7,35,2.83,4.0199999999999996,35,2.83,4.0199999999999996,42,2.97,5.3,3,0.46,0.7,1,0.22,0.51,51,20,15,11,0.91,1.3,18,1.32,2,16,1.58,1.83,12,2.16,1.6,40,5.16,4.92,30,3.4,3.7,4,0.32,0.75,27,4.01,3,11,0.91,1.3,51,20,15,7,0.4,1.05,10,1.1200000000000001,1.2,20,2.06,2.23,3,0.46,0.7,25,3.68,2.88,43,3.79,5.65,25,3.68,2.88,26,2.15,2.91,22,2.75,2.4,16,1.58,1.83,46,5.9,6.1,14,1.1599999999999999,1.72,26,2.15,2.91,36,2.2799999999999998,4.0999999999999996,16,1.58,1.83,32,2.83,3.77,25,3.68,2.88,19,1.33,2.06,32,2.83,3.77,1,0.22,0.51,21,1.83,2.3199999999999998,46,5.9,6.1,51,20,15,8,1.68,1.1299999999999999,29,2.4,3.5,8,1.68,1.1299999999999999,42,2.97,5.3,2,0.22,0.56000000000000005,25,3.68,2.88,11,0.91,1.3,40,5.16,4.92,45,5.2,5.8,50,4.5,6.8,23,1.1499999999999999,2.5,41,5.95,5.0999999999999996,7,0.4,1.05,2,0.22,0.56000000000000005,22,2.75,2.4,51,20,15,29,2.4,3.5,50,4.5,6.8,2,0.22,0.56000000000000005,41,5.95,5.0999999999999996,6,0.38,0.96,16,1.58,1.83,17,1.3,1.89,45,5.2,5.8,51,20,15,44,3.4,5.8,35,2.83,4.0199999999999996,7,0.4,1.05,37,3.7,4.2,32,2.83,3.77,35,2.83,4.0199999999999996,37,3.7,4.2,50,4.5,6.8,46,5.9,6.1,10,1.1200000000000001,1.2,4,0.32,0.75,38,3.61,4.7,11,0.91,1.3,15,1.3,1.8,42,2.97,5.3,13,1.24,1.7,19,1.33,2.06,17,1.3,1.89,46,5.9,6.1,50,4.5,6.8,21,1.83,2.3199999999999998,47,2.34,6.2,23,1.1499999999999999,2.5,32,2.83,3.77,30,3.4,3.7,45,5.2,5.8,45,5.2,5.8,10,1.1200000000000001,1.2,23,1.1499999999999999,2.5,18,1.32,2,45,5.2,5.8,45,5.2,5.8,40,5.16,4.92,32,2.83,3.77,17,1.3,1.89,9,0.6,1.18,33,4.28,3.99,18,1.32,2,20,2.06,2.23,41,5.95,5.0999999999999996,15,1.3,1.8,18,1.32,2,26,2.15,2.91,36,2.2799999999999998,4.0999999999999996,13,1.24,1.7,38,3.61,4.7,15,1.3,1.8,7,0.4,1.05,18,1.32,2,43,3.79,5.65,35,2.83,4.0199999999999996,29,2.4,3.5,30,3.4,3.7,14,1.1599999999999999,1.72,43,3.79,5.65,36,2.2799999999999998,4.0999999999999996,13,1.24,1.7,44,3.4,5.8,8,1.68,1.1299999999999999,27,4.01,3,46,5.9,6.1,37,3.7,4.2,16,1.58,1.83,14,1.1599999999999999,1.72,15,1.3,1.8,11,0.91,1.3,11,0.91,1.3,20,2.06,2.23,25,3.68,2.88,46,5.9,6.1,1,0.22,0.51,32,2.83,3.77,38,3.61,4.7,34,3.4,4,6,0.38,0.96,47,2.34,6.2,32,2.83,3.77,29,2.4,3.5,11,0.91,1.3,27,4.01,3,45,5.2,5.8,50,4.5,6.8,9,0.6,1.18,46,5.9,6.1,30,3.4,3.7,26,2.15,2.91,9,0.6,1.18,40,5.16,4.92,51,20,15,50,4.5,6.8,32,2.83,3.77,6,0.38,0.96,34,3.4,4,26,2.15,2.91,10,1.1200000000000001,1.2,8,1.68,1.1299999999999999,19,1.33,2.06,21,1.83,2.3199999999999998,41,5.95,5.0999999999999996,18,1.32,2,7,0.4,1.05,17,1.3,1.89,29,2.4,3.5,23,1.1499999999999999,2.5,14,1.1599999999999999,1.72,4,0.32,0.75,48,7.1,6.2,20,2.06,2.23,15,1.3,1.8,40,5.16,4.92,29,2.4,3.5,21,1.83,2.3199999999999998,51,20,15,39,4.1900000000000004,4.8899999999999997,18,1.32,2,51,20,15,20,2.06,2.23,32,2.83,3.77,23,1.1499999999999999,2.5,44,3.4,5.8,41,5.95,5.0999999999999996,11,0.91,1.3,15,1.3,1.8,50,4.5,6.8,38,3.61,4.7,33,4.28,3.99,27,4.01,3,28,2.8,3.4,51,20,15,13,1.24,1.7,3,0.46,0.7,4,0.32,0.75,31,1.56,3.71,32,2.83,3.77,3,0.46,0.7,14,1.1599999999999999,1.72,44,3.4,5.8,33,4.28,3.99,48,7.1,6.2,6,0.38,0.96,14,1.1599999999999999,1.72,19,1.33,2.06,18,1.32,2,42,2.97,5.3,34,3.4,4,8,1.68,1.1299999999999999,11,0.91,1.3,43,3.79,5.65,2,0.22,0.56000000000000005,32,2.83,3.77,34,3.4,4,48,7.1,6.2,35,2.83,4.0199999999999996,30,3.4,3.7,7,0.4,1.05,4,0.32,0.75,7,0.4,1.05,9,0.6,1.18,15,1.3,1.8,23,1.1499999999999999,2.5,11,0.91,1.3,37,3.7,4.2,1,0.22,0.51,29,2.4,3.5,46,5.9,6.1,42,2.97,5.3,26,2.15,2.91,6,0.38,0.96,27,4.01,3,17,1.3,1.89,7,0.4,1.05,5,0.32,0.91,30,3.4,3.7,17,1.3,1.89,30,3.4,3.7,37,3.7,4.2,46,5.9,6.1,10,1.1200000000000001,1.2,39,4.1900000000000004,4.8899999999999997,23,1.1499999999999999,2.5,25,3.68,2.88,25,3.68,2.88,42,2.97,5.3,2,0.22,0.56000000000000005,32,2.83,3.77,5,0.32,0.91,10,1.1200000000000001,1.2,22,2.75,2.4,44,3.4,5.8,4,0.32,0.75,26,2.15,2.91,44,3.4,5.8,50,4.5,6.8,42,2.97,5.3,35,2.83,4.0199999999999996,40,5.16,4.92,1,0.22,0.51,45,5.2,5.8,45,5.2,5.8,49,3.94,6.8,12,2.16,1.6,7,0.4,1.05,27,4.01,3,17,1.3,1.89,11,0.91,1.3,35,2.83,4.0199999999999996,14,1.1599999999999999,1.72,6,0.38,0.96,36,2.2799999999999998,4.0999999999999996,43,3.79,5.65,1,0.22,0.51,41,5.95,5.0999999999999996,38,3.61,4.7,12,2.16,1.6,47,2.34,6.2,7,0.4,1.05,32,2.83,3.77,37,3.7,4.2,21,1.83,2.3199999999999998,2,0.22,0.56000000000000005,46,5.9,6.1,19,1.33,2.06,8,1.68,1.1299999999999999,39,4.1900000000000004,4.8899999999999997,16,1.58,1.83,27,4.01,3,1,0.22,0.51,40,5.16,4.92,48,7.1,6.2,42,2.97,5.3,11,0.91,1.3,41,5.95,5.0999999999999996,2,0.22,0.56000000000000005,4,0.32,0.75,6,0.38,0.96,41,5.95,5.0999999999999996,8,1.68,1.1299999999999999,20,2.06,2.23,20,2.06,2.23,1,0.22,0.51,4,0.32,0.75,7,0.4,1.05,49,3.94,6.8,47,2.34,6.2,42,2.97,5.3,45,5.2,5.8,50,4.5,6.8,11,0.91,1.3,36,2.2799999999999998,4.0999999999999996,24,1.7,2.8,43,3.79,5.65,46,5.9,6.1,12,2.16,1.6,2,0.22,0.56000000000000005,12,2.16,1.6,9,0.6,1.18,11,0.91,1.3,45,5.2,5.8,3,0.46,0.7,26,2.15,2.91,34,3.4,4,33,4.28,3.99,24,1.7,2.8,33,4.28,3.99,45,5.2,5.8,8,1.68,1.1299999999999999,45,5.2,5.8,28,2.8,3.4,21,1.83,2.3199999999999998,26,2.15,2.91,48,7.1,6.2,22,2.75,2.4,51,20,15,2,0.22,0.56000000000000005,30,3.4,3.7,40,5.16,4.92,37,3.7,4.2,20,2.06,2.23,49,3.94,6.8,17,1.3,1.89,43,3.79,5.65,18,1.32,2,24,1.7,2.8,1,0.22,0.51,46,5.9,6.1,4,0.32,0.75,39,4.1900000000000004,4.8899999999999997,4,0.32,0.75,35,2.83,4.0199999999999996,44,3.4,5.8,40,5.16,4.92,51,20,15,12,2.16,1.6,18,1.32,2,34,3.4,4,26,2.15,2.91,42,2.97,5.3,18,1.32,2,43,3.79,5.65,28,2.8,3.4,50,4.5,6.8,50,4.5,6.8,49,3.94,6.8,18,1.32,2,26,2.15,2.91,30,3.4,3.7,46,5.9,6.1,21,1.83,2.3199999999999998,22,2.75,2.4,39,4.1900000000000004,4.8899999999999997,45,5.2,5.8,22,2.75,2.4,3,0.46,0.7,19,1.33,2.06,14,1.1599999999999999,1.72,20,2.06,2.23,45,5.2,5.8,25,3.68,2.88,38,3.61,4.7,26,2.15,2.91,37,3.7,4.2,24,1.7,2.8,11,0.91,1.3,13,1.24,1.7,31,1.56,3.71,47,2.34,6.2,42,2.97,5.3,18,1.32,2,41,5.95,5.0999999999999996,35,2.83,4.0199999999999996,51,20,15,40,5.16,4.92,44,3.4,5.8,43,3.79,5.65,20,2.06,2.23,39,4.1900000000000004,4.8899999999999997,29,2.4,3.5,39,4.1900000000000004,4.8899999999999997,47,2.34,6.2,40,5.16,4.92,49,3.94,6.8,2,0.22,0.56000000000000005,38,3.61,4.7,27,4.01,3,17,1.3,1.89,26,2.15,2.91,14,1.1599999999999999,1.72,51,20,15,9,0.6,1.18,15,1.3,1.8,8,1.68,1.1299999999999999,22,2.75,2.4,17,1.3,1.89,36,2.2799999999999998,4.0999999999999996,16,1.58,1.83,13,1.24,1.7,40,5.16,4.92,19,1.33,2.06,46,5.9,6.1,11,0.91,1.3,44,3.4,5.8,7,0.4,1.05,18,1.32,2,15,1.3,1.8,4,0.32,0.75,4,0.32,0.75,14,1.1599999999999999,1.72,36,2.2799999999999998,4.0999999999999996,11,0.91,1.3,29,2.4,3.5,32,2.83,3.77,46,5.9,6.1,16,1.58,1.83,10,1.1200000000000001,1.2,28,2.8,3.4,33,4.28,3.99,34,3.4,4,40,5.16,4.92,24,1.7,2.8,45,5.2,5.8,41,5.95,5.0999999999999996,24,1.7,2.8,1,0.22,0.51,43,3.79,5.65,25,3.68,2.88,30,3.4,3.7,6,0.38,0.96,51,20,15,40,5.16,4.92,37,3.7,4.2,48,7.1,6.2,4,0.32,0.75,50,4.5,6.8,37,3.7,4.2,45,5.2,5.8,2,0.22,0.56000000000000005,30,3.4,3.7,36,2.2799999999999998,4.0999999999999996,31,1.56,3.71,6,0.38,0.96,null,null,null,null,null,null,null,null,null,null,null,null,null,null,null,null,null,null,null,null,null,null,null,null,null,null,null,null,null,null,null,null,{"$error":"#N/A"}]
[null,null,26,2.15,2.91,null,null,0,0,null,"s","→",{"$f":"M29/(1+M26^2)^0.5","v":0.82998006167968175},null,{"$f":"O29/(1+O26^2)^0.5","v":{"$error":"#NUM!"}},null,null,null,null,null,null,null,null,null,null,null,null,null,null,-1.8945496549107728,1.7206672288684706,-2.1025453250383999,2.2892148988128453,null,{"$error":"#DIV/0!"},{"$error":"#DIV/0!"},{"$error":"#DIV/0!"},{"$error":"#DIV/0!"},null,28,26,"","",null,2.5300000000000002,0.76000000000000023,null,2.5300000000000002,0.76000000000000023,null,2.06,2.23,38,3.61,4.7,23,1.1499999999999999,2.5,30,3.4,3.7,29,2.4,3.5,17,1.3,1.89,3,0.46,0.7,4,0.32,0.75,3,0.46,0.7,28,2.8,3.4,30,3.4,3.7,37,3.7,4.2,8,1.68,1.1299999999999999,12,2.16,1.6,9,0.6,1.18,49,3.94,6.8,29,2.4,3.5,24,1.7,2.8,11,0.91,1.3,26,2.15,2.91,19,1.33,2.06,29,2.4,3.5,17,1.3,1.89,16,1.58,1.83,41,5.95,5.0999999999999996,7,0.4,1.05,23,1.1499999999999999,2.5,31,1.56,3.71,20,2.06,2.23,51,20,15,35,2.83,4.0199999999999996,41,5.95,5.0999999999999996,46,5.9,6.1,12,2.16,1.6,24,1.7,2.8,33,4.28,3.99,18,1.32,2,9,0.6,1.18,22,2.75,2.4,4,0.32,0.75,1,0.22,0.51,20,2.06,2.23,22,2.75,2.4,16,1.58,1.83,21,1.83,2.3199999999999998,38,3.61,4.7,34,3.4,4,41,5.95,5.0999999999999996,17,1.3,1.89,16,1.58,1.83,26,2.15,2.91,13,1.24,1.7,38,3.61,4.7,20,2.06,2.23,30,3.4,3.7,32,2.83,3.77,49,3.94,6.8,31,1.56,3.71,42,2.97,5.3,7,0.4,1.05,25,3.68,2.88,39,4.1900000000000004,4.8899999999999997,17,1.3,1.89,11,0.91,1.3,6,0.38,0.96,48,7.1,6.2,28,2.8,3.4,30,3.4,3.7,42,2.97,5.3,25,3.68,2.88,4,0.32,0.75,11,0.91,1.3,46,5.9,6.1,50,4.5,6.8,43,3.79,5.65,15,1.3,1.8,44,3.4,5.8,13,1.24,1.7,49,3.94,6.8,14,1.1599999999999999,1.72,26,2.15,2.91,20,2.06,2.23,43,3.79,5.65,45,5.2,5.8,41,5.95,5.0999999999999996,36,2.2799999999999998,4.0999999999999996,7,0.4,1.05,3,0.46,0.7,3,0.46,0.7,41,5.95,5.0999999999999996,38,3.61,4.7,1,0.22,0.51,40,5.16,4.92,26,2.15,2.91,40,5.16,4.92,12,2.16,1.6,38,3.61,4.7,46,5.9,6.1,34,3.4,4,20,2.06,2.23,49,3.94,6.8,16,1.58,1.83,2,0.22,0.56000000000000005,23,1.1499999999999999,2.5,36,2.2799999999999998,4.0999999999999996,16,1.58,1.83,40,5.16,4.92,31,1.56,3.71,25,3.68,2.88,38,3.61,4.7,3,0.46,0.7,18,1.32,2,5,0.32,0.91,36,2.2799999999999998,4.0999999999999996,12,2.16,1.6,18,1.32,2,28,2.8,3.4,26,2.15,2.91,51,20,15,31,1.56,3.71,4,0.32,0.75,38,3.61,4.7,11,0.91,1.3,15,1.3,1.8,13,1.24,1.7,13,1.24,1.7,1,0.22,0.51,44,3.4,5.8,41,5.95,5.0999999999999996,4,0.32,0.75,43,3.79,5.65,3,0.46,0.7,40,5.16,4.92,31,1.56,3.71,15,1.3,1.8,40,5.16,4.92,22,2.75,2.4,19,1.33,2.06,14,1.1599999999999999,1.72,16,1.58,1.83,15,1.3,1.8,12,2.16,1.6,48,7.1,6.2,2,0.22,0.56000000000000005,6,0.38,0.96,14,1.1599999999999999,1.72,35,2.83,4.0199999999999996,36,2.2799999999999998,4.0999999999999996,48,7.1,6.2,41,5.95,5.0999999999999996,8,1.68,1.1299999999999999,13,1.24,1.7,1,0.22,0.51,22,2.75,2.4,12,2.16,1.6,46,5.9,6.1,45,5.2,5.8,50,4.5,6.8,4,0.32,0.75,6,0.38,0.96,15,1.3,1.8,26,2.15,2.91,3,0.46,0.7,29,2.4,3.5,14,1.1599999999999999,1.72,20,2.06,2.23,43,3.79,5.65,13,1.24,1.7,5,0.32,0.91,9,0.6,1.18,17,1.3,1.89,18,1.32,2,14,1.1599999999999999,1.72,36,2.2799999999999998,4.0999999999999996,33,4.28,3.99,17,1.3,1.89,30,3.4,3.7,4,0.32,0.75,10,1.1200000000000001,1.2,47,2.34,6.2,2,0.22,0.56000000000000005,30,3.4,3.7,31,1.56,3.71,2,0.22,0.56000000000000005,46,5.9,6.1,44,3.4,5.8,41,5.95,5.0999999999999996,46,5.9,6.1,36,2.2799999999999998,4.0999999999999996,35,2.83,4.0199999999999996,47,2.34,6.2,50,4.5,6.8,11,0.91,1.3,9,0.6,1.18,17,1.3,1.89,49,3.94,6.8,23,1.1499999999999999,2.5,34,3.4,4,36,2.2799999999999998,4.0999999999999996,42,2.97,5.3,35,2.83,4.0199999999999996,37,3.7,4.2,47,2.34,6.2,40,5.16,4.92,22,2.75,2.4,9,0.6,1.18,7,0.4,1.05,13,1.24,1.7,23,1.1499999999999999,2.5,5,0.32,0.91,38,3.61,4.7,50,4.5,6.8,40,5.16,4.92,44,3.4,5.8,19,1.33,2.06,46,5.9,6.1,35,2.83,4.0199999999999996,1,0.22,0.51,47,2.34,6.2,13,1.24,1.7,35,2.83,4.0199999999999996,20,2.06,2.23,29,2.4,3.5,23,1.1499999999999999,2.5,28,2.8,3.4,5,0.32,0.91,34,3.4,4,11,0.91,1.3,15,1.3,1.8,22,2.75,2.4,44,3.4,5.8,27,4.01,3,10,1.1200000000000001,1.2,51,20,15,4,0.32,0.75,28,2.8,3.4,39,4.1900000000000004,4.8899999999999997,32,2.83,3.77,22,2.75,2.4,40,5.16,4.92,39,4.1900000000000004,4.8899999999999997,20,2.06,2.23,17,1.3,1.89,47,2.34,6.2,11,0.91,1.3,32,2.83,3.77,22,2.75,2.4,46,5.9,6.1,21,1.83,2.3199999999999998,46,5.9,6.1,31,1.56,3.71,49,3.94,6.8,44,3.4,5.8,4,0.32,0.75,51,20,15,27,4.01,3,16,1.58,1.83,12,2.16,1.6,2,0.22,0.56000000000000005,17,1.3,1.89,42,2.97,5.3,35,2.83,4.0199999999999996,16,1.58,1.83,16,1.58,1.83,32,2.83,3.77,1,0.22,0.51,40,5.16,4.92,36,2.2799999999999998,4.0999999999999996,13,1.24,1.7,3,0.46,0.7,27,4.01,3,47,2.34,6.2,25,3.68,2.88,46,5.9,6.1,50,4.5,6.8,37,3.7,4.2,17,1.3,1.89,44,3.4,5.8,40,5.16,4.92,1,0.22,0.51,3,0.46,0.7,28,2.8,3.4,42,2.97,5.3,2,0.22,0.56000000000000005,10,1.1200000000000001,1.2,39,4.1900000000000004,4.8899999999999997,13,1.24,1.7,12,2.16,1.6,26,2.15,2.91,31,1.56,3.71,23,1.1499999999999999,2.5,16,1.58,1.83,1,0.22,0.51,21,1.83,2.3199999999999998,4,0.32,0.75,12,2.16,1.6,50,4.5,6.8,39,4.1900000000000004,4.8899999999999997,1,0.22,0.51,11,0.91,1.3,48,7.1,6.2,24,1.7,2.8,22,2.75,2.4,35,2.83,4.0199999999999996,33,4.28,3.99,33,4.28,3.99,35,2.83,4.0199999999999996,19,1.33,2.06,6,0.38,0.96,31,1.56,3.71,23,1.1499999999999999,2.5,12,2.16,1.6,33,4.28,3.99,47,2.34,6.2,31,1.56,3.71,24,1.7,2.8,37,3.7,4.2,22,2.75,2.4,16,1.58,1.83,28,2.8,3.4,7,0.4,1.05,12,2.16,1.6,48,7.1,6.2,8,1.68,1.1299999999999999,46,5.9,6.1,33,4.28,3.99,7,0.4,1.05,14,1.1599999999999999,1.72,14,1.1599999999999999,1.72,13,1.24,1.7,42,2.97,5.3,4,0.32,0.75,41,5.95,5.0999999999999996,46,5.9,6.1,7,0.4,1.05,3,0.46,0.7,12,2.16,1.6,32,2.83,3.77,23,1.1499999999999999,2.5,46,5.9,6.1,30,3.4,3.7,42,2.97,5.3,21,1.83,2.3199999999999998,29,2.4,3.5,7,0.4,1.05,2,0.22,0.56000000000000005,48,7.1,6.2,14,1.1599999999999999,1.72,21,1.83,2.3199999999999998,5,0.32,0.91,8,1.68,1.1299999999999999,24,1.7,2.8,9,0.6,1.18,5,0.32,0.91,24,1.7,2.8,44,3.4,5.8,23,1.1499999999999999,2.5,19,1.33,2.06,26,2.15,2.91,21,1.83,2.3199999999999998,25,3.68,2.88,25,3.68,2.88,9,0.6,1.18,16,1.58,1.83,42,2.97,5.3,15,1.3,1.8,32,2.83,3.77,2,0.22,0.56000000000000005,12,2.16,1.6,44,3.4,5.8,13,1.24,1.7,15,1.3,1.8,37,3.7,4.2,27,4.01,3,34,3.4,4,1,0.22,0.51,29,2.4,3.5,45,5.2,5.8,41,5.95,5.0999999999999996,23,1.1499999999999999,2.5,15,1.3,1.8,38,3.61,4.7,41,5.95,5.0999999999999996,1,0.22,0.51,33,4.28,3.99,10,1.1200000000000001,1.2,2,0.22,0.56000000000000005,22,2.75,2.4,34,3.4,4,29,2.4,3.5,9,0.6,1.18,34,3.4,4,32,2.83,3.77,23,1.1499999999999999,2.5,4,0.32,0.75,47,2.34,6.2,2,0.22,0.56000000000000005,35,2.83,4.0199999999999996,47,2.34,6.2,32,2.83,3.77,34,3.4,4,17,1.3,1.89,5,0.32,0.91,28,2.8,3.4,27,4.01,3,37,3.7,4.2,12,2.16,1.6,30,3.4,3.7,47,2.34,6.2,24,1.7,2.8,12,2.16,1.6,50,4.5,6.8,17,1.3,1.89,19,1.33,2.06,13,1.24,1.7,8,1.68,1.1299999999999999,28,2.8,3.4,27,4.01,3,34,3.4,4,44,3.4,5.8,29,2.4,3.5,14,1.1599999999999999,1.72,7,0.4,1.05,2,0.22,0.56000000000000005,35,2.83,4.0199999999999996,8,1.68,1.1299999999999999,27,4.01,3,45,5.2,5.8,21,1.83,2.3199999999999998,3,0.46,0.7,2,0.22,0.56000000000000005,43,3.79,5.65,27,4.01,3,2,0.22,0.56000000000000005,51,20,15,33,4.28,3.99,1,0.22,0.51,21,1.83,2.3199999999999998,5,0.32,0.91,13,1.24,1.7,10,1.1200000000000001,1.2,41,5.95,5.0999999999999996,11,0.91,1.3,44,3.4,5.8,28,2.8,3.4,51,20,15,26,2.15,2.91,47,2.34,6.2,44,3.4,5.8,5,0.32,0.91,18,1.32,2,8,1.68,1.1299999999999999,8,1.68,1.1299999999999999,23,1.1499999999999999,2.5,20,2.06,2.23,26,2.15,2.91,35,2.83,4.0199999999999996,31,1.56,3.71,28,2.8,3.4,10,1.1200000000000001,1.2,50,4.5,6.8,22,2.75,2.4,48,7.1,6.2,34,3.4,4,41,5.95,5.0999999999999996,50,4.5,6.8,49,3.94,6.8,32,2.83,3.77,10,1.1200000000000001,1.2,30,3.4,3.7,14,1.1599999999999999,1.72,2,0.22,0.56000000000000005,20,2.06,2.23,44,3.4,5.8,38,3.61,4.7,6,0.38,0.96,48,7.1,6.2,31,1.56,3.71,28,2.8,3.4,16,1.58,1.83,31,1.56,3.71,47,2.34,6.2,4,0.32,0.75,16,1.58,1.83,21,1.83,2.3199999999999998,6,0.38,0.96,49,3.94,6.8,6,0.38,0.96,30,3.4,3.7,41,5.95,5.0999999999999996,5,0.32,0.91,45,5.2,5.8,36,2.2799999999999998,4.0999999999999996,40,5.16,4.92,32,2.83,3.77,5,0.32,0.91,26,2.15,2.91,8,1.68,1.1299999999999999,49,3.94,6.8,24,1.7,2.8,2,0.22,0.56000000000000005,13,1.24,1.7,null,null,null,null,null,null,null,null,null,null,null,null,null,null,null,null,null,null,null,null,null,null,null,null,null,null,null,null,null,null,null,null,{"$error":"#N/A"}]
[null,null,27,4.01,3,null,null,0,0,null,null,null,null,null,null,null,null,null,null,null,null,null,null,null,null,null,null,null,null,-1.7979101861630939,1.8225517173425989,-2.0577488279564391,2.3233973248735422,null,{"$error":"#DIV/0!"},{"$error":"#DIV/0!"},{"$error":"#DIV/0!"},{"$error":"#DIV/0!"},null,10,25,"","",null,3.5049999999999999,-1.0099999999999998,null,3.5049999999999999,-1.0099999999999998,null,1.83,2.3199999999999998,24,1.7,2.8,29,2.4,3.5,14,1.1599999999999999,1.72,3,0.46,0.7,49,3.94,6.8,15,1.3,1.8,47,2.34,6.2,27,4.01,3,19,1.33,2.06,5,0.32,0.91,48,7.1,6.2,3,0.46,0.7,10,1.1200000000000001,1.2,28,2.8,3.4,51,20,15,19,1.33,2.06,9,0.6,1.18,24,1.7,2.8,48,7.1,6.2,20,2.06,2.23,18,1.32,2,46,5.9,6.1,46,5.9,6.1,17,1.3,1.89,49,3.94,6.8,10,1.1200000000000001,1.2,13,1.24,1.7,31,1.56,3.71,25,3.68,2.88,45,5.2,5.8,34,3.4,4,47,2.34,6.2,36,2.2799999999999998,4.0999999999999996,41,5.95,5.0999999999999996,49,3.94,6.8,12,2.16,1.6,32,2.83,3.77,1,0.22,0.51,15,1.3,1.8,35,2.83,4.0199999999999996,25,3.68,2.88,44,3.4,5.8,3,0.46,0.7,40,5.16,4.92,41,5.95,5.0999999999999996,44,3.4,5.8,44,3.4,5.8,8,1.68,1.1299999999999999,16,1.58,1.83,44,3.4,5.8,30,3.4,3.7,41,5.95,5.0999999999999996,2,0.22,0.56000000000000005,47,2.34,6.2,19,1.33,2.06,44,3.4,5.8,11,0.91,1.3,19,1.33,2.06,30,3.4,3.7,42,2.97,5.3,18,1.32,2,38,3.61,4.7,43,3.79,5.65,17,1.3,1.89,12,2.16,1.6,45,5.2,5.8,3,0.46,0.7,18,1.32,2,42,2.97,5.3,43,3.79,5.65,18,1.32,2,5,0.32,0.91,20,2.06,2.23,49,3.94,6.8,4,0.32,0.75,49,3.94,6.8,22,2.75,2.4,40,5.16,4.92,45,5.2,5.8,35,2.83,4.0199999999999996,37,3.7,4.2,6,0.38,0.96,33,4.28,3.99,9,0.6,1.18,13,1.24,1.7,3,0.46,0.7,25,3.68,2.88,32,2.83,3.77,13,1.24,1.7,45,5.2,5.8,41,5.95,5.0999999999999996,25,3.68,2.88,14,1.1599999999999999,1.72,10,1.1200000000000001,1.2,11,0.91,1.3,23,1.1499999999999999,2.5,2,0.22,0.56000000000000005,41,5.95,5.0999999999999996,30,3.4,3.7,24,1.7,2.8,28,2.8,3.4,39,4.1900000000000004,4.8899999999999997,3,0.46,0.7,36,2.2799999999999998,4.0999999999999996,4,0.32,0.75,21,1.83,2.3199999999999998,51,20,15,32,2.83,3.77,6,0.38,0.96,15,1.3,1.8,4,0.32,0.75,47,2.34,6.2,21,1.83,2.3199999999999998,11,0.91,1.3,6,0.38,0.96,26,2.15,2.91,51,20,15,14,1.1599999999999999,1.72,14,1.1599999999999999,1.72,31,1.56,3.71,5,0.32,0.91,39,4.1900000000000004,4.8899999999999997,48,7.1,6.2,33,4.28,3.99,11,0.91,1.3,13,1.24,1.7,37,3.7,4.2,16,1.58,1.83,7,0.4,1.05,30,3.4,3.7,26,2.15,2.91,28,2.8,3.4,42,2.97,5.3,40,5.16,4.92,22,2.75,2.4,28,2.8,3.4,28,2.8,3.4,11,0.91,1.3,43,3.79,5.65,39,4.1900000000000004,4.8899999999999997,42,2.97,5.3,20,2.06,2.23,21,1.83,2.3199999999999998,45,5.2,5.8,21,1.83,2.3199999999999998,8,1.68,1.1299999999999999,51,20,15,42,2.97,5.3,14,1.1599999999999999,1.72,30,3.4,3.7,37,3.7,4.2,41,5.95,5.0999999999999996,36,2.2799999999999998,4.0999999999999996,50,4.5,6.8,50,4.5,6.8,13,1.24,1.7,10,1.1200000000000001,1.2,47,2.34,6.2,20,2.06,2.23,45,5.2,5.8,26,2.15,2.91,10,1.1200000000000001,1.2,43,3.79,5.65,31,1.56,3.71,32,2.83,3.77,46,5.9,6.1,23,1.1499999999999999,2.5,32,2.83,3.77,42,2.97,5.3,18,1.32,2,31,1.56,3.71,19,1.33,2.06,30,3.4,3.7,5,0.32,0.91,47,2.34,6.2,29,2.4,3.5,34,3.4,4,49,3.94,6.8,15,1.3,1.8,6,0.38,0.96,5,0.32,0.91,51,20,15,43,3.79,5.65,12,2.16,1.6,6,0.38,0.96,28,2.8,3.4,48,7.1,6.2,18,1.32,2,11,0.91,1.3,9,0.6,1.18,12,2.16,1.6,9,0.6,1.18,8,1.68,1.1299999999999999,34,3.4,4,30,3.4,3.7,32,2.83,3.77,49,3.94,6.8,6,0.38,0.96,7,0.4,1.05,46,5.9,6.1,44,3.4,5.8,43,3.79,5.65,13,1.24,1.7,23,1.1499999999999999,2.5,19,1.33,2.06,20,2.06,2.23,30,3.4,3.7,49,3.94,6.8,12,2.16,1.6,31,1.56,3.71,50,4.5,6.8,19,1.33,2.06,23,1.1499999999999999,2.5,26,2.15,2.91,31,1.56,3.71,45,5.2,5.8,15,1.3,1.8,24,1.7,2.8,41,5.95,5.0999999999999996,47,2.34,6.2,14,1.1599999999999999,1.72,1,0.22,0.51,12,2.16,1.6,10,1.1200000000000001,1.2,6,0.38,0.96,50,4.5,6.8,38,3.61,4.7,32,2.83,3.77,43,3.79,5.65,22,2.75,2.4,25,3.68,2.88,21,1.83,2.3199999999999998,35,2.83,4.0199999999999996,35,2.83,4.0199999999999996,42,2.97,5.3,51,20,15,9,0.6,1.18,15,1.3,1.8,21,1.83,2.3199999999999998,5,0.32,0.91,3,0.46,0.7,5,0.32,0.91,5,0.32,0.91,31,1.56,3.71,18,1.32,2,7,0.4,1.05,2,0.22,0.56000000000000005,38,3.61,4.7,14,1.1599999999999999,1.72,37,3.7,4.2,30,3.4,3.7,49,3.94,6.8,18,1.32,2,24,1.7,2.8,20,2.06,2.23,47,2.34,6.2,18,1.32,2,8,1.68,1.1299999999999999,16,1.58,1.83,30,3.4,3.7,12,2.16,1.6,43,3.79,5.65,25,3.68,2.88,8,1.68,1.1299999999999999,16,1.58,1.83,44,3.4,5.8,16,1.58,1.83,2,0.22,0.56000000000000005,2,0.22,0.56000000000000005,40,5.16,4.92,20,2.06,2.23,48,7.1,6.2,10,1.1200000000000001,1.2,22,2.75,2.4,32,2.83,3.77,42,2.97,5.3,39,4.1900000000000004,4.8899999999999997,43,3.79,5.65,6,0.38,0.96,43,3.79,5.65,2,0.22,0.56000000000000005,18,1.32,2,14,1.1599999999999999,1.72,24,1.7,2.8,24,1.7,2.8,26,2.15,2.91,36,2.2799999999999998,4.0999999999999996,20,2.06,2.23,44,3.4,5.8,8,1.68,1.1299999999999999,15,1.3,1.8,27,4.01,3,9,0.6,1.18,18,1.32,2,8,1.68,1.1299999999999999,5,0.32,0.91,36,2.2799999999999998,4.0999999999999996,21,1.83,2.3199999999999998,36,2.2799999999999998,4.0999999999999996,27,4.01,3,47,2.34,6.2,45,5.2,5.8,28,2.8,3.4,26,2.15,2.91,31,1.56,3.71,31,1.56,3.71,28,2.8,3.4,51,20,15,37,3.7,4.2,33,4.28,3.99,44,3.4,5.8,8,1.68,1.1299999999999999,29,2.4,3.5,16,1.58,1.83,44,3.4,5.8,23,1.1499999999999999,2.5,32,2.83,3.77,8,1.68,1.1299999999999999,9,0.6,1.18,29,2.4,3.5,34,3.4,4,1,0.22,0.51,34,3.4,4,23,1.1499999999999999,2.5,34,3.4,4,49,3.94,6.8,25,3.68,2.88,14,1.1599999999999999,1.72,46,5.9,6.1,15,1.3,1.8,51,20,15,26,2.15,2.91,43,3.79,5.65,30,3.4,3.7,43,3.79,5.65,42,2.97,5.3,15,1.3,1.8,33,4.28,3.99,46,5.9,6.1,8,1.68,1.1299999999999999,12,2.16,1.6,28,2.8,3.4,14,1.1599999999999999,1.72,36,2.2799999999999998,4.0999999999999996,46,5.9,6.1,31,1.56,3.71,19,1.33,2.06,47,2.34,6.2,42,2.97,5.3,20,2.06,2.23,41,5.95,5.0999999999999996,25,3.68,2.88,38,3.61,4.7,37,3.7,4.2,24,1.7,2.8,17,1.3,1.89,35,2.83,4.0199999999999996,34,3.4,4,24,1.7,2.8,35,2.83,4.0199999999999996,44,3.4,5.8,27,4.01,3,11,0.91,1.3,48,7.1,6.2,41,5.95,5.0999999999999996,44,3.4,5.8,16,1.58,1.83,42,2.97,5.3,14,1.1599999999999999,1.72,27,4.01,3,33,4.28,3.99,14,1.1599999999999999,1.72,13,1.24,1.7,28,2.8,3.4,18,1.32,2,24,1.7,2.8,1,0.22,0.51,14,1.1599999999999999,1.72,40,5.16,4.92,43,3.79,5.65,3,0.46,0.7,12,2.16,1.6,31,1.56,3.71,6,0.38,0.96,6,0.38,0.96,14,1.1599999999999999,1.72,34,3.4,4,10,1.1200000000000001,1.2,12,2.16,1.6,24,1.7,2.8,6,0.38,0.96,16,1.58,1.83,32,2.83,3.77,5,0.32,0.91,17,1.3,1.89,44,3.4,5.8,41,5.95,5.0999999999999996,39,4.1900000000000004,4.8899999999999997,48,7.1,6.2,29,2.4,3.5,28,2.8,3.4,13,1.24,1.7,41,5.95,5.0999999999999996,19,1.33,2.06,42,2.97,5.3,33,4.28,3.99,4,0.32,0.75,23,1.1499999999999999,2.5,47,2.34,6.2,14,1.1599999999999999,1.72,6,0.38,0.96,13,1.24,1.7,16,1.58,1.83,34,3.4,4,29,2.4,3.5,24,1.7,2.8,40,5.16,4.92,35,2.83,4.0199999999999996,15,1.3,1.8,2,0.22,0.56000000000000005,16,1.58,1.83,19,1.33,2.06,22,2.75,2.4,8,1.68,1.1299999999999999,8,1.68,1.1299999999999999,1,0.22,0.51,19,1.33,2.06,13,1.24,1.7,43,3.79,5.65,12,2.16,1.6,37,3.7,4.2,2,0.22,0.56000000000000005,5,0.32,0.91,42,2.97,5.3,19,1.33,2.06,23,1.1499999999999999,2.5,47,2.34,6.2,43,3.79,5.65,24,1.7,2.8,34,3.4,4,31,1.56,3.71,32,2.83,3.77,18,1.32,2,7,0.4,1.05,31,1.56,3.71,36,2.2799999999999998,4.0999999999999996,35,2.83,4.0199999999999996,28,2.8,3.4,37,3.7,4.2,48,7.1,6.2,16,1.58,1.83,43,3.79,5.65,47,2.34,6.2,18,1.32,2,21,1.83,2.3199999999999998,11,0.91,1.3,25,3.68,2.88,15,1.3,1.8,16,1.58,1.83,6,0.38,0.96,46,5.9,6.1,17,1.3,1.89,34,3.4,4,12,2.16,1.6,47,2.34,6.2,13,1.24,1.7,18,1.32,2,25,3.68,2.88,29,2.4,3.5,7,0.4,1.05,26,2.15,2.91,5,0.32,0.91,4,0.32,0.75,16,1.58,1.83,25,3.68,2.88,24,1.7,2.8,48,7.1,6.2,17,1.3,1.89,49,3.94,6.8,17,1.3,1.89,48,7.1,6.2,2,0.22,0.56000000000000005,39,4.1900000000000004,4.8899999999999997,32,2.83,3.77,4,0.32,0.75,23,1.1499999999999999,2.5,2,0.22,0.56000000000000005,26,2.15,2.91,31,1.56,3.71,47,2.34,6.2,8,1.68,1.1299999999999999,23,1.1499999999999999,2.5,51,20,15,51,20,15,40,5.16,4.92,7,0.4,1.05,2,0.22,0.56000000000000005,27,4.01,3,38,3.61,4.7,26,2.15,2.91,38,3.61,4.7,null,null,null,null,null,null,null,null,null,null,null,null,null,null,null,null,null,null,null,null,null,null,null,null,null,null,null,null,null,null,null,null,{"$error":"#N/A"}]
[null,null,53,null,null,null,null,"","",null,null,null,null,null,null,null,null,null,null,null,null,null,null,null,null,null,null,null,null,0.71471600127655588,4.2031845968107202,-0.62467608296624721,2.8907654078098011,null,{"$error":"#DIV/0!"},{"$error":"#DIV/0!"},{"$error":"#DIV/0!"},{"$error":"#DIV/0!"},null,"","","","",null,"","",null,"","",null,2.34,6.2,15,1.3,1.8,18,1.32,2,18,1.32,2,16,1.58,1.83,33,4.28,3.99,30,3.4,3.7,4,0.32,0.75,37,3.7,4.2,4,0.32,0.75,6,0.38,0.96,4,0.32,0.75,20,2.06,2.23,51,20,15,47,2.34,6.2,44,3.4,5.8,20,2.06,2.23,5,0.32,0.91,11,0.91,1.3,12,2.16,1.6,4,0.32,0.75,13,1.24,1.7,23,1.1499999999999999,2.5,11,0.91,1.3,3,0.46,0.7,33,4.28,3.99,20,2.06,2.23,6,0.38,0.96,9,0.6,1.18,35,2.83,4.0199999999999996,50,4.5,6.8,23,1.1499999999999999,2.5,28,2.8,3.4,1,0.22,0.51,23,1.1499999999999999,2.5,51,20,15,25,3.68,2.88,28,2.8,3.4,13,1.24,1.7,42,2.97,5.3,31,1.56,3.71,24,1.7,2.8,8,1.68,1.1299999999999999,9,0.6,1.18,39,4.1900000000000004,4.8899999999999997,8,1.68,1.1299999999999999,5,0.32,0.91,32,2.83,3.77,3,0.46,0.7,15,1.3,1.8,16,1.58,1.83,47,2.34,6.2,41,5.95,5.0999999999999996,39,4.1900000000000004,4.8899999999999997,13,1.24,1.7,6,0.38,0.96,33,4.28,3.99,39,4.1900000000000004,4.8899999999999997,35,2.83,4.0199999999999996,26,2.15,2.91,20,2.06,2.23,35,2.83,4.0199999999999996,27,4.01,3,32,2.83,3.77,8,1.68,1.1299999999999999,9,0.6,1.18,3,0.46,0.7,12,2.16,1.6,15,1.3,1.8,8,1.68,1.1299999999999999,36,2.2799999999999998,4.0999999999999996,19,1.33,2.06,19,1.33,2.06,41,5.95,5.0999999999999996,10,1.1200000000000001,1.2,18,1.32,2,15,1.3,1.8,26,2.15,2.91,27,4.01,3,35,2.83,4.0199999999999996,5,0.32,0.91,47,2.34,6.2,47,2.34,6.2,9,0.6,1.18,9,0.6,1.18,50,4.5,6.8,42,2.97,5.3,43,3.79,5.65,5,0.32,0.91,42,2.97,5.3,50,4.5,6.8,50,4.5,6.8,37,3.7,4.2,44,3.4,5.8,18,1.32,2,5,0.32,0.91,7,0.4,1.05,40,5.16,4.92,8,1.68,1.1299999999999999,1,0.22,0.51,36,2.2799999999999998,4.0999999999999996,24,1.7,2.8,45,5.2,5.8,39,4.1900000000000004,4.8899999999999997,1,0.22,0.51,4,0.32,0.75,13,1.24,1.7,31,1.56,3.71,48,7.1,6.2,2,0.22,0.56000000000000005,11,0.91,1.3,4,0.32,0.75,27,4.01,3,51,20,15,1,0.22,0.51,51,20,15,8,1.68,1.1299999999999999,44,3.4,5.8,7,0.4,1.05,19,1.33,2.06,22,2.75,2.4,42,2.97,5.3,14,1.1599999999999999,1.72,25,3.68,2.88,9,0.6,1.18,13,1.24,1.7,21,1.83,2.3199999999999998,46,5.9,6.1,26,2.15,2.91,42,2.97,5.3,39,4.1900000000000004,4.8899999999999997,19,1.33,2.06,39,4.1900000000000004,4.8899999999999997,23,1.1499999999999999,2.5,42,2.97,5.3,48,7.1,6.2,28,2.8,3.4,15,1.3,1.8,15,1.3,1.8,47,2.34,6.2,36,2.2799999999999998,4.0999999999999996,39,4.1900000000000004,4.8899999999999997,8,1.68,1.1299999999999999,41,5.95,5.0999999999999996,17,1.3,1.89,26,2.15,2.91,33,4.28,3.99,20,2.06,2.23,40,5.16,4.92,23,1.1499999999999999,2.5,10,1.1200000000000001,1.2,37,3.7,4.2,33,4.28,3.99,38,3.61,4.7,29,2.4,3.5,5,0.32,0.91,39,4.1900000000000004,4.8899999999999997,42,2.97,5.3,37,3.7,4.2,1,0.22,0.51,13,1.24,1.7,16,1.58,1.83,45,5.2,5.8,15,1.3,1.8,23,1.1499999999999999,2.5,7,0.4,1.05,27,4.01,3,49,3.94,6.8,49,3.94,6.8,23,1.1499999999999999,2.5,18,1.32,2,15,1.3,1.8,31,1.56,3.71,34,3.4,4,18,1.32,2,42,2.97,5.3,26,2.15,2.91,24,1.7,2.8,39,4.1900000000000004,4.8899999999999997,18,1.32,2,1,0.22,0.51,37,3.7,4.2,1,0.22,0.51,46,5.9,6.1,37,3.7,4.2,32,2.83,3.77,45,5.2,5.8,38,3.61,4.7,25,3.68,2.88,30,3.4,3.7,15,1.3,1.8,23,1.1499999999999999,2.5,19,1.33,2.06,12,2.16,1.6,26,2.15,2.91,40,5.16,4.92,39,4.1900000000000004,4.8899999999999997,26,2.15,2.91,49,3.94,6.8,40,5.16,4.92,12,2.16,1.6,28,2.8,3.4,21,1.83,2.3199999999999998,37,3.7,4.2,33,4.28,3.99,40,5.16,4.92,41,5.95,5.0999999999999996,8,1.68,1.1299999999999999,4,0.32,0.75,44,3.4,5.8,19,1.33,2.06,44,3.4,5.8,46,5.9,6.1,36,2.2799999999999998,4.0999999999999996,31,1.56,3.71,45,5.2,5.8,36,2.2799999999999998,4.0999999999999996,23,1.1499999999999999,2.5,10,1.1200000000000001,1.2,24,1.7,2.8,17,1.3,1.89,27,4.01,3,7,0.4,1.05,10,1.1200000000000001,1.2,45,5.2,5.8,31,1.56,3.71,32,2.83,3.77,43,3.79,5.65,36,2.2799999999999998,4.0999999999999996,29,2.4,3.5,9,0.6,1.18,22,2.75,2.4,20,2.06,2.23,30,3.4,3.7,24,1.7,2.8,12,2.16,1.6,41,5.95,5.0999999999999996,4,0.32,0.75,26,2.15,2.91,42,2.97,5.3,1,0.22,0.51,36,2.2799999999999998,4.0999999999999996,26,2.15,2.91,49,3.94,6.8,21,1.83,2.3199999999999998,18,1.32,2,48,7.1,6.2,35,2.83,4.0199999999999996,28,2.8,3.4,11,0.91,1.3,26,2.15,2.91,14,1.1599999999999999,1.72,16,1.58,1.83,34,3.4,4,11,0.91,1.3,14,1.1599999999999999,1.72,39,4.1900000000000004,4.8899999999999997,21,1.83,2.3199999999999998,13,1.24,1.7,24,1.7,2.8,14,1.1599999999999999,1.72,16,1.58,1.83,7,0.4,1.05,45,5.2,5.8,22,2.75,2.4,29,2.4,3.5,28,2.8,3.4,42,2.97,5.3,5,0.32,0.91,29,2.4,3.5,24,1.7,2.8,41,5.95,5.0999999999999996,18,1.32,2,50,4.5,6.8,7,0.4,1.05,31,1.56,3.71,28,2.8,3.4,36,2.2799999999999998,4.0999999999999996,1,0.22,0.51,15,1.3,1.8,14,1.1599999999999999,1.72,47,2.34,6.2,42,2.97,5.3,7,0.4,1.05,21,1.83,2.3199999999999998,1,0.22,0.51,28,2.8,3.4,33,4.28,3.99,1,0.22,0.51,34,3.4,4,20,2.06,2.23,33,4.28,3.99,24,1.7,2.8,39,4.1900000000000004,4.8899999999999997,43,3.79,5.65,8,1.68,1.1299999999999999,18,1.32,2,25,3.68,2.88,31,1.56,3.71,23,1.1499999999999999,2.5,26,2.15,2.91,13,1.24,1.7,35,2.83,4.0199999999999996,4,0.32,0.75,2,0.22,0.56000000000000005,36,2.2799999999999998,4.0999999999999996,14,1.1599999999999999,1.72,42,2.97,5.3,16,1.58,1.83,38,3.61,4.7,44,3.4,5.8,37,3.7,4.2,45,5.2,5.8,28,2.8,3.4,8,1.68,1.1299999999999999,3,0.46,0.7,33,4.28,3.99,27,4.01,3,7,0.4,1.05,18,1.32,2,34,3.4,4,18,1.32,2,1,0.22,0.51,21,1.83,2.3199999999999998,15,1.3,1.8,46,5.9,6.1,16,1.58,1.83,13,1.24,1.7,8,1.68,1.1299999999999999,18,1.32,2,35,2.83,4.0199999999999996,8,1.68,1.1299999999999999,3,0.46,0.7,6,0.38,0.96,8,1.68,1.1299999999999999,35,2.83,4.0199999999999996,6,0.38,0.96,44,3.4,5.8,46,5.9,6.1,32,2.83,3.77,36,2.2799999999999998,4.0999999999999996,25,3.68,2.88,23,1.1499999999999999,2.5,50,4.5,6.8,19,1.33,2.06,7,0.4,1.05,24,1.7,2.8,2,0.22,0.56000000000000005,51,20,15,13,1.24,1.7,50,4.5,6.8,19,1.33,2.06,35,2.83,4.0199999999999996,25,3.68,2.88,9,0.6,1.18,37,3.7,4.2,39,4.1900000000000004,4.8899999999999997,37,3.7,4.2,27,4.01,3,8,1.68,1.1299999999999999,42,2.97,5.3,8,1.68,1.1299999999999999,39,4.1900000000000004,4.8899999999999997,48,7.1,6.2,37,3.7,4.2,10,1.1200000000000001,1.2,44,3.4,5.8,32,2.83,3.77,30,3.4,3.7,24,1.7,2.8,3,0.46,0.7,50,4.5,6.8,37,3.7,4.2,46,5.9,6.1,40,5.16,4.92,2,0.22,0.56000000000000005,38,3.61,4.7,34,3.4,4,41,5.95,5.0999999999999996,5,0.32,0.91,25,3.68,2.88,9,0.6,1.18,4,0.32,0.75,36,2.2799999999999998,4.0999999999999996,4,0.32,0.75,3,0.46,0.7,41,5.95,5.0999999999999996,31,1.56,3.71,43,3.79,5.65,13,1.24,1.7,25,3.68,2.88,45,5.2,5.8,19,1.33,2.06,46,5.9,6.1,43,3.79,5.65,40,5.16,4.92,27,4.01,3,23,1.1499999999999999,2.5,43,3.79,5.65,44,3.4,5.8,21,1.83,2.3199999999999998,26,2.15,2.91,36,2.2799999999999998,4.0999999999999996,46,5.9,6.1,19,1.33,2.06,1,0.22,0.51,45,5.2,5.8,47,2.34,6.2,50,4.5,6.8,7,0.4,1.05,7,0.4,1.05,12,2.16,1.6,6,0.38,0.96,14,1.1599999999999999,1.72,22,2.75,2.4,18,1.32,2,44,3.4,5.8,4,0.32,0.75,49,3.94,6.8,3,0.46,0.7,28,2.8,3.4,24,1.7,2.8,11,0.91,1.3,21,1.83,2.3199999999999998,41,5.95,5.0999999999999996,31,1.56,3.71,48,7.1,6.2,35,2.83,4.0199999999999996,24,1.7,2.8,45,5.2,5.8,4,0.32,0.75,21,1.83,2.3199999999999998,32,2.83,3.77,51,20,15,43,3.79,5.65,19,1.33,2.06,33,4.28,3.99,42,2.97,5.3,38,3.61,4.7,32,2.83,3.77,6,0.38,0.96,28,2.8,3.4,24,1.7,2.8,21,1.83,2.3199999999999998,44,3.4,5.8,29,2.4,3.5,1,0.22,0.51,16,1.58,1.83,1,0.22,0.51,27,4.01,3,31,1.56,3.71,4,0.32,0.75,46,5.9,6.1,19,1.33,2.06,36,2.2799999999999998,4.0999999999999996,40,5.16,4.92,6,0.38,0.96,12,2.16,1.6,1,0.22,0.51,34,3.4,4,27,4.01,3,27,4.01,3,28,2.8,3.4,15,1.3,1.8,12,2.16,1.6,47,2.34,6.2,26,2.15,2.91,22,2.75,2.4,28,2.8,3.4,17,1.3,1.89,18,1.32,2,7,0.4,1.05,6,0.38,0.96,46,5.9,6.1,42,2.97,5.3,34,3.4,4,38,3.61,4.7,2,0.22,0.56000000000000005,45,5.2,5.8,30,3.4,3.7,28,2.8,3.4,22,2.75,2.4,39,4.1900000000000004,4.8899999999999997,34,3.4,4,44,3.4,5.8,49,3.94,6.8,48,7.1,6.2,48,7.1,6.2,16,1.58,1.83,41,5.95,5.0999999999999996,6,0.38,0.96,36,2.2799999999999998,4.0999999999999996,37,3.7,4.2,18,1.32,2,15,1.3,1.8,24,1.7,2.8,10,1.1200000000000001,1.2,15,1.3,1.8,34,3.4,4,3,0.46,0.7,5,0.32,0.91,26,2.15,2.91,null,null,null,null,null,null,null,null,null,null,null,null,null,null,null,null,null,null,null,null,null,null,null,null,null,null,null,null,null,null,null,null,""]
[null,null,98,null,null,null,null,"","",null,null,null,null,null,null,null,null,null,null,null,null,null,null,null,null,null,null,null,null,5.0634920949221041,7.4929187910337411,2.6862340728347363,2.8780859331383177,null,{"$error":"#DIV/0!"},{"$error":"#DIV/0!"},{"$error":"#DIV/0!"},{"$error":"#DIV/0!"},null,{"$f":"IF(D102<>\"\",RANK(D102,$D$5:$D$1304),\"\")","v":""},{"$f":"IF(E102<>\"\",RANK(E102,$E$5:$E$1304),\"\")","v":""},"","",null,"","",null,"","",null,"","",null,null,null,null,null,null,null,null,null,null,null,null,null,null,null,null,null,null,null,null,null,null,null,null,null,null,null,null,null,null,null,null,null,null,null,null,null,null,null,null,null,null,null,null,null,null,null,null,null,null,null,null,null,null,null,null,null,null,null,null,null,null,null,null,null,null,null,null,null,null,null,null,null,null,null,null,null,null,null,null,null,null,null,null,null,null,null,null,null,null,null,null,null,null,null,null,null,null,null,null,null,null,null,null,null,null,null,null,null,null,null,null,null,null,null,null,null,null,null,null,null,null,null,null,null,null,null,null,null,null,null,null,null,null,null,null,null,null,null,null,null,null,null,null,null,null,null,null,null,null,null,null,null,null,null,null,null,null,null,null,null,null,null,null,null,null,null,null,null,null,null,null,null,null,null,null,null,null,null,null,null,null,null,null,null,null,null,null,null,null,null,null,null,null,null,null,null,null,null,null,null,null,null,null,null,null,null,null,null,null,null,null,null,null,null,null,null,null,null,null,null,null,null,null,null,null,null,null,null,null,null,null,null,null,null,null,null,null,null,null,null,null,null,null,null,null,null,null,null,null,null,null,null,null,null,null,null,null,null,null,null,null,null,null,null,null,null,null,null,null,null,null,null,null,null,null,null,null,null,null,null,null,null,null,null,null,null,null,null,null,null,null,null,null,null,null,null,null,null,null,null,null,null,null,null,null,null,null,null,null,null,null,null,null,null,null,null,null,null,null,null,null,null,null,null,null,null,null,null,null,null,null,null,null,null,null,null,null,null,null,null,null,null,null,null,null,null,null,null,null,null,null,null,null,null,null,null,null,null,null,null,null,null,null,null,null,null,null,null,null,null,null,null,null,null,null,null,null,null,null,null,null,null,null,null,null,null,null,null,null,null,null,null,null,null,null,null,null,null,null,null,null,null,null,null,null,null,null,null,null,null,null,null,null,null,null,null,null,null,null,null,null,null,null,null,null,null,null,null,null,null,null,null,null,null,null,null,null,null,null,null,null,null,null,null,null,null,null,null,null,null,null,null,null,null,null,null,null,null,null,null,null,null,null,null,null,null,null,null,null,null,null,null,null,null,null,null,null,null,null,null,null,null,null,null,null,null,null,null,null,null,null,null,null,null,null,null,null,null,null,null,null,null,null,null,null,null,null,null,null,null,null,null,null,null,null,null,null,null,null,null,null,null,null,null,null,null,null,null,null,null,null,null,null,null,null,null,null,null,null,null,null,null,null,null,null,null,null,null,null,null,null,null,null,null,null,null,null,null,null,null,null,null,null,null,null,null,null,null,null,null,null,null,null,null,null,null,null,null,null,null,null,null,null,null,null,null,null,null,null,null,null,null,null,null,null,null,null,null,null,null,null,null,null,null,null,null,null,null,null,null,null,null,null,null,null,null,null,null,null,null,null,null,null,null,null,null,null,null,null,null,null,null,null,null,null,null,null,null,null,null,null,null,null,null,null,null,null,null,null,null,null,null,null,null,null,null,null,null,null,null,null,null,null,null,null,null,null,null,null,null,null,null,null,null,null,null,null,null,null,null,null,null,null,null,null,null,null,null,null,null,null,null,null,null,null,null,null,null,null,null,null,null,null,null,null,null,null,null,null,null,null,null,null,null,null,null,null,null,null,null,null,null,null,null,null,null,null,null,null,null,null,null,null,null,null,null,null,null,null,null,null,null,null,null,null,null,null,null,null,null,null,null,null,null,null,null,null,null,null,null,null,null,null,null,null,null,null,null,null,null,null,null,null,null,null,null,null,null,null,null,null,null,null,null,null,null,null,null,null,null,null,null,null,null,null,null,null,null,null,null,null,null,null,null,null,null,null,null,null,null,null,null,null,null,null,null,null,null,null,null,null,null,null,null,null,null,null,null,null,null,null,null,null,null,null,null,null,null,null,null,null,null,null,null,null,null,null,null,null,null,null,null,null,null,null,null,null,null,null,null,null,null,null,null,null,null,null,null,null,null,null,null,null,null,null,null,null,null,null,null,null,null,null,null,null,null,null,null,null,null,null,null,null,null,null,null,null,null,null,null,null,null,null,null,null,null,null,null,null,null,null,null,null,null,null,null,null,null,null,null,null,null,null,null,null,null,null,null,null,null,null,null,null,null,null,null,null,null,null,null,null,null,null,null,null,null,null,null,null,null,null,null,null,null,null,null,null,null,null,null,null,null,null,null,null,null,null,null,null,null,null,null,null,null,null,null,null,null,null,null,null,null,null,null,null,null,null,null,null,null,null,null,null,null,null,null,null,null,null,null,null,null,null,null,null,null,null,null,null,null,null,null,null,null,null,null,null,null,null,null,null,null,null,null,null,null,null,null,null,null,null,null,null,null,null,null,null,null,null,null,null,null,null,null,null,null,null,null,null,null,null,null,null,null,null,null,null,null,null,null,null,null,null,null,null,null,null,null,null,null,null,null,null,null,null,null,null,null,null,null,null,null,null,null,null,null,null,null,null,null,null,null,null,null,null,null,null,null,null,null,null,null,null,null,null,null,null,null,null,null,null,null,null,null,null,null,null,null,null,null,null,null,null,null,null,null,null,null,null,null,null,null,null,null,null,null,null,null,null,null,null,null,null,null,null,null,null,null,null,null,null,null,null,null,null,null,null,null,null,null,null,null,null,null,null,null,null,null,null,null,null,null,null,null,null,null,null,null,null,null,null,null,null,null,null,null,null,null,null,null,null,null,null,null,null,null,null,null,null,null,null,null,null,null,null,null,null,null,null,null,null,null,null,null,null,null,null,null,null,null,null,null,null,null,null,null,null,null,null,null,null,null,null,null,null,null,null,null,null,null,null,null,null,null,null,null,null,null,null,null,null,null,null,null,null,null,null,null,null,null,null,null,null,null,null,null,null,null,null,null,null,null,null,null,null,null,null,null,null,null,null,null,null,null,null,null,null,null,null,null,null,null,null,null,null,null,null,null,null,null,null,null,null,null,null,null,null,null,null,null,null,null,null,null,null,null,null,null,null,null,null,null,null,null,null,null,null,null,null,null,null,null,null,null,null,null,null,null,null,null,null,null,null,null,null,null,null,null,null,null,null,null,null,null,null,null,null,null,null,null,null,null,null,null,null,null,null,null,null,null,null,null,null,null,null,null,null,null,null,null,null,null,null,null,null,null,null,null,null,null,null,null,null,null,null,null,null,null,null,null,null,null,null,null,null,null,null,null,null,null,null,null,null,null,null,null,null,null,null,null,null,null,null,null,null,null,null,null,null,null,null,null,null,null,null,null,null,null,null,null,null,null,null,null,null,null,null,null,null,null,null,null,null,null,null,null,null,null,null,null,null,null,null,null,null,null,null,null,null,null,null,null,null,null,null,null,null,null,null,null,null,null,null,null,null,null,null,null,null,null,null,null,null,null,null,null,null,null,null,null,null,null,null,null,null,null,null,null,null,null,null,null,null,null,null,null,null,null,null,null,null,null,null,null,null,null,null,null,null,null,null,null,null,null,""]
[null,null,128,null,null,null,null,"","",null,null,null,null,null,null,null,null,null,null,null,null,null,null,null,null,null,null,null,null,7.9626761573524618,{"$f":"(Y1SD/X1SD*(相関係数1*AD132+AG132))+切片1","v":9.0763497771216279},{"$f":"(Y1SD/X1SD*(相関係数1*AD132-AG132))+切片1","v":5.5032326534295084},{"$f":"IF((1-相関係数1^2)*((X1SD*t1_0.05)^2-(AD132-X1m)^2)>0,SQRT((1-相関係数1^2)*((X1SD*t1_0.05)^2-(AD132-X1m)^2)),0)","v":2.1394659175830237},null,{"$error":"#DIV/0!"},{"$f":"(Y2SD/X2SD*(相関係数2*AI132+AL132))+切片2","v":{"$error":"#DIV/0!"}},{"$f":"(Y2SD/X2SD*(相関係数2*AI132-AL132))+切片2","v":{"$error":"#DIV/0!"}},{"$f":"IF((1-相関係数2^2)*((X2SD*t1_0.05)^2-(AI132-X2m)^2)>0,SQRT((1-相関係数2^2)*((X2SD*t1_0.05)^2-(AI132-X2m)^2)),0)","v":{"$error":"#DIV/0!"}},null,"","","","",null,"","",null,"","",null,"","",null,null,null,null,null,null,null,null,null,null,null,null,null,null,null,null,null,null,null,null,null,null,null,null,null,null,null,null,null,null,null,null,null,null,null,null,null,null,null,null,null,null,null,null,null,null,null,null,null,null,null,null,null,null,null,null,null,null,null,null,null,null,null,null,null,null,null,null,null,null,null,null,null,null,null,null,null,null,null,null,null,null,null,null,null,null,null,null,null,null,null,null,null,null,null,null,null,null,null,null,null,null,null,null,null,null,null,null,null,null,null,null,null,null,null,null,null,null,null,null,null,null,null,null,null,null,null,null,null,null,null,null,null,null,null,null,null,null,null,null,null,null,null,null,null,null,null,null,null,null,null,null,null,null,null,null,null,null,null,null,null,null,null,null,null,null,null,null,null,null,null,null,null,null,null,null,null,null,null,null,null,null,null,null,null,null,null,null,null,null,null,null,null,null,null,null,null,null,null,null,null,null,null,null,null,null,null,null,null,null,null,null,null,null,null,null,null,null,null,null,null,null,null,null,null,null,null,null,null,null,null,null,null,null,null,null,null,null,null,null,null,null,null,null,null,null,null,null,null,null,null,null,null,null,null,null,null,null,null,null,null,null,null,null,null,null,null,null,null,null,null,null,null,null,null,null,null,null,null,null,null,null,null,null,null,null,null,null,null,null,null,null,null,null,null,null,null,null,null,null,null,null,null,null,null,null,null,null,null,null,null,null,null,null,null,null,null,null,null,null,null,null,null,null,null,null,null,null,null,null,null,null,null,null,null,null,null,null,null,null,null,null,null,null,null,null,null,null,null,null,null,null,null,null,null,null,null,null,null,null,null,null,null,null,null,null,null,null,null,null,null,null,null,null,null,null,null,null,null,null,null,null,null,null,null,null,null,null,null,null,null,null,null,null,null,null,null,null,null,null,null,null,null,null,null,null,null,null,null,null,null,null,null,null,null,null,null,null,null,null,null,null,null,null,null,null,null,null,null,null,null,null,null,null,null,null,null,null,null,null,null,null,null,null,null,null,null,null,null,null,null,null,null,null,null,null,null,null,null,null,null,null,null,null,null,null,null,null,null,null,null,null,null,null,null,null,null,null,null,null,null,null,null,null,null,null,null,null,null,null,null,null,null,null,null,null,null,null,null,null,null,null,null,null,null,null,null,null,null,null,null,null,null,null,null,null,null,null,null,null,null,null,null,null,null,null,null,null,null,null,null,null,null,null,null,null,null,null,null,null,null,null,null,null,null,null,null,null,null,null,null,null,null,null,null,null,null,null,null,null,null,null,null,null,null,null,null,null,null,null,null,null,null,null,null,null,null,null,null,null,null,null,null,null,null,null,null,null,null,null,null,null,null,null,null,null,null,null,null,null,null,null,null,null,null,null,null,null,null,null,null,null,null,null,null,null,null,null,null,null,null,null,null,null,null,null,null,null,null,null,null,null,null,null,null,null,null,null,null,null,null,null,null,null,null,null,null,null,null,null,null,null,null,null,null,null,null,null,null,null,null,null,null,null,null,null,null,null,null,null,null,null,null,null,null,null,null,null,null,null,null,null,null,null,null,null,null,null,null,null,null,null,null,null,null,null,null,null,null,null,null,null,null,null,null,null,null,null,null,null,null,null,null,null,null,null,null,null,null,null,null,null,null,null,null,null,null,null,null,null,null,null,null,null,null,null,null,null,null,null,null,null,null,null,null,null,null,null,null,null,null,null,null,null,null,null,null,null,null,null,null,null,null,null,null,null,null,null,null,null,null,null,null,null,null,null,null,null,null,null,null,null,null,null,null,null,null,null,null,null,null,null,null,null,null,null,null,null,null,null,null,null,null,null,null,null,null,null,null,null,null,null,null,null,null,null,null,null,null,null,null,null,null,null,null,null,null,null,null,null,null,null,null,null,null,null,null,null,null,null,null,null,null,null,null,null,null,null,null,null,null,null,null,null,null,null,null,null,null,null,null,null,null,null,null,null,null,null,null,null,null,null,null,null,null,null,null,null,null,null,null,null,null,null,null,null,null,null,null,null,null,null,null,null,null,null,null,null,null,null,null,null,null,null,null,null,null,null,null,null,null,null,null,null,null,null,null,null,null,null,null,null,null,null,null,null,null,null,null,null,null,null,null,null,null,null,null,null,null,null,null,null,null,null,null,null,null,null,null,null,null,null,null,null,null,null,null,null,null,null,null,null,null,null,null,null,null,null,null,null,null,null,null,null,null,null,null,null,null,null,null,null,null,null,null,null,null,null,null,null,null,null,null,null,null,null,null,null,null,null,null,null,null,null,null,null,null,null,null,null,null,null,null,null,null,null,null,null,null,null,null,null,null,null,null,null,null,null,null,null,null,null,null,null,null,null,null,null,null,null,null,null,null,null,null,null,null,null,null,null,null,null,null,null,null,null,null,null,null,null,null,null,null,null,null,null,null,null,null,null,null,null,null,null,null,null,null,null,null,null,null,null,null,null,null,null,null,null,null,null,null,null,null,null,null,null,null,null,null,null,null,null,null,null,null,null,null,null,null,null,null,null,null,null,null,null,null,null,null,null,null,null,null,null,null,null,null,null,null,null,null,null,null,null,null,null,null,null,null,null,null,null,null,null,null,null,null,null,null,null,null,null,null,null,null,null,null,null,null,null,null,null,null,null,null,null,null,null,null,null,null,null,null,null,null,null,null,null,null,null,null,null,null,null,null,null,null,null,null,null,null,null,null,null,null,null,null,null,null,null,null,null,null,null,null,null,null,null,null,null,null,null,null,null,null,null,null,null,null,null,null,null,null,null,null,null,null,null,null,null,null,null,null,null,null,null,null,null,null,null,null,null,null,null,null,null,null,null,null,null,null,null,null,null,null,null,null,null,null,null,null,null,null,null,null,null,null,null,null,null,null,null,null,null,null,null,null,null,null,null,null,null,null,null,null,null,null,null,null,null,null,null,null,null,null,null,null,null,null,null,null,null,null,null,null,null,null,null,null,null,null,null,null,null,null,null,null,null,null,null,null,null,null,null,null,null,null,null,null,null,null,null,null,null,null,null,null,null,null,null,null,null,null,null,null,null,null,null,null,null,null,null,null,null,null,null,null,null,null,null,null,null,null,null,null,null,null,null,null,null,null,null,null,null,null,null,null,null,null,null,null,null,null,null,null,null,null,null,null,null,null,null,null,null,null,null,null,null,null,null,null,null,null,null,null,null,null,null,null,null,null,null,null,null,null,null,null,null,null,null,null,null,null,null,null,null,null,null,null,null,null,null,null,null,null,null,null,null,null,null,null,null,null,null,null,null,null,null,null,null,null,null,null,null,null,null,null,null,null,null,null,null,null,null,null,null,null,null,null,null,null,null,null,null,null,null,null,null,null,null,null,null,null,null,null,null,null,null,null,null,null,null,null,null,null,null,null,null,null,null,null,null,null,null,null,null,null,null,null,null,null,null,null,null,null,null,null,null,null,null,null,null,null,null,null,null,null,null,null,null,null,null,null,null,null,""]
[null,null,154,null,null,null,null,"","",null,null,null,null,null,null,null,null,null,null,null,null,null,null,null,null,null,null,null,null,null,null,null,null,null,null,null,null,null,null,"","","","",null,"","",null,"","",null,"","",null,null,null,null,null,null,null,null,null,null,null,null,null,null,null,null,null,null,null,null,null,null,null,null,null,null,null,null,null,null,null,null,null,null,null,null,null,null,null,null,null,null,null,null,null,null,null,null,null,null,null,null,null,null,null,null,null,null,null,null,null,null,null,null,null,null,null,null,null,null,null,null,null,null,null,null,null,null,null,null,null,null,null,null,null,null,null,null,null,null,null,null,null,null,null,null,null,null,null,null,null,null,null,null,null,null,null,null,null,null,null,null,null,null,null,null,null,null,null,null,null,null,null,null,null,null,null,null,null,null,null,null,null,null,null,null,null,null,null,null,null,null,null,null,null,null,null,null,null,null,null,null,null,null,null,null,null,null,null,null,null,null,null,null,null,null,null,null,null,null,null,null,null,null,null,null,null,null,null,null,null,null,null,null,null,null,null,null,null,null,null,null,null,null,null,null,null,null,null,null,null,null,null,null,null,null,null,null,null,null,null,null,null,null,null,null,null,null,null,null,null,null,null,null,null,null,null,null,null,null,null,null,null,null,null,null,null,null,null,null,null,null,null,null,null,null,null,null,null,null,null,null,null,null,null,null,null,null,null,null,null,null,null,null,null,null,null,null,null,null,null,null,null,null,null,null,null,null,null,null,null,null,null,null,null,null,null,null,null,null,null,null,null,null,null,null,null,null,null,null,null,null,null,null,null,null,null,null,null,null,null,null,null,null,null,null,null,null,null,null,null,null,null,null,null,null,null,null,null,null,null,null,null,null,null,null,null,null,null,null,null,null,null,null,null,null,null,null,null,null,null,null,null,null,null,null,null,null,null,null,null,null,null,null,null,null,null,null,null,null,null,null,null,null,null,null,null,null,null,null,null,null,null,null,null,null,null,null,null,null,null,null,null,null,null,null,null,null,null,null,null,null,null,null,null,null,null,null,null,null,null,null,null,null,null,null,null,null,null,null,null,null,null,null,null,null,null,null,null,null,null,null,null,null,null,null,null,null,null,null,null,null,null,null,null,null,null,null,null,null,null,null,null,null,null,null,null,null,null,null,null,null,null,null,null,null,null,null,null,null,null,null,null,null,null,null,null,null,null,null,null,null,null,null,null,null,null,null,null,null,null,null,null,null,null,null,null,null,null,null,null,null,null,null,null,null,null,null,null,null,null,null,null,null,null,null,null,null,null,null,null,null,null,null,null,null,null,null,null,null,null,null,null,null,null,null,null,null,null,null,null,null,null,null,null,null,null,null,null,null,null,null,null,null,null,null,null,null,null,null,null,null,null,null,null,null,null,null,null,null,null,null,null,null,null,null,null,null,null,null,null,null,null,null,null,null,null,null,null,null,null,null,null,null,null,null,null,null,null,null,null,null,null,null,null,null,null,null,null,null,null,null,null,null,null,null,null,null,null,null,null,null,null,null,null,null,null,null,null,null,null,null,null,null,null,null,null,null,null,null,null,null,null,null,null,null,null,null,null,null,null,null,null,null,null,null,null,null,null,null,null,null,null,null,null,null,null,null,null,null,null,null,null,null,null,null,null,null,null,null,null,null,null,null,null,null,null,null,null,null,null,null,null,null,null,null,null,null,null,null,null,null,null,null,null,null,null,null,null,null,null,null,null,null,null,null,null,null,null,null,null,null,null,null,null,null,null,null,null,null,null,null,null,null,null,null,null,null,null,null,null,null,null,null,null,null,null,null,null,null,null,null,null,null,null,null,null,null,null,null,null,null,null,null,null,null,null,null,null,null,null,null,null,null,null,null,null,null,null,null,null,null,null,null,null,null,null,null,null,null,null,null,null,null,null,null,null,null,null,null,null,null,null,null,null,null,null,null,null,null,null,null,null,null,null,null,null,null,null,null,null,null,null,null,null,null,null,null,null,null,null,null,null,null,null,null,null,null,null,null,null,null,null,null,null,null,null,null,null,null,null,null,null,null,null,null,null,null,null,null,null,null,null,null,null,null,null,null,null,null,null,null,null,null,null,null,null,null,null,null,null,null,null,null,null,null,null,null,null,null,null,null,null,null,null,null,null,null,null,null,null,null,null,null,null,null,null,null,null,null,null,null,null,null,null,null,null,null,null,null,null,null,null,null,null,null,null,null,null,null,null,null,null,null,null,null,null,null,null,null,null,null,null,null,null,null,null,null,null,null,null,null,null,null,null,null,null,null,null,null,null,null,null,null,null,null,null,null,null,null,null,null,null,null,null,null,null,null,null,null,null,null,null,null,null,null,null,null,null,null,null,null,null,null,null,null,null,null,null,null,null,null,null,null,null,null,null,null,null,null,null,null,null,null,null,null,null,null,null,null,null,null,null,null,null,null,null,null,null,null,null,null,null,null,null,null,null,null,null,null,null,null,null,null,null,null,null,null,null,null,null,null,null,null,null,null,null,null,null,null,null,null,null,null,null,null,null,null,null,null,null,null,null,null,null,null,null,null,null,null,null,null,null,null,null,null,null,null,null,null,null,null,null,null,null,null,null,null,null,null,null,null,null,null,null,null,null,null,null,null,null,null,null,null,null,null,null,null,null,null,null,null,null,null,null,null,null,null,null,null,null,null,null,null,null,null,null,null,null,null,null,null,null,null,null,null,null,null,null,null,null,null,null,null,null,null,null,null,null,null,null,null,null,null,null,null,null,null,null,null,null,null,null,null,null,null,null,null,null,null,null,null,null,null,null,null,null,null,null,null,null,null,null,null,null,null,null,null,null,null,null,null,null,null,null,null,null,null,null,null,null,null,null,null,null,null,null,null,null,null,null,null,null,null,null,null,null,null,null,null,null,null,null,null,null,null,null,null,null,null,null,null,null,null,null,null,null,null,null,null,null,null,null,null,null,null,null,null,null,null,null,null,null,null,null,null,null,null,null,null,null,null,null,null,null,null,null,null,null,null,null,null,null,null,null,null,null,null,null,null,null,null,null,null,null,null,null,null,null,null,null,null,null,null,null,null,null,null,null,null,null,null,null,null,null,null,null,null,null,null,null,null,null,null,null,null,null,null,null,null,null,null,null,null,null,null,null,null,null,null,null,null,null,null,null,null,null,null,null,null,null,null,null,null,null,null,null,null,null,null,null,null,null,null,null,null,null,null,null,null,null,null,null,null,null,null,null,null,null,null,null,null,null,null,null,null,null,null,null,null,null,null,null,null,null,null,null,null,null,null,null,null,null,null,null,null,null,null,null,null,null,null,null,null,null,null,null,null,null,null,null,null,null,null,null,null,null,null,null,null,null,null,null,null,null,null,null,null,null,null,null,null,null,null,null,null,null,null,null,null,null,null,null,null,null,null,null,null,null,null,null,null,null,null,null,null,null,null,null,null,null,null,null,null,null,null,null,null,null,null,null,null,null,null,null,null,null,null,null,null,null,null,null,null,null,null,null,null,null,null,null,null,null,null,null,null,null,null,null,null,null,null,null,null,null,null,null,null,null,null,null,null,null,null,null,null,null,null,null,null,null,null,null,null,null,""]
[null,null,225,null,null,null,null,"","",null,null,null,null,null,null,null,null,null,null,null,null,null,null,null,null,null,null,null,null,null,null,null,null,null,null,null,null,null,null,null,null,null,null,null,"","",null,"","",null,"","",null,null,null,null,null,null,null,null,null,null,null,null,null,null,null,null,null,null,null,null,null,null,null,null,null,null,null,null,null,null,null,null,null,null,null,null,null,null,null,null,null,null,null,null,null,null,null,null,null,null,null,null,null,null,null,null,null,null,null,null,null,null,null,null,null,null,null,null,null,null,null,null,null,null,null,null,null,null,null,null,null,null,null,null,null,null,null,null,null,null,null,null,null,null,null,null,null,null,null,null,null,null,null,null,null,null,null,null,null,null,null,null,null,null,null,null,null,null,null,null,null,null,null,null,null,null,null,null,null,null,null,null,null,null,null,null,null,null,null,null,null,null,null,null,null,null,null,null,null,null,null,null,null,null,null,null,null,null,null,null,null,null,null,null,null,null,null,null,null,null,null,null,null,null,null,null,null,null,null,null,null,null,null,null,null,null,null,null,null,null,null,null,null,null,null,null,null,null,null,null,null,null,null,null,null,null,null,null,null,null,null,null,null,null,null,null,null,null,null,null,null,null,null,null,null,null,null,null,null,null,null,null,null,null,null,null,null,null,null,null,null,null,null,null,null,null,null,null,null,null,null,null,null,null,null,null,null,null,null,null,null,null,null,null,null,null,null,null,null,null,null,null,null,null,null,null,null,null,null,null,null,null,null,null,null,null,null,null,null,null,null,null,null,null,null,null,null,null,null,null,null,null,null,null,null,null,null,null,null,null,null,null,null,null,null,null,null,null,null,null,null,null,null,null,null,null,null,null,null,null,null,null,null,null,null,null,null,null,null,null,null,null,null,null,null,null,null,null,null,null,null,null,null,null,null,null,null,null,null,null,null,null,null,null,null,null,null,null,null,null,null,null,null,null,null,null,null,null,null,null,null,null,null,null,null,null,null,null,null,null,null,null,null,null,null,null,null,null,null,null,null,null,null,null,null,null,null,null,null,null,null,null,null,null,null,null,null,null,null,null,null,null,null,null,null,null,null,null,null,null,null,null,null,null,null,null,null,null,null,null,null,null,null,null,null,null,null,null,null,null,null,null,null,null,null,null,null,null,null,null,null,null,null,null,null,null,null,null,null,null,null,null,null,null,null,null,null,null,null,null,null,null,null,null,null,null,null,null,null,null,null,null,null,null,null,null,null,null,null,null,null,null,null,null,null,null,null,null,null,null,null,null,null,null,null,null,null,null,null,null,null,null,null,null,null,null,null,null,null,null,null,null,null,null,null,null,null,null,null,null,null,null,null,null,null,null,null,null,null,null,null,null,null,null,null,null,null,null,null,null,null,null,null,null,null,null,null,null,null,null,null,null,null,null,null,null,null,null,null,null,null,null,null,null,null,null,null,null,null,null,null,null,null,null,null,null,null,null,null,null,null,null,null,null,null,null,null,null,null,null,null,null,null,null,null,null,null,null,null,null,null,null,null,null,null,null,null,null,null,null,null,null,null,null,null,null,null,null,null,null,null,null,null,null,null,null,null,null,null,null,null,null,null,null,null,null,null,null,null,null,null,null,null,null,null,null,null,null,null,null,null,null,null,null,null,null,null,null,null,null,null,null,null,null,null,null,null,null,null,null,null,null,null,null,null,null,null,null,null,null,null,null,null,null,null,null,null,null,null,null,null,null,null,null,null,null,null,null,null,null,null,null,null,null,null,null,null,null,null,null,null,null,null,null,null,null,null,null,null,null,null,null,null,null,null,null,null,null,null,null,null,null,null,null,null,null,null,null,null,null,null,null,null,null,null,null,null,null,null,null,null,null,null,null,null,null,null,null,null,null,null,null,null,null,null,null,null,null,null,null,null,null,null,null,null,null,null,null,null,null,null,null,null,null,null,null,null,null,null,null,null,null,null,null,null,null,null,null,null,null,null,null,null,null,null,null,null,null,null,null,null,null,null,null,null,null,null,null,null,null,null,null,null,null,null,null,null,null,null,null,null,null,null,null,null,null,null,null,null,null,null,null,null,null,null,null,null,null,null,null,null,null,null,null,null,null,null,null,null,null,null,null,null,null,null,null,null,null,null,null,null,null,null,null,null,null,null,null,null,null,null,null,null,null,null,null,null,null,null,null,null,null,null,null,null,null,null,null,null,null,null,null,null,null,null,null,null,null,null,null,null,null,null,null,null,null,null,null,null,null,null,null,null,null,null,null,null,null,null,null,null,null,null,null,null,null,null,null,null,null,null,null,null,null,null,null,null,null,null,null,null,null,null,null,null,null,null,null,null,null,null,null,null,null,null,null,null,null,null,null,null,null,null,null,null,null,null,null,null,null,null,null,null,null,null,null,null,null,null,null,null,null,null,null,null,null,null,null,null,null,null,null,null,null,null,null,null,null,null,null,null,null,null,null,null,null,null,null,null,null,null,null,null,null,null,null,null,null,null,null,null,null,null,null,null,null,null,null,null,null,null,null,null,null,null,null,null,null,null,null,null,null,null,null,null,null,null,null,null,null,null,null,null,null,null,null,null,null,null,null,null,null,null,null,null,null,null,null,null,null,null,null,null,null,null,null,null,null,null,null,null,null,null,null,null,null,null,null,null,null,null,null,null,null,null,null,null,null,null,null,null,null,null,null,null,null,null,null,null,null,null,null,null,null,null,null,null,null,null,null,null,null,null,null,null,null,null,null,null,null,null,null,null,null,null,null,null,null,null,null,null,null,null,null,null,null,null,null,null,null,null,null,null,null,null,null,null,null,null,null,null,null,null,null,null,null,null,null,null,null,null,null,null,null,null,null,null,null,null,null,null,null,null,null,null,null,null,null,null,null,null,null,null,null,null,null,null,null,null,null,null,null,null,null,null,null,null,null,null,null,null,null,null,null,null,null,null,null,null,null,null,null,null,null,null,null,null,null,null,null,null,null,null,null,null,null,null,null,null,null,null,null,null,null,null,null,null,null,null,null,null,null,null,null,null,null,null,null,null,null,null,null,null,null,null,null,null,null,null,null,null,null,null,null,null,null,null,null,null,null,null,null,null,null,null,null,null,null,null,null,null,null,null,null,null,null,null,null,null,null,null,null,null,null,null,null,null,null,null,null,null,null,null,null,null,null,null,null,null,null,null,null,null,null,null,null,null,null,null,null,null,null,null,null,null,null,null,null,null,null,null,null,null,null,null,null,null,null,null,null,null,null,null,null,null,null,null,null,null,null,null,null,null,null,null,null,null,null,null,null,null,null,null,null,null,null,null,null,null,null,null,null,null,null,null,null,null,null,null,null,null,null,null,null,null,null,null,null,null,null,null,null,null,null,null,null,null,null,null,null,null,null,null,null,null,null,null,null,null,null,null,null,null,null,null,null,null,null,null,null,null,null,null,null,null,null,null,null,null,null,null,null,null,null,null,null,null,null,null,null,null,null,null,null,null,null,null,null,null,null,null,null,null,null,null,null,null,null,null,null,null,null,null,null,null,null,null,null,null,null,null,null,null,null,null,null,null,null,null,null,null,null,null,null,null,null,null,null,null,null,null,null,null,null,null,""]
[null,null,255,null,null,null,null,"","",null,null,null,null,null,null,null,null,null,null,null,null,null,null,null,null,null,null,null,null,null,null,null,null,null,null,null,null,null,null,null,null,null,null,null,"","",null,"","",null,"","",null,null,null,null,null,null,null,null,null,null,null,null,null,null,null,null,null,null,null,null,null,null,null,null,null,null,null,null,null,null,null,null,null,null,null,null,null,null,null,null,null,null,null,null,null,null,null,null,null,null,null,null,null,null,null,null,null,null,null,null,null,null,null,null,null,null,null,null,null,null,null,null,null,null,null,null,null,null,null,null,null,null,null,null,null,null,null,null,null,null,null,null,null,null,null,null,null,null,null,null,null,null,null,null,null,null,null,null,null,null,null,null,null,null,null,null,null,null,null,null,null,null,null,null,null,null,null,null,null,null,null,null,null,null,null,null,null,null,null,null,null,null,null,null,null,null,null,null,null,null,null,null,null,null,null,null,null,null,null,null,null,null,null,null,null,null,null,null,null,null,null,null,null,null,null,null,null,null,null,null,null,null,null,null,null,null,null,null,null,null,null,null,null,null,null,null,null,null,null,null,null,null,null,null,null,null,null,null,null,null,null,null,null,null,null,null,null,null,null,null,null,null,null,null,null,null,null,null,null,null,null,null,null,null,null,null,null,null,null,null,null,null,null,null,null,null,null,null,null,null,null,null,null,null,null,null,null,null,null,null,null,null,null,null,null,null,null,null,null,null,null,null,null,null,null,null,null,null,null,null,null,null,null,null,null,null,null,null,null,null,null,null,null,null,null,null,null,null,null,null,null,null,null,null,null,null,null,null,null,null,null,null,null,null,null,null,null,null,null,null,null,null,null,null,null,null,null,null,null,null,null,null,null,null,null,null,null,null,null,null,null,null,null,null,null,null,null,null,null,null,null,null,null,null,null,null,null,null,null,null,null,null,null,null,null,null,null,null,null,null,null,null,null,null,null,null,null,null,null,null,null,null,null,null,null,null,null,null,null,null,null,null,null,null,null,null,null,null,null,null,null,null,null,null,null,null,null,null,null,null,null,null,null,null,null,null,null,null,null,null,null,null,null,null,null,null,null,null,null,null,null,null,null,null,null,null,null,null,null,null,null,null,null,null,null,null,null,null,null,null,null,null,null,null,null,null,null,null,null,null,null,null,null,null,null,null,null,null,null,null,null,null,null,null,null,null,null,null,null,null,null,null,null,null,null,null,null,null,null,null,null,null,null,null,null,null,null,null,null,null,null,null,null,null,null,null,null,null,null,null,null,null,null,null,null,null,null,null,null,null,null,null,null,null,null,null,null,null,null,null,null,null,null,null,null,null,null,null,null,null,null,null,null,null,null,null,null,null,null,null,null,null,null,null,null,null,null,null,null,null,null,null,null,null,null,null,null,null,null,null,null,null,null,null,null,null,null,null,null,null,null,null,null,null,null,null,null,null,null,null,null,null,null,null,null,null,null,null,null,null,null,null,null,null,null,null,null,null,null,null,null,null,null,null,null,null,null,null,null,null,null,null,null,null,null,null,null,null,null,null,null,null,null,null,null,null,null,null,null,null,null,null,null,null,null,null,null,null,null,null,null,null,null,null,null,null,null,null,null,null,null,null,null,null,null,null,null,null,null,null,null,null,null,null,null,null,null,null,null,null,null,null,null,null,null,null,null,null,null,null,null,null,null,null,null,null,null,null,null,null,null,null,null,null,null,null,null,null,null,null,null,null,null,null,null,null,null,null,null,null,null,null,null,null,null,null,null,null,null,null,null,null,null,null,null,null,null,null,null,null,null,null,null,null,null,null,null,null,null,null,null,null,null,null,null,null,null,null,null,null,null,null,null,null,null,null,null,null,null,null,null,null,null,null,null,null,null,null,null,null,null,null,null,null,null,null,null,null,null,null,null,null,null,null,null,null,null,null,null,null,null,null,null,null,null,null,null,null,null,null,null,null,null,null,null,null,null,null,null,null,null,null,null,null,null,null,null,null,null,null,null,null,null,null,null,null,null,null,null,null,null,null,null,null,null,null,null,null,null,null,null,null,null,null,null,null,null,null,null,null,null,null,null,null,null,null,null,null,null,null,null,null,null,null,null,null,null,null,null,null,null,null,null,null,null,null,null,null,null,null,null,null,null,null,null,null,null,null,null,null,null,null,null,null,null,null,null,null,null,null,null,null,null,null,null,null,null,null,null,null,null,null,null,null,null,null,null,null,null,null,null,null,null,null,null,null,null,null,null,null,null,null,null,null,null,null,null,null,null,null,null,null,null,null,null,null,null,null,null,null,null,null,null,null,null,null,null,null,null,null,null,null,null,null,null,null,null,null,null,null,null,null,null,null,null,null,null,null,null,null,null,null,null,null,null,null,null,null,null,null,null,null,null,null,null,null,null,null,null,null,null,null,null,null,null,null,null,null,null,null,null,null,null,null,null,null,null,null,null,null,null,null,null,null,null,null,null,null,null,null,null,null,null,null,null,null,null,null,null,null,null,null,null,null,null,null,null,null,null,null,null,null,null,null,null,null,null,null,null,null,null,null,null,null,null,null,null,null,null,null,null,null,null,null,null,null,null,null,null,null,null,null,null,null,null,null,null,null,null,null,null,null,null,null,null,null,null,null,null,null,null,null,null,null,null,null,null,null,null,null,null,null,null,null,null,null,null,null,null,null,null,null,null,null,null,null,null,null,null,null,null,null,null,null,null,null,null,null,null,null,null,null,null,null,null,null,null,null,null,null,null,null,null,null,null,null,null,null,null,null,null,null,null,null,null,null,null,null,null,null,null,null,null,null,null,null,null,null,null,null,null,null,null,null,null,null,null,null,null,null,null,null,null,null,null,null,null,null,null,null,null,null,null,null,null,null,null,null,null,null,null,null,null,null,null,null,null,null,null,null,null,null,null,null,null,null,null,null,null,null,null,null,null,null,null,null,null,null,null,null,null,null,null,null,null,null,null,null,null,null,null,null,null,null,null,null,null,null,null,null,null,null,null,null,null,null,null,null,null,null,null,null,null,null,null,null,null,null,null,null,null,null,null,null,null,null,null,null,null,null,null,null,null,null,null,null,null,null,null,null,null,null,null,null,null,null,null,null,null,null,null,null,null,null,null,null,null,null,null,null,null,null,null,null,null,null,null,null,null,null,null,null,null,null,null,null,null,null,null,null,null,null,null,null,null,null,null,null,null,null,null,null,null,null,null,null,null,null,null,null,null,null,null,null,null,null,null,null,null,null,null,null,null,null,null,null,null,null,null,null,null,null,null,null,null,null,null,null,null,null,null,null,null,null,null,null,null,null,null,null,null,null,null,null,null,null,null,null,null,null,null,null,null,null,null,null,null,null,null,null,null,null,null,null,null,null,null,null,null,null,null,null,null,null,null,null,null,null,null,null,null,null,null,null,null,null,null,null,null,null,null,null,null,null,null,null,null,null,null,null,null,null,null,null,null,null,null,null,null,null,null,null,null,null,null,null,null,null,null,null,null,null,null,null,null,null,null,null,null,null,null,null,null,null,null,null,null,null,null,null,null,null,null,null,null,null,null,null,null,null,null,null,null,null,null,null,null,null,null,null,null,null,null,null,null,""]
[null,null,296,null,null,null,null,"","",null,null,null,null,null,null,null,null,null,null,null,null,null,null,null,null,null,null,null,null,null,null,null,null,null,null,null,null,null,null,null,null,null,null,null,"","",null,"","",null,"","",null,null,null,null,null,null,null,null,null,null,null,null,null,null,null,null,null,null,null,null,null,null,null,null,null,null,null,null,null,null,null,null,null,null,null,null,null,null,null,null,null,null,null,null,null,null,null,null,null,null,null,null,null,null,null,null,null,null,null,null,null,null,null,null,null,null,null,null,null,null,null,null,null,null,null,null,null,null,null,null,null,null,null,null,null,null,null,null,null,null,null,null,null,null,null,null,null,null,null,null,null,null,null,null,null,null,null,null,null,null,null,null,null,null,null,null,null,null,null,null,null,null,null,null,null,null,null,null,null,null,null,null,null,null,null,null,null,null,null,null,null,null,null,null,null,null,null,null,null,null,null,null,null,null,null,null,null,null,null,null,null,null,null,null,null,null,null,null,null,null,null,null,null,null,null,null,null,null,null,null,null,null,null,null,null,null,null,null,null,null,null,null,null,null,null,null,null,null,null,null,null,null,null,null,null,null,null,null,null,null,null,null,null,null,null,null,null,null,null,null,null,null,null,null,null,null,null,null,null,null,null,null,null,null,null,null,null,null,null,null,null,null,null,null,null,null,null,null,null,null,null,null,null,null,null,null,null,null,null,null,null,null,null,null,null,null,null,null,null,null,null,null,null,null,null,null,null,null,null,null,null,null,null,null,null,null,null,null,null,null,null,null,null,null,null,null,null,null,null,null,null,null,null,null,null,null,null,null,null,null,null,null,null,null,null,null,null,null,null,null,null,null,null,null,null,null,null,null,null,null,null,null,null,null,null,null,null,null,null,null,null,null,null,null,null,null,null,null,null,null,null,null,null,null,null,null,null,null,null,null,null,null,null,null,null,null,null,null,null,null,null,null,null,null,null,null,null,null,null,null,null,null,null,null,null,null,null,null,null,null,null,null,null,null,null,null,null,null,null,null,null,null,null,null,null,null,null,null,null,null,null,null,null,null,null,null,null,null,null,null,null,null,null,null,null,null,null,null,null,null,null,null,null,null,null,null,null,null,null,null,null,null,null,null,null,null,null,null,null,null,null,null,null,null,null,null,null,null,null,null,null,null,null,null,null,null,null,null,null,null,null,null,null,null,null,null,null,null,null,null,null,null,null,null,null,null,null,null,null,null,null,null,null,null,null,null,null,null,null,null,null,null,null,null,null,null,null,null,null,null,null,null,null,null,null,null,null,null,null,null,null,null,null,null,null,null,null,null,null,null,null,null,null,null,null,null,null,null,null,null,null,null,null,null,null,null,null,null,null,null,null,null,null,null,null,null,null,null,null,null,null,null,null,null,null,null,null,null,null,null,null,null,null,null,null,null,null,null,null,null,null,null,null,null,null,null,null,null,null,null,null,null,null,null,null,null,null,null,null,null,null,null,null,null,null,null,null,null,null,null,null,null,null,null,null,null,null,null,null,null,null,null,null,null,null,null,null,null,null,null,null,null,null,null,null,null,null,null,null,null,null,null,null,null,null,null,null,null,null,null,null,null,null,null,null,null,null,null,null,null,null,null,null,null,null,null,null,null,null,null,null,null,null,null,null,null,null,null,null,null,null,null,null,null,null,null,null,null,null,null,null,null,null,null,null,null,null,null,null,null,null,null,null,null,null,null,null,null,null,null,null,null,null,null,null,null,null,null,null,null,null,null,null,null,null,null,null,null,null,null,null,null,null,null,null,null,null,null,null,null,null,null,null,null,null,null,null,null,null,null,null,null,null,null,null,null,null,null,null,null,null,null,null,null,null,null,null,null,null,null,null,null,null,null,null,null,null,null,null,null,null,null,null,null,null,null,null,null,null,null,null,null,null,null,null,null,null,null,null,null,null,null,null,null,null,null,null,null,null,null,null,null,null,null,null,null,null,null,null,null,null,null,null,null,null,null,null,null,null,null,null,null,null,null,null,null,null,null,null,null,null,null,null,null,null,null,null,null,null,null,null,null,null,null,null,null,null,null,null,null,null,null,null,null,null,null,null,null,null,null,null,null,null,null,null,null,null,null,null,null,null,null,null,null,null,null,null,null,null,null,null,null,null,null,null,null,null,null,null,null,null,null,null,null,null,null,null,null,null,null,null,null,null,null,null,null,null,null,null,null,null,null,null,null,null,null,null,null,null,null,null,null,null,null,null,null,null,null,null,null,null,null,null,null,null,null,null,null,null,null,null,null,null,null,null,null,null,null,null,null,null,null,null,null,null,null,null,null,null,null,null,null,null,null,null,null,null,null,null,null,null,null,null,null,null,null,null,null,null,null,null,null,null,null,null,null,null,null,null,null,null,null,null,null,null,null,null,null,null,null,null,null,null,null,null,null,null,null,null,null,null,null,null,null,null,null,null,null,null,null,null,null,null,null,null,null,null,null,null,null,null,null,null,null,null,null,null,null,null,null,null,null,null,null,null,null,null,null,null,null,null,null,null,null,null,null,null,null,null,null,null,null,null,null,null,null,null,null,null,null,null,null,null,null,null,null,null,null,null,null,null,null,null,null,null,null,null,null,null,null,null,null,null,null,null,null,null,null,null,null,null,null,null,null,null,null,null,null,null,null,null,null,null,null,null,null,null,null,null,null,null,null,null,null,null,null,null,null,null,null,null,null,null,null,null,null,null,null,null,null,null,null,null,null,null,null,null,null,null,null,null,null,null,null,null,null,null,null,null,null,null,null,null,null,null,null,null,null,null,null,null,null,null,null,null,null,null,null,null,null,null,null,null,null,null,null,null,null,null,null,null,null,null,null,null,null,null,null,null,null,null,null,null,null,null,null,null,null,null,null,null,null,null,null,null,null,null,null,null,null,null,null,null,null,null,null,null,null,null,null,null,null,null,null,null,null,null,null,null,null,null,null,null,null,null,null,null,null,null,null,null,null,null,null,null,null,null,null,null,null,null,null,null,null,null,null,null,null,null,null,null,null,null,null,null,null,null,null,null,null,null,null,null,null,null,null,null,null,null,null,null,null,null,null,null,null,null,null,null,null,null,null,null,null,null,null,null,null,null,null,null,null,null,null,null,null,null,null,null,null,null,null,null,null,null,null,null,null,null,null,null,null,null,null,null,null,null,null,null,null,null,null,null,null,null,null,null,null,null,null,null,null,null,null,null,null,null,null,null,null,null,null,null,null,null,null,null,null,null,null,null,null,null,null,null,null,null,null,null,null,null,null,null,null,null,null,null,null,null,null,null,null,null,null,null,null,null,null,null,null,null,null,null,null,null,null,null,null,null,null,null,null,null,null,null,null,null,null,null,null,null,null,null,null,null,null,null,null,null,null,null,null,null,null,null,null,null,null,null,null,null,null,null,null,null,null,null,null,null,null,null,null,null,null,null,null,null,null,null,null,null,null,null,null,null,null,null,null,null,null,null,null,null,null,null,null,null,null,null,null,null,null,null,null,null,null,null,null,null,null,null,null,null,null,null,null,null,null,null,null,null,null,null,null,null,null,null,null,null,null,null,null,null,null,null,null,null,null,null,null,null,null,null,null,null,""]
[null,null,351,null,null,null,null,"","",null,null,null,null,null,null,null,null,null,null,null,null,null,null,null,null,null,null,null,null,null,null,null,null,null,null,null,null,null,null,null,null,null,null,null,"","",null,"","",null,"","",null,null,null,null,null,null,null,null,null,null,null,null,null,null,null,null,null,null,null,null,null,null,null,null,null,null,null,null,null,null,null,null,null,null,null,null,null,null,null,null,null,null,null,null,null,null,null,null,null,null,null,null,null,null,null,null,null,null,null,null,null,null,null,null,null,null,null,null,null,null,null,null,null,null,null,null,null,null,null,null,null,null,null,null,null,null,null,null,null,null,null,null,null,null,null,null,null,null,null,null,null,null,null,null,null,null,null,null,null,null,null,null,null,null,null,null,null,null,null,null,null,null,null,null,null,null,null,null,null,null,null,null,null,null,null,null,null,null,null,null,null,null,null,null,null,null,null,null,null,null,null,null,null,null,null,null,null,null,null,null,null,null,null,null,null,null,null,null,null,null,null,null,null,null,null,null,null,null,null,null,null,null,null,null,null,null,null,null,null,null,null,null,null,null,null,null,null,null,null,null,null,null,null,null,null,null,null,null,null,null,null,null,null,null,null,null,null,null,null,null,null,null,null,null,null,null,null,null,null,null,null,null,null,null,null,null,null,null,null,null,null,null,null,null,null,null,null,null,null,null,null,null,null,null,null,null,null,null,null,null,null,null,null,null,null,null,null,null,null,null,null,null,null,null,null,null,null,null,null,null,null,null,null,null,null,null,null,null,null,null,null,null,null,null,null,null,null,null,null,null,null,null,null,null,null,null,null,null,null,null,null,null,null,null,null,null,null,null,null,null,null,null,null,null,null,null,null,null,null,null,null,null,null,null,null,null,null,null,null,null,null,null,null,null,null,null,null,null,null,null,null,null,null,null,null,null,null,null,null,null,null,null,null,null,null,null,null,null,null,null,null,null,null,null,null,null,null,null,null,null,null,null,null,null,null,null,null,null,null,null,null,null,null,null,null,null,null,null,null,null,null,null,null,null,null,null,null,null,null,null,null,null,null,null,null,null,null,null,null,null,null,null,null,null,null,null,null,null,null,null,null,null,null,null,null,null,null,null,null,null,null,null,null,null,null,null,null,null,null,null,null,null,null,null,null,null,null,null,null,null,null,null,null,null,null,null,null,null,null,null,null,null,null,null,null,null,null,null,null,null,null,null,null,null,null,null,null,null,null,null,null,null,null,null,null,null,null,null,null,null,null,null,null,null,null,null,null,null,null,null,null,null,null,null,null,null,null,null,null,null,null,null,null,null,null,null,null,null,null,null,null,null,null,null,null,null,null,null,null,null,null,null,null,null,null,null,null,null,null,null,null,null,null,null,null,null,null,null,null,null,null,null,null,null,null,null,null,null,null,null,null,null,null,null,null,null,null,null,null,null,null,null,null,null,null,null,null,null,null,null,null,null,null,null,null,null,null,null,null,null,null,null,null,null,null,null,null,null,null,null,null,null,null,null,null,null,null,null,null,null,null,null,null,null,null,null,null,null,null,null,null,null,null,null,null,null,null,null,null,null,null,null,null,null,null,null,null,null,null,null,null,null,null,null,null,null,null,null,null,null,null,null,null,null,null,null,null,null,null,null,null,null,null,null,null,null,null,null,null,null,null,null,null,null,null,null,null,null,null,null,null,null,null,null,null,null,null,null,null,null,null,null,null,null,null,null,null,null,null,null,null,null,null,null,null,null,null,null,null,null,null,null,null,null,null,null,null,null,null,null,null,null,null,null,null,null,null,null,null,null,null,null,null,null,null,null,null,null,null,null,null,null,null,null,null,null,null,null,null,null,null,null,null,null,null,null,null,null,null,null,null,null,null,null,null,null,null,null,null,null,null,null,null,null,null,null,null,null,null,null,null,null,null,null,null,null,null,null,null,null,null,null,null,null,null,null,null,null,null,null,null,null,null,null,null,null,null,null,null,null,null,null,null,null,null,null,null,null,null,null,null,null,null,null,null,null,null,null,null,null,null,null,null,null,null,null,null,null,null,null,null,null,null,null,null,null,null,null,null,null,null,null,null,null,null,null,null,null,null,null,null,null,null,null,null,null,null,null,null,null,null,null,null,null,null,null,null,null,null,null,null,null,null,null,null,null,null,null,null,null,null,null,null,null,null,null,null,null,null,null,null,null,null,null,null,null,null,null,null,null,null,null,null,null,null,null,null,null,null,null,null,null,null,null,null,null,null,null,null,null,null,null,null,null,null,null,null,null,null,null,null,null,null,null,null,null,null,null,null,null,null,null,null,null,null,null,null,null,null,null,null,null,null,null,null,null,null,null,null,null,null,null,null,null,null,null,null,null,null,null,null,null,null,null,null,null,null,null,null,null,null,null,null,null,null,null,null,null,null,null,null,null,null,null,null,null,null,null,null,null,null,null,null,null,null,null,null,null,null,null,null,null,null,null,null,null,null,null,null,null,null,null,null,null,null,null,null,null,null,null,null,null,null,null,null,null,null,null,null,null,null,null,null,null,null,null,null,null,null,null,null,null,null,null,null,null,null,null,null,null,null,null,null,null,null,null,null,null,null,null,null,null,null,null,null,null,null,null,null,null,null,null,null,null,null,null,null,null,null,null,null,null,null,null,null,null,null,null,null,null,null,null,null,null,null,null,null,null,null,null,null,null,null,null,null,null,null,null,null,null,null,null,null,null,null,null,null,null,null,null,null,null,null,null,null,null,null,null,null,null,null,null,null,null,null,null,null,null,null,null,null,null,null,null,null,null,null,null,null,null,null,null,null,null,null,null,null,null,null,null,null,null,null,null,null,null,null,null,null,null,null,null,null,null,null,null,null,null,null,null,null,null,null,null,null,null,null,null,null,null,null,null,null,null,null,null,null,null,null,null,null,null,null,null,null,null,null,null,null,null,null,null,null,null,null,null,null,null,null,null,null,null,null,null,null,null,null,null,null,null,null,null,null,null,null,null,null,null,null,null,null,null,null,null,null,null,null,null,null,null,null,null,null,null,null,null,null,null,null,null,null,null,null,null,null,null,null,null,null,null,null,null,null,null,null,null,null,null,null,null,null,null,null,null,null,null,null,null,null,null,null,null,null,null,null,null,null,null,null,null,null,null,null,null,null,null,null,null,null,null,null,null,null,null,null,null,null,null,null,null,null,null,null,null,null,null,null,null,null,null,null,null,null,null,null,null,null,null,null,null,null,null,null,null,null,null,null,null,null,null,null,null,null,null,null,null,null,null,null,null,null,null,null,null,null,null,null,null,null,null,null,null,null,null,null,null,null,null,null,null,null,null,null,null,null,null,null,null,null,null,null,null,null,null,null,null,null,null,null,null,null,null,null,null,null,null,null,null,null,null,null,null,null,null,null,null,null,null,null,null,null,null,null,null,null,null,null,null,null,null,null,null,null,null,null,null,null,null,null,null,null,null,null,null,null,null,null,null,null,null,null,null,null,null,null,null,null,null,null,null,null,null,null,null,null,null,null,null,null,null,null,null,null,null,null,null,null,null,null,null,null,null,null,null,null,null,null,null,null,null,null,null,null,null,null,null,null,null,null,null,null,null,null,null,null,""]
[null,null,377,null,null,null,null,"","",null,null,null,null,null,null,null,null,null,null,null,null,null,null,null,null,null,null,null,null,null,null,null,null,null,null,null,null,null,null,null,null,null,null,null,"","",null,"","",null,"","",null,null,null,null,null,null,null,null,null,null,null,null,null,null,null,null,null,null,null,null,null,null,null,null,null,null,null,null,null,null,null,null,null,null,null,null,null,null,null,null,null,null,null,null,null,null,null,null,null,null,null,null,null,null,null,null,null,null,null,null,null,null,null,null,null,null,null,null,null,null,null,null,null,null,null,null,null,null,null,null,null,null,null,null,null,null,null,null,null,null,null,null,null,null,null,null,null,null,null,null,null,null,null,null,null,null,null,null,null,null,null,null,null,null,null,null,null,null,null,null,null,null,null,null,null,null,null,null,null,null,null,null,null,null,null,null,null,null,null,null,null,null,null,null,null,null,null,null,null,null,null,null,null,null,null,null,null,null,null,null,null,null,null,null,null,null,null,null,null,null,null,null,null,null,null,null,null,null,null,null,null,null,null,null,null,null,null,null,null,null,null,null,null,null,null,null,null,null,null,null,null,null,null,null,null,null,null,null,null,null,null,null,null,null,null,null,null,null,null,null,null,null,null,null,null,null,null,null,null,null,null,null,null,null,null,null,null,null,null,null,null,null,null,null,null,null,null,null,null,null,null,null,null,null,null,null,null,null,null,null,null,null,null,null,null,null,null,null,null,null,null,null,null,null,null,null,null,null,null,null,null,null,null,null,null,null,null,null,null,null,null,null,null,null,null,null,null,null,null,null,null,null,null,null,null,null,null,null,null,null,null,null,null,null,null,null,null,null,null,null,null,null,null,null,null,null,null,null,null,null,null,null,null,null,null,null,null,null,null,null,null,null,null,null,null,null,null,null,null,null,null,null,null,null,null,null,null,null,null,null,null,null,null,null,null,null,null,null,null,null,null,null,null,null,null,null,null,null,null,null,null,null,null,null,null,null,null,null,null,null,null,null,null,null,null,null,null,null,null,null,null,null,null,null,null,null,null,null,null,null,null,null,null,null,null,null,null,null,null,null,null,null,null,null,null,null,null,null,null,null,null,null,null,null,null,null,null,null,null,null,null,null,null,null,null,null,null,null,null,null,null,null,null,null,null,null,null,null,null,null,null,null,null,null,null,null,null,null,null,null,null,null,null,null,null,null,null,null,null,null,null,null,null,null,null,null,null,null,null,null,null,null,null,null,null,null,null,null,null,null,null,null,null,null,null,null,null,null,null,null,null,null,null,null,null,null,null,null,null,null,null,null,null,null,null,null,null,null,null,null,null,null,null,null,null,null,null,null,null,null,null,null,null,null,null,null,null,null,null,null,null,null,null,null,null,null,null,null,null,null,null,null,null,null,null,null,null,null,null,null,null,null,null,null,null,null,null,null,null,null,null,null,null,null,null,null,null,null,null,null,null,null,null,null,null,null,null,null,null,null,null,null,null,null,null,null,null,null,null,null,null,null,null,null,null,null,null,null,null,null,null,null,null,null,null,null,null,null,null,null,null,null,null,null,null,null,null,null,null,null,null,null,null,null,null,null,null,null,null,null,null,null,null,null,null,null,null,null,null,null,null,null,null,null,null,null,null,null,null,null,null,null,null,null,null,null,null,null,null,null,null,null,null,null,null,null,null,null,null,null,null,null,null,null,null,null,null,null,null,null,null,null,null,null,null,null,null,null,null,null,null,null,null,null,null,null,null,null,null,null,null,null,null,null,null,null,null,null,null,null,null,null,null,null,null,null,null,null,null,null,null,null,null,null,null,null,null,null,null,null,null,null,null,null,null,null,null,null,null,null,null,null,null,null,null,null,null,null,null,null,null,null,null,null,null,null,null,null,null,null,null,null,null,null,null,null,null,null,null,null,null,null,null,null,null,null,null,null,null,null,null,null,null,null,null,null,null,null,null,null,null,null,null,null,null,null,null,null,null,null,null,null,null,null,null,null,null,null,null,null,null,null,null,null,null,null,null,null,null,null,null,null,null,null,null,null,null,null,null,null,null,null,null,null,null,null,null,null,null,null,null,null,null,null,null,null,null,null,null,null,null,null,null,null,null,null,null,null,null,null,null,null,null,null,null,null,null,null,null,null,null,null,null,null,null,null,null,null,null,null,null,null,null,null,null,null,null,null,null,null,null,null,null,null,null,null,null,null,null,null,null,null,null,null,null,null,null,null,null,null,null,null,null,null,null,null,null,null,null,null,null,null,null,null,null,null,null,null,null,null,null,null,null,null,null,null,null,null,null,null,null,null,null,null,null,null,null,null,null,null,null,null,null,null,null,null,null,null,null,null,null,null,null,null,null,null,null,null,null,null,null,null,null,null,null,null,null,null,null,null,null,null,null,null,null,null,null,null,null,null,null,null,null,null,null,null,null,null,null,null,null,null,null,null,null,null,null,null,null,null,null,null,null,null,null,null,null,null,null,null,null,null,null,null,null,null,null,null,null,null,null,null,null,null,null,null,null,null,null,null,null,null,null,null,null,null,null,null,null,null,null,null,null,null,null,null,null,null,null,null,null,null,null,null,null,null,null,null,null,null,null,null,null,null,null,null,null,null,null,null,null,null,null,null,null,null,null,null,null,null,null,null,null,null,null,null,null,null,null,null,null,null,null,null,null,null,null,null,null,null,null,null,null,null,null,null,null,null,null,null,null,null,null,null,null,null,null,null,null,null,null,null,null,null,null,null,null,null,null,null,null,null,null,null,null,null,null,null,null,null,null,null,null,null,null,null,null,null,null,null,null,null,null,null,null,null,null,null,null,null,null,null,null,null,null,null,null,null,null,null,null,null,null,null,null,null,null,null,null,null,null,null,null,null,null,null,null,null,null,null,null,null,null,null,null,null,null,null,null,null,null,null,null,null,null,null,null,null,null,null,null,null,null,null,null,null,null,null,null,null,null,null,null,null,null,null,null,null,null,null,null,null,null,null,null,null,null,null,null,null,null,null,null,null,null,null,null,null,null,null,null,null,null,null,null,null,null,null,null,null,null,null,null,null,null,null,null,null,null,null,null,null,null,null,null,null,null,null,null,null,null,null,null,null,null,null,null,null,null,null,null,null,null,null,null,null,null,null,null,null,null,null,null,null,null,null,null,null,null,null,null,null,null,null,null,null,null,null,null,null,null,null,null,null,null,null,null,null,null,null,null,null,null,null,null,null,null,null,null,null,null,null,null,null,null,null,null,null,null,null,null,null,null,null,null,null,null,null,null,null,null,null,null,null,null,null,null,null,null,null,null,null,null,null,null,null,null,null,null,null,null,null,null,null,null,null,null,null,null,null,null,null,null,null,null,null,null,null,null,null,null,null,null,null,null,null,null,null,null,null,null,null,null,null,null,null,null,null,null,null,null,null,null,null,null,null,null,null,null,null,null,null,null,null,null,null,null,null,null,null,null,null,null,null,null,null,null,null,null,null,null,null,null,null,null,null,null,null,null,null,null,null,null,null,null,null,null,null,null,null,null,null,null,null,null,null,null,null,null,null,null,null,null,null,null,null,null,null,null,null,null,null,null,null,null,null,null,null,null,null,null,null,null,null,null,""]
[null,null,407,null,null,null,null,"","",null,null,null,null,null,null,null,null,null,null,null,null,null,null,null,null,null,null,null,null,null,null,null,null,null,null,null,null,null,null,null,null,null,null,null,"","",null,"","",null,"","",null,null,null,null,null,null,null,null,null,null,null,null,null,null,null,null,null,null,null,null,null,null,null,null,null,null,null,null,null,null,null,null,null,null,null,null,null,null,null,null,null,null,null,null,null,null,null,null,null,null,null,null,null,null,null,null,null,null,null,null,null,null,null,null,null,null,null,null,null,null,null,null,null,null,null,null,null,null,null,null,null,null,null,null,null,null,null,null,null,null,null,null,null,null,null,null,null,null,null,null,null,null,null,null,null,null,null,null,null,null,null,null,null,null,null,null,null,null,null,null,null,null,null,null,null,null,null,null,null,null,null,null,null,null,null,null,null,null,null,null,null,null,null,null,null,null,null,null,null,null,null,null,null,null,null,null,null,null,null,null,null,null,null,null,null,null,null,null,null,null,null,null,null,null,null,null,null,null,null,null,null,null,null,null,null,null,null,null,null,null,null,null,null,null,null,null,null,null,null,null,null,null,null,null,null,null,null,null,null,null,null,null,null,null,null,null,null,null,null,null,null,null,null,null,null,null,null,null,null,null,null,null,null,null,null,null,null,null,null,null,null,null,null,null,null,null,null,null,null,null,null,null,null,null,null,null,null,null,null,null,null,null,null,null,null,null,null,null,null,null,null,null,null,null,null,null,null,null,null,null,null,null,null,null,null,null,null,null,null,null,null,null,null,null,null,null,null,null,null,null,null,null,null,null,null,null,null,null,null,null,null,null,null,null,null,null,null,null,null,null,null,null,null,null,null,null,null,null,null,null,null,null,null,null,null,null,null,null,null,null,null,null,null,null,null,null,null,null,null,null,null,null,null,null,null,null,null,null,null,null,null,null,null,null,null,null,null,null,null,null,null,null,null,null,null,null,null,null,null,null,null,null,null,null,null,null,null,null,null,null,null,null,null,null,null,null,null,null,null,null,null,null,null,null,null,null,null,null,null,null,null,null,null,null,null,null,null,null,null,null,null,null,null,null,null,null,null,null,null,null,null,null,null,null,null,null,null,null,null,null,null,null,null,null,null,null,null,null,null,null,null,null,null,null,null,null,null,null,null,null,null,null,null,null,null,null,null,null,null,null,null,null,null,null,null,null,null,null,null,null,null,null,null,null,null,null,null,null,null,null,null,null,null,null,null,null,null,null,null,null,null,null,null,null,null,null,null,null,null,null,null,null,null,null,null,null,null,null,null,null,null,null,null,null,null,null,null,null,null,null,null,null,null,null,null,null,null,null,null,null,null,null,null,null,null,null,null,null,null,null,null,null,null,null,null,null,null,null,null,null,null,null,null,null,null,null,null,null,null,null,null,null,null,null,null,null,null,null,null,null,null,null,null,null,null,null,null,null,null,null,null,null,null,null,null,null,null,null,null,null,null,null,null,null,null,null,null,null,null,null,null,null,null,null,null,null,null,null,null,null,null,null,null,null,null,null,null,null,null,null,null,null,null,null,null,null,null,null,null,null,null,null,null,null,null,null,null,null,null,null,null,null,null,null,null,null,null,null,null,null,null,null,null,null,null,null,null,null,null,null,null,null,null,null,null,null,null,null,null,null,null,null,null,null,null,null,null,null,null,null,null,null,null,null,null,null,null,null,null,null,null,null,null,null,null,null,null,null,null,null,null,null,null,null,null,null,null,null,null,null,null,null,null,null,null,null,null,null,null,null,null,null,null,null,null,null,null,null,null,null,null,null,null,null,null,null,null,null,null,null,null,null,null,null,null,null,null,null,null,null,null,null,null,null,null,null,null,null,null,null,null,null,null,null,null,null,null,null,null,null,null,null,null,null,null,null,null,null,null,null,null,null,null,null,null,null,null,null,null,null,null,null,null,null,null,null,null,null,null,null,null,null,null,null,null,null,null,null,null,null,null,null,null,null,null,null,null,null,null,null,null,null,null,null,null,null,null,null,null,null,null,null,null,null,null,null,null,null,null,null,null,null,null,null,null,null,null,null,null,null,null,null,null,null,null,null,null,null,null,null,null,null,null,null,null,null,null,null,null,null,null,null,null,null,null,null,null,null,null,null,null,null,null,null,null,null,null,null,null,null,null,null,null,null,null,null,null,null,null,null,null,null,null,null,null,null,null,null,null,null,null,null,null,null,null,null,null,null,null,null,null,null,null,null,null,null,null,null,null,null,null,null,null,null,null,null,null,null,null,null,null,null,null,null,null,null,null,null,null,null,null,null,null,null,null,null,null,null,null,null,null,null,null,null,null,null,null,null,null,null,null,null,null,null,null,null,null,null,null,null,null,null,null,null,null,null,null,null,null,null,null,null,null,null,null,null,null,null,null,null,null,null,null,null,null,null,null,null,null,null,null,null,null,null,null,null,null,null,null,null,null,null,null,null,null,null,null,null,null,null,null,null,null,null,null,null,null,null,null,null,null,null,null,null,null,null,null,null,null,null,null,null,null,null,null,null,null,null,null,null,null,null,null,null,null,null,null,null,null,null,null,null,null,null,null,null,null,null,null,null,null,null,null,null,null,null,null,null,null,null,null,null,null,null,null,null,null,null,null,null,null,null,null,null,null,null,null,null,null,null,null,null,null,null,null,null,null,null,null,null,null,null,null,null,null,null,null,null,null,null,null,null,null,null,null,null,null,null,null,null,null,null,null,null,null,null,null,null,null,null,null,null,null,null,null,null,null,null,null,null,null,null,null,null,null,null,null,null,null,null,null,null,null,null,null,null,null,null,null,null,null,null,null,null,null,null,null,null,null,null,null,null,null,null,null,null,null,null,null,null,null,null,null,null,null,null,null,null,null,null,null,null,null,null,null,null,null,null,null,null,null,null,null,null,null,null,null,null,null,null,null,null,null,null,null,null,null,null,null,null,null,null,null,null,null,null,null,null,null,null,null,null,null,null,null,null,null,null,null,null,null,null,null,null,null,null,null,null,null,null,null,null,null,null,null,null,null,null,null,null,null,null,null,null,null,null,null,null,null,null,null,null,null,null,null,null,null,null,null,null,null,null,null,null,null,null,null,null,null,null,null,null,null,null,null,null,null,null,null,null,null,null,null,null,null,null,null,null,null,null,null,null,null,null,null,null,null,null,null,null,null,null,null,null,null,null,null,null,null,null,null,null,null,null,null,null,null,null,null,null,null,null,null,null,null,null,null,null,null,null,null,null,null,null,null,null,null,null,null,null,null,null,null,null,null,null,null,null,null,null,null,null,null,null,null,null,null,null,null,null,null,null,null,null,null,null,null,null,null,null,null,null,null,null,null,null,null,null,null,null,null,null,null,null,null,null,null,null,null,null,null,null,null,null,null,null,null,null,null,null,null,null,null,null,null,null,null,null,null,null,null,null,null,null,null,null,null,null,null,null,null,null,null,null,null,null,null,null,null,null,null,null,null,null,null,null,null,null,null,null,null,null,null,null,null,null,null,null,null,null,null,null,null,null,null,null,null,null,null,null,null,null,null,null,null,null,null,null,null,null,null,null,null,null,null,null,null,null,null,null,null,null,null,null,null,""]
[null,null,437,null,null,null,null,"","",null,null,null,null,null,null,null,null,null,null,null,null,null,null,null,null,null,null,null,null,null,null,null,null,null,null,null,null,null,null,null,null,null,null,null,"","",null,"","",null,"","",null,null,null,null,null,null,null,null,null,null,null,null,null,null,null,null,null,null,null,null,null,null,null,null,null,null,null,null,null,null,null,null,null,null,null,null,null,null,null,null,null,null,null,null,null,null,null,null,null,null,null,null,null,null,null,null,null,null,null,null,null,null,null,null,null,null,null,null,null,null,null,null,null,null,null,null,null,null,null,null,null,null,null,null,null,null,null,null,null,null,null,null,null,null,null,null,null,null,null,null,null,null,null,null,null,null,null,null,null,null,null,null,null,null,null,null,null,null,null,null,null,null,null,null,null,null,null,null,null,null,null,null,null,null,null,null,null,null,null,null,null,null,null,null,null,null,null,null,null,null,null,null,null,null,null,null,null,null,null,null,null,null,null,null,null,null,null,null,null,null,null,null,null,null,null,null,null,null,null,null,null,null,null,null,null,null,null,null,null,null,null,null,null,null,null,null,null,null,null,null,null,null,null,null,null,null,null,null,null,null,null,null,null,null,null,null,null,null,null,null,null,null,null,null,null,null,null,null,null,null,null,null,null,null,null,null,null,null,null,null,null,null,null,null,null,null,null,null,null,null,null,null,null,null,null,null,null,null,null,null,null,null,null,null,null,null,null,null,null,null,null,null,null,null,null,null,null,null,null,null,null,null,null,null,null,null,null,null,null,null,null,null,null,null,null,null,null,null,null,null,null,null,null,null,null,null,null,null,null,null,null,null,null,null,null,null,null,null,null,null,null,null,null,null,null,null,null,null,null,null,null,null,null,null,null,null,null,null,null,null,null,null,null,null,null,null,null,null,null,null,null,null,null,null,null,null,null,null,null,null,null,null,null,null,null,null,null,null,null,null,null,null,null,null,null,null,null,null,null,null,null,null,null,null,null,null,null,null,null,null,null,null,null,null,null,null,null,null,null,null,null,null,null,null,null,null,null,null,null,null,null,null,null,null,null,null,null,null,null,null,null,null,null,null,null,null,null,null,null,null,null,null,null,null,null,null,null,null,null,null,null,null,null,null,null,null,null,null,null,null,null,null,null,null,null,null,null,null,null,null,null,null,null,null,null,null,null,null,null,null,null,null,null,null,null,null,null,null,null,null,null,null,null,null,null,null,null,null,null,null,null,null,null,null,null,null,null,null,null,null,null,null,null,null,null,null,null,null,null,null,null,null,null,null,null,null,null,null,null,null,null,null,null,null,null,null,null,null,null,null,null,null,null,null,null,null,null,null,null,null,null,null,null,null,null,null,null,null,null,null,null,null,null,null,null,null,null,null,null,null,null,null,null,null,null,null,null,null,null,null,null,null,null,null,null,null,null,null,null,null,null,null,null,null,null,null,null,null,null,null,null,null,null,null,null,null,null,null,null,null,null,null,null,null,null,null,null,null,null,null,null,null,null,null,null,null,null,null,null,null,null,null,null,null,null,null,null,null,null,null,null,null,null,null,null,null,null,null,null,null,null,null,null,null,null,null,null,null,null,null,null,null,null,null,null,null,null,null,null,null,null,null,null,null,null,null,null,null,null,null,null,null,null,null,null,null,null,null,null,null,null,null,null,null,null,null,null,null,null,null,null,null,null,null,null,null,null,null,null,null,null,null,null,null,null,null,null,null,null,null,null,null,null,null,null,null,null,null,null,null,null,null,null,null,null,null,null,null,null,null,null,null,null,null,null,null,null,null,null,null,null,null,null,null,null,null,null,null,null,null,null,null,null,null,null,null,null,null,null,null,null,null,null,null,null,null,null,null,null,null,null,null,null,null,null,null,null,null,null,null,null,null,null,null,null,null,null,null,null,null,null,null,null,null,null,null,null,null,null,null,null,null,null,null,null,null,null,null,null,null,null,null,null,null,null,null,null,null,null,null,null,null,null,null,null,null,null,null,null,null,null,null,null,null,null,null,null,null,null,null,null,null,null,null,null,null,null,null,null,null,null,null,null,null,null,null,null,null,null,null,null,null,null,null,null,null,null,null,null,null,null,null,null,null,null,null,null,null,null,null,null,null,null,null,null,null,null,null,null,null,null,null,null,null,null,null,null,null,null,null,null,null,null,null,null,null,null,null,null,null,null,null,null,null,null,null,null,null,null,null,null,null,null,null,null,null,null,null,null,null,null,null,null,null,null,null,null,null,null,null,null,null,null,null,null,null,null,null,null,null,null,null,null,null,null,null,null,null,null,null,null,null,null,null,null,null,null,null,null,null,null,null,null,null,null,null,null,null,null,null,null,null,null,null,null,null,null,null,null,null,null,null,null,null,null,null,null,null,null,null,null,null,null,null,null,null,null,null,null,null,null,null,null,null,null,null,null,null,null,null,null,null,null,null,null,null,null,null,null,null,null,null,null,null,null,null,null,null,null,null,null,null,null,null,null,null,null,null,null,null,null,null,null,null,null,null,null,null,null,null,null,null,null,null,null,null,null,null,null,null,null,null,null,null,null,null,null,null,null,null,null,null,null,null,null,null,null,null,null,null,null,null,null,null,null,null,null,null,null,null,null,null,null,null,null,null,null,null,null,null,null,null,null,null,null,null,null,null,null,null,null,null,null,null,null,null,null,null,null,null,null,null,null,null,null,null,null,null,null,null,null,null,null,null,null,null,null,null,null,null,null,null,null,null,null,null,null,null,null,null,null,null,null,null,null,null,null,null,null,null,null,null,null,null,null,null,null,null,null,null,null,null,null,null,null,null,null,null,null,null,null,null,null,null,null,null,null,null,null,null,null,null,null,null,null,null,null,null,null,null,null,null,null,null,null,null,null,null,null,null,null,null,null,null,null,null,null,null,null,null,null,null,null,null,null,null,null,null,null,null,null,null,null,null,null,null,null,null,null,null,null,null,null,null,null,null,null,null,null,null,null,null,null,null,null,null,null,null,null,null,null,null,null,null,null,null,null,null,null,null,null,null,null,null,null,null,null,null,null,null,null,null,null,null,null,null,null,null,null,null,null,null,null,null,null,null,null,null,null,null,null,null,null,null,null,null,null,null,null,null,null,null,null,null,null,null,null,null,null,null,null,null,null,null,null,null,null,null,null,null,null,null,null,null,null,null,null,null,null,null,null,null,null,null,null,null,null,null,null,null,null,null,null,null,null,null,null,null,null,null,null,null,null,null,null,null,null,null,null,null,null,null,null,null,null,null,null,null,null,null,null,null,null,null,null,null,null,null,null,null,null,null,null,null,null,null,null,null,null,null,null,null,null,null,null,null,null,null,null,null,null,null,null,null,null,null,null,null,null,null,null,null,null,null,null,null,null,null,null,null,null,null,null,null,null,null,null,null,null,null,null,null,null,null,null,null,null,null,null,null,null,null,null,null,null,null,null,null,null,null,null,null,null,null,null,null,null,null,null,null,null,null,null,null,null,null,null,null,null,null,null,null,null,null,null,null,null,null,null,null,null,null,null,null,null,null,null,null,null,null,null,null,null,null,null,null,null,null,null,null,null,null,null,null,null,null,null,null,null,null,null,null,null,null,null,""]
[null,null,null,null,null,null,null,null,null,null,null,null,null,null,null,null,null,null,null,null,null,null,null,null,null,null,null,null,null,null,null,null,null,null,null,null,null,null,null,"","",null,null,null,0,{"$f":"AT505","v":0.56196078431372543},null,{"$f":"AV505","v":3.1217647058823532},{"$f":"AW505","v":0.56196078431372543},null,null,null,null,null,null,null,null,null,null,null,null,null,null,null,null,null,null,null,null,null,null,null,null,null,null,null,null,null,null,null,null,null,null,null,null,null,null,null,null,null,null,null,null,null,null,null,null,null,null,null,null,null,null,null,null,null,null,null,null,null,null,null,null,null,null,null,null,null,null,null,null,null,null,null,null,null,null,null,null,null,null,null,null,null,null,null,null,null,null,null,null,null,null,null,null,null,null,null,null,null,null,null,null,null,null,null,null,null,null,null,null,null,null,null,null,null,null,null,null,null,null,null,null,null,null,null,null,null,null,null,null,null,null,null,null,null,null,null,null,null,null,null,null,null,null,null,null,null,null,null,null,null,null,null,null,null,null,null,null,null,null,null,null,null,null,null,null,null,null,null,null,null,null,null,null,null,null,null,null,null,null,null,null,null,null,null,null,null,null,null,null,null,null,null,null,null,null,null,null,null,null,null,null,null,null,null,null,null,null,null,null,null,null,null,null,null,null,null,null,null,null,null,null,null,null,null,null,null,null,null,null,null,null,null,null,null,null,null,null,null,null,null,null,null,null,null,null,null,null,null,null,null,null,null,null,null,null,null,null,null,null,null,null,null,null,null,null,null,null,null,null,null,null,null,null,null,null,null,null,null,null,null,null,null,null,null,null,null,null,null,null,null,null,null,null,null,null,null,null,null,null,null,null,null,null,null,null,null,null,null,null,null,null,null,null,null,null,null,null,null,null,null,null,null,null,null,null,null,null,null,null,null,null,null,null,null,null,null,null,null,null,null,null,null,null,null,null,null,null,null,null,null,null,null,null,null,null,null,null,null,null,null,null,null,null,null,null,null,null,null,null,null,null,null,null,null,null,null,null,null,null,null,null,null,null,null,null,null,null,null,null,null,null,null,null,null,null,null,null,null,null,null,null,null,null,null,null,null,null,null,null,null,null,null,null,null,null,null,null,null,null,null,null,null,null,null,null,null,null,null,null,null,null,null,null,null,null,null,null,null,null,null,null,null,null,null,null,null,null,null,null,null,null,null,null,null,null,null,null,null,null,null,null,null,null,null,null,null,null,null,null,null,null,null,null,null,null,null,null,null,null,null,null,null,null,null,null,null,null,null,null,null,null,null,null,null,null,null,null,null,null,null,null,null,null,null,null,null,null,null,null,null,null,null,null,null,null,null,null,null,null,null,null,null,null,null,null,null,null,null,null,null,null,null,null,null,null,null,null,null,null,null,null,null,null,null,null,null,null,null,null,null,null,null,null,null,null,null,null,null,null,null,null,null,null,null,null,null,null,null,null,null,null,null,null,null,null,null,null,null,null,null,null,null,null,null,null,null,null,null,null,null,null,null,null,null,null,null,null,null,null,null,null,null,null,null,null,null,null,null,null,null,null,null,null,null,null,null,null,null,null,null,null,null,null,null,null,null,null,null,null,null,null,null,null,null,null,null,null,null,null,null,null,null,null,null,null,null,null,null,null,null,null,null,null,null,null,null,null,null,null,null,null,null,null,null,null,null,null,null,null,null,null,null,null,null,null,null,null,null,null,null,null,null,null,null,null,null,null,null,null,null,null,null,null,null,null,null,null,null,null,null,null,null,null,null,null,null,null,null,null,null,null,null,null,null,null,null,null,null,null,null,null,null,null,null,null,null,null,null,null,null,null,null,null,null,null,null,null,null,null,null,null,null,null,null,null,null,null,null,null,null,null,null,null,null,null,null,null,null,null,null,null,null,null,null,null,null,null,null,null,null,null,null,null,null,null,null,null,null,null,null,null,null,null,null,null,null,null,null,null,null,null,null,null,null,null,null,null,null,null,null,null,null,null,null,null,null,null,null,null,null,null,null,null,null,null,null,null,null,null,null,null,null,null,null,null,null,null,null,null,null,null,null,null,null,null,null,null,null,null,null,null,null,null,null,null,null,null,null,null,null,null,null,null,null,null,null,null,null,null,null,null,null,null,null,null,null,null,null,null,null,null,null,null,null,null,null,null,null,null,null,null,null,null,null,null,null,null,null,null,null,null,null,null,null,null,null,null,null,null,null,null,null,null,null,null,null,null,null,null,null,null,null,null,null,null,null,null,null,null,null,null,null,null,null,null,null,null,null,null,null,null,null,null,null,null,null,null,null,null,null,null,null,null,null,null,null,null,null,null,null,null,null,null,null,null,null,null,null,null,null,null,null,null,null,null,null,null,null,null,null,null,null,null,null,null,null,null,null,null,null,null,null,null,null,null,null,null,null,null,null,null,null,null,null,null,null,null,null,null,null,null,null,null,null,null,null,null,null,null,null,null,null,null,null,null,null,null,null,null,null,null,null,null,null,null,null,null,null,null,null,null,null,null,null,null,null,null,null,null,null,null,null,null,null,null,null,null,null,null,null,null,null,null,null,null,null,null,null,null,null,null,null,null,null,null,null,null,null,null,null,null,null,null,null,null,null,null,null,null,null,null,null,null,null,null,null,null,null,null,null,null,null,null,null,null,null,null,null,null,null,null,null,null,null,null,null,null,null,null,null,null,null,null,null,null,null,null,null,null,null,null,null,null,null,null,null,null,null,null,null,null,null,null,null,null,null,null,null,null,null,null,null,null,null,null,null,null,null,null,null,null,null,null,null,null,null,null,null,null,null,null,null,null,null,null,null,null,null,null,null,null,null,null,null,null,null,null,null,null,null,null,null,null,null,null,null,null,null,null,null,null,null,null,null,null,null,null,null,null,null,null,null,null,null,null,null,null,null,null,null,null,null,null,null,null,null,null,null,null,null,null,null,null,null,null,null,null,null,null,null,null,null,null,null,null,null,null,null,null,null,null,null,null,null,null,null,null,null,null,null,null,null,null,null,null,null,null,null,null,null,null,null,null,null,null,null,null,null,null,null,null,null,null,null,null,null,null,null,null,null,null,null,null,null,null,null,null,null,null,null,null,null,null,null,null,null,null,null,null,null,null,null,null,null,null,null,null,null,null,null,null,null,null,null,null,null,null,null,null,null,null,null,null,null,null,null,null,null,null,null,null,null,null,null,null,null,null,null,null,null,null,null,null,null,null,null,null,null,null,null,null,null,null,null,null,null,null,null,null,null,null,null,null,null,null,null,null,null,null,null,null,null,null,null,null,null,null,null,null,null,null,null,null,null,null,null,null,null,null,null,null,null,null,null,null,null,null,null,null,null,null,null,null,null,null,null,null,null,null,null,null,null,null,null,null,null,null,null,null,null,null,null,null,null,null,null,null,null,null,null,null,null,null,null,null,null,null,null,null,null,null,null,null,null,null,null,null,null,null,null,null,null,null,null,null,null,null,null,null,null,null,null,null,null,null,null,null,null,null,null,null,null,null,null,null,null,null,null,null,null,null,null,null,null,null,null,null,null,null,null,null,null,null,null,null,null,null,null,null,null,null,null,null,null,null,null,null,null,null,null,null,null,null,null,null,null,null,null,null,null,null,null,null,null,null,null,null,null,null,null,null,null,null,null,null,"Sｘｘ="]
[null,null,null,null,null,null,null,null,null,null,null,null,null,null,null,null,null,null,null,null,null,null,null,null,null,null,null,null,null,null,null,null,null,null,null,null,null,null,null,"",""]
[null,null,null,null,null,null,null,null,null,null,null,null,null,null,null,null,null,null,null,null,null,null,null,null,null,null,null,null,null,null,null,null,null,null,null,null,null,null,null,"",""]
[null,null,null,null,null,null,null,null,null,null,null,null,null,null,null,null,null,null,null,null,null,null,null,null,null,null,null,null,null,null,null,null,null,null,null,null,null,null,null,"",""]
[null,null,null,null,null,null,null,null,null,null,null,null,null,null,null,null,null,null,null,null,null,null,null,null,null,null,null,null,null,null,null,null,null,null,null,null,null,null,null,"",""]
[null,null,null,null,null,null,null,null,null,null,null,null,null,null,null,null,null,null,null,null,null,null,null,null,null,null,null,null,null,null,null,null,null,null,null,null,null,null,null,"",""]
[null,null,null,null,null,null,null,null,null,null,null,null,null,null,null,null,null,null,null,null,null,null,null,null,null,null,null,null,null,null,null,null,null,null,null,null,null,null,null,{"$f":"IF(D761<>\"\",RANK(D761,$D$5:$D$1304),\"\")","v":""},{"$f":"IF(E761<>\"\",RANK(E761,$E$5:$E$1304),\"\")","v":""}]
[null,null,null,null,null,null,null,null,null,null,null,null,null,null,null,null,null,null,null,null,null,null,null,null,null,null,null,null,null,null,null,null,null,null,null,null,null,null,null,"",""]
[null,null,null,null,null,null,null,null,null,null,null,null,null,null,null,null,null,null,null,null,null,null,null,null,null,null,null,null,null,null,null,null,null,null,null,null,null,null,null,"",""]
[null,null,null,null,null,null,null,null,null,null,null,null,null,null,null,null,null,null,null,null,null,null,null,null,null,null,null,null,null,null,null,null,null,null,null,null,null,null,null,"",""]
[null,null,null,null,null,null,null,null,null,null,null,null,null,null,null,null,null,null,null,null,null,null,null,null,null,null,null,null,null,null,null,null,null,null,null,null,null,null,null,"",""]
[null,null,null,null,null,null,null,null,null,null,null,null,null,null,null,null,null,null,null,null,null,null,null,null,null,null,null,null,null,null,null,null,null,null,null,null,null,null,null,"",""]
[null,null,null,null,null,null,null,null,null,null,null,null,null,null,null,null,null,null,null,null,null,null,null,null,null,null,null,null,null,null,null,null,null,null,null,null,null,null,null,"",""]
[null,null,null,null,null,null,null,null,null,null,null,null,null,null,null,null,null,null,null,null,null,null,null,null,null,null,null,null,null,null,null,null,null,null,null,null,null,null,null,"",""]
[null,null,null,null,null,null,null,null,null,null,null,null,null,null,null,null,null,null,null,null,null,null,null,null,null,null,null,null,null,null,null,null,null,null,null,null,null,null,null,"",""]
[null,null,null,null,null,null,null,null,null,null,null,null,null,null,null,null,null,null,null,null,null,null,null,null,null,null,null,null,null,null,null,null,null,null,null,null,null,null,null,"",""]
[null,null,null,null,null,null,null,null,null,null,null,null,null,null,null,null,null,null,null,null,null,null,null,null,null,null,null,null,null,null,null,null,null,null,null,null,null,null,null,"",""]
[null,null,null,null,null,null,null,null,null,null,null,null,null,null,null,null,null,null,null,null,null,null,null,null,null,null,null,null,null,null,null,null,null,null,null,null,null,null,null,"",""]
[null,null,null,null,null,null,null,null,null,null,null,null,null,null,null,null,null,null,null,null,null,null,null,null,null,null,null,null,null,null,null,null,null,null,null,null,null,null,null,"",""]
[null,null,null,null,null,null,null,null,null,null,null,null,null,null,null,null,null,null,null,null,null,null,null,null,null,null,null,null,null,null,null,null,null,null,null,null,null,null,null,"",""]
[null,null,null,null,null,null,null,null,null,null,null,null,null,null,null,null,null,null,null,null,null,null,null,null,null,null,null,null,null,null,null,null,null,null,null,null,null,null,null,"",""]
[null,null,null,null,null,null,null,null,null,null,null,null,null,null,null,null,null,null,null,null,null,null,null,null,null,null,null,null,null,null,null,null,null,null,null,null,null,null,null,"",""]
[null,null,null,null,null,null,null,null,null,null,null,null,null,null,null,null,null,null,null,null,null,null,null,null,null,null,null,null,null,null,null,null,null,null,null,null,null,null,null,"",""]
[null,null,null,null,null,null,null,null,null,null,null,null,null,null,null,null,null,null,null,null,null,null,null,null,null,null,null,null,null,null,null,null,null,null,null,null,null,null,null,"",""]
[null,null,null,null,null,null,null,null,null,null,null,null,null,null,null,null,null,null,null,null,null,null,null,null,null,null,null,null,null,null,null,null,null,null,null,null,null,null,null,"",""]
[null,null,null,null,null,null,null,null,null,null,null,null,null,null,null,null,null,null,null,null,null,null,null,null,null,null,null,null,null,null,null,null,null,null,null,null,null,null,null,"",""]
[null,null,null,null,null,null,null,null,null,null,null,null,null,null,null,null,null,null,null,null,null,null,null,null,null,null,null,null,null,null,null,null,null,null,null,null,null,null,null,"",""]

{"sheet":"併行精度","index":4,"n_rows":70,"n_cols":69,"rows_kept":70,"cut":false,"hidden":false,"merged":[[0,1,0,3],[0,29,0,30],[1,9,1,10]]}
["タイトル","血糖値",null,null,"解説",null,null,null,null,null,null,null,null,null,null,null,null,null,null,null,null,null,null,null,null,null,null,null,null,"カーネル曲線"]
[null,"基準範囲下限","基準範囲上限","異常濃度１","異常濃度２","予備１","予備２","予備３","予備４","階級数(Max9)→",null,6,null,null,null,null,null,null,null,null,null,null,null,null,null,null,null,null,null,{"$f":"S12","v":66},{"$f":"S13","v":67.333333333333343},{"$f":"S14","v":68.666666666666671},{"$f":"S15","v":70},{"$f":"S16","v":71.333333333333343},{"$f":"S17","v":72.666666666666671},{"$f":"S18","v":74},{"$f":"S19","v":75.333333333333343},{"$f":"S20","v":76.666666666666671},{"$f":"S21","v":78},{"$f":"S27","v":106},{"$f":"S28","v":106.83333333333334},{"$f":"S29","v":107.66666666666667},{"$f":"S30","v":108.5},{"$f":"S31","v":109.33333333333334},{"$f":"S32","v":110.16666666666667},{"$f":"S33","v":111},{"$f":"S34","v":111.83333333333334},{"$f":"S35","v":112.66666666666667},{"$f":"S36","v":113.5},{"$f":"S46","v":200},{"$f":"S47","v":200.66666666666669},{"$f":"S48","v":201.33333333333334},{"$f":"S49","v":202},{"$f":"S50","v":202.66666666666669},{"$f":"S51","v":203.33333333333334},{"$f":"S52","v":204},{"$f":"S53","v":204.66666666666669},{"$f":"S54","v":205.33333333333334},{"$f":"S55","v":206},{"$f":"S61","v":398},{"$f":"S62","v":399},{"$f":"S63","v":400},{"$f":"S64","v":401},{"$f":"S65","v":402},{"$f":"S66","v":403},{"$f":"S67","v":404},{"$f":"S68","v":405},{"$f":"S69","v":406},{"$f":"S70","v":407}]
[1,74,109,203,403,null,null,null,null,null,null,null,null,null,null,null,null,null,null,null,null,null,null,null,null,null,null,null,null,{"$f":"EXP(-((($B3-AD$2)/$S$10)^2/2))/SQRT(2*PI())","v":6.0758828498232861E-9},{"$f":"EXP(-((($B3-AE$2)/$S$10)^2/2))/SQRT(2*PI())","v":1.4867195147343508E-6},1.3383022576488726E-4,4.4318484119380075E-3,5.3990966513188826E-2,0.24197072451914423,0.3989422804014327,0.24197072451914164,5.3990966513187674E-2,4.4318484119380075E-3,{"$f":"EXP(-((($C3-AN$2)/$S$25)^2/2))/SQRT(2*PI())","v":6.1190193011377309E-4},{"$f":"EXP(-((($C3-AO$2)/$S$25)^2/2))/SQRT(2*PI())","v":1.3582969233686024E-2},0.11092083467945657,0.33322460289179967,0.36827014030332167,0.14972746563574366,2.2394530294842899E-2,1.2322191684729729E-3,2.4942471290052956E-5,1.8573618445552997E-7,{"$f":"EXP(-((($D3-AX$2)/$S$44)^2/2))/SQRT(2*PI())","v":1.5983741106905478E-5},8.72682695045847E-4,1.7528300493569165E-2,0.12951759566589174,0.35206532676430452,0.35206532676429703,0.12951759566589174,1.7528300493567295E-2,8.7268269504571668E-4,1.5983741106905478E-5,{"$f":"EXP(-((($E3-BH$2)/$S$59)^2/2))/SQRT(2*PI())","v":1.4867195147342979E-6},1.3383022576488537E-4,4.4318484119380075E-3,5.3990966513188063E-2,0.24197072451914337,0.3989422804014327,0.24197072451914337,5.3990966513188063E-2,4.4318484119380075E-3,1.3383022576488537E-4]
[2,71,111,203,401,null,null,null,null,null,null,null,null,null,null,null,null,null,null,null,null,null,null,null,null,null,null,null,null,{"$f":"EXP(-((($B4-AD$2)/$S$10)^2/2))/SQRT(2*PI())","v":3.5259568236744546E-4},9.0935625015912316E-3,8.6277318826512059E-2,0.30113743215480443,0.38666811680284857,0.18264908538902111,3.1739651835667418E-2,2.0290480572997208E-3,4.7718636541204274E-5,4.1284709886299984E-7,{"$f":"EXP(-((($C4-AN$2)/$S$25)^2/2))/SQRT(2*PI())","v":6.0758828498232861E-9},1.4867195147343824E-6,1.3383022576488846E-4,4.4318484119380075E-3,5.3990966513189305E-2,0.24197072451914478,0.3989422804014327,0.24197072451914062,5.3990966513187431E-2,4.4318484119380075E-3,1.5983741106905478E-5,8.72682695045847E-4,1.7528300493569165E-2,0.12951759566589174,0.35206532676430452,0.35206532676429703,0.12951759566589174,1.7528300493567295E-2,8.7268269504571668E-4,1.5983741106905478E-5,4.4318484119380075E-3,5.3990966513188063E-2,0.24197072451914337,0.3989422804014327,0.24197072451914337,5.3990966513188063E-2,4.4318484119380075E-3,1.3383022576488537E-4,1.4867195147342979E-6,6.0758828498232861E-9]
[3,71,107,204,402,null,null,null,null,null,null,null,null,null,null,null,null,null,null,null,null,null,null,null,null,null,null,null,null,3.5259568236744546E-4,9.0935625015912316E-3,8.6277318826512059E-2,0.30113743215480443,0.38666811680284857,0.18264908538902111,3.1739651835667418E-2,2.0290480572997208E-3,4.7718636541204274E-5,4.1284709886299984E-7,0.19418605498321298,0.39104269397545682,0.28969155276148145,7.8950158300894191E-2,7.9154515829797118E-3,2.9194692579145404E-4,3.9612990910320753E-6,1.9773196406243408E-8,3.6309615017916589E-11,2.4528552856964324E-14,6.0758828498232861E-9,1.4867195147345092E-6,1.3383022576489296E-4,4.4318484119380075E-3,5.399096651319113E-2,0.24197072451914683,0.3989422804014327,0.24197072451913651,5.3990966513186522E-2,4.4318484119380075E-3,1.3383022576488537E-4,4.4318484119380075E-3,5.3990966513188063E-2,0.24197072451914337,0.3989422804014327,0.24197072451914337,5.3990966513188063E-2,4.4318484119380075E-3,1.3383022576488537E-4,1.4867195147342979E-6]
[4,72,108,203,404,null,null,null,null,null,null,null,null,null,null,null,null,null,null,null,null,null,null,null,null,null,null,null,null,1.5983741106905478E-5,8.7268269504578195E-4,1.7528300493568696E-2,0.12951759566589174,0.3520653267643008,0.35206532676429886,0.12951759566589174,1.7528300493568228E-2,8.726826950457492E-4,1.5983741106905478E-5,2.2394530294842899E-2,0.14972746563574726,0.36827014030332417,0.33322460289179967,0.11092083467945357,1.3582969233685425E-2,6.1190193011377309E-4,1.014085206548622E-5,6.1826205001656376E-8,1.3866799941653172E-10,1.5983741106905478E-5,8.72682695045847E-4,1.7528300493569165E-2,0.12951759566589174,0.35206532676430452,0.35206532676429703,0.12951759566589174,1.7528300493567295E-2,8.7268269504571668E-4,1.5983741106905478E-5,6.0758828498232861E-9,1.4867195147342979E-6,1.3383022576488537E-4,4.4318484119380075E-3,5.3990966513188063E-2,0.24197072451914337,0.3989422804014327,0.24197072451914337,5.3990966513188063E-2,4.4318484119380075E-3]
[5,70,110,202,401,null,null,null,null,null,null,null,null,null,null,null,null,"基準範囲下限ヒストグラム用データ",null,null,null,null,null,null,null,null,null,null,null,4.4318484119380075E-3,5.3990966513188826E-2,0.24197072451914423,0.3989422804014327,0.24197072451914164,5.3990966513187674E-2,4.4318484119380075E-3,1.3383022576488157E-4,1.4867195147342714E-6,6.0758828498232861E-9,3.9612990910320753E-6,2.9194692579147323E-4,7.9154515829800952E-3,7.8950158300894191E-2,0.28969155276148539,0.39104269397545544,0.19418605498321298,3.5474592846230557E-2,2.3840882014648005E-3,5.8943067756539855E-5,4.4318484119380075E-3,5.399096651319113E-2,0.24197072451914683,0.3989422804014327,0.24197072451913651,5.3990966513186522E-2,4.4318484119380075E-3,1.3383022576487013E-4,1.4867195147341922E-6,6.0758828498232861E-9,4.4318484119380075E-3,5.3990966513188063E-2,0.24197072451914337,0.3989422804014327,0.24197072451914337,5.3990966513188063E-2,4.4318484119380075E-3,1.3383022576488537E-4,1.4867195147342979E-6,6.0758828498232861E-9]
[6,71,108,203,400,null,null,null,null,null,null,null,null,null,null,null,null,"Max",{"$f":"B41","v":74},null,"歪度",{"$f":"SKEW(B3:B32)","v":-2.0998257649283159},null,null,null,null,null,null,null,3.5259568236744546E-4,9.0935625015912316E-3,8.6277318826512059E-2,0.30113743215480443,0.38666811680284857,0.18264908538902111,3.1739651835667418E-2,2.0290480572997208E-3,4.7718636541204274E-5,4.1284709886299984E-7,2.2394530294842899E-2,0.14972746563574726,0.36827014030332417,0.33322460289179967,0.11092083467945357,1.3582969233685425E-2,6.1190193011377309E-4,1.014085206548622E-5,6.1826205001656376E-8,1.3866799941653172E-10,1.5983741106905478E-5,8.72682695045847E-4,1.7528300493569165E-2,0.12951759566589174,0.35206532676430452,0.35206532676429703,0.12951759566589174,1.7528300493567295E-2,8.7268269504571668E-4,1.5983741106905478E-5,5.3990966513188063E-2,0.24197072451914337,0.3989422804014327,0.24197072451914337,5.3990966513188063E-2,4.4318484119380075E-3,1.3383022576488537E-4,1.4867195147342979E-6,6.0758828498232861E-9,9.1347204083645953E-12]
[7,71,107,203,398,null,null,null,null,null,null,null,null,null,null,null,null,"Min",{"$f":"B42","v":66},null,"尖度",{"$f":"KURT(B3:B32)","v":8.1159400040518683},"ｔ分布百分率",null,"ｔ分布",null,"ｔ分布百分率",null,"ｔ分布",3.5259568236744546E-4,9.0935625015912316E-3,8.6277318826512059E-2,0.30113743215480443,0.38666811680284857,0.18264908538902111,3.1739651835667418E-2,2.0290480572997208E-3,4.7718636541204274E-5,4.1284709886299984E-7,0.19418605498321298,0.39104269397545682,0.28969155276148145,7.8950158300894191E-2,7.9154515829797118E-3,2.9194692579145404E-4,3.9612990910320753E-6,1.9773196406243408E-8,3.6309615017916589E-11,2.4528552856964324E-14,1.5983741106905478E-5,8.72682695045847E-4,1.7528300493569165E-2,0.12951759566589174,0.35206532676430452,0.35206532676429703,0.12951759566589174,1.7528300493567295E-2,8.7268269504571668E-4,1.5983741106905478E-5,0.3989422804014327,0.24197072451914337,5.3990966513188063E-2,4.4318484119380075E-3,1.3383022576488537E-4,1.4867195147342979E-6,6.0758828498232861E-9,9.1347204083645953E-12,5.0522710835368927E-15,1.0279773571668917E-18]
[8,72,107,201,399,null,null,null,null,null,null,null,null,null,null,null,null,"級間隔",{"$f":"(S8-S9)/$L$2","v":1.3333333333333333},null,null,null,null,{"$f":"(($S$9-$S$10)-(($S$9+$S$8)/2))/$B$34","v":-3.7975168756879021},{"$f":"TDIST(ABS(X10),$B$36,1)","v":3.320106218458593E-4},null,null,{"$f":"(($S$9-$S$10)-(($S$9+$S$8)/2))/$B$34","v":-3.7975168756879021},{"$f":"TDIST(ABS(AB10),$B$36,1)","v":3.320106218458593E-4},1.5983741106905478E-5,8.7268269504578195E-4,1.7528300493568696E-2,0.12951759566589174,0.3520653267643008,0.35206532676429886,0.12951759566589174,1.7528300493568228E-2,8.726826950457492E-4,1.5983741106905478E-5,0.19418605498321298,0.39104269397545682,0.28969155276148145,7.8950158300894191E-2,7.9154515829797118E-3,2.9194692579145404E-4,3.9612990910320753E-6,1.9773196406243408E-8,3.6309615017916589E-11,2.4528552856964324E-14,0.12951759566589174,0.35206532676430452,0.35206532676429703,0.12951759566589174,1.7528300493567295E-2,8.7268269504571668E-4,1.5983741106905478E-5,1.0769760042541593E-7,2.6695566147626058E-10,2.4343205330290101E-13,0.24197072451914337,0.3989422804014327,0.24197072451914337,5.3990966513188063E-2,4.4318484119380075E-3,1.3383022576488537E-4,1.4867195147342979E-6,6.0758828498232861E-9,9.1347204083645953E-12,5.0522710835368927E-15]
[9,71,106,202,400,null,null,null,null,null,null,null,null,null,null,null,null,"ＮＯ．","階級値","累積度数","度数","ﾃﾞｰﾀ百分率",null,{"$f":"($S$9-(($S$9+$S$8)/2))/$B$34","v":-2.8481376567659291},{"$f":"TDIST(ABS(X11),$B$36,1)","v":3.9332915509317536E-3},null,null,{"$f":"($S$9-(($S$9+$S$8)/2))/$B$34","v":-2.8481376567659291},{"$f":"TDIST(ABS(AB11),$B$36,1)","v":3.9332915509317536E-3},3.5259568236744546E-4,9.0935625015912316E-3,8.6277318826512059E-2,0.30113743215480443,0.38666811680284857,0.18264908538902111,3.1739651835667418E-2,2.0290480572997208E-3,4.7718636541204274E-5,4.1284709886299984E-7,0.3989422804014327,0.24197072451914062,5.3990966513187431E-2,4.4318484119380075E-3,1.3383022576487919E-4,1.4867195147342583E-6,6.0758828498232861E-9,9.1347204083639135E-12,5.0522710835366774E-15,1.0279773571668917E-18,4.4318484119380075E-3,5.399096651319113E-2,0.24197072451914683,0.3989422804014327,0.24197072451913651,5.3990966513186522E-2,4.4318484119380075E-3,1.3383022576487013E-4,1.4867195147341922E-6,6.0758828498232861E-9,5.3990966513188063E-2,0.24197072451914337,0.3989422804014327,0.24197072451914337,5.3990966513188063E-2,4.4318484119380075E-3,1.3383022576488537E-4,1.4867195147342979E-6,6.0758828498232861E-9,9.1347204083645953E-12]
[10,70,108,202,401,null,null,null,null,null,null,null,null,null,null,null,null,1,{"$f":"$S$10*R12+$S$9-$S$10","v":66},{"$f":"FREQUENCY($B$3:$B$32,S12)","v":1},{"$f":"T12","v":1},{"$f":"U12/$T$21*100","v":3.3333333333333335},{"$f":"(Y12/$Y$22)*100","v":0.423046059753373},{"$f":"($S12-(($S$8+$S$9)/2))/$B$34","v":-2.8481376567659291},3.9332915509317536E-3,1,{"$f":"(AC12/$AC$31)*100","v":0.22367999788631285},{"$f":"($S12-(($S$8+$S$9)/2))/$B$34","v":-2.8481376567659291},{"$f":"TDIST(ABS(AB12),$B$36,1)","v":3.9332915509317536E-3},4.4318484119380075E-3,5.3990966513188826E-2,0.24197072451914423,0.3989422804014327,0.24197072451914164,5.3990966513187674E-2,4.4318484119380075E-3,1.3383022576488157E-4,1.4867195147342714E-6,6.0758828498232861E-9,2.2394530294842899E-2,0.14972746563574726,0.36827014030332417,0.33322460289179967,0.11092083467945357,1.3582969233685425E-2,6.1190193011377309E-4,1.014085206548622E-5,6.1826205001656376E-8,1.3866799941653172E-10,4.4318484119380075E-3,5.399096651319113E-2,0.24197072451914683,0.3989422804014327,0.24197072451913651,5.3990966513186522E-2,4.4318484119380075E-3,1.3383022576487013E-4,1.4867195147341922E-6,6.0758828498232861E-9,4.4318484119380075E-3,5.3990966513188063E-2,0.24197072451914337,0.3989422804014327,0.24197072451914337,5.3990966513188063E-2,4.4318484119380075E-3,1.3383022576488537E-4,1.4867195147342979E-6,6.0758828498232861E-9]
[11,72,108,203,402,null,null,null,null,null,null,null,null,null,null,null,null,2,{"$f":"$S$10*R13+$S$9-$S$10","v":67.333333333333343},{"$f":"FREQUENCY($B$3:$B$32,S13)","v":1},{"$f":"T13-T12","v":0},0,{"$f":"(Y13/$Y$22)*100","v":3.6166477865587709},-1.8987584378439459,3.3625960704753315E-2,1.5,{"$f":"(AC13/$AC$31)*100","v":0.68884710746371824},{"$f":"((S12+$S13)/2-(($S$8+$S$9)/2))/$B$34","v":-2.3734480473049375},{"$f":"TDIST(ABS(AB13),$B$36,1)","v":1.2113003099400572E-2},1.5983741106905478E-5,8.7268269504578195E-4,1.7528300493568696E-2,0.12951759566589174,0.3520653267643008,0.35206532676429886,0.12951759566589174,1.7528300493568228E-2,8.726826950457492E-4,1.5983741106905478E-5,2.2394530294842899E-2,0.14972746563574726,0.36827014030332417,0.33322460289179967,0.11092083467945357,1.3582969233685425E-2,6.1190193011377309E-4,1.014085206548622E-5,6.1826205001656376E-8,1.3866799941653172E-10,{"$f":"EXP(-((($D13-AX$2)/$S$44)^2/2))/SQRT(2*PI())","v":1.5983741106905478E-5},8.72682695045847E-4,1.7528300493569165E-2,0.12951759566589174,0.35206532676430452,0.35206532676429703,0.12951759566589174,1.7528300493567295E-2,8.7268269504571668E-4,1.5983741106905478E-5,{"$f":"EXP(-((($E13-BH$2)/$S$59)^2/2))/SQRT(2*PI())","v":1.3383022576488537E-4},4.4318484119380075E-3,5.3990966513188063E-2,0.24197072451914337,0.3989422804014327,0.24197072451914337,5.3990966513188063E-2,4.4318484119380075E-3,1.3383022576488537E-4,1.4867195147342979E-6]
[12,71,107,203,400,null,null,null,null,null,null,null,null,null,null,null,null,3,68.666666666666671,1,{"$f":"T14-T13","v":0},0,18.822900336225846,-0.94937921892197297,0.17500684180741216,2,1.9122545893102458,{"$f":"($S13-(($S$8+$S$9)/2))/$B$34","v":-1.8987584378439459},{"$f":"TDIST(ABS(AB14),$B$36,1)","v":3.3625960704753315E-2},3.5259568236744546E-4,9.0935625015912316E-3,8.6277318826512059E-2,0.30113743215480443,0.38666811680284857,0.18264908538902111,3.1739651835667418E-2,2.0290480572997208E-3,4.7718636541204274E-5,4.1284709886299984E-7,0.19418605498321298,0.39104269397545682,0.28969155276148145,7.8950158300894191E-2,7.9154515829797118E-3,2.9194692579145404E-4,3.9612990910320753E-6,1.9773196406243408E-8,3.6309615017916589E-11,2.4528552856964324E-14,1.5983741106905478E-5,8.72682695045847E-4,1.7528300493569165E-2,0.12951759566589174,0.35206532676430452,0.35206532676429703,0.12951759566589174,1.7528300493567295E-2,8.7268269504571668E-4,1.5983741106905478E-5,5.3990966513188063E-2,0.24197072451914337,0.3989422804014327,0.24197072451914337,5.3990966513188063E-2,4.4318484119380075E-3,1.3383022576488537E-4,1.4867195147342979E-6,6.0758828498232861E-9,9.1347204083645953E-12]
[13,72,107,201,401,null,null,null,null,null,null,null,null,null,null,null,null,4,70,3,2,6.666666666666667,53.777612754533543,0,0.5,2.5,4.6844107031589877,{"$f":"((S13+$S14)/2-(($S$8+$S$9)/2))/$B$34","v":-1.4240688283829646},{"$f":"TDIST(ABS(AB15),$B$36,1)","v":8.2372823739001705E-2},1.5983741106905478E-5,8.7268269504578195E-4,1.7528300493568696E-2,0.12951759566589174,0.3520653267643008,0.35206532676429886,0.12951759566589174,1.7528300493568228E-2,8.726826950457492E-4,1.5983741106905478E-5,0.19418605498321298,0.39104269397545682,0.28969155276148145,7.8950158300894191E-2,7.9154515829797118E-3,2.9194692579145404E-4,3.9612990910320753E-6,1.9773196406243408E-8,3.6309615017916589E-11,2.4528552856964324E-14,0.12951759566589174,0.35206532676430452,0.35206532676429703,0.12951759566589174,1.7528300493567295E-2,8.7268269504571668E-4,1.5983741106905478E-5,1.0769760042541593E-7,2.6695566147626058E-10,2.4343205330290101E-13,4.4318484119380075E-3,5.3990966513188063E-2,0.24197072451914337,0.3989422804014327,0.24197072451914337,5.3990966513188063E-2,4.4318484119380075E-3,1.3383022576488537E-4,1.4867195147342979E-6,6.0758828498232861E-9]
[14,72,106,202,401,null,null,null,null,null,null,null,null,null,null,null,null,5,71.333333333333343,12,9,30,18.822900336225576,0.94937921892198307,0.17500684180740966,3,9.9523591116196553,{"$f":"($S14-(($S$8+$S$9)/2))/$B$34","v":-0.94937921892197297},0.17500684180741216,1.5983741106905478E-5,8.7268269504578195E-4,1.7528300493568696E-2,0.12951759566589174,0.3520653267643008,0.35206532676429886,0.12951759566589174,1.7528300493568228E-2,8.726826950457492E-4,1.5983741106905478E-5,0.3989422804014327,0.24197072451914062,5.3990966513187431E-2,4.4318484119380075E-3,1.3383022576487919E-4,1.4867195147342583E-6,6.0758828498232861E-9,9.1347204083639135E-12,5.0522710835366774E-15,1.0279773571668917E-18,4.4318484119380075E-3,5.399096651319113E-2,0.24197072451914683,0.3989422804014327,0.24197072451913651,5.3990966513186522E-2,4.4318484119380075E-3,1.3383022576487013E-4,1.4867195147341922E-6,6.0758828498232861E-9,4.4318484119380075E-3,5.3990966513188063E-2,0.24197072451914337,0.3989422804014327,0.24197072451914337,5.3990966513188063E-2,4.4318484119380075E-3,1.3383022576488537E-4,1.4867195147342979E-6,6.0758828498232861E-9]
[15,72,107,201,400,null,null,null,null,null,null,null,null,null,null,null,null,6,72.666666666666671,24,12,40,3.616647786558711,1.8987584378439561,3.362596070475276E-2,3.5,18.153691695635207,{"$f":"((S14+$S15)/2-(($S$8+$S$9)/2))/$B$34","v":-0.47468960946098143},0.31922283100589727,1.5983741106905478E-5,8.7268269504578195E-4,1.7528300493568696E-2,0.12951759566589174,0.3520653267643008,0.35206532676429886,0.12951759566589174,1.7528300493568228E-2,8.726826950457492E-4,1.5983741106905478E-5,0.19418605498321298,0.39104269397545682,0.28969155276148145,7.8950158300894191E-2,7.9154515829797118E-3,2.9194692579145404E-4,3.9612990910320753E-6,1.9773196406243408E-8,3.6309615017916589E-11,2.4528552856964324E-14,0.12951759566589174,0.35206532676430452,0.35206532676429703,0.12951759566589174,1.7528300493567295E-2,8.7268269504571668E-4,1.5983741106905478E-5,1.0769760042541593E-7,2.6695566147626058E-10,2.4343205330290101E-13,5.3990966513188063E-2,0.24197072451914337,0.3989422804014327,0.24197072451914337,5.3990966513188063E-2,4.4318484119380075E-3,1.3383022576488537E-4,1.4867195147342979E-6,6.0758828498232861E-9,9.1347204083645953E-12]
[16,72,108,202,402,null,null,null,null,null,null,null,null,null,null,null,null,7,74,30,6,20,0.423046059753373,2.8481376567659291,3.9332915509317536E-3,4,28.434200082793954,{"$f":"($S15-(($S$8+$S$9)/2))/$B$34","v":0},0.5,1.5983741106905478E-5,8.7268269504578195E-4,1.7528300493568696E-2,0.12951759566589174,0.3520653267643008,0.35206532676429886,0.12951759566589174,1.7528300493568228E-2,8.726826950457492E-4,1.5983741106905478E-5,2.2394530294842899E-2,0.14972746563574726,0.36827014030332417,0.33322460289179967,0.11092083467945357,1.3582969233685425E-2,6.1190193011377309E-4,1.014085206548622E-5,6.1826205001656376E-8,1.3866799941653172E-10,4.4318484119380075E-3,5.399096651319113E-2,0.24197072451914683,0.3989422804014327,0.24197072451913651,5.3990966513186522E-2,4.4318484119380075E-3,1.3383022576487013E-4,1.4867195147341922E-6,6.0758828498232861E-9,1.3383022576488537E-4,4.4318484119380075E-3,5.3990966513188063E-2,0.24197072451914337,0.3989422804014327,0.24197072451914337,5.3990966513188063E-2,4.4318484119380075E-3,1.3383022576488537E-4,1.4867195147342979E-6]
[17,73,108,200,398,null,null,null,null,null,null,null,null,null,null,null,null,8,75.333333333333343,30,0,0,3.5709477304035953E-2,3.7975168756879123,3.3201062184584965E-4,4.5,18.153691695635001,{"$f":"((S15+$S16)/2-(($S$8+$S$9)/2))/$B$34","v":0.47468960946099154},0.31922283100589366,4.1284709886299984E-7,4.7718636541206395E-5,2.0290480572997911E-3,3.1739651835667418E-2,0.18264908538902355,0.38666811680284957,0.30113743215480443,8.6277318826510449E-2,9.0935625015909644E-3,3.5259568236744546E-4,2.2394530294842899E-2,0.14972746563574726,0.36827014030332417,0.33322460289179967,0.11092083467945357,1.3582969233685425E-2,6.1190193011377309E-4,1.014085206548622E-5,6.1826205001656376E-8,1.3866799941653172E-10,0.3989422804014327,0.24197072451913651,5.3990966513186522E-2,4.4318484119380075E-3,1.3383022576487013E-4,1.4867195147341922E-6,6.0758828498232861E-9,9.1347204083627777E-12,5.0522710835363184E-15,1.0279773571668917E-18,0.3989422804014327,0.24197072451914337,5.3990966513188063E-2,4.4318484119380075E-3,1.3383022576488537E-4,1.4867195147342979E-6,6.0758828498232861E-9,9.1347204083645953E-12,5.0522710835368927E-15,1.0279773571668917E-18]
[18,72,108,203,400,null,null,null,null,null,null,null,null,null,null,null,null,9,76.666666666666671,30,0,0,2.5581461724139042E-3,4.7468960946098848,2.3784489877697745E-5,5,9.9523591116195114,{"$f":"($S16-(($S$8+$S$9)/2))/$B$34","v":0.94937921892198307},0.17500684180740966,1.5983741106905478E-5,8.7268269504578195E-4,1.7528300493568696E-2,0.12951759566589174,0.3520653267643008,0.35206532676429886,0.12951759566589174,1.7528300493568228E-2,8.726826950457492E-4,1.5983741106905478E-5,2.2394530294842899E-2,0.14972746563574726,0.36827014030332417,0.33322460289179967,0.11092083467945357,1.3582969233685425E-2,6.1190193011377309E-4,1.014085206548622E-5,6.1826205001656376E-8,1.3866799941653172E-10,1.5983741106905478E-5,8.72682695045847E-4,1.7528300493569165E-2,0.12951759566589174,0.35206532676430452,0.35206532676429703,0.12951759566589174,1.7528300493567295E-2,8.7268269504571668E-4,1.5983741106905478E-5,5.3990966513188063E-2,0.24197072451914337,0.3989422804014327,0.24197072451914337,5.3990966513188063E-2,4.4318484119380075E-3,1.3383022576488537E-4,1.4867195147342979E-6,6.0758828498232861E-9,9.1347204083645953E-12]
[19,73,108,203,400,null,null,null,null,null,null,null,null,null,null,null,null,10,78,30,0,0,1.7571985694637718E-4,5.6962753135318582,1.6337640139256992E-6,5.5,4.6844107031589877,{"$f":"((S16+$S17)/2-(($S$8+$S$9)/2))/$B$34","v":1.4240688283829646},8.2372823739001705E-2,4.1284709886299984E-7,4.7718636541206395E-5,2.0290480572997911E-3,3.1739651835667418E-2,0.18264908538902355,0.38666811680284957,0.30113743215480443,8.6277318826510449E-2,9.0935625015909644E-3,3.5259568236744546E-4,2.2394530294842899E-2,0.14972746563574726,0.36827014030332417,0.33322460289179967,0.11092083467945357,1.3582969233685425E-2,6.1190193011377309E-4,1.014085206548622E-5,6.1826205001656376E-8,1.3866799941653172E-10,1.5983741106905478E-5,8.72682695045847E-4,1.7528300493569165E-2,0.12951759566589174,0.35206532676430452,0.35206532676429703,0.12951759566589174,1.7528300493567295E-2,8.7268269504571668E-4,1.5983741106905478E-5,5.3990966513188063E-2,0.24197072451914337,0.3989422804014327,0.24197072451914337,5.3990966513188063E-2,4.4318484119380075E-3,1.3383022576488537E-4,1.4867195147342979E-6,6.0758828498232861E-9,9.1347204083645953E-12]
[20,72,107,202,401,null,null,null,null,null,null,null,null,null,null,null,null,"基準範囲上限ヒストグラム用データ",null,null,null,null,{"$f":"SUM(W12:W21)","v":99.541244462942586},null,{"$f":"SUM(Y10:Y21)","v":0.92975491917470654},6,1.9122545893102143,{"$f":"($S17-(($S$8+$S$9)/2))/$B$34","v":1.8987584378439561},3.362596070475276E-2,1.5983741106905478E-5,8.7268269504578195E-4,1.7528300493568696E-2,0.12951759566589174,0.3520653267643008,0.35206532676429886,0.12951759566589174,1.7528300493568228E-2,8.726826950457492E-4,1.5983741106905478E-5,0.19418605498321298,0.39104269397545682,0.28969155276148145,7.8950158300894191E-2,7.9154515829797118E-3,2.9194692579145404E-4,3.9612990910320753E-6,1.9773196406243408E-8,3.6309615017916589E-11,2.4528552856964324E-14,4.4318484119380075E-3,5.399096651319113E-2,0.24197072451914683,0.3989422804014327,0.24197072451913651,5.3990966513186522E-2,4.4318484119380075E-3,1.3383022576487013E-4,1.4867195147341922E-6,6.0758828498232861E-9,4.4318484119380075E-3,5.3990966513188063E-2,0.24197072451914337,0.3989422804014327,0.24197072451914337,5.3990966513188063E-2,4.4318484119380075E-3,1.3383022576488537E-4,1.4867195147342979E-6,6.0758828498232861E-9]
[21,71,108,202,402,null,null,null,null,null,null,null,null,null,null,null,null,"Max",{"$f":"C41","v":111},null,"歪度",{"$f":"SKEW(C3:C32)","v":0.92420087092256897},null,null,null,6.5,0.68884710746370326,{"$f":"((S17+$S18)/2-(($S$8+$S$9)/2))/$B$34","v":2.3734480473049477},1.2113003099400308E-2,3.5259568236744546E-4,9.0935625015912316E-3,8.6277318826512059E-2,0.30113743215480443,0.38666811680284857,0.18264908538902111,3.1739651835667418E-2,2.0290480572997208E-3,4.7718636541204274E-5,4.1284709886299984E-7,2.2394530294842899E-2,0.14972746563574726,0.36827014030332417,0.33322460289179967,0.11092083467945357,1.3582969233685425E-2,6.1190193011377309E-4,1.014085206548622E-5,6.1826205001656376E-8,1.3866799941653172E-10,{"$f":"EXP(-((($D23-AX$2)/$S$44)^2/2))/SQRT(2*PI())","v":4.4318484119380075E-3},5.399096651319113E-2,0.24197072451914683,0.3989422804014327,0.24197072451913651,5.3990966513186522E-2,4.4318484119380075E-3,1.3383022576487013E-4,1.4867195147341922E-6,6.0758828498232861E-9,{"$f":"EXP(-((($E23-BH$2)/$S$59)^2/2))/SQRT(2*PI())","v":1.3383022576488537E-4},4.4318484119380075E-3,5.3990966513188063E-2,0.24197072451914337,0.3989422804014327,0.24197072451914337,5.3990966513188063E-2,4.4318484119380075E-3,1.3383022576488537E-4,1.4867195147342979E-6]
[22,73,108,204,402,null,null,null,null,null,null,null,null,null,null,null,null,"Min",{"$f":"C42","v":106},null,"尖度",{"$f":"KURT(C3:C32)","v":2.0102016161507996},null,null,null,7,0.22367999788631285,{"$f":"($S18-(($S$8+$S$9)/2))/$B$34","v":2.8481376567659291},3.9332915509317536E-3,4.1284709886299984E-7,4.7718636541206395E-5,2.0290480572997911E-3,3.1739651835667418E-2,0.18264908538902355,0.38666811680284957,0.30113743215480443,8.6277318826510449E-2,9.0935625015909644E-3,3.5259568236744546E-4,2.2394530294842899E-2,0.14972746563574726,0.36827014030332417,0.33322460289179967,0.11092083467945357,1.3582969233685425E-2,6.1190193011377309E-4,1.014085206548622E-5,6.1826205001656376E-8,1.3866799941653172E-10,6.0758828498232861E-9,1.4867195147345092E-6,1.3383022576489296E-4,4.4318484119380075E-3,5.399096651319113E-2,0.24197072451914683,0.3989422804014327,0.24197072451913651,5.3990966513186522E-2,4.4318484119380075E-3,1.3383022576488537E-4,4.4318484119380075E-3,5.3990966513188063E-2,0.24197072451914337,0.3989422804014327,0.24197072451914337,5.3990966513188063E-2,4.4318484119380075E-3,1.3383022576488537E-4,1.4867195147342979E-6]
[23,72,109,201,403,null,null,null,null,null,null,null,null,null,null,null,null,"級間隔",{"$f":"(S23-S24)/$L$2","v":0.83333333333333337},null,null,null,null,null,null,7.5,6.6958328618254764E-2,{"$f":"((S18+$S19)/2-(($S$8+$S$9)/2))/$B$34","v":3.3228272662269207},1.1774259241210808E-3,1.5983741106905478E-5,8.7268269504578195E-4,1.7528300493568696E-2,0.12951759566589174,0.3520653267643008,0.35206532676429886,0.12951759566589174,1.7528300493568228E-2,8.726826950457492E-4,1.5983741106905478E-5,6.1190193011377309E-4,1.3582969233686024E-2,0.11092083467945657,0.33322460289179967,0.36827014030332167,0.14972746563574366,2.2394530294842899E-2,1.2322191684729729E-3,2.4942471290052956E-5,1.8573618445552997E-7,0.12951759566589174,0.35206532676430452,0.35206532676429703,0.12951759566589174,1.7528300493567295E-2,8.7268269504571668E-4,1.5983741106905478E-5,1.0769760042541593E-7,2.6695566147626058E-10,2.4343205330290101E-13,1.4867195147342979E-6,1.3383022576488537E-4,4.4318484119380075E-3,5.3990966513188063E-2,0.24197072451914337,0.3989422804014327,0.24197072451914337,5.3990966513188063E-2,4.4318484119380075E-3,1.3383022576488537E-4]
[24,72,109,202,399,null,null,null,null,null,null,null,null,null,null,null,null,"ＮＯ．","階級値","累積度数","度数","ﾃﾞｰﾀ百分率",null,null,null,8,1.8880912902355461E-2,{"$f":"($S19-(($S$8+$S$9)/2))/$B$34","v":3.7975168756879123},3.3201062184584965E-4,1.5983741106905478E-5,8.7268269504578195E-4,1.7528300493568696E-2,0.12951759566589174,0.3520653267643008,0.35206532676429886,0.12951759566589174,1.7528300493568228E-2,8.726826950457492E-4,1.5983741106905478E-5,6.1190193011377309E-4,1.3582969233686024E-2,0.11092083467945657,0.33322460289179967,0.36827014030332167,0.14972746563574366,2.2394530294842899E-2,1.2322191684729729E-3,2.4942471290052956E-5,1.8573618445552997E-7,4.4318484119380075E-3,5.399096651319113E-2,0.24197072451914683,0.3989422804014327,0.24197072451913651,5.3990966513186522E-2,4.4318484119380075E-3,1.3383022576487013E-4,1.4867195147341922E-6,6.0758828498232861E-9,0.24197072451914337,0.3989422804014327,0.24197072451914337,5.3990966513188063E-2,4.4318484119380075E-3,1.3383022576488537E-4,1.4867195147342979E-6,6.0758828498232861E-9,9.1347204083645953E-12,5.0522710835368927E-15]
[25,73,108,200,403,null,null,null,null,null,null,null,null,null,null,null,null,1,{"$f":"$S$25*R27+$S$24-$S$25","v":106},{"$f":"FREQUENCY($C$3:$C$32,S27)","v":2},{"$f":"T27","v":2},{"$f":"U27/$T$36*100","v":6.666666666666667},null,null,null,8.5,5.1135844164516848E-3,{"$f":"((S19+$S20)/2-(($S$8+$S$9)/2))/$B$34","v":4.2722064851488932},8.9919610918578411E-5,4.1284709886299984E-7,4.7718636541206395E-5,2.0290480572997911E-3,3.1739651835667418E-2,0.18264908538902355,0.38666811680284957,0.30113743215480443,8.6277318826510449E-2,9.0935625015909644E-3,3.5259568236744546E-4,2.2394530294842899E-2,0.14972746563574726,0.36827014030332417,0.33322460289179967,0.11092083467945357,1.3582969233685425E-2,6.1190193011377309E-4,1.014085206548622E-5,6.1826205001656376E-8,1.3866799941653172E-10,0.3989422804014327,0.24197072451913651,5.3990966513186522E-2,4.4318484119380075E-3,1.3383022576487013E-4,1.4867195147341922E-6,6.0758828498232861E-9,9.1347204083627777E-12,5.0522710835363184E-15,1.0279773571668917E-18,1.4867195147342979E-6,1.3383022576488537E-4,4.4318484119380075E-3,5.3990966513188063E-2,0.24197072451914337,0.3989422804014327,0.24197072451914337,5.3990966513188063E-2,4.4318484119380075E-3,1.3383022576488537E-4]
[26,71,108,203,400,null,null,null,null,null,null,null,null,null,null,null,null,2,{"$f":"$S$25*R28+$S$24-$S$25","v":106.83333333333334},{"$f":"FREQUENCY($C$3:$C$32,S28)","v":2},{"$f":"T28-T27","v":0},0,null,null,null,9,1.3525858880992902E-3,{"$f":"($S20-(($S$8+$S$9)/2))/$B$34","v":4.7468960946098848},2.3784489877697745E-5,3.5259568236744546E-4,9.0935625015912316E-3,8.6277318826512059E-2,0.30113743215480443,0.38666811680284857,0.18264908538902111,3.1739651835667418E-2,2.0290480572997208E-3,4.7718636541204274E-5,4.1284709886299984E-7,2.2394530294842899E-2,0.14972746563574726,0.36827014030332417,0.33322460289179967,0.11092083467945357,1.3582969233685425E-2,6.1190193011377309E-4,1.014085206548622E-5,6.1826205001656376E-8,1.3866799941653172E-10,1.5983741106905478E-5,8.72682695045847E-4,1.7528300493569165E-2,0.12951759566589174,0.35206532676430452,0.35206532676429703,0.12951759566589174,1.7528300493567295E-2,8.7268269504571668E-4,1.5983741106905478E-5,5.3990966513188063E-2,0.24197072451914337,0.3989422804014327,0.24197072451914337,5.3990966513188063E-2,4.4318484119380075E-3,1.3383022576488537E-4,1.4867195147342979E-6,6.0758828498232861E-9,9.1347204083645953E-12]
[27,73,108,203,400,null,null,null,null,null,null,null,null,null,null,null,null,3,107.66666666666667,11,{"$f":"T29-T28","v":9},30,null,null,null,9.5,3.5427489863071326E-4,{"$f":"((S20+$S21)/2-(($S$8+$S$9)/2))/$B$34","v":5.2215857040708764},6.2297321113156866E-6,4.1284709886299984E-7,4.7718636541206395E-5,2.0290480572997911E-3,3.1739651835667418E-2,0.18264908538902355,0.38666811680284957,0.30113743215480443,8.6277318826510449E-2,9.0935625015909644E-3,3.5259568236744546E-4,2.2394530294842899E-2,0.14972746563574726,{"$f":"EXP(-((($C29-AP$2)/$S$25)^2/2))/SQRT(2*PI())","v":0.36827014030332417},0.33322460289179967,0.11092083467945357,1.3582969233685425E-2,6.1190193011377309E-4,1.014085206548622E-5,6.1826205001656376E-8,1.3866799941653172E-10,1.5983741106905478E-5,8.72682695045847E-4,1.7528300493569165E-2,0.12951759566589174,0.35206532676430452,0.35206532676429703,0.12951759566589174,1.7528300493567295E-2,8.7268269504571668E-4,1.5983741106905478E-5,5.3990966513188063E-2,0.24197072451914337,0.3989422804014327,0.24197072451914337,5.3990966513188063E-2,4.4318484119380075E-3,1.3383022576488537E-4,1.4867195147342979E-6,6.0758828498232861E-9,9.1347204083645953E-12]
[28,71,107,202,399,null,null,null,null,null,null,null,null,null,null,null,null,4,108.5,25,14,46.666666666666664,null,null,null,10,9.2909545720063798E-5,{"$f":"($S21-(($S$8+$S$9)/2))/$B$34","v":5.6962753135318582},1.6337640139256992E-6,3.5259568236744546E-4,9.0935625015912316E-3,8.6277318826512059E-2,0.30113743215480443,0.38666811680284857,0.18264908538902111,3.1739651835667418E-2,2.0290480572997208E-3,4.7718636541204274E-5,4.1284709886299984E-7,0.19418605498321298,0.39104269397545682,0.28969155276148145,7.8950158300894191E-2,7.9154515829797118E-3,2.9194692579145404E-4,3.9612990910320753E-6,1.9773196406243408E-8,3.6309615017916589E-11,2.4528552856964324E-14,4.4318484119380075E-3,5.399096651319113E-2,0.24197072451914683,0.3989422804014327,0.24197072451913651,5.3990966513186522E-2,4.4318484119380075E-3,1.3383022576487013E-4,1.4867195147341922E-6,6.0758828498232861E-9,0.24197072451914337,0.3989422804014327,0.24197072451914337,5.3990966513188063E-2,4.4318484119380075E-3,1.3383022576488537E-4,1.4867195147342979E-6,6.0758828498232861E-9,9.1347204083645953E-12,5.0522710835368927E-15]
[29,72,107,202,401,null,null,null,null,null,null,null,null,null,null,null,null,5,109.33333333333334,28,3,10,null,null,null,null,null,null,{"$f":"SUM(AC10:AC30)","v":1.7584458101304528},1.5983741106905478E-5,8.7268269504578195E-4,1.7528300493568696E-2,0.12951759566589174,0.3520653267643008,0.35206532676429886,0.12951759566589174,1.7528300493568228E-2,8.726826950457492E-4,1.5983741106905478E-5,0.19418605498321298,0.39104269397545682,0.28969155276148145,7.8950158300894191E-2,7.9154515829797118E-3,2.9194692579145404E-4,3.9612990910320753E-6,1.9773196406243408E-8,3.6309615017916589E-11,2.4528552856964324E-14,4.4318484119380075E-3,5.399096651319113E-2,0.24197072451914683,0.3989422804014327,0.24197072451913651,5.3990966513186522E-2,4.4318484119380075E-3,1.3383022576487013E-4,1.4867195147341922E-6,6.0758828498232861E-9,4.4318484119380075E-3,5.3990966513188063E-2,0.24197072451914337,0.3989422804014327,0.24197072451914337,5.3990966513188063E-2,4.4318484119380075E-3,1.3383022576488537E-4,1.4867195147342979E-6,6.0758828498232861E-9]
[30,66,108,203,402,null,null,null,null,null,null,null,null,null,null,null,null,6,110.16666666666667,29,1,3.3333333333333335,null,null,null,null,null,null,null,0.3989422804014327,0.24197072451914164,5.3990966513187674E-2,4.4318484119380075E-3,1.3383022576488157E-4,1.4867195147342714E-6,6.0758828498232861E-9,9.1347204083641397E-12,5.0522710835367492E-15,1.0279773571668917E-18,2.2394530294842899E-2,0.14972746563574726,0.36827014030332417,0.33322460289179967,0.11092083467945357,1.3582969233685425E-2,6.1190193011377309E-4,1.014085206548622E-5,6.1826205001656376E-8,1.3866799941653172E-10,1.5983741106905478E-5,8.72682695045847E-4,1.7528300493569165E-2,0.12951759566589174,0.35206532676430452,0.35206532676429703,0.12951759566589174,1.7528300493567295E-2,8.7268269504571668E-4,1.5983741106905478E-5,1.3383022576488537E-4,4.4318484119380075E-3,5.3990966513188063E-2,0.24197072451914337,0.3989422804014327,0.24197072451914337,5.3990966513188063E-2,4.4318484119380075E-3,1.3383022576488537E-4,1.4867195147342979E-6]
["平　均",{"$f":"IF(B36<>\"\",AVERAGE(B3:B32),\"\")","v":71.599999999999994},{"$f":"IF(C36<>\"\",AVERAGE(C3:C32),\"\")","v":107.83333333333333},202.26666666666668,400.83333333333331,"","","","",null,null,null,null,null,null,null,null,7,111,30,1,3.3333333333333335,null,null,null,null,null,null,null,{"$f":"SUM(AD3:AD32)/($S$10*$B$36)*100","v":1.0279330339281894},{"$f":"SUM(AE3:AE32)/($S$10*$B$36)*100","v":1.1062674807565265},3.8376174035629305,13.074736385472544,22.890271612799001,20.379801044880143,9.3834028964673042,2.255565043877187,0.27590853132399207,1.5975898731783931E-2,{"$f":"SUM(AN3:AN32)/($S$25*$C$36)*100","v":11.443688611779594},{"$f":"SUM(AO3:AO32)/($S$25*$C$36)*100","v":24.562210220256876},32.847198631893448,25.8704615096214,12.291565401581352,5.0999515217783191,2.6756568685374083,1.125136499106975,0.22580299208875632,{"$f":"SUM(AW3:AW32)/($S$25*$C$36)*100","v":1.796540251928266E-2},{"$f":"SUM(AX3:AX32)/($S$44*$D$36)*100","v":6.8023262231543065},12.21293793503491,20.732788758246944,30.397158641581733,34.114269809075992,26.260643697804674,11.982390700145702,3.4780989401370013,0.59234496814950854,4.527781238480557E-2,{"$f":"SUM(BH3:BH32)/($S$59*$E$36)*100","v":6.625182843127944},13.404883066188289,20.188675319899936,21.724758167976603,17.709476106353563,11.014726432808155,4.9363276867932866,1.438278127042419,0.22699982924890547,1.6141006701979814E-2]
["Ｓ　Ｄ",{"$f":"IF(B36<>\"\",STDEV(B3:B32),\"\")","v":1.4044264997156124},{"$f":"IF(C36<>\"\",STDEV(C3:C32),\"\")","v":1.0531834608931387},1.0148325268098499,1.4874957741657355,"","","","",null,null,null,null,null,null,null,null,8,111.83333333333334,30,0,0,null,null,null,null,null,null,null,{"$f":"SUM(AD33:AM33)","v":74.247479331799596},null,null,null,null,null,null,null,null,null,{"$f":"SUM(AN33:AW33)","v":116.15963765916341},null,null,null,null,null,null,null,null,null,{"$f":"SUM(AX33:BG33)","v":146.61823748571558},null,null,null,null,null,null,null,null,null,{"$f":"SUM(BH33:BQ33)","v":97.285448586141101}]
["ＣＶ（％）",{"$f":"IF(B36<>\"\",B34/B33*100,\"\")","v":1.9614895247424755},{"$f":"IF(C36<>\"\",C34/C33*100,\"\")","v":0.97667708892717664},0.50172999018285258,0.37110081683968454,"","","","",null,null,null,null,null,null,null,null,9,112.66666666666667,30,0,0,null,null,null,null,null,null,null,{"$f":"AD33/$AD$34*100","v":1.384468595000415},{"$f":"AE33/$AD$34*100","v":1.4899731151987015},5.1686837561356915,17.60967039304288,30.829695255385296,27.448475326423154,12.638008698631293,3.0379011707554993,0.37160659702803228,2.1517092399043349E-2,{"$f":"AN33/$AN$34*100","v":9.8516910369140103},{"$f":"AO33/$AN$34*100","v":21.145219385349257},28.27763523873411,22.271472286725555,10.581614792607539,4.3904678290600732,2.3034307978717559,0.96861226651580989,0.19439023454197521,1.5466131679918714E-2,{"$f":"AX33/$AX$34*100","v":4.6394816496256333},{"$f":"AY33/$AX$34*100","v":8.3297536135126204},14.140661566926049,20.732181182128318,23.267412290643318,17.910898499487928,8.1725103954500184,2.3722143982776074,0.40400497121459278,3.0881432733916751E-2,{"$f":"BH33/$BH$34*100","v":6.8100450164051987},{"$f":"BI33/$BH$34*100","v":13.778918904114398},20.751999002218646,22.330943099615236,18.203622806624324,11.322069839720376,5.0740658120339868,1.4784103357131566,0.2333337950823233,1.6591388472334389E-2]
["データ数",{"$f":"IF(COUNTA(B3:B32)<>0,COUNTA(B3:B32),\"\")","v":30},{"$f":"IF(COUNTA(C3:C32)<>0,COUNTA(C3:C32),\"\")","v":30},30,30,"","","","",null,null,null,null,null,null,null,null,10,113.5,30,0,0]
["t0.05(n-1)",{"$f":"IF(B36<>\"\",TINV(0.05,B36-1),\"\")","v":2.0452296421327048},{"$f":"IF(C36<>\"\",TINV(0.05,C36-1),\"\")","v":2.0452296421327048},2.0452296421327048,2.0452296421327048,"","","",""]
["Ｓ　Ｅ",{"$f":"IF(B36<>\"\",B37*B34/B36^0.5,\"\")","v":0.52442147361950797},{"$f":"IF(C36<>\"\",C37*C34/C36^0.5,\"\")","v":0.39326516742963269},0.37894469329252722,0.55544005047522682,"","","",""]
["平均値の信頼区間下限",{"$f":"IF(B36<>\"\",B33-B37*B34/B36^0.5,\"\")","v":71.075578526380482},{"$f":"IF(C36<>\"\",C33-C37*C34/C36^0.5,\"\")","v":107.4400681659037},201.88772197337414,400.27789328285809,"","","",""]
["平均値の信頼区間上限",{"$f":"IF(B36<>\"\",B33+B37*B34/B36^0.5,\"\")","v":72.124421473619506},{"$f":"IF(C36<>\"\",C33+C37*C34/C36^0.5,\"\")","v":108.22659850076296},202.64561135995922,401.38877338380854,"","","",""]
["最大値",{"$f":"IF(B36<>\"\",MAX(B3:B32),\"\")","v":74},{"$f":"IF(C36<>\"\",MAX(C3:C32),\"\")","v":111},204,404,"","","","",null,null,null,null,null,null,null,null,"異常濃度１ヒストグラム用データ"]
["最小値",{"$f":"IF(B36<>\"\",MIN(B3:B32),\"\")","v":66},{"$f":"IF(C36<>\"\",MIN(C3:C32),\"\")","v":106},200,398,"","","","",null,null,null,null,null,null,null,null,"Max",{"$f":"D41","v":204},null,"歪度",{"$f":"SKEW(D3:D32)","v":-0.58192973607801257}]
["不偏分散",{"$f":"IF(B36<>\"\",VAR(B3:B32),\"\")","v":1.9724137931034473},{"$f":"IF(C36<>\"\",VAR(C3:C32),\"\")","v":1.1091954022988497},1.0298850574712646,2.2126436781609207,"","","","",null,null,null,null,null,null,null,null,"Min",{"$f":"D42","v":200},null,"尖度",{"$f":"KURT(D3:D32)","v":4.8714240160382616E-2}]
["母分散の推定値下限",{"$f":"IF(B36<>\"\",ROUNDDOWN((B36-1)*B43/CHIINV(0.025,(B36-1)),2),\"\")","v":1.25},{"$f":"IF(C36<>\"\",ROUNDDOWN((C36-1)*C43/CHIINV(0.025,(C36-1)),2),\"\")","v":0.7},0.65,1.4,"","","","",null,null,null,null,null,null,null,null,"級間隔",{"$f":"(S42-S43)/$L$2","v":0.66666666666666663}]
["母分散の推定値上限",{"$f":"IF(B36<>\"\",ROUNDUP((B36-1)*B43/CHIINV(0.975,(B36-1)),2),\"\")","v":3.57},{"$f":"IF(C36<>\"\",ROUNDUP((C36-1)*C43/CHIINV(0.975,(C36-1)),2),\"\")","v":2.0099999999999998},1.87,4,"","","","",null,null,null,null,null,null,null,null,"ＮＯ．","階級値","累積度数","度数","ﾃﾞｰﾀ百分率"]
["母標準偏差の推定値下限",{"$f":"IF(B36<>\"\",B44^0.5,\"\")","v":1.1180339887498949},{"$f":"IF(C36<>\"\",C44^0.5,\"\")","v":0.83666002653407556},0.80622577482985502,1.1832159566199232,"","","","",null,null,null,null,null,null,null,null,1,{"$f":"$S$44*R46+$S$43-$S$44","v":200},{"$f":"FREQUENCY($D$3:$D$32,S46)","v":2},{"$f":"T46","v":2},{"$f":"U46/$T$55*100","v":6.666666666666667}]
["母標準偏差の推定値上限",{"$f":"IF(B36<>\"\",B45^0.5,\"\")","v":1.8894443627691184},{"$f":"IF(C36<>\"\",C45^0.5,\"\")","v":1.4177446878757824},1.3674794331177345,2,"","","","",null,null,null,null,null,null,null,null,2,200.66666666666669,{"$f":"FREQUENCY($D$3:$D$32,S47)","v":2},{"$f":"T47-T46","v":0},0]
[null,null,null,null,null,null,null,null,null,null,null,null,null,null,null,null,null,3,201.33333333333334,6,{"$f":"T48-T47","v":4},13.333333333333334]
[null,null,null,null,null,null,null,null,null,null,null,null,null,null,null,null,null,4,202,16,10,33.333333333333329]
[null,null,null,null,null,null,null,null,null,null,null,null,null,null,null,null,null,5,202.66666666666669,16,0,0]
[null,null,null,null,null,null,null,null,null,null,null,null,null,null,null,null,null,6,203.33333333333334,28,12,40]
[null,null,null,null,null,null,null,null,null,null,null,null,null,null,null,null,null,7,204,30,2,6.666666666666667]
[null,null,null,null,null,null,null,null,null,null,null,null,null,null,null,null,null,8,204.66666666666669,30,0,0]
[null,null,null,null,null,null,null,null,null,null,null,null,null,null,null,null,null,9,205.33333333333334,30,0,0]
[null,null,null,null,null,null,null,null,null,null,null,null,null,null,null,null,null,10,206,30,0,0]
[null,null,null,null,null,null,null,null,null,null,null,null,null,null,null,null,null,"異常濃度２ヒストグラム用データ"]
[null,null,null,null,null,null,null,null,null,null,null,null,null,null,null,null,null,"Max",{"$f":"E41","v":404},null,"歪度",{"$f":"SKEW(E3:E32)","v":3.6170415037220391E-2}]
[null,null,null,null,null,null,null,null,null,null,null,null,null,null,null,null,null,"Min",{"$f":"E42","v":398},null,"尖度",{"$f":"KURT(E3:E32)","v":-0.35300580680914795}]
[null,null,null,null,null,null,null,null,null,null,null,null,null,null,null,null,null,"級間隔",{"$f":"(S57-S58)/$L$2","v":1}]
[null,null,null,null,null,null,null,null,null,null,null,null,null,null,null,null,null,"ＮＯ．","階級値","累積度数","度数","ﾃﾞｰﾀ百分率"]
[null,null,null,null,null,null,null,null,null,null,null,null,null,null,null,null,null,1,{"$f":"$S$59*R61+$S$58-$S$59","v":398},{"$f":"FREQUENCY($E$3:$E$32,S61)","v":2},{"$f":"T61","v":2},{"$f":"U61/$T$70*100","v":6.666666666666667}]
[null,null,null,null,null,null,null,null,null,null,null,null,null,null,null,null,null,2,399,{"$f":"FREQUENCY($E$3:$E$32,S62)","v":5},{"$f":"T62-T61","v":3},10]
[null,null,null,null,null,null,null,null,null,null,null,null,null,null,null,null,null,3,400,13,{"$f":"T63-T62","v":8},26.666666666666668]
[null,null,null,null,null,null,null,null,null,null,null,null,null,null,null,null,null,4,401,20,7,23.333333333333332]
[null,null,null,null,null,null,null,null,null,null,null,null,null,null,null,null,null,5,402,26,6,20]
[null,null,null,null,null,null,null,null,null,null,null,null,null,null,null,null,null,6,403,29,3,10]
[null,null,null,null,null,null,null,null,null,null,null,null,null,null,null,null,null,7,404,30,1,3.3333333333333335]
[null,null,null,null,null,null,null,null,null,null,null,null,null,null,null,null,null,8,405,30,0,0]
[null,null,null,null,null,null,null,null,null,null,null,null,null,null,null,null,null,9,406,30,0,0]
[null,null,null,null,null,null,null,null,null,null,null,null,null,null,null,null,null,10,407,30,0,0]

{"sheet":"室内精度1","index":5,"n_rows":205,"n_cols":37,"rows_kept":205,"cut":false,"hidden":false,"merged":[[0,2,0,4],[0,6,0,7],[93,18,93,19],[0,17,0,19],[58,8,58,10],[53,8,53,10],[54,8,54,10],[55,8,55,10],[56,8,56,10],[57,8,57,10],[33,9,33,10],[8,8,8,9],[60,8,60,10],[61,8,61,10],[62,8,62,10],[63,8,63,10],[64,8,64,10],[65,8,65,10],[107,8,107,10],[102,8,102,10],[103,8,103,10],[106,8,106,10],[104,8,104,10],[105,8,105,10]]}
[null,"タイトル","AMY",null,null,"解　説","不確かさについて",null,null,null,null,null,null,null,null,null,null,"管理図用データ"]
["日","ＮＯ．１","ＮＯ．２","ＮＯ．３","ＮＯ．４","ＮＯ．５","平均","偏差平方",null,null,null,null,null,null,null,"２ＳＤ",null,"MAX","MIN","Ｒ",null,null,{"$f":"SUM(W3:W92)","v":256},{"$f":"SUM(X3:X92)","v":322.875},null,"Max",{"$f":"MAX(B3:F92)","v":261},null,"歪度",{"$f":"SKEW(B3:F92)","v":0.13782204299950918}]
[1,254,256,null,null,null,{"$f":"IF(ISERROR(AVERAGE(B3:F3)),\"\",AVERAGE(B3:F3))","v":255},{"$f":"IF(ISERROR(DEVSQ(B3:F3)),\"\",DEVSQ(B3:F3))","v":2},null,null,null,null,null,null,null,{"$f":"IF(COUNTA(B3:F3)<>0,STDEV(B3:F3)*2,\"\")","v":2.8284271247461903},null,{"$f":"IF(B3<>\"\",MAX(B3:F3),\"\")","v":256},{"$f":"IF(B3<>\"\",MIN(B3:F3),\"\")","v":254},{"$f":"IF(R3<>\"\",R3-S3,\"\")","v":2},null,null,{"$f":"COUNTA(B3:F3)^2","v":4},{"$f":"IF(G3<>\"\",W3^0.5*(G3-$B$95)^2,\"\")","v":0.861328125},null,"Min",{"$f":"MIN(B3:F92)","v":251},null,"尖度",{"$f":"KURT(B3:F92)","v":-0.44324744311626896},null,null,"Rs","Rs'"]
[2,252,255,null,null,null,253.5,{"$f":"IF(ISERROR(DEVSQ(B4:F4)),\"\",DEVSQ(B4:F4))","v":4.5},null,null,null,"ｸﾞﾙｰﾌﾟ間（日差）の精密度は純日差変動を表す",null,null,null,{"$f":"IF(COUNTA(B4:F4)<>0,STDEV(B4:F4)*2,\"\")","v":4.2426406871192848},null,255,252,3,null,null,{"$f":"COUNTA(B4:F4)^2","v":4},{"$f":"IF(G4<>\"\",W4^0.5*(G4-$B$95)^2,\"\")","v":9.298828125},null,"級間隔",{"$f":"(AA2-AA3)/10","v":1},null,null,null,null,null,"-",{"$f":"IF($R3<>\"\",ABS(B3-C3),\"\")","v":2},{"$f":"IF($R3<>\"\",ABS(C3-D3),\"\")","v":256},{"$f":"IF($R3<>\"\",ABS(D3-E3),\"\")","v":0},{"$f":"IF($R3<>\"\",ABS(E3-F3),\"\")","v":0}]
[3,258,256,null,null,null,257,2,"分散分析表",null,null,null,"↓",null,null,2.8284271247461903,null,258,256,2,null,null,4,3.611328125,null,"ＮＯ．","階級値","累積度数","度数","ﾃﾞｰﾀ百分率",null,null,{"$f":"IF(R4<>\"\",ABS(G3-G4),\"\")","v":1.5},3,255,0,0]
[4,256,253,null,null,null,254.5,4.5,"変動要因","変動","自由度","分散","精密度(SD)","変動係数(CV)",null,4.2426406871192848,null,256,253,3,null,null,4,2.673828125,null,1,{"$f":"$AA$3+($AA$4*(Z6-1))","v":251},{"$f":"FREQUENCY($B$3:$F$92,AA6)","v":1},{"$f":"AB6","v":1},{"$f":"AC6/$AB$16*100","v":0.78125},null,null,3.5,2,256,0,0]
[5,255,254,null,null,null,254.5,0.5,"ｸﾞﾙｰﾌﾟ間（日間）",{"$f":"X2","v":322.875},{"$f":"COUNT(G3:G92)-1","v":63},{"$f":"J7/K7","v":5.125},{"$f":"IF(L7-L8>0,((L7-L8)/K9)^0.5,0)","v":1.0155048005794951},{"$f":"M7/B95","v":3.9721493238655233E-3},null,1.4142135623730951,null,255,254,1,null,null,4,2.673828125,null,2,252,{"$f":"FREQUENCY($B$3:$F$92,AA7)","v":7},{"$f":"AB7-AB6","v":6},4.6875,null,null,2.5,3,253,0,0]
[6,254,257,null,null,null,255.5,4.5,"ｸﾞﾙｰﾌﾟ内（日内）",{"$f":"SUM(H3:H92)","v":196},{"$f":"K10-K7","v":64},{"$f":"J8/K8","v":3.0625},{"$f":"L8^0.5","v":1.75},{"$f":"M8/B95","v":6.8451289573401783E-3},null,4.2426406871192848,null,257,254,3,null,null,4,4.8828125E-2,null,3,253,19,{"$f":"AB8-AB7","v":12},9.375,null,null,0,1,254,0,0]
[7,254,259,null,null,null,256.5,12.5,"n0 = 1日あたりの平均的な反復測定数",null,{"$f":"(1/K7)*(K10+1-W2/(K10+1))","v":2},null,null,null,null,7.0710678118654755,null,259,254,5,null,null,4,1.423828125,null,4,254,38,19,14.84375,null,null,1,3,257,0,0]
[8,253,255,null,null,null,254,2,"合計(室内精密度）",{"$f":"DEVSQ(B3:F92)","v":518.875},{"$f":"COUNT(B3:F92)-1","v":127},null,{"$f":"IF(J13<0.05,(M7^2+M8^2)^0.5,(J10/K10)^0.5)","v":2.0233017570298308},{"$f":"M10/B95","v":7.9141493979898048E-3},null,2.8284271247461903,null,255,253,2,null,null,4,5.486328125,null,5,255,61,23,17.96875,null,null,1,5,259,0,0]
[9,251,256,null,null,null,253.5,12.5,null,null,null,null,"↑総合精密度","↑総変動係数",null,7.0710678118654755,null,256,251,5,null,null,4,9.298828125,null,6,256,87,26,20.3125,null,null,2.5,2,255,0,0]
[10,253,257,null,null,null,255,8,"観測された分散比","P-値","F 境界値",null,null,null,null,5.6568542494923806,null,257,253,4,null,null,4,0.861328125,null,7,257,104,17,13.28125,null,null,0.5,5,256,0,0]
[11,255,256,null,null,null,255.5,0.5,{"$f":"L7/L8","v":1.6734693877551021},{"$f":"FDIST(I13,K7,K8)","v":2.0958385712452739E-2},{"$f":"FINV(0.05,K7,K8)","v":1.5152122312004259},null,null,null,null,1.4142135623730951,null,256,255,1,null,null,4,4.8828125E-2,null,8,258,114,10,7.8125,null,null,1.5,4,257,0,0]
[12,258,257,null,null,null,257.5,0.5,null,"↓",null,null,null,null,null,1.4142135623730951,null,258,257,1,null,null,4,6.798828125,null,9,259,126,12,9.375,null,null,0.5,1,256,0,0]
[13,255,259,null,null,null,257,8,{"$f":"IF(J13<0.05,\"P-値　より　有意水準０．０５以下から日内精密度に対し有意な日間精密度が存在する！\",\"P-値　より　有意水準０．０５以下から日内精密度と日間精密度の差があるとはいえない！\")","v":"P-値　より　有意水準０．０５以下から日内精密度に対し有意な日間精密度が存在する！"},null,null,null,null,null,null,5.6568542494923806,null,259,255,4,null,null,4,3.611328125,null,10,260,127,1,0.78125,null,null,2,1,257,0,0]
[14,256,259,null,null,null,257.5,4.5,null,null,null,null,null,null,null,4.2426406871192848,null,259,256,3,null,null,4,6.798828125,null,11,261,128,1,0.78125,null,null,0.5,4,259,0,0]
[15,256,256,null,null,null,256,0,null,null,null,null,null,null,null,0,null,256,256,0,null,null,4,0.236328125,null,null,null,null,null,null,null,null,0.5,3,259,0,0]
[16,256,258,null,null,null,257,2,null,null,null,null,null,null,null,2.8284271247461903,null,258,256,2,null,null,4,3.611328125,null,null,null,null,null,null,null,null,1.5,0,256,0,0]
[17,257,254,null,null,null,255.5,4.5,null,null,null,null,null,null,null,4.2426406871192848,null,257,254,3,null,null,4,4.8828125E-2,null,null,null,null,null,null,null,null,1,2,258,0,0]
[18,255,258,null,null,null,256.5,4.5,null,null,null,null,null,null,null,4.2426406871192848,null,258,255,3,null,null,4,1.423828125,null,null,null,null,null,null,null,null,1.5,3,254,0,0]
[19,255,254,null,null,null,254.5,0.5,null,null,null,null,null,null,null,1.4142135623730951,null,255,254,1,null,null,4,2.673828125,null,null,null,null,null,null,null,null,1,3,258,0,0]
[20,255,259,null,null,null,257,8,null,null,null,null,null,null,null,5.6568542494923806,null,259,255,4,null,null,4,3.611328125,null,null,null,null,null,null,null,null,2,1,254,0,0]
[21,256,259,null,null,null,257.5,4.5,null,null,null,null,null,null,null,4.2426406871192848,null,259,256,3,null,null,4,6.798828125,null,null,null,null,null,null,null,null,2.5,4,259,0,0]
[22,256,259,null,null,null,257.5,4.5,null,null,null,null,null,null,null,4.2426406871192848,null,259,256,3,null,null,4,6.798828125,null,null,null,null,null,null,null,null,0.5,3,259,0,0]
[23,257,258,null,null,null,257.5,0.5,null,null,null,null,null,null,null,1.4142135623730951,null,258,257,1,null,null,4,6.798828125,null,null,null,null,null,null,null,null,0,3,259,0,0]
[24,256,260,null,null,null,258,8,null,null,null,null,null,null,null,5.6568542494923806,null,260,256,4,null,null,4,10.986328125,null,null,null,null,null,null,null,null,0,1,258,0,0]
[25,253,257,null,null,null,255,8,null,null,null,null,null,null,null,5.6568542494923806,null,257,253,4,null,null,4,0.861328125,null,null,null,null,null,null,null,null,0.5,4,260,0,0]
[26,254,257,null,null,null,255.5,4.5,null,null,null,null,null,null,null,4.2426406871192848,null,257,254,3,null,null,4,4.8828125E-2,null,null,null,null,null,null,null,null,3,4,257,0,0]
[27,252,255,null,null,null,253.5,4.5,null,null,null,null,null,null,null,4.2426406871192848,null,255,252,3,null,null,4,9.298828125,null,null,null,null,null,null,null,null,0.5,3,257,0,0]
[28,256,255,null,null,null,255.5,0.5,null,null,null,null,null,null,null,1.4142135623730951,null,{"$f":"IF(B30<>\"\",MAX(B30:F30),\"\")","v":256},{"$f":"IF(B30<>\"\",MIN(B30:F30),\"\")","v":255},{"$f":"IF(R30<>\"\",R30-S30,\"\")","v":1},null,null,4,4.8828125E-2,null,null,null,null,null,null,null,null,2,3,255,0,0]
[29,255,257,null,null,null,256,2,null,null,null,null,null,null,null,2.8284271247461903,null,257,255,2,null,null,4,0.236328125,null,null,null,null,null,null,null,null,2,1,255,0,0]
[30,257,257,null,null,null,257,0,null,"標準物質の表示値",null,255,"←使用した管理物質の表示値を入力",null,null,0,null,257,257,0,null,null,4,3.611328125,null,null,null,null,null,null,null,null,0.5,2,257,0,0]
[31,259,259,null,null,null,259,0,null,"標準物質の拡張不確かさ",null,8,"←使用した管理物質の拡張不確かさを入力",null,null,0,null,259,259,0,null,null,4,22.361328125,null,null,null,null,null,null,null,null,1,0,257,0,0]
[32,257,258,null,null,null,257.5,0.5,null,"包含係数 ",null,2,"←包含係数の入力（通常k = 2）",null,null,1.4142135623730951,null,258,257,1,null,null,4,6.798828125,null,null,null,null,null,null,null,null,2,0,259,0,0]
[33,256,253,null,null,null,254.5,4.5,null,"標準物質の拡張不確かさ（％）",null,{"$f":"(L33)/L32","v":3.1372549019607843E-2},null,null,null,4.2426406871192848,null,256,{"$f":"IF(B35<>\"\",MIN(B35:F35),\"\")","v":253},{"$f":"IF(R35<>\"\",R35-S35,\"\")","v":3},null,null,4,2.673828125,null,null,null,null,null,null,null,null,1.5,1,258,0,0]
[34,254,257,null,null,null,255.5,4.5,null,null,null,null,null,null,null,4.2426406871192848,null,257,{"$f":"IF(B36<>\"\",MIN(B36:F36),\"\")","v":254},{"$f":"IF(R36<>\"\",R36-S36,\"\")","v":3},null,null,4,4.8828125E-2,null,null,null,null,null,null,null,null,3,{"$f":"IF($R35<>\"\",ABS(B35-C35),\"\")","v":3},{"$f":"IF($R35<>\"\",ABS(C35-D35),\"\")","v":253},{"$f":"IF($R35<>\"\",ABS(D35-E35),\"\")","v":0},{"$f":"IF($R35<>\"\",ABS(E35-F35),\"\")","v":0}]
[35,259,258,null,null,null,258.5,0.5,null,"日常検査の平均値",null,{"$f":"B95","v":255.65625},null,null,null,1.4142135623730951,null,259,{"$f":"IF(B37<>\"\",MIN(B37:F37),\"\")","v":258},{"$f":"IF(R37<>\"\",R37-S37,\"\")","v":1},null,null,4,16.173828125,null,null,null,null,null,null,null,null,{"$f":"IF(R36<>\"\",ABS(G35-G36),\"\")","v":1},3,257,0,0]
[36,254,256,null,null,null,255,2,null,"日常検査の総変動（％）",null,{"$f":"N10","v":7.9141493979898048E-3},null,null,null,2.8284271247461903,null,256,{"$f":"IF(B38<>\"\",MIN(B38:F38),\"\")","v":254},{"$f":"IF(R38<>\"\",R38-S38,\"\")","v":2},null,null,4,0.861328125,null,null,null,null,null,null,null,null,3,1,258,0,0]
[37,253,252,null,null,null,252.5,0.5,null,"日常検査の拡張不確かさ",null,{"$f":"L37*L41","v":8.9835870141129277},null,null,null,1.4142135623730951,null,253,252,1,null,null,4,19.923828125,null,null,null,null,null,null,null,null,3.5,2,256,0,0]
[38,253,253,null,null,null,253,0,null,"日常検査の合成不確かさ（％）",null,{"$f":"(((L35/2)^2+L38^2)^0.5)","v":1.7569660460311311E-2},null,null,null,0,null,253,253,0,null,null,4,14.111328125,null,null,null,null,null,null,null,null,2.5,1,252,0,0]
[39,255,256,null,null,null,255.5,0.5,null,"日常検査の拡張不確かさ（％）",null,{"$f":"L40*L34","v":3.5139320920622621E-2},"←合成不確かさ×包含係数(2)",null,null,1.4142135623730951,null,256,255,1,null,null,4,4.8828125E-2,null,null,null,null,null,null,null,null,0.5,0,253,0,0]
[40,255,256,null,null,null,255.5,0.5,null,null,null,null,null,null,null,1.4142135623730951,null,256,255,1,null,null,4,4.8828125E-2,null,null,null,null,null,null,null,null,2.5,1,256,0,0]
[41,255,255,null,null,null,255,0,null,null,null,null,null,null,null,0,null,255,255,0,null,null,4,0.861328125,null,null,null,null,null,null,null,null,0,1,256,0,0]
[42,253,254,null,null,null,253.5,0.5,null,null,null,null,null,null,null,1.4142135623730951,null,254,253,1,null,null,4,9.298828125,null,null,null,null,null,null,null,null,0.5,0,255,0,0]
[43,257,258,null,null,null,257.5,0.5,null,null,null,null,null,null,null,1.4142135623730951,null,258,257,1,null,null,4,6.798828125,null,null,null,null,null,null,null,null,1.5,1,254,0,0]
[44,256,258,null,null,null,257,2,null,null,null,null,null,null,null,2.8284271247461903,null,258,256,2,null,null,4,3.611328125,null,null,null,null,null,null,null,null,4,1,258,0,0]
[45,259,259,null,null,null,259,0,null,null,null,null,null,null,null,0,null,259,259,0,null,null,4,22.361328125,null,null,null,null,null,null,null,null,0.5,2,258,0,0]
[46,254,255,null,null,null,254.5,0.5,null,null,null,null,null,null,null,1.4142135623730951,null,{"$f":"IF(B48<>\"\",MAX(B48:F48),\"\")","v":255},{"$f":"IF(B48<>\"\",MIN(B48:F48),\"\")","v":254},{"$f":"IF(R48<>\"\",R48-S48,\"\")","v":1},null,null,4,2.673828125,null,null,null,null,null,null,null,null,2,0,259,0,0]
[47,254,254,null,null,null,254,0,null,null,null,null,null,null,null,0,null,254,254,0,null,null,4,5.486328125,null,null,null,null,null,null,null,null,4.5,1,255,0,0]
[48,256,255,null,null,null,255.5,0.5,null,null,null,null,null,null,null,1.4142135623730951,null,256,255,1,null,null,4,4.8828125E-2,null,null,null,null,null,null,null,null,0.5,0,254,0,0]
[49,256,261,null,null,null,258.5,12.5,null,null,null,null,null,null,null,7.0710678118654755,null,261,256,5,null,null,4,16.173828125,null,null,null,null,null,null,null,null,1.5,1,255,0,0]
[50,256,258,null,null,null,257,2,"＿",null,null,null,null,null,null,2.8284271247461903,null,258,256,2,null,null,4,3.611328125,null,null,null,null,null,null,null,null,3,5,261,0,0]
[51,256,257,null,null,null,256.5,0.5,"ｘ - Ｒ管理図を作成するためのデータ",null,null,"3σ管理図",null,null,null,1.4142135623730951,null,257,256,1,null,null,4,1.423828125,null,null,null,null,null,null,null,null,1.5,2,258,0,0]
[52,259,256,null,null,null,257.5,4.5,"１日のデータ数",null,null,{"$f":"COUNT(B3:F3)","v":2},null,null,null,4.2426406871192848,null,259,256,3,null,null,4,6.798828125,null,null,null,null,null,null,null,null,0.5,1,257,0,0]
[53,255,254,null,null,null,254.5,0.5,"データの平均値",null,null,{"$f":"AVERAGE(B3:F92)","v":255.65625},null,null,null,1.4142135623730951,null,255,254,1,null,null,4,2.673828125,null,null,null,null,null,null,null,null,1,3,256,0,0]
[54,257,254,null,null,null,255.5,4.5,"平均値に対する上方管理限界（ＵＣＬ）",null,null,{"$f":"$L$55+(3*(1/(SQRT($L$54)*$S$96))*$T$93)","v":259.53499397924804},null,null,null,4.2426406871192848,null,257,254,3,null,null,4,4.8828125E-2,null,null,null,null,null,null,null,null,3,1,254,0,0]
[55,256,253,null,null,null,254.5,4.5,"平均値に対する下方管理限界（ＬＣＬ）",null,null,{"$f":"$L$55-3*(1/(SQRT($L$54)*$S$96)*$T$93)","v":251.77750602075199},null,null,null,4.2426406871192848,null,256,253,3,null,null,4,2.673828125,null,null,null,null,null,null,null,null,1,3,254,0,0]
[56,253,257,null,null,null,255,8,"Ｒの平均",null,null,{"$f":"T93","v":2.0625},null,null,null,5.6568542494923806,null,257,253,4,null,null,4,0.861328125,null,null,null,null,null,null,null,null,1,3,253,0,0]
[57,254,257,null,null,null,255.5,4.5,"Ｒに対する上方管理限界（ＵＣＬ）",null,null,{"$f":"((1+3*($T$96/$S$96))*$L$58)","v":6.7415226063829792},null,null,null,4.2426406871192848,null,257,254,3,null,null,4,4.8828125E-2,null,null,null,null,null,null,null,null,0.5,4,257,0,0]
[58,253,254,null,null,null,253.5,0.5,"xbar - Rs - R 管理図を作成するためのデータ(2SD)",null,null,null,null,null,null,1.4142135623730951,null,254,253,1,null,null,4,9.298828125,null,null,null,null,null,null,null,null,0.5,3,257,0,0]
[59,255,252,null,null,null,253.5,4.5,"平均値に対する上方管理限界（ＵＣＬ）",null,null,{"$f":"L55+1.773*L63","v":258.24539285714286},null,null,null,4.2426406871192848,null,255,252,3,null,null,4,9.298828125,null,null,null,null,null,null,null,null,2,1,254,0,0]
[60,254,252,null,null,null,253,2,"平均値に対する下方管理限界（ＬＣＬ）",null,null,{"$f":"L55-1.773*L63","v":253.06710714285714},null,null,null,2.8284271247461903,null,254,252,2,null,null,4,14.111328125,null,null,null,null,null,null,null,null,0,3,252,0,0]
[61,255,256,null,null,null,255.5,0.5,"Rs の平均",null,null,{"$f":"AG94","v":1.4603174603174602},null,null,null,1.4142135623730951,null,{"$f":"IF(B63<>\"\",MAX(B63:F63),\"\")","v":256},{"$f":"IF(B63<>\"\",MIN(B63:F63),\"\")","v":255},{"$f":"IF(R63<>\"\",R63-S63,\"\")","v":1},null,null,4,4.8828125E-2,null,null,null,null,null,null,null,null,0.5,2,252,0,0]
[62,256,254,null,null,null,255,2,"Rs' の平均",null,null,{"$f":"AK94","v":64.5390625},null,null,null,2.8284271247461903,null,256,254,2,null,null,4,0.861328125,null,null,null,null,null,null,null,null,2.5,1,256,0,0]
[63,255,252,null,null,null,253.5,4.5,"Rs に対する上方管理限界（ＵＣＬ）",null,null,{"$f":"U96*L63","v":3.6683174603174602},null,null,null,4.2426406871192848,null,255,252,3,null,null,4,9.298828125,null,null,null,null,null,null,null,null,0.5,2,254,0,0]
[64,255,255,null,null,null,255,0,"Rに対する上方管理限界（ＵＣＬ）",null,null,{"$f":"L58*U96","v":5.181},null,null,null,0,null,255,255,0,null,null,4,0.861328125,null,null,null,null,null,null,null,null,1.5,3,252,0,0]
[65,null,null,null,null,null,{"$f":"IF(ISERROR(AVERAGE(B67:F67)),\"\",AVERAGE(B67:F67))","v":""},"",null,null,null,null,null,null,null,{"$f":"IF(COUNTA(B67:F67)<>0,STDEV(B67:F67)*2,\"\")","v":""},null,"","","",null,null,0,"",null,null,null,null,null,null,null,null,1.5,0,255,0,0]
[66,null,null,null,null,null,"",{"$f":"IF(ISERROR(DEVSQ(B68:F68)),\"\",DEVSQ(B68:F68))","v":""},null,null,null,null,null,null,null,"",null,"","","",null,null,{"$f":"COUNTA(B68:F68)^2","v":0},{"$f":"IF(G68<>\"\",W68^0.5*(G68-$B$95)^2,\"\")","v":""},null,null,null,null,null,null,null,null,"",{"$f":"IF($R67<>\"\",ABS(B67-C67),\"\")","v":""},{"$f":"IF($R67<>\"\",ABS(C67-D67),\"\")","v":""},{"$f":"IF($R67<>\"\",ABS(D67-E67),\"\")","v":""},{"$f":"IF($R67<>\"\",ABS(E67-F67),\"\")","v":""}]
[67,null,null,null,null,null,"","",null,null,null,null,null,null,null,"",null,"","","",null,null,0,"",null,null,null,null,null,null,null,null,{"$f":"IF(R68<>\"\",ABS(G67-G68),\"\")","v":""},"","","",""]
[68,null,null,null,null,null,"","",null,null,null,null,null,null,null,"",null,"","","",null,null,0,"",null,null,null,null,null,null,null,null,"","","","",""]
[69,null,null,null,null,null,"","",null,null,null,null,null,null,null,"",null,"","","",null,null,0,"",null,null,null,null,null,null,null,null,"","","","",""]
[70,null,null,null,null,null,"","",null,null,null,null,null,null,null,"",null,"","","",null,null,0,"",null,null,null,null,null,null,null,null,"","","","",""]
[71,null,null,null,null,null,"","",null,null,null,null,null,null,null,"",null,"","","",null,null,0,"",null,null,null,null,null,null,null,null,"","","","",""]
[72,null,null,null,null,null,"","",null,null,null,null,null,null,null,"",null,"","","",null,null,0,"",null,null,null,null,null,null,null,null,"","","","",""]
[73,null,null,null,null,null,"","",null,null,null,null,null,null,null,"",null,"","","",null,null,0,"",null,null,null,null,null,null,null,null,"","","","",""]
[74,null,null,null,null,null,"","",null,null,null,null,null,null,null,"",null,"","","",null,null,0,"",null,null,null,null,null,null,null,null,"","","","",""]
[75,null,null,null,null,null,"","",null,null,null,null,null,null,null,"",null,"","","",null,null,0,"",null,null,null,null,null,null,null,null,"","","","",""]
[76,null,null,null,null,null,{"$f":"IF(ISERROR(AVERAGE(B78:F78)),\"\",AVERAGE(B78:F78))","v":""},"",null,null,null,null,null,null,null,"",null,"","","",null,null,0,"",null,null,null,null,null,null,null,null,"","","","",""]
[77,null,null,null,null,null,{"$f":"IF(ISERROR(AVERAGE(B79:F79)),\"\",AVERAGE(B79:F79))","v":""},"",null,null,null,null,null,null,null,"",null,"","","",null,null,0,"",null,null,null,null,null,null,null,null,"","","","",""]
[78,null,null,null,null,null,"","",null,null,null,null,null,null,null,"",null,"","","",null,null,0,"",null,null,null,null,null,null,null,null,"","","","",""]
[79,null,null,null,null,null,"","",null,null,null,null,null,null,null,"",null,"","","",null,null,0,"",null,null,null,null,null,null,null,null,"","","","",""]
[80,null,null,null,null,null,"","",null,null,null,null,null,null,null,"",null,"","","",null,null,0,"",null,null,null,null,null,null,null,null,"","","","",""]
[81,null,null,null,null,null,"","",null,null,null,null,null,null,null,"",null,"","","",null,null,0,"",null,null,null,null,null,null,null,null,"","","","",""]
[82,null,null,null,null,null,"","",null,null,null,null,null,null,null,"",null,"","","",null,null,0,"",null,null,null,null,null,null,null,null,"","","","",""]
[83,null,null,null,null,null,"","",null,null,null,null,null,null,null,"",null,"","","",null,null,0,"",null,null,null,null,null,null,null,null,"","","","",""]
[84,null,null,null,null,null,"","",null,null,null,null,null,null,null,"",null,"","","",null,null,0,"",null,null,null,null,null,null,null,null,"","","","",""]
[85,null,null,null,null,null,"","",null,null,null,null,null,null,null,"",null,"","","",null,null,0,"",null,null,null,null,null,null,null,null,"","","","",""]
[86,null,null,null,null,null,"","",null,null,null,null,null,null,null,"",null,"","","",null,null,0,"",null,null,null,null,null,null,null,null,"","","","",""]
[87,null,null,null,null,null,"","",null,null,null,null,null,null,null,"",null,"","","",null,null,0,"",null,null,null,null,null,null,null,null,"","","","",""]
[88,null,null,null,null,null,"","",null,null,null,null,null,null,null,"",null,"","","",null,null,0,"",null,null,null,null,null,null,null,null,"","","","",""]
[89,null,null,null,null,null,"","",null,null,null,null,null,null,null,"",null,"","","",null,null,0,"",null,null,null,null,null,null,null,null,"","","","",""]
[90,null,null,null,null,null,"","",null,null,null,null,null,null,null,"",null,"","","",null,null,0,"",null,null,null,null,null,null,null,null,"","","","",""]
["最大値",{"$f":"IF(COUNTA(B3:B92)<>0,MAX(B3:B92),\"\")","v":259},261,"","","",259,12.5,null,null,null,null,null,null,null,null,null,null,"平均",{"$f":"AVERAGE(T3:T92)","v":2.0625},null,null,null,null,null,null,null,null,null,null,null,null,"","","","",""]
["最小値",{"$f":"IF(COUNTA(B3:B92)<>0,MIN(B3:B92),\"\")","v":251},252,"","","",252.5,0,null,null,null,null,null,null,null,null,null,null,"管理限界係数",null,null,null,null,null,null,null,null,null,null,null,null,"平均",{"$f":"AVERAGE(AG4:AG93)","v":1.4603174603174602},null,null,null,{"$f":"AVERAGE(AH4:AK93)","v":64.5390625}]
["全平均",{"$f":"AVERAGE(B3:F92)","v":255.65625},null,null,null,"合計",{"$f":"SUM(G3:G92)/2","v":8181},{"$f":"SUM(H3:H92)","v":196},null,null,null,null,null,null,null,null,null,null,"d2","d3","D4(2)","D4"]
[null,{"$f":"COUNT(B3:B92)","v":64},null,null,null,"分散",{"$f":"VAR(G3:G92)","v":2.5625},null,null,null,null,null,null,null,null,null,null,null,{"$f":"CHOOSE(L54,\"0\",\"1.128\",\"1.693\",\"2.059\",\"2.326\")","v":"1.128"},{"$f":"CHOOSE(L54,\"0\",\"0.853\",\"0.888\",\"0.88\",\"0.864\")","v":"0.853"},{"$f":"CHOOSE(L54,\"0\",\"2.512\",\"2.049\",\"1.855\",\"1.743\")","v":"2.512"},{"$f":"CHOOSE(L54,\"0\",\"3.267\",\"2.575\",\"2.282\",\"2.115\")","v":"3.267"}]
[null,3,{"$f":"MIN(IF(B96=A3:A92,ROW(B3:B92)))","v":66},null,null,null,null,null,null,null,null,null,null,null,null,null,null,null,"SD",{"$f":"_xlfn.STDEV.S(T3:T92)","v":1.3786927325527072}]
[null,{"$f":"\"b\"&B97&\":b\"&C97","v":"b3:b66"},{"$f":"\"c\"&B97&\":c\"&C97","v":"c3:c66"},{"$f":"\"d\"&B97&\":d\"&C97","v":"d3:d66"},{"$f":"\"e\"&B97&\":e\"&C97","v":"e3:e66"},{"$f":"\"f\"&B97&\":f\"&C97","v":"f3:f66"}]
[]
[null,null,null,null,null,null,null,null,null,null,null,null,null,null,null,null,null,"n","d2","d3","A2(2σ)","A2","D4(2σ)","D4"]
[null,null,null,null,null,null,null,null,null,null,null,null,null,null,null,null,null,2,1.1279999999999999,0.85299999999999998,1.254,1.88,2.512,3.2669999999999999]
[null,null,null,null,null,null,null,null,null,null,null,null,null,null,null,null,null,3,1.6930000000000001,0.88800000000000001,0.68200000000000005,1.0229999999999999,2.0489999999999999,2.5750000000000002]
[null,null,null,null,null,null,null,null,null,null,null,null,null,null,null,null,null,4,2.0590000000000002,0.88,0.48599999999999999,7.2900000000000006E-2,1.855,2.282]
[null,null,null,null,null,null,null,null,null,null,null,null,null,null,null,null,null,5,2.3260000000000001,0.86399999999999999,0.38400000000000001,0.57699999999999996,1.7430000000000001,2.1150000000000002]
[]
[]
[]
[]
[]
[]
[]
[]
[]
[]
[]
[]
[]
[]
[]
[]
[]
[]
[null,0,null,"偏差",0]
[null,1,"線グラフ","倍率",{"$f":"M7/M8","v":0.58028845747399715}]
[null,-4,{"$f":"(1/(SQRT(2*3.1416))*$B$124)*EXP(-((B125-$B$123)^2)/2*$B$124^2)","v":1.3383006928851802E-4},{"$f":"(B125*$E$124)+$E$123","v":-2.3211538298959886},{"$f":"C125","v":1.3383006928851802E-4}]
[null,{"$f":"B125+0.1","v":-3.9},{"$f":"(1/(SQRT(2*3.1416))*$B$124)*EXP(-((B126-$B$123)^2)/2*$B$124^2)","v":1.9865523912172676E-4},{"$f":"(B126*$E$124)+$E$123","v":-2.2631249841485888},{"$f":"C126","v":1.9865523912172676E-4}]
[null,{"$f":"B126+0.1","v":-3.8},2.9194658444260468E-4,-2.2050961384011889,2.9194658444260468E-4]
[null,-3.6999999999999997,4.2477977389109793E-4,-2.1470672926537895,4.2477977389109793E-4]
[null,-3.5999999999999996,6.1190121466858378E-4,-2.0890384469063896,6.1190121466858378E-4]
[null,-3.4999999999999996,8.7268167469167356E-4,-2.0310096011589898,8.7268167469167356E-4]
[null,-3.3999999999999995,1.232217727743334E-3,-1.9729807554115901,1.232217727743334E-3]
[null,-3.2999999999999994,1.7225669249994707E-3,-1.9149519096641903,1.7225669249994707E-3]
[null,-3.1999999999999993,2.3840854139520946E-3,-1.8569230639167904,2.3840854139520946E-3]
[null,-3.0999999999999992,3.2668152365846214E-3,-1.7988942181693908,3.2668152365846214E-3]
[null,-2.9999999999999991,4.4318432301523932E-3,-1.7408653724219909,4.4318432301523932E-3]
[null,-2.899999999999999,5.9525254599830111E-3,-1.6828365266745913,5.9525254599830111E-3]
[null,-2.7999999999999989,7.9154423281117218E-3,-1.6248076809271914,7.9154423281117218E-3]
[null,-2.6999999999999988,1.0420922630104662E-2,-1.5667788351797916,1.0420922630104662E-2]
[null,-2.5999999999999988,1.3582953352268204E-2,-1.5087499894323919,1.3582953352268204E-2]
[null,-2.4999999999999987,1.752827999920889E-2,-1.4507211436849921,1.752827999920889E-2]
[null,-2.3999999999999986,2.2394504110812202E-2,-1.3926922979375924,2.2394504110812202E-2]
[null,-2.2999999999999985,2.8327004621191157E-2,-1.3346634521901926,2.8327004621191157E-2]
[null,-2.1999999999999984,3.5474551368789603E-2,-1.2766346064427929,3.5474551368789603E-2]
[null,-2.0999999999999983,4.3983544554127479E-2,-1.2186057606953931,4.3983544554127479E-2]
[null,-1.9999999999999982,5.399090338611616E-2,-1.1605769149479932,5.399090338611616E-2]
[null,-1.8999999999999981,6.5615738055652573E-2,-1.1025480692005936,6.5615738055652573E-2]
[null,-1.799999999999998,7.8950065991149732E-2,-1.0445192234531937,7.8950065991149732E-2]
[null,-1.699999999999998,9.4048967413253137E-2,-0.98649037770579395,9.4048967413253137E-2]
[null,-1.5999999999999979,0.11092070498910253,-0.9284615319583942,0.11092070498910253]
[null,-1.4999999999999978,0.12951744423191855,-0.87043268621099446,0.12951744423191855]
[null,-1.3999999999999977,0.14972729057207956,-0.81240384046359471,0.14972729057207956]
[null,-1.2999999999999976,0.17136839168100279,-0.75437499471619496,0.17136839168100279]
[null,-1.1999999999999975,0.19418582793787831,-0.6963461489687951,0.19418582793787831]
[null,-1.0999999999999974,0.21785192231642042,-0.63831730322139535,0.21785192231642042]
[null,-0.99999999999999745,0.24197044160323494,-0.58028845747399571,0.24197044160323494]
[null,-0.89999999999999747,0.26608493878777084,-0.52225961172659596,0.26608493878777084]
[null,-0.79999999999999749,0.28969121404964476,-0.46423076597919627,0.28969121404964476]
[null,-0.69999999999999751,0.31225356827463929,-0.40620192023179658,0.31225356827463929]
[null,-0.59999999999999754,0.33322421328044682,-0.34817307448439688,0.33322421328044682]
[null,-0.49999999999999756,0.35206491512408122,-0.29014422873699713,0.35206491512408122]
[null,-0.39999999999999758,0.36826970971618667,-0.23211538298959747,0.36826970971618667]
[null,-0.2999999999999976,0.38138736953599894,-0.17408653724219775,0.38138736953599894]
[null,-0.1999999999999976,0.39104223676229755,-0.11605769149479804,0.39104223676229755]
[null,-9.9999999999997591E-2,0.39695208335396132,-5.8028845747398319E-2,0.39695208335396132]
[null,2.4147350785597155E-15,0.39894181395195566,1.4012428939457686E-15,0.39894181395195566]
[null,0.10000000000000242,0.39695208335396115,5.8028845747401123E-2,0.39695208335396115]
[null,0.20000000000000243,0.39104223676229716,0.11605769149480084,0.39104223676229716]
[null,0.30000000000000243,0.38138736953599839,0.17408653724220055,0.38138736953599839]
[null,0.40000000000000246,0.36826970971618594,0.2321153829896003,0.36826970971618594]
[null,0.50000000000000244,0.35206491512408039,0.29014422873700002,0.35206491512408039]
[null,0.60000000000000242,0.33322421328044588,0.34817307448439971,0.33322421328044588]
[null,0.7000000000000024,0.31225356827463818,0.40620192023179941,0.31225356827463818]
[null,0.80000000000000238,0.2896912140496436,0.4642307659791991,0.2896912140496436]
[null,0.90000000000000235,0.26608493878776962,0.52225961172659885,0.26608493878776962]
[null,1.0000000000000024,0.24197044160323375,0.5802884574739986,0.24197044160323375]
[null,1.1000000000000025,0.21785192231641923,0.63831730322139835,0.21785192231641923]
[null,1.2000000000000026,0.19418582793787709,0.6963461489687981,0.19418582793787709]
[null,1.3000000000000027,0.17136839168100168,0.75437499471619784,0.17136839168100168]
[null,1.4000000000000028,0.14972729057207848,0.81240384046359759,0.14972729057207848]
[null,1.5000000000000029,0.12951744423191755,0.87043268621099745,0.12951744423191755]
[null,1.600000000000003,0.11092070498910164,0.9284615319583972,0.11092070498910164]
[null,1.7000000000000031,9.4048967413252318E-2,0.98649037770579695,9.4048967413252318E-2]
[null,1.8000000000000032,7.8950065991149024E-2,1.0445192234531968,7.8950065991149024E-2]
[null,1.9000000000000032,6.5615738055651934E-2,1.1025480692005964,6.5615738055651934E-2]
[null,2.0000000000000031,5.3990903386115625E-2,1.1605769149479961,5.3990903386115625E-2]
[null,2.1000000000000032,4.3983544554127028E-2,1.2186057606953959,4.3983544554127028E-2]
[null,2.2000000000000033,3.5474551368789221E-2,1.2766346064427956,3.5474551368789221E-2]
[null,2.3000000000000034,2.8327004621190841E-2,1.3346634521901954,2.8327004621190841E-2]
[null,2.4000000000000035,2.2394504110811942E-2,1.3926922979375951,2.2394504110811942E-2]
[null,2.5000000000000036,{"$f":"(1/(SQRT(2*3.1416))*$B$124)*EXP(-((B190-$B$123)^2)/2*$B$124^2)","v":1.7528279999208671E-2},{"$f":"(B190*$E$124)+$E$123","v":1.4507211436849949},{"$f":"C190","v":1.7528279999208671E-2}]
[null,{"$f":"B190+0.1","v":2.6000000000000036},1.3582953352268031E-2,1.5087499894323948,1.3582953352268031E-2]
[null,2.7000000000000037,1.0420922630104522E-2,1.5667788351797944,1.0420922630104522E-2]
[null,2.8000000000000038,7.9154423281116125E-3,1.6248076809271943,7.9154423281116125E-3]
[null,2.9000000000000039,5.9525254599829261E-3,1.6828365266745939,5.9525254599829261E-3]
[null,3.000000000000004,4.4318432301523273E-3,1.7408653724219938,4.4318432301523273E-3]
[null,3.1000000000000041,3.2668152365845724E-3,1.7988942181693937,3.2668152365845724E-3]
[null,3.2000000000000042,2.3840854139520564E-3,1.8569230639167933,2.3840854139520564E-3]
[null,3.3000000000000043,1.7225669249994417E-3,1.9149519096641932,1.7225669249994417E-3]
[null,3.4000000000000044,1.2322177277433143E-3,1.9729807554115928,1.2322177277433143E-3]
[null,3.5000000000000044,8.7268167469165795E-4,2.0310096011589924,8.7268167469165795E-4]
[null,3.6000000000000045,6.1190121466857283E-4,2.0890384469063923,6.1190121466857283E-4]
[null,3.7000000000000046,4.2477977389109001E-4,2.1470672926537921,4.2477977389109001E-4]
[null,3.8000000000000047,2.9194658444259953E-4,2.205096138401192,2.9194658444259953E-4]
[null,3.9000000000000048,1.9865523912172288E-4,2.2631249841485919,1.9865523912172288E-4]
[null,4.0000000000000044,1.3383006928851564E-4,2.3211538298959913,1.3383006928851564E-4]

{"sheet":"室内精度2","index":6,"n_rows":205,"n_cols":37,"rows_kept":205,"cut":false,"hidden":false,"merged":[[0,2,0,4],[97,8,97,10],[98,8,98,10],[99,8,99,10],[58,8,58,10],[59,8,59,10],[93,18,93,19],[94,8,94,10],[95,8,95,10],[96,8,96,10],[0,6,0,7],[0,17,0,19],[54,8,54,10],[55,8,55,10],[56,8,56,10],[57,8,57,10],[8,8,8,9]]}
[null,"タイトル","CRP",null,null,null,null,null,null,null,null,null,null,null,null,null,null,"管理図用データ"]
["日","ＮＯ．１","ＮＯ．２","ＮＯ．３","ＮＯ．４","ＮＯ．５","平均","偏差平方和",null,null,null,null,null,null,null,"２ＳＤ",null,"MAX","MIN","Ｒ",null,null,{"$f":"SUM(W3:W92)","v":360},null,null,"Max",{"$f":"MAX(B3:F92)","v":3.8},null,"歪度",{"$f":"SKEW(B3:F92)","v":0.10903251550509382}]
[1,3.6,3.69,null,null,null,{"$f":"IF(ISERROR(AVERAGE(B3:F3)),\"\",AVERAGE(B3:F3))","v":3.645},{"$f":"IF(ISERROR(DEVSQ(B3:F3)),\"\",DEVSQ(B3:F3))","v":4.0499999999999876E-3},null,null,null,null,null,null,null,{"$f":"IF(COUNTA(B3:F3)<>0,STDEV(B3:F3)*2,\"\")","v":0.12727922061357835},null,{"$f":"IF(B3<>\"\",MAX(B3:F3),\"\")","v":3.69},{"$f":"IF(B3<>\"\",MIN(B3:F3),\"\")","v":3.6},{"$f":"IF(R3<>\"\",R3-S3,\"\")","v":8.9999999999999858E-2},null,null,{"$f":"COUNTA(B3:F3)^2","v":4},null,null,"Min",{"$f":"MIN(B3:F92)","v":3.49},null,"尖度",{"$f":"KURT(B3:F92)","v":-0.4371493172445744},null,null,"Rs","Rs'"]
[2,3.54,3.74,null,null,null,3.64,{"$f":"IF(ISERROR(DEVSQ(B4:F4)),\"\",DEVSQ(B4:F4))","v":2.0000000000000035E-2},null,null,null,"ｸﾞﾙｰﾌﾟ間（日差）の精密度は純日差変動を表す",null,null,null,{"$f":"IF(COUNTA(B4:F4)<>0,STDEV(B4:F4)*2,\"\")","v":0.28284271247461928},null,3.74,3.54,0.20000000000000018,null,null,{"$f":"COUNTA(B4:F4)^2","v":4},null,null,"級間隔",{"$f":"(AA2-AA3)/10","v":3.0999999999999962E-2},null,null,null,null,null,"-",{"$f":"IF($R3<>\"\",ABS(B3-C3),\"\")","v":8.9999999999999858E-2},{"$f":"IF($R3<>\"\",ABS(C3-D3),\"\")","v":3.69},{"$f":"IF($R3<>\"\",ABS(D3-E3),\"\")","v":0},{"$f":"IF($R3<>\"\",ABS(E3-F3),\"\")","v":0}]
[3,3.6,3.74,null,null,null,3.67,9.800000000000017E-3,"分散分析表",null,null,null,"↓",null,null,0.19798989873223347,null,3.74,3.6,0.14000000000000012,null,null,4,null,null,"ＮＯ．","階級値","累積度数","度数","ﾃﾞｰﾀ百分率",null,null,{"$f":"IF(R4<>\"\",ABS(G3-G4),\"\")","v":4.9999999999998934E-3},0.20000000000000018,3.74,0,0]
[4,3.63,3.73,null,null,null,3.6799999999999997,5.0000000000000088E-3,"変動要因","変動","自由度","分散","精密度(SD)","変動係数(CV)",null,0.14142135623730964,null,3.73,3.63,0.10000000000000009,null,null,4,null,null,1,{"$f":"$AA$3+($AA$4*(Z6-1))","v":3.49},{"$f":"FREQUENCY($B$3:$F$92,AA6)","v":1},{"$f":"AB6","v":1},{"$f":"AC6/$AB$16*100","v":0.55555555555555558},null,null,2.9999999999999805E-2,0.14000000000000012,3.74,0,0]
[5,3.6,3.65,null,null,null,3.625,1.2499999999999911E-3,"ｸﾞﾙｰﾌﾟ間（日間）",{"$f":"G96*K7*K9","v":0.36335777777777822},{"$f":"COUNT(G3:G92)-1","v":89},{"$f":"J7/K7","v":4.0826716604244742E-3},{"$f":"IF(L7-L8>0,((L7-L8)/K9)^0.5,0)","v":1.8064767648996616E-2},{"$f":"M7/B95","v":4.9722585124768945E-3},null,7.0710678118654502E-2,null,3.65,3.6,4.9999999999999822E-2,null,null,4,null,null,2,3.5210000000000004,{"$f":"FREQUENCY($B$3:$F$92,AA7)","v":5},{"$f":"AB7-AB6","v":4},2.2222222222222223,null,null,9.9999999999997868E-3,0.10000000000000009,3.73,0,0]
[6,3.6,3.65,null,null,null,3.625,1.2499999999999911E-3,"ｸﾞﾙｰﾌﾟ内（日内）",{"$f":"SUM(H3:H92)","v":0.30870000000000042},{"$f":"COUNT(G3:G92)*(COUNT(B3:F3)-1)","v":90},{"$f":"J8/K8","v":3.4300000000000047E-3},{"$f":"L8^0.5","v":5.8566201857385328E-2},{"$f":"M8/B95","v":1.6120124066195726E-2},null,7.0710678118654502E-2,null,3.65,3.6,4.9999999999999822E-2,null,null,4,null,null,3,3.552,19,{"$f":"AB8-AB7","v":14},7.7777777777777777,null,null,5.4999999999999716E-2,4.9999999999999822E-2,3.65,0,0]
[7,3.64,3.6,null,null,null,3.62,8.0000000000000145E-4,"n0 = 1日あたりの平均的な反復測定数",null,{"$f":"(1/K7)*(K10+1-W2/(K10+1))","v":2},null,null,null,null,5.6568542494923851E-2,null,3.64,3.6,4.0000000000000036E-2,null,null,4,null,null,4,3.5830000000000002,37,18,10,null,null,0,4.9999999999999822E-2,3.65,0,0]
[8,3.58,3.55,null,null,null,3.5649999999999999,4.5000000000000747E-4,"合計(室内精密度）",{"$f":"DEVSQ(B3:F92)","v":0.67205777777777842},{"$f":"COUNT(B3:F92)-1","v":179},null,{"$f":"IF(J13<0.05,(M7^2+M8^2)^0.5,(J10/K10)^0.5)","v":6.1274078736571161E-2},{"$f":"M10/B95","v":1.6865456866754551E-2},null,4.2426406871193201E-2,null,3.58,3.55,3.0000000000000249E-2,null,null,4,null,null,5,3.6139999999999999,75,38,21.111111111111111,null,null,4.9999999999998934E-3,4.0000000000000036E-2,3.6,0,0]
[9,3.64,3.53,null,null,null,3.585,6.0500000000000354E-3,null,null,null,null,"↑総合精密度","↑総変動係数",null,0.1555634918610409,null,3.64,3.53,0.11000000000000032,null,null,4,null,null,6,3.645,106,31,17.222222222222221,null,null,5.500000000000016E-2,3.0000000000000249E-2,3.55,0,0]
[10,3.63,3.55,null,null,null,3.59,3.2000000000000058E-3,"観測された分散比","P-値","F 境界値",null,null,null,null,0.1131370849898477,null,3.63,3.55,8.0000000000000071E-2,null,null,4,null,null,7,3.6760000000000002,130,24,13.333333333333334,null,null,2.0000000000000018E-2,0.11000000000000032,3.53,0,0]
[11,3.66,3.64,null,null,null,3.6500000000000004,2.0000000000000036E-4,{"$f":"L7/L8","v":1.1902832829225856},{"$f":"FDIST(I13,K7,K8)","v":0.20563447295551487},{"$f":"FINV(0.05,K7,K8)","v":1.4182091828182439},null,null,null,null,2.8284271247461926E-2,null,3.66,3.64,2.0000000000000018E-2,null,null,4,null,null,8,3.7069999999999999,156,26,14.444444444444443,null,null,4.9999999999998934E-3,8.0000000000000071E-2,3.55,0,0]
[12,3.65,3.59,null,null,null,3.62,1.8000000000000032E-3,null,"↓",null,null,null,null,null,8.4852813742385777E-2,null,3.65,3.59,6.0000000000000053E-2,null,null,4,null,null,9,3.738,169,13,7.2222222222222214,null,null,6.0000000000000497E-2,2.0000000000000018E-2,3.64,0,0]
[13,3.68,3.66,null,null,null,3.67,2.0000000000000036E-4,{"$f":"IF(J13<0.05,\"P-値　より　有意水準０．０５以下から日内精密度に対し有意な日間精密度が存在する！\",\"P-値　より　有意水準０．０５以下から日内精密度と日間精密度の差があるとはいえない！\")","v":"P-値　より　有意水準０．０５以下から日内精密度と日間精密度の差があるとはいえない！"},null,null,null,null,null,null,2.8284271247461926E-2,null,3.68,3.66,2.0000000000000018E-2,null,null,4,null,null,10,3.7689999999999997,178,9,5,null,null,3.0000000000000249E-2,6.0000000000000053E-2,3.59,0,0]
[14,3.69,3.65,null,null,null,3.67,8.0000000000000145E-4,null,null,null,null,null,null,null,5.6568542494923851E-2,null,3.69,3.65,4.0000000000000036E-2,null,null,4,null,null,11,3.8,180,2,1.1111111111111112,null,null,4.9999999999999822E-2,2.0000000000000018E-2,3.66,0,0]
[15,3.64,3.71,null,null,null,3.6749999999999998,2.4499999999999886E-3,null,null,null,null,null,null,null,9.8994949366116428E-2,null,3.71,3.64,6.999999999999984E-2,null,null,4,null,null,null,null,null,null,null,null,null,0,4.0000000000000036E-2,3.65,0,0]
[16,3.62,3.68,null,null,null,3.6500000000000004,1.8000000000000032E-3,null,null,null,null,null,null,null,8.4852813742385777E-2,null,3.68,3.62,6.0000000000000053E-2,null,null,4,null,null,null,null,null,null,null,null,null,4.9999999999998934E-3,6.999999999999984E-2,3.71,0,0]
[17,3.6,3.68,null,null,null,3.64,3.2000000000000058E-3,null,null,null,null,null,null,null,0.1131370849898477,null,3.68,3.6,8.0000000000000071E-2,null,null,4,null,null,null,null,null,null,null,null,null,2.4999999999999467E-2,6.0000000000000053E-2,3.68,0,0]
[18,3.59,3.61,null,null,null,3.5999999999999996,2.0000000000000036E-4,null,null,null,null,null,null,null,2.8284271247461926E-2,null,3.61,3.59,2.0000000000000018E-2,null,null,4,null,null,null,null,null,null,null,null,null,1.0000000000000231E-2,8.0000000000000071E-2,3.68,0,0]
[19,3.57,3.69,null,null,null,3.63,7.2000000000000128E-3,null,null,null,null,null,null,null,0.16970562748477155,null,3.69,3.57,0.12000000000000011,null,null,4,null,null,null,null,null,null,null,null,null,4.000000000000048E-2,2.0000000000000018E-2,3.61,0,0]
[20,3.71,3.75,null,null,null,3.73,8.0000000000000145E-4,null,null,null,null,null,null,null,5.6568542494923851E-2,null,3.75,3.71,4.0000000000000036E-2,null,null,4,null,null,null,null,null,null,null,null,null,3.0000000000000249E-2,0.12000000000000011,3.69,0,0]
[21,3.57,3.72,null,null,null,3.645,1.1250000000000053E-2,null,null,null,null,null,null,null,0.21213203435596475,null,3.72,3.57,0.15000000000000036,null,null,4,null,null,null,null,null,null,null,null,null,0.10000000000000009,4.0000000000000036E-2,3.75,0,0]
[22,3.5,3.67,null,null,null,3.585,1.4449999999999987E-2,null,null,null,null,null,null,null,0.24041630560342606,null,3.67,3.5,0.16999999999999993,null,null,4,null,null,null,null,null,null,null,null,null,8.4999999999999964E-2,0.15000000000000036,3.72,0,0]
[23,3.59,3.68,null,null,null,3.6349999999999998,4.0500000000000275E-3,null,null,null,null,null,null,null,0.12727922061357899,null,3.68,3.59,9.0000000000000302E-2,null,null,4,null,null,null,null,null,null,null,null,null,6.0000000000000053E-2,0.16999999999999993,3.67,0,0]
[24,3.61,3.65,null,null,null,3.63,8.0000000000000145E-4,null,null,null,null,null,null,null,5.6568542494923851E-2,null,3.65,3.61,4.0000000000000036E-2,null,null,4,null,null,null,null,null,null,null,null,null,4.9999999999999822E-2,9.0000000000000302E-2,3.68,0,0]
[25,3.53,3.63,null,null,null,3.58,5.0000000000000088E-3,null,null,null,null,null,null,null,0.14142135623730964,null,3.63,3.53,0.10000000000000009,null,null,4,null,null,null,null,null,null,null,null,null,4.9999999999998934E-3,4.0000000000000036E-2,3.65,0,0]
[26,3.57,3.68,null,null,null,3.625,6.0500000000000354E-3,null,null,null,null,null,null,null,0.1555634918610409,null,3.68,3.57,0.11000000000000032,null,null,4,null,null,null,null,null,null,null,null,null,4.9999999999999822E-2,0.10000000000000009,3.63,0,0]
[27,3.56,3.56,null,null,null,3.56,0,null,null,null,null,null,null,null,0,null,3.56,3.56,0,null,null,4,null,null,null,null,null,null,null,null,null,4.4999999999999929E-2,0.11000000000000032,3.68,0,0]
[28,3.62,3.63,null,null,null,3.625,4.9999999999997868E-5,null,null,null,null,null,null,null,1.4142135623730649E-2,null,3.63,3.62,9.9999999999997868E-3,null,null,4,null,null,null,null,null,null,null,null,null,6.4999999999999947E-2,0,3.56,0,0]
[29,3.57,3.58,null,null,null,3.5750000000000002,5.0000000000002313E-5,null,null,null,null,null,null,null,1.4142135623731277E-2,null,3.58,3.57,1.0000000000000231E-2,null,null,4,null,null,null,null,null,null,null,null,null,6.4999999999999947E-2,9.9999999999997868E-3,3.63,0,0]
[30,3.56,3.7,null,null,null,3.63,9.800000000000017E-3,null,"標準物質の表示値 入力",null,3.6,"←使用した標準物質の表示値を入力",null,null,0.19798989873223347,null,3.7,3.56,0.14000000000000012,null,null,4,null,null,null,null,null,null,null,null,null,4.9999999999999822E-2,1.0000000000000231E-2,3.58,0,0]
[31,3.7,3.68,null,null,null,3.6900000000000004,2.0000000000000036E-4,null,"標準物質の拡張不確かさ 入力",null,0.3,"←使用した標準物質の拡張不確かさを入力",null,null,2.8284271247461926E-2,null,3.7,3.68,2.0000000000000018E-2,null,null,4,null,null,null,null,null,null,null,null,null,5.4999999999999716E-2,0.14000000000000012,3.7,0,0]
[32,3.65,3.73,null,null,null,3.69,3.2000000000000058E-3,null,"包含係数 入力",null,2,"←包含係数の入力（通常k = 2）",null,null,0.1131370849898477,null,3.73,3.65,8.0000000000000071E-2,null,null,4,null,null,null,null,null,null,null,null,null,6.0000000000000497E-2,2.0000000000000018E-2,3.68,0,0]
[33,3.61,3.66,null,null,null,3.6349999999999998,1.2500000000000133E-3,null,"標準物質の拡張不確かさ（％）",null,{"$f":"(L33)/L32","v":8.3333333333333329E-2},null,null,null,7.0710678118655126E-2,null,3.66,3.61,5.0000000000000266E-2,null,null,4,null,null,null,null,null,null,null,null,null,4.4408920985006262E-16,8.0000000000000071E-2,3.73,0,0]
[34,3.63,3.68,null,null,null,3.6550000000000002,1.2500000000000133E-3,null,null,null,null,null,null,null,7.0710678118655126E-2,null,3.68,3.63,5.0000000000000266E-2,null,null,4,null,null,null,null,null,null,null,null,null,5.500000000000016E-2,{"$f":"IF($R35<>\"\",ABS(B35-C35),\"\")","v":5.0000000000000266E-2},{"$f":"IF($R35<>\"\",ABS(C35-D35),\"\")","v":3.66},{"$f":"IF($R35<>\"\",ABS(D35-E35),\"\")","v":0},{"$f":"IF($R35<>\"\",ABS(E35-F35),\"\")","v":0}]
[35,3.59,3.66,null,null,null,3.625,2.4500000000000199E-3,null,"日常検査の平均値",null,{"$f":"B95","v":3.6331111111111118},null,null,null,9.8994949366117052E-2,null,3.66,3.59,7.0000000000000284E-2,null,null,4,null,null,null,null,null,null,null,null,null,{"$f":"IF(R36<>\"\",ABS(G35-G36),\"\")","v":2.0000000000000462E-2},5.0000000000000266E-2,3.68,0,0]
[36,3.61,3.74,null,null,null,3.6749999999999998,8.4500000000000443E-3,null,"日常検査の総変動（％）",null,{"$f":"N10","v":1.6865456866754551E-2},null,null,null,0.18384776310850284,null,3.74,3.61,0.13000000000000034,null,null,4,null,null,null,null,null,null,null,null,null,3.0000000000000249E-2,7.0000000000000284E-2,3.66,0,0]
[37,3.63,3.7,null,null,null,3.665,2.4500000000000199E-3,null,"日常検査の拡張不確かさ",null,{"$f":"L37*L41","v":0.32662091171153979},null,null,null,9.8994949366117052E-2,null,3.7,3.63,7.0000000000000284E-2,null,null,4,null,null,null,null,null,null,null,null,null,4.9999999999999822E-2,0.13000000000000034,3.74,0,0]
[38,3.57,3.71,null,null,null,3.6399999999999997,9.800000000000017E-3,null,"日常検査の合成不確かさ（％）",null,{"$f":"(((L35/2)^2+L38^2)^0.5)","v":4.4950581157927973E-2},null,null,null,0.19798989873223347,null,3.71,3.57,0.14000000000000012,null,null,4,null,null,null,null,null,null,null,null,null,9.9999999999997868E-3,7.0000000000000284E-2,3.7,0,0]
[39,3.69,3.67,null,null,null,3.6799999999999997,2.0000000000000036E-4,null,"日常検査の拡張不確かさ（％）",null,{"$f":"L40*L34","v":8.9901162315855945E-2},"←合成不確かさ×包含係数",null,null,2.8284271247461926E-2,null,3.69,3.67,2.0000000000000018E-2,null,null,4,null,null,null,null,null,null,null,null,null,2.5000000000000355E-2,0.14000000000000012,3.71,0,0]
[40,3.71,3.63,null,null,null,3.67,3.2000000000000058E-3,null,null,null,null,null,null,null,0.1131370849898477,null,3.71,3.63,8.0000000000000071E-2,null,null,4,null,null,null,null,null,null,null,null,null,4.0000000000000036E-2,2.0000000000000018E-2,3.67,0,0]
[41,3.57,3.7,null,null,null,3.6349999999999998,8.4500000000000443E-3,null,null,null,null,null,null,null,0.18384776310850284,null,3.7,3.57,0.13000000000000034,null,null,4,null,null,null,null,null,null,null,null,null,9.9999999999997868E-3,8.0000000000000071E-2,3.63,0,0]
[42,3.59,3.62,null,null,null,3.605,4.5000000000000747E-4,null,null,null,null,null,null,null,4.2426406871193201E-2,null,3.62,3.59,3.0000000000000249E-2,null,null,4,null,null,null,null,null,null,null,null,null,3.5000000000000142E-2,0.13000000000000034,3.7,0,0]
[43,3.55,3.7,null,null,null,3.625,1.1250000000000053E-2,null,null,null,null,null,null,null,0.21213203435596475,null,3.7,3.55,0.15000000000000036,null,null,4,null,null,null,null,null,null,null,null,null,2.9999999999999805E-2,3.0000000000000249E-2,3.62,0,0]
[44,3.54,3.51,null,null,null,3.5249999999999999,4.5000000000000747E-4,null,null,null,null,null,null,null,4.2426406871193201E-2,null,3.54,3.51,3.0000000000000249E-2,null,null,4,null,null,null,null,null,null,null,null,null,2.0000000000000018E-2,0.15000000000000036,3.7,0,0]
[45,3.62,3.65,null,null,null,3.6349999999999998,4.4999999999999413E-4,null,null,null,null,null,null,null,4.2426406871192576E-2,null,3.65,3.62,2.9999999999999805E-2,null,null,4,null,null,null,null,null,null,null,null,null,0.10000000000000009,3.0000000000000249E-2,3.51,0,0]
[46,3.59,3.71,null,null,null,3.65,7.2000000000000128E-3,null,null,null,null,null,null,null,0.16970562748477155,null,3.71,3.59,0.12000000000000011,null,null,4,null,null,null,null,null,null,null,null,null,0.10999999999999988,2.9999999999999805E-2,3.65,0,0]
[47,3.64,3.74,null,null,null,3.6900000000000004,5.0000000000000088E-3,null,null,null,null,null,null,null,0.14142135623730964,null,3.74,3.64,0.10000000000000009,null,null,4,null,null,null,null,null,null,null,null,null,1.5000000000000124E-2,0.12000000000000011,3.71,0,0]
[48,3.61,3.62,null,null,null,3.6150000000000002,5.0000000000002313E-5,null,null,null,null,null,null,null,1.4142135623731277E-2,null,3.62,3.61,1.0000000000000231E-2,null,null,4,null,null,null,null,null,null,null,null,null,4.000000000000048E-2,0.10000000000000009,3.74,0,0]
[49,3.6,3.8,null,null,null,3.7,1.9999999999999948E-2,null,null,null,null,null,null,null,0.28284271247461862,null,3.8,3.6,0.19999999999999973,null,null,4,null,null,null,null,null,null,null,null,null,7.5000000000000178E-2,1.0000000000000231E-2,3.62,0,0]
[50,3.54,3.5,null,null,null,3.52,8.0000000000000145E-4,null,null,null,"3σ管理図",null,null,null,5.6568542494923851E-2,null,3.54,3.5,4.0000000000000036E-2,null,null,4,null,null,null,null,null,null,null,null,null,8.4999999999999964E-2,0.19999999999999973,3.8,0,0]
[51,3.64,3.61,null,null,null,3.625,4.5000000000000747E-4,"＿",null,null,null,null,null,null,4.2426406871193201E-2,null,3.64,3.61,3.0000000000000249E-2,null,null,4,null,null,null,null,null,null,null,null,null,0.18000000000000016,4.0000000000000036E-2,3.5,0,0]
[52,3.59,3.68,null,null,null,3.6349999999999998,4.0500000000000275E-3,"ｘ - Ｒ管理図を作成するためのデータ",null,null,null,null,null,null,0.12727922061357899,null,3.68,3.59,9.0000000000000302E-2,null,null,4,null,null,null,null,null,null,null,null,null,0.10499999999999998,3.0000000000000249E-2,3.61,0,0]
[53,3.66,3.64,null,null,null,3.6500000000000004,2.0000000000000036E-4,"１日のデータ数",null,null,{"$f":"COUNT(B3:F3)","v":2},null,null,null,2.8284271247461926E-2,null,3.66,3.64,2.0000000000000018E-2,null,null,4,null,null,null,null,null,null,null,null,null,9.9999999999997868E-3,9.0000000000000302E-2,3.68,0,0]
[54,3.69,3.74,null,null,null,3.7149999999999999,1.2500000000000133E-3,"データの平均値",null,null,{"$f":"AVERAGE(B3:F92)","v":3.6331111111111118},null,null,null,7.0710678118655126E-2,null,3.74,3.69,5.0000000000000266E-2,null,null,4,null,null,null,null,null,null,null,null,null,1.5000000000000568E-2,2.0000000000000018E-2,3.64,0,0]
[55,3.68,3.76,null,null,null,3.7199999999999998,3.1999999999999702E-3,"平均値に対する上方管理限界（ＵＣＬ）",null,null,{"$f":"$L$56+(3*(1/(SQRT($L$55)*$S$96))*$T$93)","v":3.7626637719668032},null,null,null,0.11313708498984708,null,3.76,3.68,7.9999999999999627E-2,null,null,4,null,null,null,null,null,null,null,null,null,6.4999999999999503E-2,5.0000000000000266E-2,3.74,0,0]
[56,3.63,3.67,null,null,null,3.65,8.0000000000000145E-4,"平均値に対する下方管理限界（ＬＣＬ）",null,null,{"$f":"$L$56-3*(1/(SQRT($L$55)*$S$96)*$T$93)","v":3.5035584502554205},null,null,null,5.6568542494923851E-2,null,3.67,3.63,4.0000000000000036E-2,null,null,4,null,null,null,null,null,null,null,null,null,4.9999999999998934E-3,7.9999999999999627E-2,3.76,0,0]
[57,3.65,3.54,null,null,null,3.5949999999999998,6.0499999999999859E-3,"Ｒの平均",null,null,{"$f":"T93","v":6.8888888888888958E-2},null,null,null,0.15556349186104027,null,3.65,3.54,0.10999999999999988,null,null,4,null,null,null,null,null,null,null,null,null,6.999999999999984E-2,4.0000000000000036E-2,3.67,0,0]
[58,3.6,3.49,null,null,null,3.5449999999999999,6.0499999999999859E-3,"Ｒに対する上方管理限界（ＵＣＬ）",null,null,{"$f":"((1+3*($T$96/$S$96))*$L$59)","v":0.22517139479905462},null,null,null,0.15556349186104027,null,3.6,3.49,0.10999999999999988,null,null,4,null,null,null,null,null,null,null,null,null,5.500000000000016E-2,0.10999999999999988,3.54,0,0]
[59,3.58,3.59,null,null,null,3.585,4.9999999999997868E-5,null,null,null,null,null,null,null,1.4142135623730649E-2,null,3.59,3.58,9.9999999999997868E-3,null,null,4,null,null,null,null,null,null,null,null,null,4.9999999999999822E-2,0.10999999999999988,3.49,0,0]
[60,3.66,3.6,null,null,null,3.63,1.8000000000000032E-3,null,null,null,null,null,null,null,8.4852813742385777E-2,null,3.66,3.6,6.0000000000000053E-2,null,null,4,null,null,null,null,null,null,null,null,null,4.0000000000000036E-2,9.9999999999997868E-3,3.59,0,0]
[61,3.67,3.6,null,null,null,3.6349999999999998,2.4499999999999886E-3,null,null,null,null,null,null,null,9.8994949366116428E-2,null,3.67,3.6,6.999999999999984E-2,null,null,4,null,null,null,null,null,null,null,null,null,4.4999999999999929E-2,6.0000000000000053E-2,3.6,0,0]
[62,3.6,3.59,null,null,null,3.5949999999999998,5.0000000000002313E-5,null,null,null,null,null,null,null,1.4142135623731277E-2,null,3.6,3.59,1.0000000000000231E-2,null,null,4,null,null,null,null,null,null,null,null,null,4.9999999999998934E-3,6.999999999999984E-2,3.6,0,0]
[63,3.65,3.61,null,null,null,3.63,8.0000000000000145E-4,null,null,null,null,null,null,null,5.6568542494923851E-2,null,3.65,3.61,4.0000000000000036E-2,null,null,4,null,null,null,null,null,null,null,null,null,4.0000000000000036E-2,1.0000000000000231E-2,3.59,0,0]
[64,3.62,3.67,null,null,null,3.645,1.2499999999999911E-3,null,null,null,null,null,null,null,7.0710678118654502E-2,null,3.67,3.62,4.9999999999999822E-2,null,null,4,null,null,null,null,null,null,null,null,null,3.5000000000000142E-2,4.0000000000000036E-2,3.61,0,0]
[65,3.7,3.62,null,null,null,{"$f":"IF(ISERROR(AVERAGE(B67:F67)),\"\",AVERAGE(B67:F67))","v":3.66},3.2000000000000058E-3,null,null,null,null,null,null,null,0.1131370849898477,null,{"$f":"IF(B67<>\"\",MAX(B67:F67),\"\")","v":3.7},{"$f":"IF(B67<>\"\",MIN(B67:F67),\"\")","v":3.62},{"$f":"IF(R67<>\"\",R67-S67,\"\")","v":8.0000000000000071E-2},null,null,4,null,null,null,null,null,null,null,null,null,1.5000000000000124E-2,4.9999999999999822E-2,3.67,0,0]
[66,3.62,3.65,null,null,null,3.6349999999999998,{"$f":"IF(ISERROR(DEVSQ(B68:F68)),\"\",DEVSQ(B68:F68))","v":4.4999999999999413E-4},null,null,null,null,null,null,null,{"$f":"IF(COUNTA(B68:F68)<>0,STDEV(B68:F68)*2,\"\")","v":4.2426406871192576E-2},null,3.65,3.62,2.9999999999999805E-2,null,null,{"$f":"COUNTA(B68:F68)^2","v":4},null,null,null,null,null,null,null,null,null,1.5000000000000124E-2,{"$f":"IF($R67<>\"\",ABS(B67-C67),\"\")","v":8.0000000000000071E-2},{"$f":"IF($R67<>\"\",ABS(C67-D67),\"\")","v":3.62},{"$f":"IF($R67<>\"\",ABS(D67-E67),\"\")","v":0},{"$f":"IF($R67<>\"\",ABS(E67-F67),\"\")","v":0}]
[67,3.61,3.59,null,null,null,3.5999999999999996,2.0000000000000036E-4,null,null,null,null,null,null,null,2.8284271247461926E-2,null,3.61,3.59,2.0000000000000018E-2,null,null,4,null,null,null,null,null,null,null,null,null,{"$f":"IF(R68<>\"\",ABS(G67-G68),\"\")","v":2.5000000000000355E-2},2.9999999999999805E-2,3.65,0,0]
[68,3.64,3.61,null,null,null,3.625,4.5000000000000747E-4,null,null,null,null,null,null,null,4.2426406871193201E-2,null,3.64,3.61,3.0000000000000249E-2,null,null,4,null,null,null,null,null,null,null,null,null,3.5000000000000142E-2,2.0000000000000018E-2,3.59,0,0]
[69,3.54,3.61,null,null,null,3.5750000000000002,2.4499999999999886E-3,null,null,null,null,null,null,null,9.8994949366116428E-2,null,3.61,3.54,6.999999999999984E-2,null,null,4,null,null,null,null,null,null,null,null,null,2.5000000000000355E-2,3.0000000000000249E-2,3.61,0,0]
[70,3.57,3.68,null,null,null,3.625,6.0500000000000354E-3,null,null,null,null,null,null,null,0.1555634918610409,null,3.68,3.57,0.11000000000000032,null,null,4,null,null,null,null,null,null,null,null,null,4.9999999999999822E-2,6.999999999999984E-2,3.61,0,0]
[71,3.56,3.64,null,null,null,3.6,3.2000000000000058E-3,null,null,null,null,null,null,null,0.1131370849898477,null,3.64,3.56,8.0000000000000071E-2,null,null,4,null,null,null,null,null,null,null,null,null,4.9999999999999822E-2,0.11000000000000032,3.68,0,0]
[72,3.6,3.62,null,null,null,3.6100000000000003,2.0000000000000036E-4,null,null,null,null,null,null,null,2.8284271247461926E-2,null,3.62,3.6,2.0000000000000018E-2,null,null,4,null,null,null,null,null,null,null,null,null,2.4999999999999911E-2,8.0000000000000071E-2,3.64,0,0]
[73,3.54,3.62,null,null,null,3.58,3.2000000000000058E-3,null,null,null,null,null,null,null,0.1131370849898477,null,3.62,3.54,8.0000000000000071E-2,null,null,4,null,null,null,null,null,null,null,null,null,1.0000000000000231E-2,2.0000000000000018E-2,3.62,0,0]
[74,3.56,3.62,null,null,null,3.59,1.8000000000000032E-3,null,null,null,null,null,null,null,8.4852813742385777E-2,null,3.62,3.56,6.0000000000000053E-2,null,null,4,null,null,null,null,null,null,null,null,null,3.0000000000000249E-2,8.0000000000000071E-2,3.62,0,0]
[75,3.58,3.68,null,null,null,3.63,5.0000000000000088E-3,null,null,null,null,null,null,null,0.14142135623730964,null,3.68,3.58,0.10000000000000009,null,null,4,null,null,null,null,null,null,null,null,null,9.9999999999997868E-3,6.0000000000000053E-2,3.62,0,0]
[76,3.6,3.59,null,null,null,{"$f":"IF(ISERROR(AVERAGE(B78:F78)),\"\",AVERAGE(B78:F78))","v":3.5949999999999998},5.0000000000002313E-5,null,null,null,null,null,null,null,1.4142135623731277E-2,null,3.6,3.59,1.0000000000000231E-2,null,null,4,null,null,null,null,null,null,null,null,null,4.0000000000000036E-2,0.10000000000000009,3.68,0,0]
[77,3.61,3.67,null,null,null,{"$f":"IF(ISERROR(AVERAGE(B79:F79)),\"\",AVERAGE(B79:F79))","v":3.6399999999999997},1.8000000000000032E-3,null,null,null,null,null,null,null,8.4852813742385777E-2,null,3.67,3.61,6.0000000000000053E-2,null,null,4,null,null,null,null,null,null,null,null,null,3.5000000000000142E-2,1.0000000000000231E-2,3.59,0,0]
[78,3.59,3.74,null,null,null,3.665,1.1250000000000053E-2,null,null,null,null,null,null,null,0.21213203435596475,null,3.74,3.59,0.15000000000000036,null,null,4,null,null,null,null,null,null,null,null,null,4.4999999999999929E-2,6.0000000000000053E-2,3.67,0,0]
[79,3.55,3.72,null,null,null,3.6349999999999998,1.4450000000000063E-2,null,null,null,null,null,null,null,0.24041630560342669,null,3.72,3.55,0.17000000000000037,null,null,4,null,null,null,null,null,null,null,null,null,2.5000000000000355E-2,0.15000000000000036,3.74,0,0]
[80,3.61,3.51,null,null,null,3.5599999999999996,5.0000000000000088E-3,null,null,null,null,null,null,null,0.14142135623730964,null,3.61,3.51,0.10000000000000009,null,null,4,null,null,null,null,null,null,null,null,null,3.0000000000000249E-2,0.17000000000000037,3.72,0,0]
[81,3.57,3.54,null,null,null,3.5549999999999997,4.4999999999999413E-4,null,null,null,null,null,null,null,4.2426406871192576E-2,null,3.57,3.54,2.9999999999999805E-2,null,null,4,null,null,null,null,null,null,null,null,null,7.5000000000000178E-2,0.10000000000000009,3.51,0,0]
[82,3.55,3.62,null,null,null,3.585,2.4500000000000199E-3,null,null,null,null,null,null,null,9.8994949366117052E-2,null,3.62,3.55,7.0000000000000284E-2,null,null,4,null,null,null,null,null,null,null,null,null,4.9999999999998934E-3,2.9999999999999805E-2,3.54,0,0]
[83,3.58,3.6,null,null,null,3.59,2.0000000000000036E-4,null,null,null,null,null,null,null,2.8284271247461926E-2,null,3.6,3.58,2.0000000000000018E-2,null,null,4,null,null,null,null,null,null,null,null,null,3.0000000000000249E-2,7.0000000000000284E-2,3.62,0,0]
[84,3.69,3.64,null,null,null,3.665,1.2499999999999911E-3,null,null,null,null,null,null,null,7.0710678118654502E-2,null,3.69,3.64,4.9999999999999822E-2,null,null,4,null,null,null,null,null,null,null,null,null,4.9999999999998934E-3,2.0000000000000018E-2,3.6,0,0]
[85,3.73,3.71,null,null,null,3.7199999999999998,2.0000000000000036E-4,null,null,null,null,null,null,null,2.8284271247461926E-2,null,3.73,3.71,2.0000000000000018E-2,null,null,4,null,null,null,null,null,null,null,null,null,7.5000000000000178E-2,4.9999999999999822E-2,3.64,0,0]
[86,3.7,3.67,null,null,null,3.6850000000000001,4.5000000000000747E-4,null,null,null,null,null,null,null,4.2426406871193201E-2,null,3.7,3.67,3.0000000000000249E-2,null,null,4,null,null,null,null,null,null,null,null,null,5.4999999999999716E-2,2.0000000000000018E-2,3.71,0,0]
[87,3.72,3.77,null,null,null,3.7450000000000001,1.2499999999999911E-3,null,null,null,null,null,null,null,7.0710678118654502E-2,null,3.77,3.72,4.9999999999999822E-2,null,null,4,null,null,null,null,null,null,null,null,null,3.4999999999999698E-2,3.0000000000000249E-2,3.67,0,0]
[88,3.68,3.74,null,null,null,3.71,1.8000000000000032E-3,null,null,null,null,null,null,null,8.4852813742385777E-2,null,3.74,3.68,6.0000000000000053E-2,null,null,4,null,null,null,null,null,null,null,null,null,6.0000000000000053E-2,4.9999999999999822E-2,3.77,0,0]
[89,3.73,3.66,null,null,null,3.6950000000000003,2.4499999999999886E-3,null,null,null,null,null,null,null,9.8994949366116428E-2,null,3.73,3.66,6.999999999999984E-2,null,null,4,null,null,null,null,null,null,null,null,null,3.5000000000000142E-2,6.0000000000000053E-2,3.74,0,0]
[90,3.69,3.62,null,null,null,3.6550000000000002,2.4499999999999886E-3,null,null,null,null,null,null,null,9.8994949366116428E-2,null,3.69,3.62,6.999999999999984E-2,null,null,4,null,null,null,null,null,null,null,null,null,1.499999999999968E-2,6.999999999999984E-2,3.66,0,0]
["最大値",{"$f":"IF(COUNTA(B3:B62)<>0,MAX(B3:B62),\"\")","v":3.71},3.8,"","","",3.73,2.0000000000000035E-2,null,null,null,null,null,null,null,null,null,null,"平均",{"$f":"AVERAGE(T3:T92)","v":6.8888888888888958E-2},null,null,null,null,null,null,null,null,null,null,null,null,4.0000000000000036E-2,6.999999999999984E-2,3.62,0,0]
["最小値",{"$f":"IF(COUNTA(B3:B62)<>0,MIN(B3:B62),\"\")","v":3.5},3.49,"","","",3.52,0,null,null,null,null,null,null,null,null,null,null,"管理限界係数",null,null,null,null,null,null,null,null,null,null,null,null,"平均",{"$f":"AVERAGE(AG4:AG93)","v":3.9213483146067443E-2},null,null,null,{"$f":"AVERAGE(AH4:AK93)","v":0.92980555555555577}]
["全平均",{"$f":"AVERAGE(B3:F92)","v":3.6331111111111118},null,null,null,"合計",{"$f":"SUM(G3:G92)/2","v":163.48999999999995},{"$f":"SUM(H3:H92)","v":0.30870000000000042},null,null,null,null,null,null,null,null,null,null,"d2","d3"]
[null,{"$f":"COUNT(B3:B92)","v":90},null,null,null,"分散",{"$f":"VAR(G3:G92)","v":2.0413358302122371E-3},null,null,null,null,null,null,null,null,null,null,null,{"$f":"CHOOSE(L55,\"0\",\"1.128\",\"1.693\",\"2.059\",\"2.326\")","v":"1.128"},{"$f":"CHOOSE(L55,\"0\",\"0.853\",\"0.888\",\"0.88\",\"0.864\")","v":"0.853"}]
[null,3,{"$f":"MIN(IF(B96=A3:A92,ROW(B3:B92)))","v":92}]
[null,{"$f":"\"b\"&B97&\":b\"&C97","v":"b3:b92"},{"$f":"\"c\"&B97&\":c\"&C97","v":"c3:c92"},{"$f":"\"d\"&B97&\":d\"&C97","v":"d3:d92"},{"$f":"\"e\"&B97&\":e\"&C97","v":"e3:e92"},{"$f":"\"f\"&B97&\":f\"&C97","v":"f3:f92"}]
[]
[]
[]
[]
[]
[]
[]
[]
[]
[]
[]
[]
[]
[]
[]
[]
[]
[]
[]
[]
[]
[]
[]
[]
[null,0,null,"偏差",0]
[null,1,"線グラフ","倍率",{"$f":"M7/M8","v":0.30845038735798791}]
[null,-4,{"$f":"(1/(SQRT(2*3.1416))*$B$124)*EXP(-((B125-$B$123)^2)/2*$B$124^2)","v":1.3383006928851802E-4},{"$f":"(B125*$E$124)+$E$123","v":-1.2338015494319516},{"$f":"C125","v":1.3383006928851802E-4}]
[null,{"$f":"B125+0.1","v":-3.9},{"$f":"(1/(SQRT(2*3.1416))*$B$124)*EXP(-((B126-$B$123)^2)/2*$B$124^2)","v":1.9865523912172676E-4},{"$f":"(B126*$E$124)+$E$123","v":-1.2029565106961528},{"$f":"C126","v":1.9865523912172676E-4}]
[null,{"$f":"B126+0.1","v":-3.8},2.9194658444260468E-4,-1.172111471960354,2.9194658444260468E-4]
[null,-3.6999999999999997,4.2477977389109793E-4,-1.1412664332245552,4.2477977389109793E-4]
[null,-3.5999999999999996,6.1190121466858378E-4,-1.1104213944887564,6.1190121466858378E-4]
[null,-3.4999999999999996,8.7268167469167356E-4,-1.0795763557529576,8.7268167469167356E-4]
[null,-3.3999999999999995,1.232217727743334E-3,-1.0487313170171588,1.232217727743334E-3]
[null,-3.2999999999999994,1.7225669249994707E-3,-1.0178862782813598,1.7225669249994707E-3]
[null,-3.1999999999999993,2.3840854139520946E-3,-0.98704123954556111,2.3840854139520946E-3]
[null,-3.0999999999999992,3.2668152365846214E-3,-0.95619620080976231,3.2668152365846214E-3]
[null,-2.9999999999999991,4.4318432301523932E-3,-0.92535116207396351,4.4318432301523932E-3]
[null,-2.899999999999999,5.9525254599830111E-3,-0.89450612333816459,5.9525254599830111E-3]
[null,-2.7999999999999989,7.9154423281117218E-3,-0.86366108460236579,7.9154423281117218E-3]
[null,-2.6999999999999988,1.0420922630104662E-2,-0.83281604586656699,1.0420922630104662E-2]
[null,-2.5999999999999988,1.3582953352268204E-2,-0.80197100713076819,1.3582953352268204E-2]
[null,-2.4999999999999987,1.752827999920889E-2,-0.77112596839496939,1.752827999920889E-2]
[null,-2.3999999999999986,2.2394504110812202E-2,-0.74028092965917058,2.2394504110812202E-2]
[null,-2.2999999999999985,2.8327004621191157E-2,-0.70943589092337178,2.8327004621191157E-2]
[null,-2.1999999999999984,3.5474551368789603E-2,-0.67859085218757287,3.5474551368789603E-2]
[null,-2.0999999999999983,4.3983544554127479E-2,-0.64774581345177407,4.3983544554127479E-2]
[null,-1.9999999999999982,5.399090338611616E-2,-0.61690077471597526,5.399090338611616E-2]
[null,-1.8999999999999981,6.5615738055652573E-2,-0.58605573598017646,6.5615738055652573E-2]
[null,-1.799999999999998,7.8950065991149732E-2,-0.55521069724437766,7.8950065991149732E-2]
[null,-1.699999999999998,9.4048967413253137E-2,-0.52436565850857886,9.4048967413253137E-2]
[null,-1.5999999999999979,0.11092070498910253,-0.49352061977278,0.11092070498910253]
[null,-1.4999999999999978,0.12951744423191855,-0.4626755810369812,0.12951744423191855]
[null,-1.3999999999999977,0.14972729057207956,-0.43183054230118234,0.14972729057207956]
[null,-1.2999999999999976,0.17136839168100279,-0.40098550356538354,0.17136839168100279]
[null,-1.1999999999999975,0.19418582793787831,-0.37014046482958474,0.19418582793787831]
[null,-1.0999999999999974,0.21785192231642042,-0.33929542609378588,0.21785192231642042]
[null,-0.99999999999999745,0.24197044160323494,-0.30845038735798713,0.24197044160323494]
[null,-0.89999999999999747,0.26608493878777084,-0.27760534862218833,0.26608493878777084]
[null,-0.79999999999999749,0.28969121404964476,-0.24676030988638956,0.28969121404964476]
[null,-0.69999999999999751,0.31225356827463929,-0.21591527115059078,0.31225356827463929]
[null,-0.59999999999999754,0.33322421328044682,-0.18507023241479198,0.33322421328044682]
[null,-0.49999999999999756,0.35206491512408122,-0.15422519367899321,0.35206491512408122]
[null,-0.39999999999999758,0.36826970971618667,-0.12338015494319442,0.36826970971618667]
[null,-0.2999999999999976,0.38138736953599894,-9.2535116207395629E-2,0.38138736953599894]
[null,-0.1999999999999976,0.39104223676229755,-6.1690077471596841E-2,0.39104223676229755]
[null,-9.9999999999997591E-2,0.39695208335396132,-3.0845038735798049E-2,0.39695208335396132]
[null,2.4147350785597155E-15,0.39894181395195566,7.4482597034866563E-16,0.39894181395195566]
[null,0.10000000000000242,0.39695208335396115,3.0845038735799538E-2,0.39695208335396115]
[null,0.20000000000000243,0.39104223676229716,6.1690077471598333E-2,0.39104223676229716]
[null,0.30000000000000243,0.38138736953599839,9.2535116207397128E-2,0.38138736953599839]
[null,0.40000000000000246,0.36826970971618594,0.12338015494319593,0.36826970971618594]
[null,0.50000000000000244,0.35206491512408039,0.1542251936789947,0.35206491512408039]
[null,0.60000000000000242,0.33322421328044588,0.18507023241479348,0.33322421328044588]
[null,0.7000000000000024,0.31225356827463818,0.21591527115059228,0.31225356827463818]
[null,0.80000000000000238,0.2896912140496436,0.24676030988639105,0.2896912140496436]
[null,0.90000000000000235,0.26608493878776962,0.27760534862218983,0.26608493878776962]
[null,1.0000000000000024,0.24197044160323375,0.30845038735798869,0.24197044160323375]
[null,1.1000000000000025,0.21785192231641923,0.33929542609378749,0.21785192231641923]
[null,1.2000000000000026,0.19418582793787709,0.37014046482958629,0.19418582793787709]
[null,1.3000000000000027,0.17136839168100168,0.40098550356538509,0.17136839168100168]
[null,1.4000000000000028,0.14972729057207848,0.43183054230118395,0.14972729057207848]
[null,1.5000000000000029,0.12951744423191755,0.46267558103698275,0.12951744423191755]
[null,1.600000000000003,0.11092070498910164,0.49352061977278155,0.11092070498910164]
[null,1.7000000000000031,9.4048967413252318E-2,0.52436565850858041,9.4048967413252318E-2]
[null,1.8000000000000032,7.8950065991149024E-2,0.55521069724437921,7.8950065991149024E-2]
[null,1.9000000000000032,6.5615738055651934E-2,0.58605573598017802,6.5615738055651934E-2]
[null,2.0000000000000031,5.3990903386115625E-2,0.61690077471597682,5.3990903386115625E-2]
[null,2.1000000000000032,4.3983544554127028E-2,0.64774581345177562,4.3983544554127028E-2]
[null,2.2000000000000033,3.5474551368789221E-2,0.67859085218757442,3.5474551368789221E-2]
[null,2.3000000000000034,2.8327004621190841E-2,0.70943589092337322,2.8327004621190841E-2]
[null,2.4000000000000035,2.2394504110811942E-2,0.74028092965917203,2.2394504110811942E-2]
[null,2.5000000000000036,{"$f":"(1/(SQRT(2*3.1416))*$B$124)*EXP(-((B190-$B$123)^2)/2*$B$124^2)","v":1.7528279999208671E-2},{"$f":"(B190*$E$124)+$E$123","v":0.77112596839497083},{"$f":"C190","v":1.7528279999208671E-2}]
[null,{"$f":"B190+0.1","v":2.6000000000000036},1.3582953352268031E-2,0.80197100713076974,1.3582953352268031E-2]
[null,2.7000000000000037,1.0420922630104522E-2,0.83281604586656854,1.0420922630104522E-2]
[null,2.8000000000000038,7.9154423281116125E-3,0.86366108460236735,7.9154423281116125E-3]
[null,2.9000000000000039,5.9525254599829261E-3,0.89450612333816615,5.9525254599829261E-3]
[null,3.000000000000004,4.4318432301523273E-3,0.92535116207396495,4.4318432301523273E-3]
[null,3.1000000000000041,3.2668152365845724E-3,0.95619620080976375,3.2668152365845724E-3]
[null,3.2000000000000042,2.3840854139520564E-3,0.98704123954556255,2.3840854139520564E-3]
[null,3.3000000000000043,1.7225669249994417E-3,1.0178862782813614,1.7225669249994417E-3]
[null,3.4000000000000044,1.2322177277433143E-3,1.0487313170171602,1.2322177277433143E-3]
[null,3.5000000000000044,8.7268167469165795E-4,1.079576355752959,8.7268167469165795E-4]
[null,3.6000000000000045,6.1190121466857283E-4,1.1104213944887578,6.1190121466857283E-4]
[null,3.7000000000000046,4.2477977389109001E-4,1.1412664332245568,4.2477977389109001E-4]
[null,3.8000000000000047,2.9194658444259953E-4,1.1721114719603556,2.9194658444259953E-4]
[null,3.9000000000000048,1.9865523912172288E-4,1.2029565106961544,1.9865523912172288E-4]
[null,4.0000000000000044,1.3383006928851564E-4,1.233801549431953,1.3383006928851564E-4]

{"sheet":"室内精度3","index":7,"n_rows":205,"n_cols":37,"rows_kept":205,"cut":false,"hidden":false,"merged":[[0,2,0,4],[93,18,93,19],[94,8,94,10],[95,8,95,10],[96,8,96,10],[0,6,0,7],[0,17,0,19],[54,8,54,10],[55,8,55,10],[56,8,56,10],[57,8,57,10],[33,9,33,10],[8,8,8,9],[97,8,97,10],[98,8,98,10],[99,8,99,10],[58,8,58,10],[59,8,59,10]]}
[null,"タイトル","ＡＳＴ",null,null,null,null,null,null,null,null,null,null,null,null,null,null,"管理図用データ"]
["日","ＮＯ．１","ＮＯ．２","ＮＯ．３","ＮＯ．４","ＮＯ．５","平均","偏差平方和",null,null,null,null,null,null,null,"２ＳＤ",null,"MAX","MIN","Ｒ",null,null,{"$f":"SUM(W3:W92)","v":156},null,null,"Max",{"$f":"MAX(B3:F92)","v":109.81071934802458},null,"歪度",{"$f":"SKEW(B3:F92)","v":-0.20839803296234449}]
[1,91.719960235059261,99.288655772033962,null,null,null,{"$f":"IF(ISERROR(AVERAGE(B3:F3)),\"\",AVERAGE(B3:F3))","v":95.504308003546612},{"$f":"IF(ISERROR(DEVSQ(B3:F3)),\"\",DEVSQ(B3:F3))","v":28.642576065710379},null,null,null,null,null,null,null,{"$f":"IF(COUNTA(B3:F3)<>0,STDEV(B3:F3)*2,\"\")","v":10.703751877862338},null,{"$f":"IF(B3<>\"\",MAX(B3:F3),\"\")","v":99.288655772033962},{"$f":"IF(B3<>\"\",MIN(B3:F3),\"\")","v":91.719960235059261},{"$f":"IF(R3<>\"\",R3-S3,\"\")","v":7.5686955369747011},null,null,{"$f":"COUNTA(B3:F3)^2","v":4},null,null,"Min",{"$f":"MIN(B3:F92)","v":91.719960235059261},null,"尖度",{"$f":"KURT(B3:F92)","v":-0.43741742071430112},null,null,"Rs","Rs'"]
[2,99.4290419635945,109.59944372880273,null,null,null,104.51424284619861,{"$f":"IF(ISERROR(DEVSQ(B4:F4)),\"\",DEVSQ(B4:F4))","v":51.718536032875299},null,null,null,"ｸﾞﾙｰﾌﾟ間（日差）の精密度は純日差変動を表す",null,null,null,{"$f":"IF(COUNTA(B4:F4)<>0,STDEV(B4:F4)*2,\"\")","v":14.383120111140739},null,109.59944372880273,99.4290419635945,10.170401765208226,null,null,{"$f":"COUNTA(B4:F4)^2","v":4},null,null,"級間隔",{"$f":"(AA2-AA3)/10","v":1.8090759112965316},null,null,null,null,null,"-",{"$f":"IF($R3<>\"\",ABS(B3-C3),\"\")","v":7.5686955369747011},{"$f":"IF($R3<>\"\",ABS(C3-D3),\"\")","v":99.288655772033962},{"$f":"IF($R3<>\"\",ABS(D3-E3),\"\")","v":0},{"$f":"IF($R3<>\"\",ABS(E3-F3),\"\")","v":0}]
[3,107.96389940660447,99.288274921127595,null,null,null,103.62608716386603,37.633230106502936,"分散分析表",null,null,null,"↓",null,null,12.2691858094175,null,107.96389940660447,99.288274921127595,8.6756244854768738,null,null,4,null,null,"ＮＯ．","階級値","累積度数","度数","ﾃﾞｰﾀ百分率",null,null,{"$f":"IF(R4<>\"\",ABS(G3-G4),\"\")","v":9.009934842652001},10.170401765208226,109.59944372880273,0,0]
[4,102.14454871638736,103.9994006328925,null,null,null,103.07197467463993,1.7202378160813958,"変動要因","変動","自由度","分散","精密度(SD)","変動係数(CV)",null,2.623156736515297,null,103.9994006328925,102.14454871638736,1.8548519165051403,null,null,4,null,null,1,{"$f":"$AA$3+($AA$4*(Z6-1))","v":91.719960235059261},{"$f":"FREQUENCY($B$3:$F$92,AA6)","v":1},{"$f":"AB6","v":1},{"$f":"AC6/$AB$16*100","v":1.2820512820512819},null,null,0.88815568233258091,8.6756244854768738,99.288274921127595,0,0]
[5,108.09441189630888,101.51877657117439,null,null,null,104.80659423374163,21.619489964578346,"ｸﾞﾙｰﾌﾟ間（日間）",{"$f":"G96*K7*K9","v":911.30664803523496},{"$f":"COUNT(G3:G92)-1","v":38},{"$f":"J7/K7","v":23.981753895664077},{"$f":"IF(L7-L8>0,((L7-L8)/K9)^0.5,0)","v":2.030130993368056},{"$f":"M7/B95","v":2.0056469705743443E-2},null,9.2993526580248247,null,108.09441189630888,101.51877657117439,6.575635325134499,null,null,4,null,null,2,93.529036146355793,{"$f":"FREQUENCY($B$3:$F$92,AA7)","v":6},{"$f":"AB7-AB6","v":5},6.4102564102564097,null,null,0.55411248922609957,1.8548519165051403,103.9994006328925,0,0]
[6,93.047424595715711,101.93667801795527,null,null,null,97.492051306835492,39.509413202398889,"ｸﾞﾙｰﾌﾟ内（日内）",{"$f":"SUM(H3:H92)","v":613.81671761268058},{"$f":"COUNT(G3:G92)*(COUNT(B3:F3)-1)","v":39},{"$f":"J8/K8","v":15.738890195196937},{"$f":"L8^0.5","v":3.967227015838259},{"$f":"M8/B95","v":3.9193810014673022E-2},null,12.571302749102639,null,101.93667801795527,93.047424595715711,8.8892534222395625,null,null,4,null,null,3,95.338112057652324,9,{"$f":"AB8-AB7","v":3},3.8461538461538463,null,null,1.7346195591017022,6.575635325134499,101.51877657117439,0,0]
[7,92.942298376874533,102.63390234067629,null,null,null,97.788100358775409,46.963593695588933,"n0 = 1日あたりの平均的な反復測定数",null,{"$f":"(1/K7)*(K10+1-W2/(K10+1))","v":2},null,null,null,null,13.705997766757287,null,102.63390234067629,92.942298376874533,9.6916039638017537,null,null,4,null,null,4,97.147187968948856,14,5,6.4102564102564097,null,null,7.3145429269061424,8.8892534222395625,101.93667801795527,0,0]
[8,101.09438360595959,91.982599567563739,null,null,null,96.538491586761666,41.512304181182728,"合計(室内精密度）",{"$f":"DEVSQ(B3:F92)","v":1525.1233656479155},{"$f":"COUNT(B3:F92)-1","v":77},null,{"$f":"IF(J13<0.05,(M7^2+M8^2)^0.5,(J10/K10)^0.5)","v":4.4504827779092055},{"$f":"M10/B95","v":4.3968085459836236E-2},null,12.886008564514107,null,101.09438360595959,91.982599567563739,9.1117840383958537,null,null,4,null,null,5,98.956263880245388,20,6,7.6923076923076925,null,null,0.29604905193991726,9.6916039638017537,102.63390234067629,0,0]
[9,108.7902890300029,103.5,null,null,null,106.14514451500145,13.99357901048449,null,null,null,null,"↑総合精密度","↑総変動係数",null,7.4815984951037011,null,108.7902890300029,103.5,5.2902890300028957,null,null,4,null,null,6,100.76533979154192,32,12,15.384615384615385,null,null,1.2496087720137439,9.1117840383958537,91.982599567563739,0,0]
[10,99.415177853734349,104.06985236622859,null,null,null,101.74251510998147,10.832997408631741,"観測された分散比","P-値","F 境界値",null,null,null,null,6.5827038240017268,null,104.06985236622859,99.415177853734349,4.654674512494239,null,null,4,null,null,7,102.57441570283845,47,15,19.230769230769234,null,null,9.6066529282397823,5.2902890300028957,103.5,0,0]
[11,99.106933046277845,102.44116336034494,null,null,null,100.77404820331139,5.5585458936219938,{"$f":"L7/L8","v":1.5237258534901417},{"$f":"FDIST(I13,K7,K8)","v":9.7506330937477181E-2},{"$f":"FINV(0.05,K7,K8)","v":1.7087359341427071},null,null,null,null,4.7153137302291963,null,102.44116336034494,99.106933046277845,3.3342303140670992,null,null,4,null,null,8,104.38349161413498,62,15,19.230769230769234,null,null,4.4026294050199795,4.654674512494239,104.06985236622859,0,0]
[12,99.883141299505951,102.3288748707273,null,null,null,101.10600808511663,2.9908063506995775,null,"↓",null,null,null,null,null,3.4587895863724221,null,102.3288748707273,99.883141299505951,2.4457335712213535,null,null,4,null,null,9,106.19256752543151,68,6,7.6923076923076925,null,null,0.96846690667007351,3.3342303140670992,102.44116336034494,0,0]
[13,104.35960600952967,97.732766132685356,null,null,null,101.04618607110751,21.957503376666988,{"$f":"IF(J13<0.05,\"P-値　より　有意水準０．０５以下から日内精密度に対し有意な日間精密度が存在する！\",\"P-値　より　有意水準０．０５以下から日内精密度と日間精密度の差があるとはいえない！\")","v":"P-値　より　有意水準０．０５以下から日内精密度と日間精密度の差があるとはいえない！"},null,null,null,null,null,null,9.3717668295080809,null,104.35960600952967,97.732766132685356,6.6268398768443149,null,null,4,null,null,10,108.00164343672805,73,5,6.4102564102564097,null,null,0.33195988180523273,2.4457335712213535,102.3288748707273,0,0]
[14,101.29748514154926,107.19606987331645,null,null,null,104.24677750743285,17.396650918918489,null,null,null,null,null,null,null,8.3418585264720218,null,107.19606987331645,101.29748514154926,5.8985847317671869,null,null,4,null,null,11,109.81071934802458,78,5,6.4102564102564097,null,null,5.9822014009114355E-2,6.6268398768443149,97.732766132685356,0,0]
[15,100.80730160334497,105.4404154070653,null,null,null,103.12385850520513,10.732871759111953,null,null,null,null,null,null,null,6.5522123772392948,null,105.4404154070653,100.80730160334497,4.6331138037203345,null,null,4,null,null,null,null,null,null,null,null,null,3.2005914363253396,5.8985847317671869,107.19606987331645,0,0]
[16,98.36383608453616,93.526739672233816,null,null,null,95.945287878384988,11.698750850954104,null,null,null,null,null,null,null,6.8406873487842157,null,98.36383608453616,93.526739672233816,4.8370964123023441,null,null,4,null,null,null,null,null,null,null,null,null,1.122919002227718,4.6331138037203345,105.4404154070653,0,0]
[17,104.71885641672998,103.21504103339976,null,null,null,103.96694872506487,1.1307303535703088,null,null,null,null,null,null,null,2.1267161104108925,null,104.71885641672998,103.21504103339976,1.5038153833302204,null,null,4,null,null,null,null,null,null,null,null,null,7.1785706268201466,4.8370964123023441,93.526739672233816,0,0]
[18,96.027406723442255,104.03267677029362,null,null,null,100.03004174686794,32.042174261507824,null,null,null,null,null,null,null,11.321161470716302,null,104.03267677029362,96.027406723442255,8.0052700468513649,null,null,4,null,null,null,null,null,null,null,null,null,8.0216608466798789,1.5038153833302204,103.21504103339976,0,0]
[19,107.87010776548414,101.10378550743917,null,null,null,104.48694663646165,22.89155844985736,null,null,null,null,null,null,null,9.5690247047141348,null,107.87010776548414,101.10378550743917,6.7663222580449656,null,null,4,null,null,null,null,null,null,null,null,null,3.9369069781969301,8.0052700468513649,104.03267677029362,0,0]
[20,102.62731418843032,106.866116564197,null,null,null,104.74671537631366,8.9837227904026324,null,null,null,null,null,null,null,5.994571808028538,null,106.866116564197,102.62731418843032,4.2388023757666815,null,null,4,null,null,null,null,null,null,null,null,null,4.4569048895937158,6.7663222580449656,101.10378550743917,0,0]
[21,106.92950834491057,105.77767877985025,null,null,null,106.35359356238041,0.66335567347352864,null,null,null,null,null,null,null,1.6289329924506148,null,106.92950834491057,105.77767877985025,1.151829565060325,null,null,4,null,null,null,null,null,null,null,null,null,0.25976873985200655,4.2388023757666815,106.866116564197,0,0]
[22,99.509049075641087,95.763812421500916,null,null,null,97.636430748571001,7.0133987977575334,null,null,null,null,null,null,null,5.2965644705818633,null,99.509049075641087,95.763812421500916,3.7452366541401716,null,null,4,null,null,null,null,null,null,null,null,null,1.6068781860667514,1.151829565060325,105.77767877985025,0,0]
[23,100.60061893236707,93.426399669260718,null,null,null,97.013509300813894,25.734711017563122,null,null,null,null,null,null,null,10.145878181323315,null,100.60061893236707,93.426399669260718,7.1742192631063517,null,null,4,null,null,null,null,null,null,null,null,null,8.7171628138094093,3.7452366541401716,95.763812421500916,0,0]
[24,104.3,109.62127160164528,null,null,null,106.96063580082264,14.157965729238256,null,null,null,null,null,null,null,7.525414468117555,null,109.62127160164528,104.3,5.3212716016452788,null,null,4,null,null,null,null,null,null,null,null,null,0.62292144775710767,7.1742192631063517,93.426399669260718,0,0]
[25,95.313282852293923,97.410372998274397,null,null,null,96.36182792528416,2.1988935401842022,null,null,null,null,null,null,null,2.9657333259645595,null,97.410372998274397,95.313282852293923,2.0970901459804736,null,null,4,null,null,null,null,null,null,null,null,null,9.9471265000087499,5.3212716016452788,109.62127160164528,0,0]
[26,99.779805648358888,103.2,null,null,null,101.48990282417944,5.8488647014988935,null,null,null,null,null,null,null,4.8368852380427194,null,103.2,99.779805648358888,3.4201943516411148,null,null,4,null,null,null,null,null,null,null,null,null,10.598807875538483,2.0970901459804736,97.410372998274397,0,0]
[27,101.79601329364232,93.804908626771066,null,null,null,97.800460960206692,31.928876898445747,null,null,null,null,null,null,null,null,null,null,null,null,null,null,4,null,null,null,null,null,null,null,null,null,5.128074898895278,3.4201943516411148,103.2,0,0]
[28,104.79100208394811,102.34764456763514,null,null,null,103.56932332579163,2.9849979762615471,null,null,null,null,null,null,null,null,null,null,null,null,null,null,4,null,null,null,null,null,null,null,null,null,"","","","",""]
[29,95.534813024278264,101.58661350724287,null,null,null,98.560713265760569,18.312144542805335,null,null,null,null,null,null,null,null,null,null,null,null,null,null,4,null,null,null,null,null,null,null,null,null,"","","","",""]
[30,97.830263964715414,100.27725945983548,null,null,null,99.053761712275445,2.993893476568942,null,"標準物質の表示値 入力",null,100,"←使用した標準物質の表示値を入力",null,null,{"$f":"IF(COUNTA(B29:F29)<>0,STDEV(B29:F29)*2,\"\")","v":11.301128598232257},null,{"$f":"IF(B29<>\"\",MAX(B29:F29),\"\")","v":101.79601329364232},{"$f":"IF(B29<>\"\",MIN(B29:F29),\"\")","v":93.804908626771066},{"$f":"IF(R32<>\"\",R32-S32,\"\")","v":7.9911046668712515},null,null,4,null,null,null,null,null,null,null,null,null,"","","","",""]
[31,104.83294115838362,99.819999629835365,null,null,null,102.32647039410949,12.56479138432185,null,"標準物質の拡張不確かさ 入力",null,4,"←使用した標準物質の拡張不確かさを入力",null,null,3.4554293372960454,null,104.79100208394811,102.34764456763514,2.4433575163129717,null,null,4,null,null,null,null,null,null,null,null,null,0.49304844651487656,2.4469954951200634,100.27725945983548,0,0]
[32,95.841608324553818,97.888949110347312,null,null,null,96.865278717450565,2.0958021465867618,null,"包含係数 入力",null,2,"←包含係数の入力（通常k = 2）",null,null,8.5585383197845957,null,101.58661350724287,95.534813024278264,6.0518004829646088,null,null,4,null,null,null,null,null,null,null,null,null,3.2727086818340467,5.0129415285482537,99.819999629835365,0,0]
[33,99.355441104853526,93.64604263973888,null,null,null,96.500741872296203,16.298615416726737,null,"標準物質の拡張不確かさ（％）",null,{"$f":"(L33)/L32","v":0.04},null,null,null,3.4605742162646602,null,100.27725945983548,97.830263964715414,2.4469954951200634,null,null,4,null,null,null,null,null,null,null,null,null,5.4611916766589275,2.0473407857934944,97.888949110347312,0,0]
[34,103.45149828717695,103.82383404939901,null,null,null,103.63766616828798,6.9316959914742932E-2,null,null,null,null,null,null,null,7.0893698970562538,null,104.83294115838362,99.819999629835365,5.0129415285482537,null,null,4,null,null,null,null,null,null,null,null,null,0.3645368451543618,{"$f":"IF($R35<>\"\",ABS(B35-C35),\"\")","v":5.7093984651146457},{"$f":"IF($R35<>\"\",ABS(C35-D35),\"\")","v":93.64604263973888},{"$f":"IF($R35<>\"\",ABS(D35-E35),\"\")","v":0},{"$f":"IF($R35<>\"\",ABS(E35-F35),\"\")","v":0}]
[35,96.168480720371008,102.78272977993765,null,null,null,99.475605250154331,21.874145310989128,null,"日常検査の平均値",null,{"$f":"B95","v":101.22075435771731},null,null,null,2.8953771060687497,null,97.888949110347312,95.841608324553818,2.0473407857934944,null,null,4,null,null,null,null,null,null,null,null,null,{"$f":"IF(R36<>\"\",ABS(G35-G36),\"\")","v":7.1369242959917756},0.37233576222206466,103.82383404939901,0,0]
[36,104.15784597862512,101.92925995179394,null,null,null,103.04355296520953,2.4832978394935941,null,"日常検査の総変動（％）",null,{"$f":"N10","v":4.3968085459836236E-2},null,null,null,8.0743087423572639,null,99.355441104853526,93.64604263973888,5.7093984651146457,null,null,4,null,null,null,null,null,null,null,null,null,4.1620609181336476,6.6142490595666459,102.78272977993765,0,0]
[37,106.00039129494689,109.81071934802458,null,null,null,107.90555532148574,7.2592999360353829,null,"日常検査の拡張不確かさ",null,{"$f":"L37*L41","v":9.7785588716465952},null,null,null,0.52656228469096766,null,103.82383404939901,103.45149828717695,0.37233576222206466,null,null,4,null,null,null,null,null,null,null,null,null,3.5679477150551975,2.2285860268311808,101.92925995179394,0,0]
[38,101.62768856171169,98.22069867150276,null,null,null,99.924193616607226,5.8037900559929403,null,"日常検査の合成不確かさ（％）",null,{"$f":"(((L35/2)^2+L38^2)^0.5)","v":4.8303131772209788E-2},null,null,null,9.3539607249526391,null,102.78272977993765,96.168480720371008,6.6142490595666459,null,null,4,null,null,null,null,null,null,null,null,null,4.8620023562762071,3.8103280530776829,109.81071934802458,0,0]
[39,103.84230816052877,101.01342720881803,null,null,null,102.4278676846734,4.0012837194759419,null,"日常検査の拡張不確かさ（％）",null,{"$f":"L40*L34","v":9.6606263544419577E-2},"←合成不確かさ×包含係数",null,null,3.1516965840598261,null,104.15784597862512,101.92925995179394,2.2285860268311808,null,null,4,null,null,null,null,null,null,null,null,null,7.981361704878509,3.4069898902089335,98.22069867150276,0,0]
[40,null,null,null,null,null,"","",null,null,null,null,null,null,null,"",null,"","","",null,null,0,null,null,null,null,null,null,null,null,null,2.5036740680661751,2.8288809517107438,101.01342720881803,0,0]
[41,null,null,null,null,null,"","",null,null,null,null,null,null,null,"",null,"","","",null,null,0,null,null,null,null,null,null,null,null,null,"","","","",""]
[42,null,null,null,null,null,"","",null,null,null,null,null,null,null,"",null,"","","",null,null,0,null,null,null,null,null,null,null,null,null,"","","","",""]
[43,null,null,null,null,null,"","",null,null,null,null,null,null,null,"",null,"","","",null,null,0,null,null,null,null,null,null,null,null,null,"","","","",""]
[44,null,null,null,null,null,"","",null,null,null,null,null,null,null,"",null,"","","",null,null,0,null,null,null,null,null,null,null,null,null,"","","","",""]
[45,null,null,null,null,null,"","",null,null,null,null,null,null,null,"",null,"","","",null,null,0,null,null,null,null,null,null,null,null,null,"","","","",""]
[46,null,null,null,null,null,"","",null,null,null,null,null,null,null,"",null,"","","",null,null,0,null,null,null,null,null,null,null,null,null,"","","","",""]
[47,null,null,null,null,null,"","",null,null,null,null,null,null,null,"",null,"","","",null,null,0,null,null,null,null,null,null,null,null,null,"","","","",""]
[48,null,null,null,null,null,{"$f":"IF(ISERROR(AVERAGE(B50:F50)),\"\",AVERAGE(B50:F50))","v":""},{"$f":"IF(ISERROR(DEVSQ(B50:F50)),\"\",DEVSQ(B50:F50))","v":""},null,null,null,null,null,null,null,{"$f":"IF(COUNTA(B50:F50)<>0,STDEV(B50:F50)*2,\"\")","v":""},null,{"$f":"IF(B50<>\"\",MAX(B50:F50),\"\")","v":""},{"$f":"IF(B50<>\"\",MIN(B50:F50),\"\")","v":""},"",null,null,{"$f":"COUNTA(B50:F50)^2","v":0},null,null,null,null,null,null,null,null,null,"","","","",""]
[49,null,null,null,null,null,"","",null,null,null,null,null,null,null,"",null,"","","",null,null,0,null,null,null,null,null,null,null,null,null,"",{"$f":"IF($R50<>\"\",ABS(B50-C50),\"\")","v":""},{"$f":"IF($R50<>\"\",ABS(C50-D50),\"\")","v":""},"",""]
[50,null,null,null,null,null,"","",null,null,null,"3σ管理図",null,null,null,"",null,"","","",null,null,0,null,null,null,null,null,null,null,null,null,"","","","",""]
[51,null,null,null,null,null,"","","＿",null,null,null,null,null,null,"",null,"","","",null,null,0,null,null,null,null,null,null,null,null,null,"","","","",""]
[52,null,null,null,null,null,"","","ｘ - Ｒ管理図を作成するためのデータ",null,null,null,null,null,null,"",null,"","","",null,null,0,null,null,null,null,null,null,null,null,null,"","","","",""]
[53,null,null,null,null,null,"","","１日のデータ数",null,null,{"$f":"COUNT(B3:F3)","v":2},null,null,null,"",null,"","","",null,null,0,null,null,null,null,null,null,null,null,null,"","","","",""]
[54,null,null,null,null,null,"","","データの平均値",null,null,{"$f":"AVERAGE(B3:F92)","v":101.22075435771731},null,null,null,"",null,{"$f":"IF(B56<>\"\",MAX(B56:F56),\"\")","v":""},{"$f":"IF(B56<>\"\",MIN(B56:F56),\"\")","v":""},"",null,null,0,null,null,null,null,null,null,null,null,null,"","","","",""]
[55,null,null,null,null,null,"","","平均値に対する上方管理限界（ＵＣＬ）",null,null,{"$f":"$L$56+(3*(1/(SQRT($L$55)*$S$96))*$T$93)","v":110.86409934782367},null,null,null,"",null,"","","",null,null,0,null,null,null,null,null,null,null,null,null,"",{"$f":"IF($R56<>\"\",ABS(B56-C56),\"\")","v":""},{"$f":"IF($R56<>\"\",ABS(C56-D56),\"\")","v":""},"",""]
[56,null,null,null,null,null,"","","平均値に対する下方管理限界（ＬＣＬ）",null,null,{"$f":"$L$56-3*(1/(SQRT($L$55)*$S$96)*$T$93)","v":91.577409367610954},null,null,null,"",null,"","","",null,null,0,null,null,null,null,null,null,null,null,null,"","","","",""]
[57,null,null,null,null,null,"","","Ｒの平均",null,null,{"$f":"T93","v":5.1277937261407907},null,null,null,"",null,"","","",null,null,0,null,null,null,null,null,null,null,null,null,"","","","",""]
[58,null,null,null,null,null,"","","Ｒに対する上方管理限界（ＵＣＬ）",null,null,{"$f":"((1+3*($T$96/$S$96))*$L$59)","v":16.760793854859127},null,null,null,"",null,"","","",null,null,0,null,null,null,null,null,null,null,null,null,"","","","",""]
[59,null,null,null,null,null,"","",null,null,null,null,null,null,null,"",null,"","","",null,null,0,null,null,null,null,null,null,null,null,null,"","","","",""]
[60,null,null,null,null,null,"","",null,null,null,null,null,null,null,"",null,"","","",null,null,0,null,null,null,null,null,null,null,null,null,"","","","",""]
[61,null,null,null,null,null,"","",null,null,null,null,null,null,null,"",null,"","","",null,null,0,null,null,null,null,null,null,null,null,null,"","","","",""]
[62,null,null,null,null,null,"","",null,null,null,null,null,null,null,"",null,"","","",null,null,0,null,null,null,null,null,null,null,null,null,"","","","",""]
[63,null,null,null,null,null,"","",null,null,null,null,null,null,null,"",null,"","","",null,null,0,null,null,null,null,null,null,null,null,null,"","","","",""]
[64,null,null,null,null,null,"","",null,null,null,null,null,null,null,"",null,"","","",null,null,0,null,null,null,null,null,null,null,null,null,"","","","",""]
[65,null,null,null,null,null,{"$f":"IF(ISERROR(AVERAGE(B67:F67)),\"\",AVERAGE(B67:F67))","v":""},"",null,null,null,null,null,null,null,"",null,{"$f":"IF(B67<>\"\",MAX(B67:F67),\"\")","v":""},{"$f":"IF(B67<>\"\",MIN(B67:F67),\"\")","v":""},{"$f":"IF(R67<>\"\",R67-S67,\"\")","v":""},null,null,0,null,null,null,null,null,null,null,null,null,"","","","",""]
[66,null,null,null,null,null,"",{"$f":"IF(ISERROR(DEVSQ(B68:F68)),\"\",DEVSQ(B68:F68))","v":""},null,null,null,null,null,null,null,{"$f":"IF(COUNTA(B68:F68)<>0,STDEV(B68:F68)*2,\"\")","v":""},null,"","","",null,null,{"$f":"COUNTA(B68:F68)^2","v":0},null,null,null,null,null,null,null,null,null,"",{"$f":"IF($R67<>\"\",ABS(B67-C67),\"\")","v":""},{"$f":"IF($R67<>\"\",ABS(C67-D67),\"\")","v":""},{"$f":"IF($R67<>\"\",ABS(D67-E67),\"\")","v":""},{"$f":"IF($R67<>\"\",ABS(E67-F67),\"\")","v":""}]
[67,null,null,null,null,null,"","",null,null,null,null,null,null,null,"",null,"","","",null,null,0,null,null,null,null,null,null,null,null,null,{"$f":"IF(R68<>\"\",ABS(G67-G68),\"\")","v":""},"","","",""]
[68,null,null,null,null,null,"","",null,null,null,null,null,null,null,"",null,"","","",null,null,0,null,null,null,null,null,null,null,null,null,"","","","",""]
[69,null,null,null,null,null,"","",null,null,null,null,null,null,null,"",null,"","","",null,null,0,null,null,null,null,null,null,null,null,null,"","","","",""]
[70,null,null,null,null,null,"","",null,null,null,null,null,null,null,"",null,"","","",null,null,0,null,null,null,null,null,null,null,null,null,"","","","",""]
[71,null,null,null,null,null,"","",null,null,null,null,null,null,null,"",null,"","","",null,null,0,null,null,null,null,null,null,null,null,null,"","","","",""]
[72,null,null,null,null,null,"","",null,null,null,null,null,null,null,"",null,"","","",null,null,0,null,null,null,null,null,null,null,null,null,"","","","",""]
[73,null,null,null,null,null,"","",null,null,null,null,null,null,null,"",null,"","","",null,null,0,null,null,null,null,null,null,null,null,null,"","","","",""]
[74,null,null,null,null,null,"","",null,null,null,null,null,null,null,"",null,"","","",null,null,0,null,null,null,null,null,null,null,null,null,"","","","",""]
[75,null,null,null,null,null,"","",null,null,null,null,null,null,null,"",null,"","","",null,null,0,null,null,null,null,null,null,null,null,null,"","","","",""]
[76,null,null,null,null,null,{"$f":"IF(ISERROR(AVERAGE(B78:F78)),\"\",AVERAGE(B78:F78))","v":""},"",null,null,null,null,null,null,null,"",null,"","","",null,null,0,null,null,null,null,null,null,null,null,null,"","","","",""]
[77,null,null,null,null,null,{"$f":"IF(ISERROR(AVERAGE(B79:F79)),\"\",AVERAGE(B79:F79))","v":""},"",null,null,null,null,null,null,null,"",null,"","","",null,null,0,null,null,null,null,null,null,null,null,null,"","","","",""]
[78,null,null,null,null,null,"","",null,null,null,null,null,null,null,"",null,"","","",null,null,0,null,null,null,null,null,null,null,null,null,"","","","",""]
[79,null,null,null,null,null,"","",null,null,null,null,null,null,null,"",null,"","","",null,null,0,null,null,null,null,null,null,null,null,null,"","","","",""]
[80,null,null,null,null,null,"","",null,null,null,null,null,null,null,"",null,"","","",null,null,0,null,null,null,null,null,null,null,null,null,"","","","",""]
[81,null,null,null,null,null,"","",null,null,null,null,null,null,null,"",null,"","","",null,null,0,null,null,null,null,null,null,null,null,null,"","","","",""]
[82,null,null,null,null,null,"","",null,null,null,null,null,null,null,"",null,"","","",null,null,0,null,null,null,null,null,null,null,null,null,"","","","",""]
[83,null,null,null,null,null,"","",null,null,null,null,null,null,null,"",null,"","","",null,null,0,null,null,null,null,null,null,null,null,null,"","","","",""]
[84,null,null,null,null,null,"","",null,null,null,null,null,null,null,"",null,"","","",null,null,0,null,null,null,null,null,null,null,null,null,"","","","",""]
[85,null,null,null,null,null,"","",null,null,null,null,null,null,null,"",null,"","","",null,null,0,null,null,null,null,null,null,null,null,null,"","","","",""]
[86,null,null,null,null,null,"","",null,null,null,null,null,null,null,"",null,"","","",null,null,0,null,null,null,null,null,null,null,null,null,"","","","",""]
[87,null,null,null,null,null,"","",null,null,null,null,null,null,null,"",null,"","","",null,null,0,null,null,null,null,null,null,null,null,null,"","","","",""]
[88,null,null,null,null,null,"","",null,null,null,null,null,null,null,"",null,"","","",null,null,0,null,null,null,null,null,null,null,null,null,"","","","",""]
[89,null,null,null,null,null,"","",null,null,null,null,null,null,null,"",null,"","","",null,null,0,null,null,null,null,null,null,null,null,null,"","","","",""]
[90,null,null,null,null,null,"","",null,null,null,null,null,null,null,"",null,"","","",null,null,0,null,null,null,null,null,null,null,null,null,"","","","",""]
["最大値",{"$f":"IF(COUNTA(B3:B62)<>0,MAX(B3:B62),\"\")","v":108.7902890300029},109.81071934802458,"","","",107.90555532148574,51.718536032875299,null,null,null,null,null,null,null,null,null,null,"平均",{"$f":"AVERAGE(T3:T92)","v":5.1277937261407907},null,null,null,null,null,null,null,null,null,null,null,null,"","","","",""]
["最小値",{"$f":"IF(COUNTA(B3:B62)<>0,MIN(B3:B62),\"\")","v":91.719960235059261},91.982599567563739,"","","",95.504308003546612,6.9316959914742932E-2,null,null,null,null,null,null,null,null,null,null,"管理限界係数",null,null,null,null,null,null,null,null,null,null,null,null,"平均",{"$f":"AVERAGE(AG4:AG93)","v":4.0291515831500462},null,null,null,{"$f":"AVERAGE(AH4:AK93)","v":26.626904158332213}]
["全平均",{"$f":"AVERAGE(B3:F92)","v":101.22075435771731},null,null,null,"合計",{"$f":"SUM(G3:G92)/2","v":1973.8047099754876},{"$f":"SUM(H3:H92)","v":613.81671761268058},null,null,null,null,null,null,null,null,null,null,"d2","d3"]
[null,{"$f":"COUNT(B3:B92)","v":39},null,null,null,"分散",{"$f":"VAR(G3:G92)","v":11.990876947832039},null,null,null,null,null,null,null,null,null,null,null,{"$f":"CHOOSE(L55,\"0\",\"1.128\",\"1.693\",\"2.059\",\"2.326\")","v":"1.128"},{"$f":"CHOOSE(L55,\"0\",\"0.853\",\"0.888\",\"0.88\",\"0.864\")","v":"0.853"}]
[null,3,{"$f":"MIN(IF(B96=A3:A92,ROW(B3:B92)))","v":41}]
[null,{"$f":"\"b\"&B97&\":b\"&C97","v":"b3:b41"},{"$f":"\"c\"&B97&\":c\"&C97","v":"c3:c41"},{"$f":"\"d\"&B97&\":d\"&C97","v":"d3:d41"},{"$f":"\"e\"&B97&\":e\"&C97","v":"e3:e41"},{"$f":"\"f\"&B97&\":f\"&C97","v":"f3:f41"}]
[]
[]
[]
[]
[]
[]
[]
[]
[]
[]
[]
[]
[]
[]
[]
[]
[]
[]
[]
[]
[]
[]
[]
[]
[null,0,null,"偏差",0]
[null,1,"線グラフ","倍率",{"$f":"M7/M8","v":0.51172544078350346}]
[null,-4,{"$f":"(1/(SQRT(2*3.1416))*$B$124)*EXP(-((B125-$B$123)^2)/2*$B$124^2)","v":1.3383006928851802E-4},{"$f":"(B125*$E$124)+$E$123","v":-2.0469017631340138},{"$f":"C125","v":1.3383006928851802E-4}]
[null,{"$f":"B125+0.1","v":-3.9},{"$f":"(1/(SQRT(2*3.1416))*$B$124)*EXP(-((B126-$B$123)^2)/2*$B$124^2)","v":1.9865523912172676E-4},{"$f":"(B126*$E$124)+$E$123","v":-1.9957292190556635},{"$f":"C126","v":1.9865523912172676E-4}]
[null,{"$f":"B126+0.1","v":-3.8},2.9194658444260468E-4,-1.9445566749773131,2.9194658444260468E-4]
[null,-3.6999999999999997,4.2477977389109793E-4,-1.8933841308989627,4.2477977389109793E-4]
[null,-3.5999999999999996,6.1190121466858378E-4,-1.8422115868206124,6.1190121466858378E-4]
[null,-3.4999999999999996,8.7268167469167356E-4,-1.7910390427422618,8.7268167469167356E-4]
[null,-3.3999999999999995,1.232217727743334E-3,-1.7398664986639114,1.232217727743334E-3]
[null,-3.2999999999999994,1.7225669249994707E-3,-1.688693954585561,1.7225669249994707E-3]
[null,-3.1999999999999993,2.3840854139520946E-3,-1.6375214105072107,2.3840854139520946E-3]
[null,-3.0999999999999992,3.2668152365846214E-3,-1.5863488664288603,3.2668152365846214E-3]
[null,-2.9999999999999991,4.4318432301523932E-3,-1.5351763223505099,4.4318432301523932E-3]
[null,-2.899999999999999,5.9525254599830111E-3,-1.4840037782721596,5.9525254599830111E-3]
[null,-2.7999999999999989,7.9154423281117218E-3,-1.4328312341938092,7.9154423281117218E-3]
[null,-2.6999999999999988,1.0420922630104662E-2,-1.3816586901154588,1.0420922630104662E-2]
[null,-2.5999999999999988,1.3582953352268204E-2,-1.3304861460371085,1.3582953352268204E-2]
[null,-2.4999999999999987,1.752827999920889E-2,-1.2793136019587579,1.752827999920889E-2]
[null,-2.3999999999999986,2.2394504110812202E-2,-1.2281410578804075,2.2394504110812202E-2]
[null,-2.2999999999999985,2.8327004621191157E-2,-1.1769685138020571,2.8327004621191157E-2]
[null,-2.1999999999999984,3.5474551368789603E-2,-1.1257959697237068,3.5474551368789603E-2]
[null,-2.0999999999999983,4.3983544554127479E-2,-1.0746234256453564,4.3983544554127479E-2]
[null,-1.9999999999999982,5.399090338611616E-2,-1.023450881567006,5.399090338611616E-2]
[null,-1.8999999999999981,6.5615738055652573E-2,-0.97227833748865566,6.5615738055652573E-2]
[null,-1.799999999999998,7.8950065991149732E-2,-0.92110579341030518,7.8950065991149732E-2]
[null,-1.699999999999998,9.4048967413253137E-2,-0.86993324933195482,9.4048967413253137E-2]
[null,-1.5999999999999979,0.11092070498910253,-0.81876070525360445,0.11092070498910253]
[null,-1.4999999999999978,0.12951744423191855,-0.76758816117525408,0.12951744423191855]
[null,-1.3999999999999977,0.14972729057207956,-0.71641561709690371,0.14972729057207956]
[null,-1.2999999999999976,0.17136839168100279,-0.66524307301855323,0.17136839168100279]
[null,-1.1999999999999975,0.19418582793787831,-0.61407052894020286,0.19418582793787831]
[null,-1.0999999999999974,0.21785192231642042,-0.5628979848618525,0.21785192231642042]
[null,-0.99999999999999745,0.24197044160323494,-0.51172544078350213,0.24197044160323494]
[null,-0.89999999999999747,0.26608493878777084,-0.46055289670515182,0.26608493878777084]
[null,-0.79999999999999749,0.28969121404964476,-0.4093803526268015,0.28969121404964476]
[null,-0.69999999999999751,0.31225356827463929,-0.35820780854845113,0.31225356827463929]
[null,-0.59999999999999754,0.33322421328044682,-0.30703526447010082,0.33322421328044682]
[null,-0.49999999999999756,0.35206491512408122,-0.25586272039175045,0.35206491512408122]
[null,-0.39999999999999758,0.36826970971618667,-0.20469017631340014,0.36826970971618667]
[null,-0.2999999999999976,0.38138736953599894,-0.1535176322350498,0.38138736953599894]
[null,-0.1999999999999976,0.39104223676229755,-0.10234508815669946,0.39104223676229755]
[null,-9.9999999999997591E-2,0.39695208335396132,-5.1172544078349112E-2,0.39695208335396132]
[null,2.4147350785597155E-15,0.39894181395195566,1.2356813724513582E-15,0.39894181395195566]
[null,0.10000000000000242,0.39695208335396115,5.1172544078351583E-2,0.39695208335396115]
[null,0.20000000000000243,0.39104223676229716,0.10234508815670193,0.39104223676229716]
[null,0.30000000000000243,0.38138736953599839,0.15351763223505227,0.38138736953599839]
[null,0.40000000000000246,0.36826970971618594,0.20469017631340264,0.36826970971618594]
[null,0.50000000000000244,0.35206491512408039,0.25586272039175301,0.35206491512408039]
[null,0.60000000000000242,0.33322421328044588,0.30703526447010332,0.33322421328044588]
[null,0.7000000000000024,0.31225356827463818,0.35820780854845363,0.31225356827463818]
[null,0.80000000000000238,0.2896912140496436,0.409380352626804,0.2896912140496436]
[null,0.90000000000000235,0.26608493878776962,0.46055289670515431,0.26608493878776962]
[null,1.0000000000000024,0.24197044160323375,0.51172544078350468,0.24197044160323375]
[null,1.1000000000000025,0.21785192231641923,0.56289798486185505,0.21785192231641923]
[null,1.2000000000000026,0.19418582793787709,0.61407052894020553,0.19418582793787709]
[null,1.3000000000000027,0.17136839168100168,0.6652430730185559,0.17136839168100168]
[null,1.4000000000000028,0.14972729057207848,0.71641561709690627,0.14972729057207848]
[null,1.5000000000000029,0.12951744423191755,0.76758816117525663,0.12951744423191755]
[null,1.600000000000003,0.11092070498910164,0.81876070525360711,0.11092070498910164]
[null,1.7000000000000031,9.4048967413252318E-2,0.86993324933195748,9.4048967413252318E-2]
[null,1.8000000000000032,7.8950065991149024E-2,0.92110579341030785,7.8950065991149024E-2]
[null,1.9000000000000032,6.5615738055651934E-2,0.97227833748865822,6.5615738055651934E-2]
[null,2.0000000000000031,5.3990903386115625E-2,1.0234508815670085,5.3990903386115625E-2]
[null,2.1000000000000032,4.3983544554127028E-2,1.0746234256453588,4.3983544554127028E-2]
[null,2.2000000000000033,3.5474551368789221E-2,1.1257959697237092,3.5474551368789221E-2]
[null,2.3000000000000034,2.8327004621190841E-2,1.1769685138020596,2.8327004621190841E-2]
[null,2.4000000000000035,2.2394504110811942E-2,1.2281410578804102,2.2394504110811942E-2]
[null,2.5000000000000036,{"$f":"(1/(SQRT(2*3.1416))*$B$124)*EXP(-((B190-$B$123)^2)/2*$B$124^2)","v":1.7528279999208671E-2},{"$f":"(B190*$E$124)+$E$123","v":1.2793136019587605},{"$f":"C190","v":1.7528279999208671E-2}]
[null,{"$f":"B190+0.1","v":2.6000000000000036},1.3582953352268031E-2,1.3304861460371109,1.3582953352268031E-2]
[null,2.7000000000000037,1.0420922630104522E-2,1.3816586901154613,1.0420922630104522E-2]
[null,2.8000000000000038,7.9154423281116125E-3,1.4328312341938116,7.9154423281116125E-3]
[null,2.9000000000000039,5.9525254599829261E-3,1.484003778272162,5.9525254599829261E-3]
[null,3.000000000000004,4.4318432301523273E-3,1.5351763223505124,4.4318432301523273E-3]
[null,3.1000000000000041,3.2668152365845724E-3,1.5863488664288627,3.2668152365845724E-3]
[null,3.2000000000000042,2.3840854139520564E-3,1.6375214105072131,2.3840854139520564E-3]
[null,3.3000000000000043,1.7225669249994417E-3,1.6886939545855637,1.7225669249994417E-3]
[null,3.4000000000000044,1.2322177277433143E-3,1.7398664986639141,1.2322177277433143E-3]
[null,3.5000000000000044,8.7268167469165795E-4,1.7910390427422644,8.7268167469165795E-4]
[null,3.6000000000000045,6.1190121466857283E-4,1.8422115868206148,6.1190121466857283E-4]
[null,3.7000000000000046,4.2477977389109001E-4,1.8933841308989652,4.2477977389109001E-4]
[null,3.8000000000000047,2.9194658444259953E-4,1.9445566749773155,2.9194658444259953E-4]
[null,3.9000000000000048,1.9865523912172288E-4,1.9957292190556659,1.9865523912172288E-4]
[null,4.0000000000000044,1.3383006928851564E-4,2.0469017631340161,1.3383006928851564E-4]

{"sheet":"検出限界と定量限界","index":8,"n_rows":138,"n_cols":55,"rows_kept":138,"cut":false,"hidden":false,"merged":[[44,17,44,18],[30,10,30,11],[44,2,44,3],[44,4,44,5],[44,6,44,7],[44,8,44,9],[44,10,44,11]]}
["検出限界と定量限界",null,null,"解　説",null,"「日本臨床化学会クオリティマネジメント専門委員会：定量分析法における検出限界および定量限界の評価法、臨床化学 35:280-294、2006」より"]
[]
["ブランク上限","（LoB： Limit of Blank)",null,null,null,"負のデータ数の推定",null,{"$f":"AC5","v":10.728844989222182},null,null,null,null,null,null,null,null,"階級数（3～18まで指定可能）"]
["繰り返し","１日目","２日目","３日目","４日目","５日目","６日目","７日目","８日目",null,null,null,null,null,null,null,9,null,null,null,null,null,null,null,null,"面積",null,null,"負のデータの推定",null,null,0,1E-3,3.0000000000000001E-3,0,2E-3,1E-3,3.0000000000000001E-3,1E-3,null,8.0000000000000002E-3,4.0000000000000001E-3,1E-3,1E-3,0]
[1,8.0000000000000002E-3,4.0000000000000001E-3,1E-3,1E-3,0,null,null,null,null,null,null,null,null,null,null,"データ区間","X累積","階級値",null,null,null,null,null,"正規分布",{"$f":"SUM(Z6:Z23)","v":1.3279670132053216},null,null,{"$f":"SUM(AC6:AC22)","v":10.728844989222182},null,null,1E-3,1E-3,1E-3,1E-3,3.0000000000000001E-3,2E-3,2E-3,0,null,4.0000000000000001E-3,2E-3,0,0,0]
[2,4.0000000000000001E-3,2E-3,0,0,0,null,null,null,null,null,null,null,null,null,null,{"$f":"MINk1","v":0},{"$f":"FREQUENCY($B$5:$I$16,Q6)","v":29},{"$f":"R6","v":29},null,null,null,null,{"$f":"((Q6-$B$18)*(1/$B$19))","v":-0.69203649129462985},{"$f":"(1/(SQRT(2*3.1416)))*EXP(-(X6^2)/2)*($B$17/$Z$5)","v":14.186607643197009},{"$f":"(1/(SQRT(2*3.1416)))*EXP(-(X6^2)/2)","v":0.31398911632420196},{"$f":"AA7-CEILING((MAXK1-MINk1)/(階級数k1-1),0.00001)","v":-1.7000000000000008E-2},{"$f":"((AA6-$B$18)*(1/$B$19))","v":-11.551686046994975},{"$f":"(1/(SQRT(2*3.1416)))*EXP(-(AB6^2)/2)*($B$17/$Z$5)","v":1.9029646042617097E-28},null,null,4.0000000000000001E-3,4.0000000000000001E-3,4.0000000000000001E-3,3.0000000000000001E-3,5.0000000000000001E-3,6.0000000000000001E-3,0,0,null,3.0000000000000001E-3,5.0000000000000001E-3,2E-3,0,0]
[3,3.0000000000000001E-3,5.0000000000000001E-3,2E-3,0,0,null,null,null,null,null,null,null,null,null,null,{"$f":"Q6+CEILING((MAXK1-MINk1)/(階級数k1-1),0.00001)","v":1E-3},{"$f":"FREQUENCY($B$5:$I$16,Q7)","v":45},{"$f":"R7-R6","v":16},null,null,null,null,{"$f":"((Q7-$B$18)*(1/$B$19))","v":-5.3233576253433411E-2},{"$f":"(1/(SQRT(2*3.1416)))*EXP(-(X7^2)/2)*($B$17/$Z$5)","v":17.999405718081878},{"$f":"(1/(SQRT(2*3.1416)))*EXP(-(X7^2)/2)","v":0.39837695084853297},-1.6000000000000007E-2,-10.912883131953778,2.4864944012716567E-25,null,null,1E-3,2E-3,3.0000000000000001E-3,2E-3,3.0000000000000001E-3,3.0000000000000001E-3,1E-3,0,null,4.0000000000000001E-3,0,0,0,1E-3]
[4,4.0000000000000001E-3,0,0,0,1E-3,null,null,null,null,null,null,null,null,null,null,2E-3,{"$f":"FREQUENCY($B$5:$I$16,Q8)","v":52},7,null,null,null,null,0.58556933878776307,15.185027708816095,0.33608693153194263,-1.5000000000000006E-2,-10.274080216912582,2.1603398398862092E-22,null,null,0,1E-3,1E-3,0,1E-3,2E-3,0,2E-3,null,1E-3,0,1E-3,0,0]
[5,1E-3,0,1E-3,0,0,null,null,null,null,null,null,null,null,null,null,3.0000000000000001E-3,54,2,null,null,null,null,1.2243722538289594,8.5182586873703539,0.18853277577962488,-1.4000000000000005E-2,-9.6352773018713833,1.2480571640397943E-19,null,null,3.0000000000000001E-3,0,2E-3,0,2E-3,1E-3,2E-3,1E-3,null,1E-3,1E-3,1E-3,0,0]
[6,1E-3,1E-3,1E-3,0,0,null,null,null,null,null,null,null,null,null,null,4.0000000000000001E-3,58,4,null,null,null,null,1.8631751688701561,3.1773413497358405,7.0323408369041149E-2,-1.3000000000000005E-2,-8.9964743868301866,4.7942943460150122E-17,null,null,1E-3,3.0000000000000001E-3,2E-3,1E-3,1E-3,4.0000000000000001E-3,1E-3,2E-3,null,2E-3,1E-3,1E-3,2E-3,2E-3]
[7,2E-3,1E-3,1E-3,2E-3,2E-3,null,null,null,null,null,null,null,null,null,null,5.0000000000000001E-3,59,1,null,null,null,null,2.5019780839113528,0.78805175079971213,1.7441778829345302E-2,-1.2000000000000004E-2,-8.3576714717889899,1.2245956835210362E-14,null,null,null,null,null,null,null,null,null,null,null,4.0000000000000001E-3,0,1E-3,0,0]
[8,4.0000000000000001E-3,0,1E-3,0,0,null,null,null,null,null,null,null,null,null,null,6.0000000000000001E-3,59,0,null,null,null,null,3.140780998952549,0.12996410355177604,2.8764673736259858E-3,-1.1000000000000003E-2,-7.7188685567477924,2.0798813862858017E-12,null,null,1.0000000000000009E-3,6.9999999999999923E-3,1.0999999999999999E-2,8.0000000000000002E-3,8.0000000000000002E-3,0.01,null,null,null,0,2E-3,0,0,0]
[9,0,2E-3,0,0,0,null,null,null,null,null,null,null,null,null,null,7.0000000000000001E-3,59,0,null,null,null,null,3.7795839139937457,1.4251806149715919E-2,3.1543214075699139E-4,-1.0000000000000002E-2,-7.0800656417065957,2.3488875498038092E-10,null,null,1.0000000000000009E-3,4.0000000000000036E-3,7.0000000000000001E-3,1.6E-2,1.2999999999999999E-2,1.0999999999999999E-2,null,null,null,0,2E-3,1E-3,0,0]
[10,0,2E-3,1E-3,0,0,null,null,null,null,null,null,null,null,null,null,8.0000000000000002E-3,60,1,null,null,null,null,4.418386829034942,1.0391882109898152E-3,2.3000127745105442E-5,-9.0000000000000011E-3,-6.4412627266653981,1.7638583175281388E-8,null,null,7.9999999999999932E-3,4.0000000000000036E-3,0.01,1.8000000000000002E-2,0.02,1.9000000000000003E-2,null,null,null,1E-3,0,0,1E-3,0]
[11,1E-3,0,0,1E-3,0,null,null,null,null,null,null,null,null,null,null,9.0000000000000011E-3,60,0,null,null,null,null,5.0571897440761386,5.0384427677357637E-5,1.1151476322460026E-6,-8.0000000000000002E-3,-5.8024598116242014,8.8073039074007377E-7,null,null,8.0000000000000002E-3,8.9999999999999941E-3,0.02,1.9000000000000003E-2,1.7000000000000001E-2,2.5999999999999995E-2,null,null,null,3.0000000000000001E-3,1E-3,0,1E-3,0]
[12,3.0000000000000001E-3,1E-3,0,1E-3,0,null,null,null,null,null,null,null,null,null,null,1.0000000000000002E-2,60,0,null,null,null,null,5.6959926591173362,1.6243374671387761E-6,3.5951109577896295E-8,-7.0000000000000001E-3,-5.1636568965830056,2.9241529256241714E-5,null,null,1.2999999999999999E-2,1.6E-2,1.4999999999999999E-2,1.9000000000000003E-2,1.8000000000000002E-2,2.3E-2]
["データ数",{"$f":"COUNT(B5:I16)","v":60},"最大値",{"$f":"MAX(B5:I16)","v":8.0000000000000002E-3},null,null,"LoB",null,"片側検定",null,null,null,null,null,null,null,1.1000000000000003E-2,60,0,null,null,null,null,6.3347955741585329,3.4820420207735596E-8,7.7067282369701441E-10,-6.0000000000000001E-3,-4.524853981541809,6.4555759346568214E-4,null,null,0.01,1.8000000000000002E-2,1.4E-2,1.9000000000000003E-2,1.9000000000000003E-2,3.2000000000000001E-2]
["平均値",{"$f":"AVERAGE(B5:I16)","v":1.0833333333333339E-3},"最小値",{"$f":"MIN(B5:I16)","v":0},null,"ﾊﾟﾗﾒﾄﾘｯｸ",{"$f":"B18+I19*B19","v":3.6584624713929398E-3},null,"p=0.05",null,null,null,null,null,null,null,1.2000000000000004E-2,60,0,null,null,null,null,6.9735984891997305,4.9632890414274916E-10,1.0985140206698615E-11,-5.0000000000000001E-3,-3.8860510665006123,9.4764946171792281E-3,null,null,7.0000000000000001E-3,8.9999999999999993E-3,2.0999999999999991E-2,0.02,2.0999999999999991E-2,2.1999999999999999E-2]
["標準偏差(SD)",{"$f":"STDEV(B5:I16)","v":1.5654280474526479E-3},"レンジ",{"$f":"D17-D18","v":8.0000000000000002E-3},null,"ﾉﾝﾊﾟﾗﾒﾄﾘｯｸ",{"$f":"LARGE(B5:I16,B17*0.05)","v":4.0000000000000001E-3},null,1.645,null,null,null,null,null,null,null,1.3000000000000005E-2,60,{"$f":"R19-R18","v":0},null,null,null,null,7.6124014042409271,4.7041692727081799E-12,1.0411636031150887E-13,-4.0000000000000001E-3,-3.2472481514594156,9.2499260409479894E-2,null,null,1.8000000000000002E-2,1.9000000000000003E-2,1.4E-2,2.0999999999999991E-2,2.3999999999999994E-2,2.8999999999999998E-2,null,null,null,"乱数でデータを発生させる"]
[null,null,null,null,null,null,null,null,null,null,null,null,null,null,null,null,1.4000000000000005E-2,60,{"$f":"R20-R19","v":0},null,null,null,null,8.2512043192821238,2.9646547716641284E-14,6.5616062371861959E-16,-3.0000000000000001E-3,-2.6084452364182193,0.60035290168967959,null,null,8.9999999999999993E-3,1.9000000000000003E-2,1.7000000000000001E-2,1.7000000000000001E-2,1.7000000000000001E-2,2.1999999999999999E-2,null,null,null,0.16787906891549936,0.34163075573160312,0.10874690663767977,0.11631981427199206,0.54083465177682233]
[null,null,null,null,null,null,null,null,null,null,null,null,null,null,null,null,1.5000000000000006E-2,60,{"$f":"R21-R20","v":0},null,null,null,null,8.8900072343233205,1.2423476095952088E-16,2.7496610741282006E-18,-2E-3,-1.9696423213770227,2.5909127102909224,null,null,2.0999999999999991E-2,0.01,1.7000000000000001E-2,1.0999999999999999E-2,1.7000000000000001E-2,2.3E-2,null,null,null,0.57308215067023416,0.48391347111901267,0.20599167176696936,2.1292624599300314E-2,0.45254363461281172]
["検出限界","（LoD： Limit of Detection)",null,null,null,null,null,null,null,null,null,null,null,null,null,null,1.6000000000000007E-2,60,{"$f":"R22-R21","v":0},null,null,null,null,9.528810149364519,3.4617041062485439E-19,7.6617147709591269E-21,-1E-3,-1.3308394063358262,7.4349279244862441,null,null,null,null,null,null,null,null,null,null,null,0.7155735950917006,0.18292802299838512,0.47790171114029362,0.63687956602079798,0.41823613021988421]
[null,"試料１","試料２","試料３","試料４","試料５","試料６","試料７","試料８","試料数",null,null,null,null,null,null,1.7000000000000008E-2,60,{"$f":"R23-R22","v":0},null,null,null,null,10.167613064405714,6.4137875678006861E-22,1.4195497199576168E-23,0,{"$f":"((AA23-$B$18)*(1/$B$19))","v":-0.69203649129462985},{"$f":"(1/(SQRT(2*3.1416)))*EXP(-(AB23^2)/2)*($B$17/$Z$5)","v":14.186607643197009},null,null,null,null,null,null,null,null,null,null,null,2.4409462942276139E-2,0.44858278518659062,0.33628247213782742,0.3290565367322415,-0.13924228521063925]
["理論濃度",6.0000000000000001E-3,8.0000000000000002E-3,0.01,1.2E-2,1.4E-2,1.6E-2,1.7999999999999999E-2,null,{"$f":"COUNT(B23:I24)","v":7},null,null,null,null,null,null,null,null,null,null,null,null,"精密正規分布",null,"LoQ",null,"LoD X",null,null,"LoD Y","面積比の計算",null,null,null,null,null,null,null,null,null,0.11014434524695388,0.20650394465774297,0.57594705898081888,0.46037665773183106,0.20827518558944574]
["１日目",6.0000000000000001E-3,8.9999999999999993E-3,0.01,1.2999999999999999E-2,1.4999999999999999E-2,1.7000000000000001E-2,1.9E-2,null,"全データ数",null,null,null,null,null,null,null,null,null,null,null,null,{"$f":"$B$18-G18*2","v":-6.2335916094525459E-3},{"$f":"((W25-$B$18)*(1/$B$19))","v":-4.6740729825892595},{"$f":"(1/(SQRT(2*3.1416)))*EXP(-(X25^2)/2)*($B$17*5/$AE$25)","v":2.7569060126036169E-4},{"$f":"(1/(SQRT(2*3.1416)))*EXP(-(X25^2)/2)","v":7.1928806070655932E-6},{"$f":"W25+$G$18+$K$29","v":-2.9547447192585213E-4},{"$f":"((AA25-$L$32)*(1/$K$29))","v":-3.3794455728571315},{"$f":"(1/(SQRT(2*3.1416)))*EXP(-(AB25^2)/2)","v":1.3211325836255665E-3},{"$f":"AC25*$AE$27","v":9.0749408556641291E-4},{"$f":"SUM(Z25:Z110)","v":7.8271227682578672},null,null,null,null,null,null,null,null,null,0.22848574947856831,0.31759440237947273,-8.3783117285929631E-2,0.23729124980745836,0.4158393843070371]
["２日目",8.0000000000000002E-3,8.9999999999999993E-3,1.0999999999999999E-2,1.2E-2,1.4999999999999999E-2,1.7999999999999999E-2,1.9E-2,null,{"$f":"COUNT(B25:I34)","v":70},null,null,null,null,null,null,null,null,null,null,null,null,{"$f":"W25+CEILING((MAXK1-MINk1)/((階級数k1-1)*5),0.00001)","v":-6.0335916094525462E-3},{"$f":"((W26-$B$18)*(1/$B$19))","v":-4.5463123995810202},4.9684600698429011E-4,{"$f":"(1/(SQRT(2*3.1416)))*EXP(-(X26^2)/2)","v":1.2962915645282479E-5},{"$f":"W26+$G$18+$K$29","v":-9.5474471925852469E-5},{"$f":"((AA26-$L$32)*(1/$K$29))","v":-3.2917129864390335},{"$f":"(1/(SQRT(2*3.1416)))*EXP(-(AB26^2)/2)","v":1.7702634618569381E-3},{"$f":"AC26*$AE$27","v":1.2160048442078296E-3},{"$f":"SUM(AC25:AC138)","v":11.394748560514177},null,null,null,null,null,null,null,null,null,0.25500161276140715,-0.12577448766678573,8.9624325785553072E-2,0.26772339727613143,0.28679459167760796]
["３日目",5.0000000000000001E-3,0.01,1.0999999999999999E-2,1.4999999999999999E-2,1.7999999999999999E-2,1.7999999999999999E-2,2.1999999999999999E-2,null,null,null,null,null,null,null,null,null,null,null,null,null,null,-5.8335916094525465E-3,-4.4185518165727817,8.8091247388750234E-4,{"$f":"(1/(SQRT(2*3.1416)))*EXP(-(X27^2)/2)","v":2.2983366937357445E-5},1.0452552807414719E-4,-3.203980400020936,2.3538925796951012E-3,1.6169032696701645E-3,{"$f":"AE25/AE26","v":0.68690614160464425},null,null,null,null,null,null,null,null,null,0.20269816407817415,0.26038400240649934,0.1702865013910923,0.36967434273974503,0.14531928021169732]
["４日目",0.01,0.01,1.0999999999999999E-2,1.4999999999999999E-2,1.7000000000000001E-2,1.7999999999999999E-2,0.02,null,null,"合成標準偏差",null,null,null,null,null,null,null,null,null,null,null,-5.6335916094525469E-3,-4.2907912335645424,1.5365787686741229E-3,4.0089968885036215E-5,3.0452552807414685E-4,-3.116247813602838,3.1059367436698697E-3,2.1334870246623632E-3,null,null,null,null,null,null,null,null,null,null,0.3885747795109637,9.476888256613164E-2,0.23825485944398678,0.38079268809524364,0.32320803105249069]
["５日目",0.01,6.0000000000000001E-3,8.0000000000000002E-3,1.2E-2,1.4999999999999999E-2,1.9E-2,1.7000000000000001E-2,null,null,{"$f":"(SUM(B38:H38)/(J26-J24))^0.5","v":2.2796546661337539E-3},null,null,null,null,null,null,null,null,null,null,null,-5.4335916094525472E-3,-4.1630306505563031,2.6368656883156796E-3,6.8796904886178693E-5,5.045255280741465E-4,-3.02851522718474,4.0668280061046487E-3,2.7935291342430528E-3,null,null,null,null,null,null,null,null,null,null,0.26049314177071209,0.3109064330899855,0.28547536961268632,2.8463990322779853E-2,0.41007887223968281]
["６日目",2E-3,7.0000000000000001E-3,8.9999999999999993E-3,1.2E-2,1.4E-2,0.02,1.7000000000000001E-2,null,null,null,null,null,null,null,null,null,null,null,null,null,null,-5.2335916094525476E-3,-4.0352700675480637,4.4517657368245093E-3,1.1614838985883125E-4,7.0452552807414616E-4,-2.940782640766642,5.2841633826647442E-3,3.629724280794785E-3,null,null,null,null,null,null,null,null,null,null,0.21992035575094632,0.40586609278107061,-4.2643033945932995E-2,0.3847933279146673,0.40821440810104831]
["７日目",5.0000000000000001E-3,7.0000000000000001E-3,1.2E-2,8.9999999999999993E-3,8.9999999999999993E-3,1.2E-2,1.7999999999999999E-2,null,null,"LoD",null,null,null,null,null,null,null,null,null,null,null,-5.0335916094525479E-3,-3.9075094845398248,7.394140671403121E-3,1.9291615600280294E-4,9.0452552807414582E-4,-2.8530500543485444,6.8132433542187473E-3,4.6800587042598839E-3,null,null,null,null,null,null,null,null,null,null,0.50288780433475044,0.13758925736765376,0.33026320882781873,0.20827518558944574,0.3720692696631886]
["８日目",4.0000000000000001E-3,7.0000000000000001E-3,8.9999999999999993E-3,1.2E-2,1.4E-2,1.2999999999999999E-2,1.7000000000000001E-2,null,null,"ﾊﾟﾗﾒﾄﾘｯｸ",{"$f":"G18+K29*1.645","v":7.4084943971829652E-3},null,null,null,null,null,null,null,null,null,null,-4.8335916094525483E-3,-3.7797489015315859,1.2082428317650797E-2,3.1523549926976049E-4,1.1045255280741455E-3,-2.7653174679304464,8.7174366045919566E-3,5.988060742743352E-3]
["９日目",1E-3,4.0000000000000001E-3,7.0000000000000001E-3,1.2999999999999999E-2,1.0999999999999999E-2,1.4E-2,1.7000000000000001E-2,null,null,"ﾉﾝﾊﾟﾗﾒﾄﾘｯｸ",{"$f":"G19+K29*1.645","v":7.7500319257900255E-3},null,null,null,null,null,null,null,null,null,null,-4.6335916094525486E-3,-3.651988318523347,1.9423695377739796E-2,5.0677216111604082E-4,1.3045255280741451E-3,-2.6775848815123484,1.1068300121576327E-2,7.6028833306342096E-3]
["１０日目",5.0000000000000001E-3,5.0000000000000001E-3,8.9999999999999993E-3,1.0999999999999999E-2,1.4E-2,1.7000000000000001E-2,2.1000000000000001E-2,null,null,null,null,null,null,null,null,null,null,null,null,null,null,-4.4335916094525489E-3,-3.5242277355151077,3.0719956903746244E-2,8.014962470707089E-4,{"$f":"W34+$G$18+$K$29","v":1.5045255280741448E-3},-2.5898522950942504,1.3945377918517094E-2,9.5791657392271818E-3]
["データ数",{"$f":"COUNT(B25:B34)","v":10},{"$f":"COUNT(C25:C34)","v":10},10,10,10,10,10,{"$f":"COUNT(I25:I34)","v":0},null,null,null,null,null,null,null,null,null,null,null,null,null,-4.2335916094525493E-3,-3.3964671525068688,4.779918132523267E-2,1.2471002015160496E-3,1.7045255280741444E-3,-2.5021197086761529,1.7435599393538261E-2,1.1976620305979641E-2]
["平均値",{"$f":"IF(B35<>0,AVERAGE(B25:B34),\"\")","v":5.5999999999999999E-3},7.4000000000000012E-3,9.6999999999999986E-3,1.2399999999999998E-2,1.4200000000000001E-2,1.6600000000000004E-2,1.8700000000000001E-2,{"$f":"IF(I35<>0,AVERAGE(I25:I34),\"\")","v":""},{"$f":"AVERAGE(B25:I34)","v":1.2085714285714293E-2},null,null,null,null,null,null,null,null,null,null,null,null,-4.0335916094525496E-3,-3.2687065694986295,7.3169725734105073E-2,1.9090280874686579E-3,1.9045255280741441E-3,-2.4143871222580549,2.1632200932750707E-2,1.4859291677132175E-2]
["標準偏差",{"$f":"IF(B35<>0,STDEV(B25:B34),\"\")","v":3.0258148581093912E-3},2.0655911179772888E-3,1.5670212364724211E-3,1.776388345929897E-3,2.616188916046478E-3,2.6749870196985173E-3,1.8287822299126932E-3,{"$f":"IF(I35<>0,STDEV(I25:I34),\"\")","v":""},{"$f":"AVERAGE(B37:I37)","v":2.2221105320209553E-3},null,null,null,null,null,null,null,null,null,null,null,null,-3.8335916094525495E-3,-3.1409459864903906,0.11019287354671084,2.8749771647907348E-3,2.1045255280741442E-3,-2.3266545358399564,2.6633102899664501E-2,1.8294441951768006E-2]
[null,{"$f":"IF(B35<>0,(B35-1)*B37^2,\"\")","v":8.2399999999999997E-5},3.8399999999999991E-5,2.2099999999999998E-5,2.8399999999999999E-5,6.1600000000000007E-5,6.4400000000000007E-5,3.0099999999999986E-5,{"$f":"IF(I35<>0,(I35-1)*I37^2,\"\")","v":""},{"$f":"SUM(B38:I38)","v":3.2739999999999999E-4},null,null,null,null,null,null,null,null,null,null,null,null,-3.6335916094525494E-3,-3.0131854034821508,0.16326259771427298,4.2595879859143697E-3,2.3045255280741443E-3,-2.2389219494218588,3.2538689541957974E-2,2.235102568613774E-2]
[null,null,null,null,null,null,null,null,null,null,null,null,null,null,null,null,null,null,null,null,null,null,-3.4335916094525494E-3,-2.8854248204739119,0.2379748210075979,6.2088604659355333E-3,2.5045255280741444E-3,-2.1511893630037608,3.9448962144084179E-2,2.7097734376700537E-2]
[null,null,null,null,null,null,null,null,null,null,null,null,null,null,null,null,null,null,null,null,null,null,-3.2335916094525493E-3,-2.7576642374656721,0.3412608183066061,8.9036344029398262E-3,2.7045255280741445E-3,-2.0634567765856624,4.7460066023316302E-2,3.260061083237787E-2]
[null,null,null,null,null,null,null,null,null,null,null,null,null,null,null,null,null,null,null,null,null,null,-3.0335916094525492E-3,-2.6299036544574332,0.48145196034419685,1.2561278668774822E-2,2.9045255280741446E-3,-1.9757241901675642,5.6660229153466052E-2,3.8920259390242344E-2]
[null,null,null,null,null,null,null,null,null,null,null,null,null,null,null,null,null,null,null,null,null,null,-2.8335916094525491E-3,-2.5021430714491935,0.66823713047959821,1.7434580195240554E-2,3.1045255280741446E-3,-1.8879916037494664,6.7125193039565059E-2,4.6108707355274559E-2]
[null,null,null,null,null,null,null,null,null,null,null,null,null,null,null,null,null,null,null,null,null,null,-2.633591609452549E-3,-2.3743824884409546,0.91247160812140793,2.3806757664386474E-2,3.3045255280741447E-3,-1.8002590173313684,7.8913262939691878E-2,5.4206004967336512E-2]
["定量限界","（LoQ: Limit of Quantitation)",null,null,null,null,null,null,null,null,null,null,null,null,null,null,null,null,null,null,null,null,-2.4335916094525489E-3,-2.2466219054327148,1.2257989056747995,3.1981595079709338E-2,3.5045255280741448E-3,-1.7125264309132702,9.2060151888443201E-2,6.3236683729228027E-2,null,null,1E-3,1.0000000000000009E-3,7.9999999999999932E-3,8.0000000000000002E-3,1.2999999999999999E-2,0.01,7.0000000000000001E-3,1.8000000000000002E-2,8.9999999999999993E-3,2.0999999999999991E-2,null,null,null,6.0000000000000001E-3,8.0000000000000002E-3,5.0000000000000001E-3,0.01,0.01,2E-3,5.0000000000000001E-3,4.0000000000000001E-3,5.0000000000000001E-3,1E-3]
["測定日","理論濃度","１日目",null,"２日目",null,"３日目",null,"４日目",null,"５日目",null,null,null,null,"y=ax^b",null,"LoQ",null,null,null,null,-2.2335916094525488E-3,-2.1188613224244759,1.620056686789203,4.2267941930120581E-2,3.7045255280741449E-3,-1.6247938444951722,0.10657383784383374,7.3206223749306853E-2,null,null,6.9999999999999923E-3,4.0000000000000036E-3,4.0000000000000036E-3,8.9999999999999941E-3,1.6E-2,1.8000000000000002E-2,8.9999999999999993E-3,1.9000000000000003E-2,1.9000000000000003E-2,0.01,null,null,null,8.9999999999999993E-3,8.9999999999999993E-3,0.01,0.01,6.0000000000000001E-3,7.0000000000000001E-3,7.0000000000000001E-3,7.0000000000000001E-3,5.0000000000000001E-3,4.0000000000000001E-3]
[null,null,"１回目","２回目","１回目","２回目","１回目","２回目","１回目","２回目","１回目","２回目","平均値","標準偏差","CV%","a=",{"$f":"EXP(INTERCEPT(LN(LoQCV),LN(LoQ平均)))","v":5.0578934756851984E-4},"CV 10%点",{"$f":"(0.1/Q46)^(1/Q47)","v":1.7225684376600908E-2},null,null,null,-2.0335916094525487E-3,-1.9911007394162361,2.1064555799057616,5.4958288099347379E-2,3.904525528074145E-3,-1.5370612580770742,0.12242969183609172,8.4097707236975378E-2,null,null,1.0999999999999999E-2,7.0000000000000001E-3,0.01,0.02,1.4999999999999999E-2,1.4E-2,2.0999999999999991E-2,1.4E-2,1.7000000000000001E-2,1.7000000000000001E-2,null,null,null,0.01,1.0999999999999999E-2,1.0999999999999999E-2,1.0999999999999999E-2,8.0000000000000002E-3,8.9999999999999993E-3,1.2E-2,8.9999999999999993E-3,8.9999999999999993E-3,7.0000000000000001E-3]
["試料No.1",null,6.0000000000000001E-3,8.0000000000000002E-3,5.0000000000000001E-3,0.01,0.01,2E-3,5.0000000000000001E-3,4.0000000000000001E-3,5.0000000000000001E-3,1E-3,{"$f":"IF(COUNT(C47:L47)>1,AVERAGE(C47:L47),\"\")","v":5.5999999999999999E-3},{"$f":"IF(M47<>\"\",STDEV(C47:L47),\"\")","v":3.0258148581093912E-3},{"$f":"IF(M47<>\"\",N47/M47,\"\")","v":0.54032408180524838},"b=",{"$f":"SLOPE(LN(LoQCV),LN(LoQ平均))","v":-1.3017347272150535},"CV 20%点",{"$f":"(0.2/Q46)^(1/Q47)","v":1.0114013652648197E-2},null,null,null,-1.8335916094525486E-3,-1.8633401564079972,2.6945454422574477,7.0301793270662438E-2,4.1045255280741447E-3,-1.4493286716589762,0.13956616324474039,9.5868854693008543E-2,null,null,8.0000000000000002E-3,1.6E-2,1.8000000000000002E-2,1.9000000000000003E-2,1.9000000000000003E-2,1.9000000000000003E-2,0.02,2.0999999999999991E-2,1.7000000000000001E-2,1.0999999999999999E-2,null,null,null,1.2999999999999999E-2,1.2E-2,1.4999999999999999E-2,1.4999999999999999E-2,1.2E-2,1.2E-2,8.9999999999999993E-3,1.2E-2,1.0999999999999999E-2,1.2999999999999999E-2]
["試料No.2",null,8.9999999999999993E-3,8.9999999999999993E-3,0.01,0.01,6.0000000000000001E-3,7.0000000000000001E-3,7.0000000000000001E-3,7.0000000000000001E-3,5.0000000000000001E-3,4.0000000000000001E-3,{"$f":"IF(COUNT(C48:L48)>1,AVERAGE(C48:L48),\"\")","v":7.4000000000000012E-3},{"$f":"IF(M48<>\"\",STDEV(C48:L48),\"\")","v":2.0655911179772888E-3},{"$f":"IF(M48<>\"\",N48/M48,\"\")","v":0.27913393486179572},null,null,0.3,{"$f":"(R48/Q46)^(1/Q47)","v":7.4071174606272789E-3},null,null,null,-1.6335916094525485E-3,-1.7355795733997574,3.3910159423686843,8.8472993633464447E-2,4.3045255280741452E-3,-1.3615960852408779,0.15788132242342401,0.10844965001731299,null,null,8.0000000000000002E-3,1.2999999999999999E-2,0.02,1.7000000000000001E-2,1.8000000000000002E-2,1.9000000000000003E-2,2.0999999999999991E-2,2.3999999999999994E-2,1.7000000000000001E-2,1.7000000000000001E-2,null,null,null,1.4999999999999999E-2,1.4999999999999999E-2,1.7999999999999999E-2,1.7000000000000001E-2,1.4999999999999999E-2,1.4E-2,8.9999999999999993E-3,1.4E-2,1.4E-2,1.0999999999999999E-2]
["試料No.3",null,0.01,1.0999999999999999E-2,1.0999999999999999E-2,1.0999999999999999E-2,8.0000000000000002E-3,8.9999999999999993E-3,1.2E-2,8.9999999999999993E-3,8.9999999999999993E-3,7.0000000000000001E-3,9.6999999999999986E-3,1.5670212364724209E-3,0.16154858107963105,null,null,null,null,null,null,null,-1.4335916094525484E-3,-1.6078189903915183,4.1984140186955425,0.10953833985434965,4.5045255280741457E-3,-1.2738634988227797,0.17723055750934941,0.12174075843318721,null,null,0.01,1.0999999999999999E-2,1.9000000000000003E-2,2.5999999999999995E-2,2.3E-2,3.2000000000000001E-2,2.1999999999999999E-2,2.8999999999999998E-2,null,null,null,null,null,1.7000000000000001E-2,1.7999999999999999E-2,1.7999999999999999E-2,1.7999999999999999E-2,1.9E-2,0.02,1.4999999999999999E-2,1.4999999999999999E-2,1.7000000000000001E-2,1.4E-2]
["試料No.4",null,1.2999999999999999E-2,1.2E-2,1.4999999999999999E-2,1.4999999999999999E-2,1.2E-2,1.2E-2,8.9999999999999993E-3,1.2E-2,1.0999999999999999E-2,1.2999999999999999E-2,1.2399999999999998E-2,1.776388345929897E-3,0.14325712467176591,null,null,null,null,null,null,null,-1.2335916094525484E-3,-1.4800584073832788,5.1138950147924067,0.13342361368254016,4.7045255280741454E-3,-1.1861309124046817,0.19742569898379975,0.13561292514256182,null,null,4.2999999999999997E-2,3.8000000000000006E-2,3.9000000000000007E-2,3.7000000000000005E-2,3.7000000000000005E-2,3.5000000000000003E-2,3.5000000000000003E-2,3.3000000000000002E-2,3.3000000000000002E-2,3.2000000000000001E-2,null,null,null,1.9E-2,1.9E-2,0.02,0.02,1.7000000000000001E-2,1.7000000000000001E-2,1.7999999999999999E-2,1.7000000000000001E-2,1.9E-2,1.7000000000000001E-2]
["試料No.5",null,1.4999999999999999E-2,1.4999999999999999E-2,1.7999999999999999E-2,1.7000000000000001E-2,1.4999999999999999E-2,1.4E-2,8.9999999999999993E-3,1.4E-2,1.4E-2,1.0999999999999999E-2,1.4200000000000001E-2,2.616188916046478E-3,0.18423865605961112,null,null,null,null,null,null,null,-1.0335916094525483E-3,-1.3522978243750396,6.1281510997593927,0.15988597000083743,4.904525528074145E-3,-1.0983983259865839,0.21823580124271993,0.14990751219163478,null,null,7.2999999999999995E-2,6.8000000000000005E-2,6.9000000000000006E-2,6.7000000000000004E-2,6.7000000000000004E-2,6.5000000000000002E-2,6.5000000000000002E-2,6.3E-2,6.3E-2,6.2E-2,null,null,null,8.9999999999999993E-3,5.0000000000000001E-3,5.0000000000000001E-3,8.9999999999999993E-3,3.0000000000000001E-3,5.0000000000000001E-3,5.0000000000000001E-3,5.0000000000000001E-3,6.0000000000000001E-3,4.0000000000000001E-3]
["試料No.6",null,1.7000000000000001E-2,1.7999999999999999E-2,1.7999999999999999E-2,1.7999999999999999E-2,1.9E-2,0.02,1.4999999999999999E-2,1.4999999999999999E-2,1.7000000000000001E-2,1.4E-2,1.7100000000000004E-2,1.9119507199599982E-3,0.11180998362339169,null,null,null,null,null,null,null,-8.3359160945254828E-4,-1.2245372413668003,7.224673658201624,0.18849469227780929,5.1045255280741456E-3,-1.0106657395684857,0.23938974548919575,0.16443828641370126,null,null,8.3000000000000004E-2,0.08,0.08,8.1000000000000003E-2,7.8E-2,0.08,7.6999999999999999E-2,7.6999999999999999E-2,7.6999999999999999E-2,7.2999999999999995E-2,null,null,null,8.0000000000000002E-3,1.0999999999999999E-2,8.9999999999999993E-3,8.9999999999999993E-3,8.0000000000000002E-3,1.0999999999999999E-2,7.0000000000000001E-3,4.0000000000000001E-3,6.0000000000000001E-3,7.0000000000000001E-3]
["試料No.7",null,1.9E-2,1.9E-2,0.02,0.02,1.7000000000000001E-2,1.7000000000000001E-2,1.7999999999999999E-2,1.7000000000000001E-2,1.9E-2,1.7000000000000001E-2,1.83E-2,1.251665557034572E-3,6.8397024974566775E-2,null,null,null,null,null,null,null,-6.335916094525483E-4,-1.096776658358561,8.3795002204445534,0.21862458987354461,5.3045255280741452E-3,-0.92293315315038771,0.26058074478938431,0.17899451397974048,null,null,0.109,0.129,"0..137",0.11899999999999999,0.12,0.13900000000000001,0.121,0.126,0.129,0.128,null,null,null,1.6E-2,1.2999999999999999E-2,1.6E-2,1.4E-2,1.4E-2,1.4E-2,1.0999999999999999E-2,1.2E-2,1.2999999999999999E-2,1.2E-2]
["試料No.8",null,8.9999999999999993E-3,5.0000000000000001E-3,5.0000000000000001E-3,8.9999999999999993E-3,3.0000000000000001E-3,5.0000000000000001E-3,5.0000000000000001E-3,5.0000000000000001E-3,6.0000000000000001E-3,4.0000000000000001E-3,5.5999999999999991E-3,1.9550504398153567E-3,0.34911614996702806,null,null,null,null,null,null,null,-4.3359160945254831E-4,-0.96901607535032164,9.561567854820705,0.24946521818903225,5.5045255280741449E-3,-0.83520056673228982,0.28147273400509598,0.19334534968235081,null,null,null,null,null,null,null,null,null,null,null,null,null,null,null,1.4999999999999999E-2,1.7999999999999999E-2,1.4999999999999999E-2,1.4E-2,1.2E-2,1.2999999999999999E-2,0.01,1.0999999999999999E-2,1.4999999999999999E-2,1.2999999999999999E-2]
["試料No.9",null,8.0000000000000002E-3,1.0999999999999999E-2,8.9999999999999993E-3,8.9999999999999993E-3,8.0000000000000002E-3,1.0999999999999999E-2,7.0000000000000001E-3,4.0000000000000001E-3,6.0000000000000001E-3,7.0000000000000001E-3,8.0000000000000019E-3,2.1602468994692866E-3,0.27003086243366076,null,null,null,null,null,null,null,-2.335916094525483E-4,-0.84125549234208241,10.733743641414916,0.28004776414787264,5.7045255280741454E-3,-0.74746798031419159,0.301708520007267,0.20724543536743939,null,null,null,null,null,null,null,null,null,null,null,null,null,null,null,1.6E-2,1.6E-2,1.7000000000000001E-2,1.4999999999999999E-2,1.4E-2,1.6E-2,1.2999999999999999E-2,1.4E-2,1.4999999999999999E-2,1.4999999999999999E-2]
["試料No.10",null,1.6E-2,1.2999999999999999E-2,1.6E-2,1.4E-2,1.4E-2,1.4E-2,1.0999999999999999E-2,1.2E-2,1.2999999999999999E-2,1.2E-2,1.3499999999999998E-2,1.6499158227686111E-3,0.12221598687174899,null,null,null,null,null,null,null,-3.3591609452548294E-5,-0.71349490933384307,11.854532684760601,0.30928960894648921,5.9045255280741459E-3,-0.65973539389609326,0.32091945786910203,0.22044154657071907,null,null,null,null,null,null,null,null,null,null,null,null,null,null,null,1.0999999999999999E-2,1.4999999999999999E-2,1.4E-2,1.0999999999999999E-2,1.4999999999999999E-2,1.0999999999999999E-2,1.0999999999999999E-2,8.9999999999999993E-3,8.9999999999999993E-3,8.9999999999999993E-3]
["試料No.11",null,1.4999999999999999E-2,1.7999999999999999E-2,1.4999999999999999E-2,1.4E-2,1.2E-2,1.2999999999999999E-2,0.01,1.0999999999999999E-2,1.4999999999999999E-2,1.2999999999999999E-2,1.3599999999999998E-2,2.3190036174568114E-3,0.17051497187182441,null,null,null,null,null,null,null,1.6640839054745172E-4,-0.58573432632560385,{"$f":"(1/(SQRT(2*3.1416)))*EXP(-(X57^2)/2)*($B$17*5/$AE$25)","v":12.880382813665667},0.33605445861573291,6.1045255280741456E-3,-0.57200280747799537,0.33873631426361966,0.23268005465220121,null,null,null,null,null,null,null,null,null,null,null,null,null,null,null,1.4999999999999999E-2,1.4E-2,1.2999999999999999E-2,0.01,0.01,1.2E-2,8.9999999999999993E-3,1.0999999999999999E-2,1.0999999999999999E-2,0.01]
["試料No.12",null,1.6E-2,1.6E-2,1.7000000000000001E-2,1.4999999999999999E-2,1.4E-2,1.6E-2,1.2999999999999999E-2,1.4E-2,1.4999999999999999E-2,1.4999999999999999E-2,1.5100000000000002E-2,1.1972189997378649E-3,7.9286026472706272E-2,null,null,null,null,null,null,null,{"$f":"W57+CEILING((MAXK1-MINk1)/((階級数k1-1)*5),0.00001)","v":3.6640839054745173E-4},-0.45797374331736457,13.768423491154316,0.35922380330210135,6.3045255280741452E-3,-0.48427022105989753,0.35480088793182513,0.24371490896715178,null,null,null,null,null,null,null,null,null,null,null,null,null,null,null,1.6E-2,1.7999999999999999E-2,1.6E-2,1.7999999999999999E-2,1.7000000000000001E-2,1.4E-2,1.2E-2,1.4E-2,1.2999999999999999E-2,1.2E-2]
["試料No.13",null,1.0999999999999999E-2,1.4999999999999999E-2,1.4E-2,1.0999999999999999E-2,1.4999999999999999E-2,1.0999999999999999E-2,1.0999999999999999E-2,8.9999999999999993E-3,8.9999999999999993E-3,8.9999999999999993E-3,1.1499999999999998E-2,2.368778400591983E-3,0.20598073048625942,null,null,null,null,null,null,null,5.6640839054745171E-4,-0.33021316030912529,14.47940690746951,0.37777365158774945,6.5045255280741458E-3,-0.39653763464179925,0.36877788632160313,0.25331579500228851,null,null,null,null,null,null,null,null,null,null,null,null,null,null,null,1.0999999999999999E-2,7.0000000000000001E-3,1.2999999999999999E-2,8.9999999999999993E-3,8.9999999999999993E-3,1.0999999999999999E-2,7.0000000000000001E-3,7.0000000000000001E-3,6.0000000000000001E-3,0.01]
["試料No.14",null,1.4999999999999999E-2,1.4E-2,1.2999999999999999E-2,0.01,0.01,1.2E-2,8.9999999999999993E-3,1.0999999999999999E-2,1.0999999999999999E-2,0.01,1.1499999999999998E-2,1.9578900207451217E-3,0.17025130615174974,null,null,null,null,null,null,null,7.6640839054745169E-4,-0.20245257730088598,14.980573613061022,0.39084929602784313,6.7045255280741454E-3,-0.30880504822370136,0.38036651371539837,0.26127609433185428,null,null,null,null,null,null,null,null,null,null,null,null,null,null,null,1.0999999999999999E-2,1.2999999999999999E-2,1.2999999999999999E-2,1.2999999999999999E-2,1.2E-2,1.2E-2,8.0000000000000002E-3,1.2E-2,1.2999999999999999E-2,8.0000000000000002E-3]
["試料No.15",null,1.6E-2,1.7999999999999999E-2,1.6E-2,1.7999999999999999E-2,1.7000000000000001E-2,1.4E-2,1.2E-2,1.4E-2,1.2999999999999999E-2,1.2E-2,1.5000000000000003E-2,2.3094010767585028E-3,0.15396007178390014,null,null,null,null,null,null,null,9.6640839054745167E-4,-7.4691994292646696E-2,15.248152456257497,0.39783053754746722,6.9045255280741451E-3,-0.2210724618056035,0.38931121404943453,0.26742026392611684,null,null,null,null,null,null,null,null,null,null,null,null,null,null,null,null,null,null,null,null,null,0.05]
["試料No.16",null,1.0999999999999999E-2,7.0000000000000001E-3,1.2999999999999999E-2,8.9999999999999993E-3,8.9999999999999993E-3,1.0999999999999999E-2,7.0000000000000001E-3,7.0000000000000001E-3,6.0000000000000001E-3,0.01,9.0000000000000011E-3,2.2607766610417556E-3,0.25119740678241725,null,null,null,null,null,null,null,1.1664083905474517E-3,5.3068588715592578E-2,15.269229426922495,0.39838044433739361,7.1045255280741456E-3,-0.13333987538750522,0.39541103364885283,0.27161026747163763]
["試料No.17",null,1.0999999999999999E-2,1.2999999999999999E-2,1.2999999999999999E-2,1.2999999999999999E-2,1.2E-2,1.2E-2,8.0000000000000002E-3,1.2E-2,1.2999999999999999E-2,8.0000000000000002E-3,1.15E-2,1.9578900207451217E-3,0.17025130615174972,null,null,null,null,null,null,null,1.3664083905474517E-3,0.18082917172383192,15.04278083895055,0.39247230800821009,7.3045255280741453E-3,-4.5607288969407335E-2,0.39852712519524658,0.27375072989265781]
["試料No.18",null,null,null,null,null,null,null,null,null,null,null,"","","",null,null,null,null,null,null,null,1.5664083905474518E-3,0.30858975473207129,14.579755748659222,0.38039179391989708,7.5045255280741458E-3,4.2125297448690931E-2,0.39858800169879594,0.27379254633682532]
["試料No.19",null,null,null,null,null,null,null,null,null,null,null,"","","",null,null,null,null,null,null,null,1.7664083905474519E-3,0.43635033774031062,13.902198369180368,0.36271404461416351,7.7045255280741454E-3,0.12985788386678881,0.39559226285632976,0.27173475492729171]
["試料No.20",null,null,null,null,null,null,null,null,null,null,null,"","","",null,null,null,null,null,null,null,1.9664083905474518E-3,0.56411092074854985,13.041508428707973,0.34025829184922352,7.904525528074146E-3,0.21759047028488709,0.38960864859791278,0.26762457354419195]
[null,null,null,null,null,null,null,null,null,null,null,"最大試料番号",{"$f":"IF(COUNT(M47:M66)<>0,\"試料No.\"& COUNT(M47:M66),\"試料No.\"& 1)","v":"試料No.17"},null,null,null,null,null,null,null,null,null,2.1664083905474519E-3,0.69187150375678919,12.036030627895789,0.31402496455684054,8.1045255280741448E-3,0.3053230567029846,0.38077341696265671,0.26155559867143491]
[null,null,null,null,null,null,null,null,null,null,null,null,47,{"$f":"MIN(IF(M67=A47:A66,ROW(M47:M66)))","v":63},null,null,null,null,null,null,null,null,2.366408390547452E-3,0.81963208676502852,10.928230699669083,0.2851220110871816,8.304525528074147E-3,0.3930556431210836,0.36928518597836146,0.25366426225214972]
[null,null,null,null,null,null,null,null,null,null,null,null,{"$f":"\"M\"&M68&\":M\"&N68","v":"M47:M63"},{"$f":"\"O\"&M68&\":O\"&N68","v":"O47:O63"},null,null,null,null,null,null,null,null,2.5664083905474521E-3,0.94739266977326786,9.761746771883919,0.25468796805393451,8.5045255280741458E-3,0.4807882295391811,0.35539751221193139,0.24412473384938724]
[null,null,null,null,null,null,null,null,null,null,null,null,null,null,null,null,null,null,null,null,null,null,2.7664083905474522E-3,1.0751532527815073,8.5785983169144426,0.22381914068686548,8.7045255280741446E-3,0.56852081595727866,0.33940959316553582,0.23314253406494023]
[null,null,null,null,null,null,null,null,null,null,null,null,null,null,null,null,null,null,null,null,null,null,2.9664083905474523E-3,1.2029138357897466,7.4167944139104458,0.19350720141535405,8.9045255280741469E-3,0.65625340237537766,0.32165556930207267,0.22094718603493199]
[null,null,null,null,null,null,null,null,null,null,null,null,null,null,null,null,null,null,null,null,null,null,3.1664083905474523E-3,1.3306744187979858,6.308516764880844,0.16459178401445104,9.1045255280741456E-3,0.74398598879347522,0.30249295888925226,0.20778427125318855]
[null,null,null,null,null,null,null,null,null,null,null,null,null,null,null,null,null,null,null,null,null,null,3.3664083905474524E-3,1.4584350018062253,5.278972439586135,0.13773055124963471,9.3045255280741462E-3,0.83171857521157344,0.28229078224413678,0.19390727204187683]
[null,null,null,null,null,null,null,null,null,null,null,null,null,null,null,null,null,null,null,null,null,null,3.5664083905474525E-3,1.5861955848144644,4.3459291339794319,0.11338706957935202,9.5045255280741467E-3,0.91945116162967166,0.26141792116841467,0.17956957557610279]
[null,null,null,null,null,null,null,null,null,null,null,null,null,null,null,null,null,null,null,null,null,null,3.7664083905474526E-3,1.7139561678227042,3.5198730362126835,9.1834927943724137E-2,9.7045255280741455E-3,1.0071837480477692,0.240232216763411,0.1650169851060852]
[null,null,null,null,null,null,null,null,null,null,null,null,null,null,null,null,null,null,null,null,null,null,3.9664083905474523E-3,1.8417167508309431,2.8046745216083599,7.3175106018778455E-2,9.904525528074146E-3,1.0949163344658674,0.21907073900625343,0.15048103606926358]
[null,null,null,null,null,null,null,null,null,null,null,null,null,null,null,null,null,null,null,null,null,null,4.1664083905474519E-3,1.9694773338391822,2.198614321495544,5.7362747381318649E-2,1.0104525528074147E-2,1.1826489208839657,0.19824157078990465,0.13617335249693735]
[null,null,null,null,null,null,null,null,null,null,null,null,null,null,null,null,null,null,null,null,null,null,4.3664083905474516E-3,2.0972379168474213,1.6956130424067684,4.4239238167923363E-2,1.0304525528074145E-2,1.2703815073020632,0.1780173450264948,0.12228120761085225]
[null,null,null,null,null,null,null,null,null,null,null,null,null,null,null,null,null,null,null,null,null,null,4.5664083905474512E-3,2.2249984998556602,1.2865170814767242,3.3565757133930431E-2,1.0504525528074144E-2,1.3581140937201608,0.15863066376646348,0.10896437718800507]
[null,null,null,null,null,null,null,null,null,null,null,null,null,null,null,null,null,null,null,null,null,null,4.7664083905474509E-3,2.3527590828638996,0.96031890335487113,2.5055113177457792E-2,1.0704525528074146E-2,1.4458466801382597,0.14027142074540361,9.6353300401626846E-2]
[null,null,null,null,null,null,null,null,null,null,null,null,null,null,null,null,null,null,null,null,null,null,4.9664083905474506E-3,2.4805196658721385,0.70522307055792333,1.8399558507548819E-2,1.0904525528074145E-2,1.5335792665563572,0.1230859501635506,8.4548495112586081E-2]
[null,null,null,null,null,null,null,null,null,null,null,null,null,null,null,null,null,null,null,null,null,null,5.1664083905474502E-3,2.6082802488803778,0.50950524292468335,1.3293200291475148E-2,1.1104525528074144E-2,1.6213118529744548,0.1071778403658618,7.3621116791232621E-2]
[null,null,null,null,null,null,null,null,null,null,null,null,null,null,null,null,null,null,null,null,null,null,5.3664083905474499E-3,2.7360408318886167,0.36214451845593687,9.4484986860208162E-3,1.1304525528074143E-2,1.7090444393925524,9.2610185356308633E-2,6.3614505096392895E-2]
[null,null,null,null,null,null,null,null,null,null,null,null,null,null,null,null,null,null,null,null,null,null,5.5664083905474495E-3,2.8638014148968556,0.25323649103820361,6.6070436825295094E-3,1.1504525528074145E-2,1.7967770258106512,7.9409001934836326E-2,5.4546531127734152E-2]
[null,null,null,null,null,null,null,null,null,null,null,null,null,null,null,null,null,null,null,null,null,null,5.7664083905474492E-3,2.9915619979050949,0.17421348590478064,4.5453011402095981E-3,1.1704525528074144E-2,1.8845096122287488,6.7567516152586507E-2,4.6412541818182676E-2]
[null,null,null,null,null,null,null,null,null,null,null,null,null,null,null,null,null,null,null,null,null,null,5.9664083905474488E-3,3.1193225809133338,0.11790938307363387,3.0763040561562613E-3,1.1904525528074143E-2,1.9722421986468464,5.7051018647773406E-2,3.9188695093956637E-2]
[null,null,null,null,null,null,null,null,null,null,null,null,null,null,null,null,null,null,null,null,null,null,6.1664083905474485E-3,3.2470831639215731,7.8510198581167159E-2,2.0483632095169998E-3,1.2104525528074141E-2,2.0599747850649437,4.7802001882603813E-2,3.2835488674157323E-2]
[null,null,null,null,null,null,null,null,null,null,null,null,null,null,null,null,null,null,null,null,null,null,6.3664083905474482E-3,3.374843746929812,5.1429807313245708E-2,1.3418247192954014E-3,1.2304525528074144E-2,2.147707371483043,3.9745320058829303E-2,2.7301304448452107E-2]
[null,null,null,null,null,null,null,null,null,null,null,null,null,null,null,null,null,null,null,null,null,null,6.5664083905474478E-3,3.5026043299380509,{"$f":"(1/(SQRT(2*3.1416)))*EXP(-(X89^2)/2)*($B$17*5/$AE$25)","v":3.3144756370192673E-2},8.6476025744498352E-4,1.2504525528074142E-2,2.2354399579011406,3.2793150713399832E-2,2.2525816627601065E-2]
[null,null,null,null,null,null,null,null,null,null,null,null,null,null,null,null,null,null,null,null,null,null,{"$f":"W89+CEILING((MAXK1-MINk1)/((階級数k1-1)*5),0.00001)","v":6.7664083905474475E-3},{"$f":"((W90-$B$18)*(1/$B$19))","v":3.6303649129462903},2.1014829826678138E-2,{"$f":"(1/(SQRT(2*3.1416)))*EXP(-(X90^2)/2)","v":5.4828551002485658E-4},{"$f":"W90+$G$18+$K$29","v":1.2704525528074141E-2},{"$f":"((AA90-$L$32)*(1/$K$29))","v":2.3231725443192377},{"$f":"(1/(SQRT(2*3.1416)))*EXP(-(AB90^2)/2)","v":2.6849581687430221E-2},{"$f":"AC90*$AE$27","v":1.8443142560611407E-2}]
[null,null,null,null,null,null,null,null,null,null,null,null,null,null,null,null,null,null,null,null,null,null,6.9664083905474471E-3,3.7581254959545292,1.3108350234503635E-2,3.4200222191593918E-4,1.290452552807414E-2,2.4109051307373353,2.1814694489127921E-2,1.4984647621810957E-2]
[null,null,null,null,null,null,null,null,null,null,null,null,null,null,null,null,null,null,null,null,null,null,7.1664083905474468E-3,3.8858860789627685,8.0441712589361045E-3,2.0987572004194777E-4,1.3104525528074142E-2,2.4986377171554346,1.7588061636320228E-2,1.2081347556909393E-2]
[null,null,null,null,null,null,null,null,null,null,null,null,null,null,null,null,null,null,null,null,null,null,7.3664083905474464E-3,4.0136466619710074,4.8565257096839041E-3,1.2670874318965528E-4,1.3304525528074141E-2,2.5863703035735321,1.4071618590962346E-2,9.6658812324501263E-3]
[null,null,null,null,null,null,null,null,null,null,null,null,null,null,null,null,null,null,null,null,null,null,7.5664083905474461E-3,4.1414072449792467,2.8845707062916505E-3,7.5259630172883513E-5,1.350452552807414E-2,2.6741028899916293,1.1171908337999536E-2,7.6740524508160154E-3]
[null,null,null,null,null,null,null,null,null,null,null,null,null,null,null,null,null,null,null,null,null,null,7.7664083905474458E-3,4.2691678279874852,1.6855739004105719E-3,4.3977312844949351E-5,1.3704525528074139E-2,2.7618354764097268,8.8017272196384156E-3,6.0459604838983974E-3]
[null,null,null,null,null,null,null,null,null,null,null,null,null,null,null,null,null,null,null,null,null,null,7.9664083905474463E-3,4.3969284109957254,9.6900388828821866E-4,2.5281707988503731E-5,1.3904525528074141E-2,2.8495680628278262,6.8812237324493526E-3,4.726754843575094E-3]
[null,null,null,null,null,null,null,null,null,null,null,null,null,null,null,null,null,null,null,null,null,null,8.1664083905474468E-3,4.5246889940039647,5.4804264542809508E-4,1.4298656893355055E-5,1.410452552807414E-2,2.9373006492459233,5.3385176699029119E-3,3.6670605745212251E-3]
[null,null,null,null,null,null,null,null,null,null,null,null,null,null,null,null,null,null,null,null,null,null,8.3664083905474473E-3,4.6524495770122041,3.049399332213413E-4,7.9560076475593128E-6,1.4304525528074142E-2,3.0250332356640226,4.1099157853895594E-3,2.8231263944619635E-3]
[null,null,null,null,null,null,null,null,null,null,null,null,null,null,null,null,null,null,null,null,null,null,8.5664083905474479E-3,4.7802101600204443,1.6692652796323999E-4,4.355181425491031E-6,1.4504525528074141E-2,3.1127658220821202,3.1398029557336438E-3,2.1567499337218549E-3]
[null,null,null,null,null,null,null,null,null,null,null,null,null,null,null,null,null,null,null,null,null,null,8.7664083905474484E-3,4.9079707430286836,8.9897482977675225E-5,2.3454621194121194E-6,1.4704525528074143E-2,3.200498408500219,2.3802857539358272E-3,1.6350329031525608E-3]
[null,null,null,null,null,null,null,null,null,null,null,null,null,null,null,null,null,null,null,null,null,null,8.9664083905474489E-3,5.035731326036923,4.7630025789136705E-5,1.2426868643562042E-6,1.4904525528074142E-2,3.2882309949183166,1.7906595910362609E-3,1.2300150706060682E-3]
[null,null,null,null,null,null,null,null,null,null,null,null,null,null,null,null,null,null,null,null,null,null,9.1664083905474494E-3,5.1634919090451632,2.4827055420220775E-5,6.4774803582803308E-7,1.5104525528074144E-2,3.3759635813364155,1.3367623388739916E-3,9.1823026043833347E-4]
[null,null,null,null,null,null,null,null,null,null,null,null,null,null,null,null,null,null,null,null,null,null,9.36640839054745E-3,5.2912524920534025,1.2731533680250436E-5,3.3217092381176684E-7,1.5304525528074143E-2,3.4636961677545131,9.9026767392463135E-4,6.8022094705137454E-4]
[null,null,null,null,null,null,null,null,null,null,null,null,null,null,null,null,null,null,null,null,null,null,9.5664083905474505E-3,5.4190130750616419,6.4231393687588958E-6,1.6758233465635404E-7,1.5504525528074145E-2,3.5514287541726119,7.2796120545125394E-4,5.0004102287438653E-4]
[null,null,null,null,null,null,null,null,null,null,null,null,null,null,null,null,null,null,null,null,null,null,9.766408390547451E-3,5.5467736580698821,3.1880496771350356E-6,8.3177520714135924E-8,1.5704525528074144E-2,3.6391613405907095,5.3103249972197395E-4,3.6476948545069042E-4]
[null,null,null,null,null,null,null,null,null,null,null,null,null,null,null,null,null,null,null,null,null,null,9.9664083905474515E-3,5.6745342410781214,1.5567322670376827E-6,4.0615781904707776E-8,1.5904525528074146E-2,3.7268939270088088,3.8440692189921322E-4,2.640514755279064E-4]
[null,null,null,null,null,null,null,null,null,null,null,null,null,null,null,null,null,null,null,null,null,null,1.0166408390547452E-2,5.8022948240863608,7.4784894803145686E-7,1.95116850945157E-8,1.6104525528074145E-2,3.814626513426906,2.761331389963933E-4,1.8967754907719145E-4]
[null,null,null,null,null,null,null,null,null,null,null,null,null,null,null,null,null,null,null,null,null,null,1.0366408390547453E-2,5.930055407094601,3.534475368275399E-7,9.221590876291662E-9,1.6304525528074147E-2,3.9023590998450053,1.9683534822857509E-4,1.3520740958309707E-4]
[null,null,null,null,null,null,null,null,null,null,null,null,null,null,null,null,null,null,null,null,null,null,1.0566408390547453E-2,6.0578159901028403,1.6434146128178976E-7,4.2877359778915512E-9,1.6504525528074146E-2,3.9900916862631028,1.3923386803428602E-4,9.5640599072121621E-5]
[null,null,null,null,null,null,null,null,null,null,null,null,null,null,null,null,null,null,null,null,null,null,1.0766408390547454E-2,6.1855765731110797,7.51762125428359E-8,1.9613781494180784E-9,1.6704525528074148E-2,4.0778242726812017,9.7733604520751702E-5,6.7133813186463773E-5]
[null,null,null,null,null,null,null,null,null,null,null,null,null,null,null,null,null,null,null,null,null,null,1.0966408390547454E-2,6.3133371561193199,3.3831780284483749E-8,{"$f":"(1/(SQRT(2*3.1416)))*EXP(-(X111^2)/2)","v":8.8268499251793447E-10},{"$f":"W111+$G$18+$K$29","v":1.6904525528074147E-2},4.1655568590992988,6.8076963569257075E-5,4.676248437751831E-5]
[null,null,null,null,null,null,null,null,null,null,null,null,null,null,null,null,null,null,null,null,null,null,1.1166408390547455E-2,6.4410977391275592,1.4978915617138081E-8,3.9080603823571604E-10,1.7104525528074149E-2,4.2532894455173986,4.7055855070424482E-5,3.2322955846332619E-5]
[null,null,null,null,null,null,null,null,null,null,null,null,null,null,null,null,null,null,null,null,null,null,1.1366408390547455E-2,6.5688583221357986,6.5244966019783643E-9,1.7022678634921979E-10,1.7304525528074148E-2,4.3410220319354957,3.2276348411053521E-5,2.2170821952123965E-5]
[null,null,null,null,null,null,null,null,null,null,null,null,null,null,null,null,null,null,null,null,null,null,1.1566408390547456E-2,6.6966189051440388,2.7959201040968081E-9,7.2946699683353438E-11,1.750452552807415E-2,4.4287546183535946,2.1969104396986165E-5,1.5090712735843392E-5]
[null,null,null,null,null,null,null,null,null,null,null,null,null,null,null,null,null,null,null,null,null,null,1.1766408390547456E-2,6.8243794881522781,1.1787280461443374E-9,3.0753497091868178E-11,1.7704525528074149E-2,4.5164872047716926,1.4838757682388721E-5,1.019283378581591E-5]
[null,null,null,null,null,null,null,null,null,null,null,null,null,null,null,null,null,null,null,null,null,null,1.1966408390547457E-2,6.9521400711605175,4.8889274191123385E-10,1.2755411704831453E-11,1.7904525528074151E-2,4.6042197911897915,9.9458055820578166E-6,6.8318349375212678E-6]
[null,null,null,null,null,null,null,null,null,null,null,null,null,null,null,null,null,null,null,null,null,null,1.2166408390547457E-2,7.0799006541687577,1.994916282498312E-10,5.204818218503627E-12,1.8104525528074154E-2,4.6919523776078904,6.6151488464933229E-6,4.5439863702851413E-6]
[null,null,null,null,null,null,null,null,null,null,null,null,null,null,null,null,null,null,null,null,null,null,1.2366408390547458E-2,7.207661237176997,8.0084205774312915E-11,2.0894297013132427E-12,1.8304525528074152E-2,4.7796849640259875,4.3661284485077584E-6,2.9991204463147359E-6]
[null,null,null,null,null,null,null,null,null,null,null,null,null,null,null,null,null,null,null,null,null,null,1.2566408390547458E-2,7.3354218201852364,3.1628615613557219E-11,8.2520352465783326E-13,1.8504525528074151E-2,4.8674175504440855,2.8596351602774251E-6,1.9643009543431443E-6]
[null,null,null,null,null,null,null,null,null,null,null,null,null,null,null,null,null,null,null,null,null,null,1.2766408390547459E-2,7.4631824031934766,1.2289228126120128E-11,3.206309909008994E-13,1.8704525528074153E-2,4.9551501368621844,1.8585830867792366E-6,1.276672136991175E-6]
[null,null,null,null,null,null,null,null,null,null,null,null,null,null,null,null,null,null,null,null,null,null,1.2966408390547459E-2,7.5909429862017159,{"$f":"(1/(SQRT(2*3.1416)))*EXP(-(X121^2)/2)*($B$17*5/$AE$25)","v":4.6976444317950588E-12},1.2256346563094298E-13,1.8904525528074156E-2,5.0428827232802833,1.198700166539203E-6,8.2339450633828845E-7]
[null,null,null,null,null,null,null,null,null,null,null,null,null,null,null,null,null,null,null,null,null,null,{"$f":"W121+CEILING((MAXK1-MINk1)/((階級数k1-1)*5),0.00001)","v":1.316640839054746E-2},7.7187035692099553,1.7666348345913132E-12,4.6092225790090461E-14,1.9104525528074155E-2,5.1306153096983813,7.6717842886465412E-7,5.2697957449373255E-7]
[null,null,null,null,null,null,null,null,null,null,null,null,null,null,null,null,null,null,null,null,null,null,1.336640839054746E-2,7.8464641522181955,6.5361882241686795E-13,1.7053182555669875E-14,1.9304525528074153E-2,5.2183478961164784,4.872360715177319E-7,3.3468544993684972E-7]
[null,null,null,null,null,null,null,null,null,null,null,null,null,null,null,null,null,null,null,null,null,null,1.3566408390547461E-2,7.9742247352264348,2.3791039787598671E-13,6.2071796400680788E-15,1.9504525528074156E-2,5.3060804825345773,3.0707164477355691E-7,2.109293987075959E-7]
[null,null,null,null,null,null,null,null,null,null,null,null,null,null,null,null,null,null,null,null,null,null,1.3766408390547462E-2,8.101985318234675,8.5194863015823669E-14,2.2227688401658784E-15,1.9704525528074158E-2,5.3938130689526762,1.9204244650158257E-7,1.319151359507184E-7]
[null,null,null,null,null,null,null,null,null,null,null,null,null,null,null,null,null,null,null,null,null,null,1.3966408390547462E-2,8.2297459012429144,3.0014043467359521E-14,7.8307867663617003E-16,1.9904525528074157E-2,5.4815456553707742,1.1918235898284151E-7,8.1867094356243275E-8]
[null,null,null,null,null,null,null,null,null,null,null,null,null,null,null,null,null,null,null,null,null,null,1.4166408390547463E-2,8.3575064842511537,1.0402715419241058E-14,2.7141110236549621E-16,2.0104525528074155E-2,5.5692782417888713,7.3397954493349667E-8,5.0417505722700077E-8]
[null,null,null,null,null,null,null,null,null,null,null,null,null,null,null,null,null,null,null,null,null,null,1.4366408390547463E-2,8.4852670672593931,3.5471539788648818E-15,9.2546698901632672E-17,2.0304525528074158E-2,5.6570108282069702,4.4855238373062285E-8,3.0811338721596797E-8]
[null,null,null,null,null,null,null,null,null,null,null,null,null,null,null,null,null,null,null,null,null,null,1.4566408390547464E-2,8.6130276502676324,1.1899383928675844E-15,3.1045979625460148E-17,2.050452552807416E-2,5.74474341462507,2.7201923414943871E-8,1.8685168257184123E-8]
[null,null,null,null,null,null,null,null,null,null,null,null,null,null,null,null,null,null,null,null,null,null,1.4766408390547464E-2,8.7407882332758717,3.9271729297722815E-16,1.0246154884502193E-17,2.0704525528074159E-2,5.8324760010431671,1.6369796878540275E-8,1.1244514012689849E-8]
[null,null,null,null,null,null,null,null,null,null,null,null,null,null,null,null,null,null,null,null,null,null,1.4966408390547465E-2,8.8685488162841128,1.2751071659554964E-16,3.3268067768730094E-18,2.0904525528074158E-2,5.9202085874612642,9.7756174977404352E-9,6.7149316971757297E-9]
[null,null,null,null,null,null,null,null,null,null,null,null,null,null,null,null,null,null,null,null,null,null,1.5166408390547465E-2,8.9963093992923522,4.0730942529376805E-17,1.0626869588142929E-18,2.110452552807416E-2,6.007941173879364,5.7929841736246556E-9,3.9792364070812803E-9]
[null,null,null,null,null,null,null,null,null,null,null,null,null,null,null,null,null,null,null,null,null,null,1.5366408390547466E-2,9.1240699823005915,1.2800099511661983E-17,3.3395983441231969E-19,2.1304525528074162E-2,6.0956737602974629,3.4065731291577765E-9,2.3399960042438275E-9]
[null,null,null,null,null,null,null,null,null,null,null,null,null,null,null,null,null,null,null,null,null,null,1.5566408390547466E-2,9.2518305653088309,3.9574309376325995E-18,1.0325099265250733E-19,2.1504525528074161E-2,6.18340634671556,1.9878807275343881E-9,1.3654874805208797E-9]
[null,null,null,null,null,null,null,null,null,null,null,null,null,null,null,null,null,null,null,null,null,null,1.5766408390547465E-2,9.3795911483170702,1.2037171709099316E-18,3.140547358324024E-20,2.170452552807416E-2,6.271138933133658,1.1511188416517854E-9,7.9071060204743542E-10]
[null,null,null,null,null,null,null,null,null,null,null,null,null,null,null,null,null,null,null,null,null,null,1.5966408390547464E-2,9.5073517313253078,3.60202464092115E-19,9.3978296929266001E-21,2.1904525528074158E-2,6.3588715195517551,6.6146555584396136E-10,4.5436475276914683E-10]
[null,null,null,null,null,null,null,null,null,null,null,null,null,null,null,null,null,null,null,null,null,null,1.6166408390547463E-2,9.6351123143335471,1.0604251411664242E-19,2.7666925888189272E-21,2.2104525528074157E-2,6.4466041059698522,3.7718250330287574E-10,2.5908897802455935E-10]
[null,null,null,null,null,null,null,null,null,null,null,null,null,null,null,null,null,null,null,null,null,null,1.6366408390547461E-2,9.7628728973417847,3.0713157331707323E-20,8.0131884345364148E-22,2.2304525528074156E-2,6.5343366923879502,2.1342882586258859E-10,1.4660557128048023E-10]

{"sheet":"直線性","index":9,"n_rows":34,"n_cols":48,"rows_kept":34,"cut":false,"hidden":false,"merged":[[1,2,1,7],[0,2,0,3]]}
[null,"タイトル","ＣＲＰ－M",null,"測定回数＝",{"$f":"COUNT(C3:H3)","v":2},"解　説",null,null,null,null,null,null,"低値\n濃度","高値\n濃度","参考：混合比率と理論濃度"]
["計算利用","被検試料\n理論値","測定値",null,null,null,null,null,"平均","Ｙ推定値","理論値-平均","個　別\n偏差率(%)",null,0.5,50,"理論濃度",null,null,null,null,null,null,null,null,null,null,null,"測定値","x","x^2","x^3"]
[1,529,525,533,null,null,null,null,{"$f":"IF(A3<>0,AVERAGE(C3:H3),\"\")","v":529},{"$f":"IF(A3<>0,$B3*$B$17+$C$17,\"\")","v":555.05745253367536},{"$f":"IF(I3<>\"\",B3-I3,\"\")","v":0},{"$f":"IF(A3<>0,IF(B3<>0,K3/B3,\"\"),\"\")","v":0},null,10,0,{"$f":"$N$2*(N3/10)+$O$2*(O3/10)","v":0.5},null,{"$f":"IF($A3<>0,IF(C3<>\"\",($B3-$AG$14)*(C3-$AV$14),\"\"),\"\")","v":51080.719249999995},52977.119249999989,"","","","",{"$f":"IF(I3<>\"\",(I3-$AV$14)^2,\"\")","v":48173.665224999982},null,null,null,{"$f":"IF(I3<>\"\",I3,\"\")","v":529},{"$f":"IF(B3<>\"\",B3,\"\")","v":529},{"$f":"IF(B3<>\"\",B3^2,\"\")","v":279841},{"$f":"IF(B3<>\"\",B3^3,\"\")","v":148035889},null,{"$f":"IF(A3<>\"\",B3,#N/A)","v":529},{"$f":"IF($A3<>\"\",IF(C3<>\"\",C3-$B3,NA()))","v":-4},4,{"$error":"#N/A"},{"$error":"#N/A"},{"$error":"#N/A"},{"$error":"#N/A"},{"$f":"IF(I3<>\"\",I3-B3,)","v":0},null,{"$f":"IF($A3<>0,IF(C3<>\"\",C3,#N/A))","v":525},533,{"$error":"#N/A"},{"$error":"#N/A"},{"$error":"#N/A"},{"$error":"#N/A"}]
[1,476.1,483.3,510,null,null,null,null,496.65,{"$f":"IF(A4<>0,$B4*$B$17+$C$17,\"\")","v":500.26227962065525},{"$f":"IF(I4<>\"\",B4-I4,\"\")","v":-20.549999999999955},{"$f":"IF(A4<>0,IF(B4<>0,K4/B4,\"\"),\"\")","v":-4.316320100819146E-2},null,9,1,{"$f":"$N$2*(N4/10)+$O$2*(O4/10)","v":5.45},null,{"$f":"IF($A4<>0,IF(C4<>\"\",($B4-$AG$14)*(C4-$AV$14),\"\"),\"\")","v":32002.507750000001},{"$f":"IF($A4<>0,IF(D4<>\"\",($B4-$AG$14)*(D4-$AV$14),\"\"),\"\")","v":36919.312749999997},{"$f":"IF($A4<>0,IF(E4<>\"\",($B4-$AG$14)*(E4-$AV$14),\"\"),\"\")","v":""},{"$f":"IF($A4<>0,IF(F4<>\"\",($B4-$AG$14)*(F4-$AV$14),\"\"),\"\")","v":""},{"$f":"IF($A4<>0,IF(G4<>\"\",($B4-$AG$14)*(G4-$AV$14),\"\"),\"\")","v":""},{"$f":"IF($A4<>0,IF(H4<>\"\",($B4-$AG$14)*(H4-$AV$14),\"\"),\"\")","v":""},{"$f":"IF(I4<>\"\",(I4-$AV$14)^2,\"\")","v":35019.508224999976},null,null,null,{"$f":"IF(I4<>\"\",I4,\"\")","v":496.65},{"$f":"IF(B4<>\"\",B4,\"\")","v":476.1},{"$f":"IF(B4<>\"\",B4^2,\"\")","v":226671.21000000002},{"$f":"IF(B4<>\"\",B4^3,\"\")","v":107918163.08100002},null,{"$f":"IF(A4<>\"\",B4,#N/A)","v":476.1},{"$f":"IF($A4<>\"\",IF(C4<>\"\",C4-$B4,NA()))","v":7.1999999999999886},{"$f":"IF($A4<>\"\",IF(D4<>\"\",D4-$B4,NA()))","v":33.899999999999977},{"$f":"IF($A4<>\"\",IF(E4<>\"\",E4-$B4,NA()))","v":{"$error":"#N/A"}},{"$f":"IF($A4<>\"\",IF(F4<>\"\",F4-$B4,NA()))","v":{"$error":"#N/A"}},{"$f":"IF($A4<>\"\",IF(G4<>\"\",G4-$B4,NA()))","v":{"$error":"#N/A"}},{"$f":"IF($A4<>\"\",IF(H4<>\"\",H4-$B4,NA()))","v":{"$error":"#N/A"}},{"$f":"IF(I4<>\"\",I4-B4,)","v":20.549999999999955},null,{"$f":"IF($A4<>0,IF(C4<>\"\",C4,#N/A))","v":483.3},{"$f":"IF($A4<>0,IF(D4<>\"\",D4,#N/A))","v":510},{"$f":"IF($A4<>0,IF(E4<>\"\",E4,#N/A))","v":{"$error":"#N/A"}},{"$f":"IF($A4<>0,IF(F4<>\"\",F4,#N/A))","v":{"$error":"#N/A"}},{"$f":"IF($A4<>0,IF(G4<>\"\",G4,#N/A))","v":{"$error":"#N/A"}},{"$f":"IF($A4<>0,IF(H4<>\"\",H4,#N/A))","v":{"$error":"#N/A"}}]
[1,423.2,453.8,482.6,null,null,null,null,468.20000000000005,445.46710670763508,-45.000000000000057,-0.10633270321361073,null,8,2,10.4,null,18937.406249999996,22717.406249999996,"","","","",25180.929225,null,null,null,468.20000000000005,423.2,179098.23999999999,75794375.167999998,null,423.2,30.600000000000023,59.400000000000034,{"$error":"#N/A"},{"$error":"#N/A"},{"$error":"#N/A"},{"$error":"#N/A"},45.000000000000057,null,453.8,482.6,{"$error":"#N/A"},{"$error":"#N/A"},{"$error":"#N/A"},{"$error":"#N/A"}]
[1,370.3,383.5,399.4,null,null,null,null,391.45,390.67193379461497,-21.149999999999977,-5.7115852011882191E-2,null,7,3,15.35,null,5796.7247499999985,7042.489749999997,"","","","",6713.3442249999907,null,null,null,391.45,370.3,137122.09,50776309.927000001,null,370.3,13.199999999999989,29.099999999999966,{"$error":"#N/A"},{"$error":"#N/A"},{"$error":"#N/A"},{"$error":"#N/A"},21.149999999999977,null,383.5,399.4,{"$error":"#N/A"},{"$error":"#N/A"},{"$error":"#N/A"},{"$error":"#N/A"}]
[1,317.39999999999998,346.7,353.6,null,null,null,null,350.15,335.87676088159475,-32.75,-0.10318210459987398,null,6,4,20.3,null,946.35824999999818,1121.9632499999989,"","","","",1651.2032249999947,null,null,null,350.15,317.39999999999998,100742.75999999998,31975752.023999993,null,317.39999999999998,29.300000000000011,36.200000000000045,{"$error":"#N/A"},{"$error":"#N/A"},{"$error":"#N/A"},{"$error":"#N/A"},32.75,null,346.7,353.6,{"$error":"#N/A"},{"$error":"#N/A"},{"$error":"#N/A"},{"$error":"#N/A"}]
[1,264.5,287.60000000000002,296.5,null,null,null,null,292.05,281.08158796857464,-27.550000000000011,-0.10415879017013237,null,5,5,25.25,null,601.5667500000003,357.26175000000103,"","","","",305.02622500000109,null,null,null,292.05,264.5,69960.25,18504486.125,null,264.5,23.100000000000023,32,{"$error":"#N/A"},{"$error":"#N/A"},{"$error":"#N/A"},{"$error":"#N/A"},27.550000000000011,null,287.60000000000002,296.5,{"$error":"#N/A"},{"$error":"#N/A"},{"$error":"#N/A"},{"$error":"#N/A"}]
[1,221.6,229.2,237.1,null,null,null,null,233.14999999999998,236.64467080470766,-11.549999999999983,-5.2120938628158767E-2,null,4,6,30.2,null,5650.1602500000035,5094.3952500000032,"","","","",5831.6132250000101,null,null,null,233.14999999999998,221.6,49106.559999999998,10882013.695999999,null,221.6,7.5999999999999943,15.5,{"$error":"#N/A"},{"$error":"#N/A"},{"$error":"#N/A"},{"$error":"#N/A"},11.549999999999983,null,229.2,237.1,{"$error":"#N/A"},{"$error":"#N/A"},{"$error":"#N/A"},{"$error":"#N/A"}]
[1,158.69999999999999,171.7,172.2,null,null,null,null,{"$f":"IF(A10<>0,AVERAGE(C10:H10),\"\")","v":171.95},171.49124214253433,-13.25,-8.3490863264020165E-2,null,3,7,35.15,null,18363.848750000008,18297.223750000008,"","","","",18924.129225000015,null,null,null,171.95,158.69999999999999,25185.689999999995,3996969.0029999991,null,158.69999999999999,13,13.5,{"$error":"#N/A"},{"$error":"#N/A"},{"$error":"#N/A"},{"$error":"#N/A"},13.25,null,171.7,172.2,{"$error":"#N/A"},{"$error":"#N/A"},{"$error":"#N/A"},{"$error":"#N/A"}]
[1,105.8,110,112.6,null,null,null,null,{"$f":"IF(A11<>0,AVERAGE(C11:H11),\"\")","v":111.3},116.69606922951421,-5.5,-5.1984877126654068E-2,null,2,8,40.1,null,37139.717250000002,36655.727250000004,"","","","",39289.186225000012,null,null,null,111.3,105.8,11193.64,1184287.112,null,105.8,4.2000000000000028,6.7999999999999972,{"$error":"#N/A"},{"$error":"#N/A"},{"$error":"#N/A"},{"$error":"#N/A"},5.5,null,110,112.6,{"$error":"#N/A"},{"$error":"#N/A"},{"$error":"#N/A"},{"$error":"#N/A"}]
[1,52.9,51,51.5,null,null,null,null,{"$f":"IF(A12<>0,AVERAGE(C12:H12),\"\")","v":51.25},61.900896316494062,1.6499999999999986,3.1190926275992414E-2,null,1,9,45.05,null,61798.010750000009,61678.485750000007,"","","","",66700.810225000023,null,null,null,51.25,52.9,2798.41,148035.889,null,52.9,-1.8999999999999986,-1.3999999999999986,{"$error":"#N/A"},{"$error":"#N/A"},{"$error":"#N/A"},{"$error":"#N/A"},-1.6499999999999986,null,51,51.5,{"$error":"#N/A"},{"$error":"#N/A"},{"$error":"#N/A"},{"$error":"#N/A"}]
[null,5.29,5.2,5.0999999999999996,null,null,null,null,{"$f":"IF(A13<>0,AVERAGE(C13:H13),\"\")","v":""},"","","",null,0,10,50,null,"","","","","","","",null,null,null,"",5.29,27.984100000000002,148.035889,null,{"$error":"#N/A"},false,false,false,false,false,false,0,null,false,false,false,false,false,false]
[null,{"$f":"AVERAGE(B3:B13)","v":265.89},{"$f":"AVERAGE(C3:C13)","v":276.99999999999994},286.69090909090903,{"$error":"#DIV/0!"},{"$error":"#DIV/0!"},{"$error":"#DIV/0!"},{"$error":"#DIV/0!"},{"$f":"AVERAGE(C3:H13)","v":281.84545454545463},null,null,null,null,null,null,null,null,{"$f":"SUM(R3:W13)","v":475178.40500000003},null,null,null,null,null,{"$f":"SUM(X3:X13)*F1","v":495578.83049999998},null,null,"count",{"$f":"COUNT(C3:C13)","v":11},{"$f":"COUNT(AC3:AC13)","v":11},{"$f":"COUNT(AD3:AD13)","v":11},{"$f":"COUNT(AE3:AE13)","v":11},null,{"$f":"AVERAGEIF(AG3:AG13,\">-1\")","v":291.95},null,null,null,null,null,null,null,null,{"$f":"AVERAGE(AP3:AP13)","v":304.17999999999995},314.84999999999997,{"$error":"#N/A"},{"$error":"#N/A"},{"$error":"#N/A"},{"$error":"#N/A"},{"$f":"AVERAGEIF(AP3:AU13,\">-9999\")","v":309.51500000000004}]
[]
[null,"傾き","切片",null,"Sxx =",{"$f":"AG27","v":458743.65000000008},null,null,null,null,null,null,null,null,null,null,null,{"$f":"IF($A3<>0,IF(C3<>\"\",(C3-$AV$14)^2,\"\"),\"\")","v":46433.785224999978},49945.54522499998,"","","","",null,null,null,null,null,null,null,null,null,{"$f":"IFERROR((AG3-$AG$14)^2,\"\")","v":56192.702500000007}]
[null,{"$f":"SLOPE(I3:I13,B3:B13)","v":1.0358255749153147},{"$f":"INTERCEPT(I3:I13,B3:B13)","v":7.1057234034739167},null,"Syy =",{"$f":"$R$27","v":496606.64549999998},null,null,null,null,null,null,null,null,null,null,null,{"$f":"IF($A4<>0,IF(C4<>\"\",(C4-$AV$14)^2,\"\"),\"\")","v":30201.226224999988},{"$f":"IF($A4<>0,IF(D4<>\"\",(D4-$AV$14)^2,\"\"),\"\")","v":40194.235224999982},{"$f":"IF($A4<>0,IF(E4<>\"\",(E4-$AV$14)^2,\"\"),\"\")","v":""},{"$f":"IF($A4<>0,IF(F4<>\"\",(F4-$AV$14)^2,\"\"),\"\")","v":""},{"$f":"IF($A4<>0,IF(G4<>\"\",(G4-$AV$14)^2,\"\"),\"\")","v":""},{"$f":"IF($A4<>0,IF(H4<>\"\",(H4-$AV$14)^2,\"\"),\"\")","v":""},null,null,null,null,null,null,null,null,null,{"$f":"IFERROR((AG4-$AG$14)^2,\"\")","v":33911.222500000011}]
[null,null,null,null,"Sxy =",{"$f":"$R$14","v":475178.40500000003},null,null,null,null,null,null,null,null,null,null,null,20818.161224999993,29958.417224999994,"","","","",null,null,null,null,null,null,null,null,null,17226.5625]
[null,null,null,null,null,null,null,null,null,null,null,null,null,null,null,null,null,5473.7802249999941,8079.3132249999881,"","","","",null,null,null,null,null,null,null,null,null,6138.7225000000035]
[null,"分散分析表",null,null,null,null,null,null,null,null,null,null,null,null,null,null,null,1382.7242249999958,1943.4872249999983,"","","","",null,null,null,null,null,null,"実測多項式",null,null,647.70249999999942]
[null,"変動要因","変動","自由度","分散","F値","有意確率",null,null,null,null,null,null,null,null,null,null,480.26722500000091,169.39022500000112,"","","","",null,null,null,null,null,"a",{"$f":"INDEX(LINEST(直線性回帰測定値,直線性計算範囲),4)","v":-0.34739067268980506},{"$f":"AD21","v":-0.34739067268980506},null,753.50249999999937]
[null,"回帰変動 SB",{"$f":"F18^2/F16","v":492201.94454646733},1,{"$f":"C22","v":492201.94454646733},null,null,null,null,null,null,null,null,null,null,null,null,6450.4992250000087,5243.9322250000068,"","","","",null,null,null,null,null,"b",{"$f":"INDEX(LINEST(直線性回帰測定値,直線性計算範囲),3)","v":0.96719056472910425},{"$f":"AD22*C32","v":38.687622589164171},null,4949.1224999999995]
[null,"残差変動 SL",{"$f":"C24-C22","v":3376.8859535326483},{"$f":"COUNT(AG3:AG13)-2","v":8},{"$f":"C23/D23","v":422.11074419158103},{"$f":"E23/E25","v":4.1068747215362693},{"$f":"IF(F23<0,\"計算不能、空白データを確認\",FDIST(F23,D24,D25))","v":1.8997863595923477E-2},null,null,null,null,null,null,null,null,null,null,18992.974225000016,18855.409225000014,"","","","",null,null,null,null,null,"c",{"$f":"INDEX(LINEST(直線性回帰測定値,直線性計算範囲),2)","v":7.8265665924007492E-4},{"$f":"AD23*C32^2","v":1.2522506547841199},null,17755.5625]
[null,"級間変動",{"$f":"X14","v":495578.83049999998},{"$f":"COUNT(AG3:AG13)-1","v":9},{"$f":"C24/D24","v":55064.3145},null,null,null,null,null,null,null,null,null,null,null,null,39806.235225000019,38775.517225000018,"","","","",null,null,null,null,null,"d",{"$f":"INDEX(LINEST(直線性回帰測定値,直線性計算範囲),1)","v":-1.3905215837657499E-6},{"$f":"AD24*C32^3","v":-8.8993381361007998E-2},null,34651.822499999995]
[null,"純誤差変動 SE",{"$f":"F17-X14","v":1027.8150000000023},{"$f":"COUNT(AG3:AG13)*F1-COUNT(AG3:AG13)","v":10},{"$f":"C25/D25","v":102.78150000000024},null,null,null,null,null,null,null,null,null,null,null,null,66830.005225000015,66571.740225000016,"","","","",null,null,null,null,null,null,null,null,null,57144.902499999989]
[null,"総変動 Syy",{"$f":"C22+C23+C25","v":496606.64549999998},{"$f":"COUNT(AG3:AG13)*F1-1","v":19},{"$f":"C26/D26","v":26137.19186842105},null,null,null,null,null,null,null,null,null,null,null,null,"","","","","","",null,null,null,null,null,null,null,null,null,""]
[null,null,null,null,null,null,null,null,null,null,null,null,null,null,null,null,null,{"$f":"SUM(R16:W26)","v":496606.64549999998},null,null,null,null,null,null,null,null,null,null,null,null,null,"Sxx =",{"$f":"SUM(AG16:AG26)*F1","v":458743.65000000008}]
[null,"直線性の判定 (有意確率0.001以下のとき有意差ありと判定）"]
[{"$f":"IF(G23>0.001,\"　残差変動の分散と級内変動の分散比の有意確率より、「測定範囲内で直線性がある」\",\"　残差変動の分散と級内変動の分散比の有意確率より、「測定範囲内に直線性が認められない」\")","v":"　残差変動の分散と級内変動の分散比の有意確率より、「測定範囲内で直線性がある」"}]
[null,{"$f":"IF(G23>0.001,\"\",\"解説の「結果の解釈」を参考に調整して下さい。\")","v":""}]
[]
[null,"X=",40]
[null,"Y=",{"$f":"SUM(AE21:AE25)","v":39.503489189897479}]
[null,"推定偏差率%",{"$f":"((C32*B17+C17)-C33)/C33","v":0.22872048508817994}]

{"sheet":"New直線性","index":10,"n_rows":52,"n_cols":63,"rows_kept":52,"cut":false,"hidden":false,"merged":[[1,48,1,61],[16,32,16,33],[9,15,13,15],[17,2,18,4],[16,6,16,8],[1,4,1,5],[2,4,2,9],[23,32,23,33],[1,16,1,17],[1,18,1,19],[1,23,1,24],[3,15,5,15],[6,15,8,15]]}
[null,null,null,null,null,null,null,null,null,null,null,null,null,null,null,null,null,null,null,null,null,null,null,null,null,null,null,null,null,null,null,null,null,null,null,null,null,{"$f":"LINEST(_xlfn._xlws.FILTER(N4:N14,N4:N14<>\"\"),_xlfn._xlws.FILTER(K4:K14,K4:K14<>\"\"),FALSE)","v":9.441743234578321E-3},0,"←LINEST(FILTER(AC16:AC26,AC16:AC26<>\"\"),FILTER(AD16:AD26,AD16:AD26<>\"\"),FALSE)"]
[null,null,null,"タイトル","ＣＲＰ－M",null,"測定回数＝",{"$f":"COUNT(E4:J4)","v":3},"解　説",null,null,null,null,null,null,null,"繰り返し(R)＞２",null,"繰り返し(R)＝２",null,null,"高値\n濃度","低値\n濃度","参考：\n混合比率と理論濃度",null,null,null,null,null,null,null,null,null,null,null,null,null,{"$f":"SUM(AL4:AL14)","v":3.1415826989186932},{"$f":"SUM(AM4:AM14)","v":39906.512522918405},null,{"$f":"SUM(AO4:AO14)","v":29014.256015249121},{"$f":"SUM(AP4:AP14)","v":124403.56634136845},{"$f":"SUM(AQ4:AQ14)","v":253688.64114832488},26446.406415843161,123802.03772470863,256179.02747778484,null,null,"グラフ用のデータ"]
[null,"計算利用","希釈\n倍率","被検試料\n理論値\n(x)","測定値\n(y)",null,null,null,null,null,"平均\n(y)","Ｙ推定値\n繰り返し(R)＞２","Ｙ推定値\n繰り返し(R)＝２","SD","Var","Avarage Var","平均ー\n推定値","個　別\n偏差率(%)","平均ー\n推定値","個　別\n偏差率(%)",null,60,0,"混合比率","理論濃度",null,null,null,null,null,null,null,null,null,null,null,"平均","Sigma Value (based on precision profile)","Weight\n(based on precision profile\nand SD ofthe LOW pool)","Weight\nデータをまとめた重み\nn=2","wx","Product2\nwx2","Product2\nwx2\nn=2","wy","Product1\nwxy","Product1\nwxy\nn=2",null,"Ｙ推定値\n繰り返し(R)＞２",null,null,null,null,null,null,"平均ー\n理論値"]
[null,1,1,60,60,59.3,59.4,null,null,null,{"$f":"IF(B4<>0,AVERAGE(E4:J4),\"\")","v":59.566666666666663},{"$f":"IF(B4<>0,D4*$H$19,\"\")","v":59.709881974761466},{"$f":"IF(B4<>0,D4*$H$20,\"\")","v":60.589002247366032},{"$f":"IF(B4<>0,_xlfn.STDEV.S(E4:J4),\"\")","v":0.37859388972001956},{"$f":"IF(B4<>0,N4^2,\"\")","v":0.14333333333333434},{"$f":"AVERAGE(O4:O6)","v":0.25666666666666638},{"$f":"IF(K4<>\"\",K4-L4,\"\")","v":-0.14321530809480265},{"$f":"IF(B4<>0,IF(L4<>0,Q4/L4,\"\"),\"\")","v":-2.3985193632661637E-3},{"$f":"IF(K4<>\"\",K4-M4,\"\")","v":-1.0223355806993695},{"$f":"IF(B4<>0,IF(M4<>0,S4/M4,\"\"),\"\")","v":-1.6873286285941657E-2},null,10,0,{"$f":"V4/(V4+W4)","v":1},{"$f":"$V$3*(V4/10)+$W$3*(W4/10)","v":60},null,{"$f":"IF($B4<>0,IF(E4<>\"\",($D4-$AV$15)*(E4-$BK$15),\"\"),\"\")","v":895.24621681338124},{"$f":"IF($B4<>0,IF(F4<>\"\",($D4-$AV$15)*(F4-$BK$15),\"\"),\"\")","v":874.18267270216802},{"$f":"IF($B4<>0,IF(G4<>\"\",($D4-$AV$15)*(G4-$BK$15),\"\"),\"\")","v":877.19175043234134},{"$f":"IF($B4<>0,IF(H4<>\"\",($D4-$AV$15)*(H4-$BK$15),\"\"),\"\")","v":""},{"$f":"IF($B4<>0,IF(I4<>\"\",($D4-$AV$15)*(I4-$BK$15),\"\"),\"\")","v":""},{"$f":"IF($B4<>0,IF(J4<>\"\",($D4-$AV$15)*(J4-$BK$15),\"\"),\"\")","v":""},{"$f":"IF(K4<>\"\",(K4-$BK$15)^2,\"\")","v":859.55578512396687},null,null,null,{"$f":"IF(K4<>\"\",K4,\"\")","v":59.566666666666663},{"$f":"IF(B4<>0,AK4*$AL$1,\"\")","v":0.56241317200638197},{"$f":"IF(B4<>0,1/AL4^2,\"\")","v":3.1614697663261793},{"$f":"2/$P$4","v":7.792207792207801},{"$f":"IF(B4<>0,AM4*D4,\"\")","v":189.68818597957076},{"$f":"IF(B4<>0,AM4*D4^2,\"\")","v":11381.291158774246},{"$f":"IF(B4<>0,AN4*D4^2,\"\")","v":28051.948051948082},{"$f":"IF(B4<>0,AM4*K4,\"\")","v":188.31821574749605},{"$f":"IF(B4<>0,AM4*D4*K4,\"\")","v":11299.092944849765},{"$f":"IF(B4<>0,AN4*D4*K4,\"\")","v":27849.350649350679},null,{"$f":"IF(B4<>\"\",L4,#N/A)","v":59.709881974761466},{"$f":"IF($B4<>\"\",IF(E4<>\"\",E4-$L4,NA()))","v":0.29011802523853447},-0.40988197476146837,-0.30988197476146695,{"$error":"#N/A"},{"$error":"#N/A"},{"$error":"#N/A"},{"$f":"IF(K4<>\"\",K4-L4,\"\")","v":-0.14321530809480265},null,{"$f":"IF($B4<>0,IF(E4<>\"\",E4,#N/A))","v":60},{"$f":"IF($B4<>0,IF(F4<>\"\",F4,#N/A))","v":59.3},{"$f":"IF($B4<>0,IF(G4<>\"\",G4,#N/A))","v":59.4},{"$f":"IF($B4<>0,IF(H4<>\"\",H4,#N/A))","v":{"$error":"#N/A"}},{"$f":"IF($B4<>0,IF(I4<>\"\",I4,#N/A))","v":{"$error":"#N/A"}},{"$f":"IF($B4<>0,IF(J4<>\"\",J4,#N/A))","v":{"$error":"#N/A"}}]
[null,1,0.9,54,54.3,54,55.1,null,null,null,54.466666666666669,53.73889377728532,54.530102022629428,{"$f":"IF(B5<>0,_xlfn.STDEV.S(E5:J5),\"\")","v":0.56862407030773388},{"$f":"IF(B5<>0,N5^2,\"\")","v":0.32333333333333469},null,{"$f":"IF(K5<>\"\",K5-L5,\"\")","v":0.72777288938134888},{"$f":"IF(B5<>0,IF(L5<>0,Q5/L5,\"\"),\"\")","v":1.3542759037756157E-2},{"$f":"IF(K5<>\"\",K5-M5,\"\")","v":-6.3435355962759843E-2},{"$f":"IF(B5<>0,IF(M5<>0,S5/M5,\"\"),\"\")","v":-1.1633089543172839E-3},null,9,1,{"$f":"V5/(V5+W5)","v":0.9},{"$f":"$V$3*(V5/10)+$W$3*(W5/10)","v":54},null,579.41969528441155,572.19246209389166,598.69231712579813,"","","",586.52033057851258,null,null,null,{"$f":"IF(K5<>\"\",K5,\"\")","v":54.466666666666669},0.51426028151003256,{"$f":"IF(B5<>0,1/AL5^2,\"\")","v":3.7812381725478867},{"$f":"2/$P$4","v":7.792207792207801},{"$f":"IF(B5<>0,AM5*D5,\"\")","v":204.18686131758588},{"$f":"IF(B5<>0,AM5*D5^2,\"\")","v":11026.090511149638},{"$f":"IF(B5<>0,AN5*D5^2,\"\")","v":22722.077922077948},{"$f":"IF(B5<>0,AM5*K5,\"\")","v":205.95143913144156},{"$f":"IF(B5<>0,AM5*D5*K5,\"\")","v":11121.377713097845},{"$f":"IF(B5<>0,AN5*D5*K5,\"\")","v":22918.441558441584},null,{"$f":"IF(B5<>\"\",L5,#N/A)","v":53.73889377728532},{"$f":"IF($B5<>\"\",IF(E5<>\"\",E5-$L5,NA()))","v":0.56110622271467747},{"$f":"IF($B5<>\"\",IF(F5<>\"\",F5-$L5,NA()))","v":0.26110622271468031},{"$f":"IF($B5<>\"\",IF(G5<>\"\",G5-$L5,NA()))","v":1.3611062227146817},{"$f":"IF($B5<>\"\",IF(H5<>\"\",H5-$L5,NA()))","v":{"$error":"#N/A"}},{"$f":"IF($B5<>\"\",IF(I5<>\"\",I5-$L5,NA()))","v":{"$error":"#N/A"}},{"$f":"IF($B5<>\"\",IF(J5<>\"\",J5-$L5,NA()))","v":{"$error":"#N/A"}},{"$f":"IF(K5<>\"\",K5-L5,\"\")","v":0.72777288938134888},null,54.3,54,55.1,{"$error":"#N/A"},{"$error":"#N/A"},{"$error":"#N/A"}]
[null,1,0.8,48,48.8,47.7,48.2,null,null,null,48.233333333333327,47.767905579809167,48.471201797892832,0.55075705472860725,0.30333333333333007,null,0.46542775352416044,9.7435243993802042E-3,-0.23786846455950439,-4.907418337827249E-3,null,8,2,{"$f":"V6/(V6+W6)","v":0.8},48,null,335.61132921578843,315.7114741838821,324.75686283474863,"","","",323.45477502295671,null,null,null,48.233333333333327,0.45540674868116093,4.8217098819535442,7.792207792207801,231.44207433377011,11109.219568020966,17953.246753246774,232.56713997289259,11163.222718698844,18040.519480519499,null,47.767905579809167,1.0320944201908304,-6.7905579809163896E-2,0.4320944201908361,{"$error":"#N/A"},{"$error":"#N/A"},{"$error":"#N/A"},0.46542775352416044,null,48.8,47.7,48.2,{"$error":"#N/A"},{"$error":"#N/A"},{"$error":"#N/A"}]
[null,1,0.7,42,42.5,42,42.9,null,null,null,42.466666666666669,41.796917382333021,42.412301573156228,0.45092497528228875,0.20333333333333273,{"$f":"AVERAGE(O7:O9)","v":0.1388888888888887},0.66974928433364767,1.6023891862818128E-2,5.4365093510440943E-2,1.2818237043011578E-3,null,7,3,0.7,42,null,148.13034130577887,142.08495265491231,152.96665222647209,"","","",149.28396694214885,null,null,null,42.466666666666669,0.40095936269509269,6.22012742855126,{"$f":"2/$P$7","v":14.40000000000002},261.24535199915294,10972.304783964422,25401.600000000035,264.14807813247683,11094.219281564028,25683.840000000037,null,41.796917382333021,0.7030826176669791,0.2030826176669791,1.1030826176669777,{"$error":"#N/A"},{"$error":"#N/A"},{"$error":"#N/A"},0.66974928433364767,null,42.5,42,42.9,{"$error":"#N/A"},{"$error":"#N/A"},{"$error":"#N/A"}]
[null,1,0.6,36,36.299999999999997,36.200000000000003,36.700000000000003,null,null,null,36.4,35.825929184856875,36.353401348419624,0.26457513110646014,7.0000000000000576E-2,null,0.57407081514312353,1.6023891862818045E-2,4.6598651580374906E-2,1.2818237043010741E-3,null,6,4,0.6,36,null,36.858431125942559,36.249353395769283,39.294742046635847,"","","",37.841138659320485,null,null,null,36.4,0.34367945373865089,8.4662845555281034,{"$f":"2/$P$7","v":14.40000000000002},304.78624399901173,10972.304783964422,18662.400000000027,308.17275782122294,11094.219281564026,18869.760000000028,null,35.825929184856875,0.4740708151431221,0.37407081514312779,0.87407081514312779,{"$error":"#N/A"},{"$error":"#N/A"},{"$error":"#N/A"},0.57407081514312353,null,36.299999999999997,36.200000000000003,36.700000000000003,{"$error":"#N/A"},{"$error":"#N/A"},{"$error":"#N/A"}]
[null,1,0.5,30,30.4,29.8,30.5,null,null,null,30.233333333333334,29.854940987380733,30.294501123683016,0.37859388972001751,0.14333333333333279,null,0.37839234595260152,1.2674362548984528E-2,-6.1167790349681894E-2,-2.019105384833797E-3,null,5,5,0.5,30,null,1.3754136626230831E-2,-4.0712244413642795E-2,2.2831866799543264E-2,"","","",2.2956841138649861E-4,null,null,null,30.233333333333334,0.28545537045875125,12.272232198936928,14.40000000000002,368.16696596810783,11045.008979043236,12960.000000000018,371.03048681452645,11130.914604435793,13060.800000000017,null,29.854940987380733,0.54505901261926581,-5.4940987380732054E-2,0.64505901261926724,{"$error":"#N/A"},{"$error":"#N/A"},{"$error":"#N/A"},0.37839234595260152,null,30.4,29.8,30.5,{"$error":"#N/A"},{"$error":"#N/A"},{"$error":"#N/A"}]
[null,1,0.4,24,24.4,23.9,24.5,null,null,null,24.266666666666666,23.883952789904583,24.235600898946416,0.32145502536643233,0.10333333333333365,{"$f":"AVERAGE(O10:O12)","v":4.2222222222222432E-2},0.38271387676208235,1.6023891862818045E-2,3.1065767720249937E-2,1.2818237043010741E-3,null,4,6,0.4,24,null,34.559999417136581,37.514610766270017,33.969077147309882,"","","",35.782148760330564,null,null,null,24.266666666666666,0.22911963582576725,19.049140249938237,{"$f":"5/$P$10","v":118.42105263157836},457.17936599851771,10972.304783964424,68210.526315789131,462.25913673183453,11094.21928156403,68968.421052631224,null,23.883952789904583,0.51604721009541521,1.604721009541521E-2,0.61604721009541663,{"$error":"#N/A"},{"$error":"#N/A"},{"$error":"#N/A"},0.38271387676208235,null,24.4,23.9,24.5,{"$error":"#N/A"},{"$error":"#N/A"},{"$error":"#N/A"}]
[null,1,0.3,18,18.399999999999999,18.600000000000001,18.399999999999999,null,null,null,{"$f":"IF(B11<>0,AVERAGE(E11:J11),\"\")","v":18.466666666666665},17.912964592428438,18.176700674209812,0.1154700538379268,1.3333333333333714E-2,null,0.55370207423822748,3.0910688813188952E-2,0.28996599245685317,1.5952619656012395E-2,null,3,7,0.3,18,null,141.10624469764693,138.72440015799353,141.10624469764693,"","","",138.81123966942147,null,null,null,18.466666666666665,0.17435752506521299,32.894145454206573,{"$f":"5/$P$10","v":118.42105263157836},592.09461817571832,10657.703127162929,38368.421052631391,607.44521938768128,10934.013948978263,39363.157894736643,null,17.912964592428438,0.48703540757156105,0.68703540757156389,0.48703540757156105,{"$error":"#N/A"},{"$error":"#N/A"},{"$error":"#N/A"},0.55370207423822748,null,18.399999999999999,18.600000000000001,18.399999999999999,{"$error":"#N/A"},{"$error":"#N/A"},{"$error":"#N/A"}]
[null,1,0.2,12,12,11.9,12.1,null,null,null,{"$f":"IF(B12<>0,AVERAGE(E12:J12),\"\")","v":12},11.941976394952292,12.117800449473208,9.9999999999999645E-2,9.9999999999999291E-3,null,5.8023605047708315E-2,4.8587941500398621E-3,-0.11780044947320789,-9.7212732594824155E-3,null,2,8,0.2,12,null,326.81617905746401,328.60710132729065,325.02525678763737,"","","",333.00719926538102,null,null,null,12,0.11330091881493985,77.899224893698033,118.42105263157836,934.7906987243764,11217.488384692517,17052.631578947283,934.7906987243764,11217.488384692517,17052.631578947283,null,11.941976394952292,5.8023605047708315E-2,-4.1976394952291329E-2,0.15802360504770796,{"$error":"#N/A"},{"$error":"#N/A"},{"$error":"#N/A"},5.8023605047708315E-2,null,12,11.9,12.1,{"$error":"#N/A"},{"$error":"#N/A"},{"$error":"#N/A"}]
[null,1,0.1,6,6,6.1,6.2,null,null,null,{"$f":"IF(B13<>0,AVERAGE(E13:J13),\"\")","v":6.1000000000000005},5.9709881974761458,6.0589002247366039,0.10000000000000009,1.0000000000000018E-2,null,0.12901180252385469,2.1606440719207282E-2,4.1099775263396587E-2,6.7833721861929657E-3,null,1,9,0.1,6,null,579.76242433797438,577.37150206814772,574.98057979832095,"","","",583.1493204775021,null,null,null,6.1000000000000005,5.7594633730927762E-2,301.46434788208853,118.42105263157836,1808.7860872925312,10852.716523755187,4263.1578947368207,1838.9325220807402,11033.595132484441,4334.2105263157682,null,5.9709881974761458,2.9011802523854158E-2,0.1290118025238538,0.22901180252385434,{"$error":"#N/A"},{"$error":"#N/A"},{"$error":"#N/A"},0.12901180252385469,null,6,6.1,6.2,{"$error":"#N/A"},{"$error":"#N/A"},{"$error":"#N/A"}]
[null,1,1E-3,0.6,0.4,0.7,0.5,null,null,null,{"$f":"IF(B14<>0,AVERAGE(E14:J14),\"\")","v":0.53333333333333333},0.59709881974761458,0.60589002247366031,0.15275252316519425,2.3333333333333206E-2,null,-6.3765486414281258E-2,-0.10679218297774236,-7.255668914032698E-2,-0.11975224289731759,null,0.1,10,9.9009900990099011E-3,0.6,null,874.83588963008697,866.04312282060698,871.90496736026034,"","","",882.99022956841111,null,null,null,0.53333333333333333,5.0355963917751044E-3,39436.482602434633,118.42105263157836,23661.889561460779,14197.133736876467,42.631578947368212,21032.790721298472,12619.674432779082,37.894736842105075,null,0.59709881974761458,-0.19709881974761456,0.10290118025238537,-9.7098819747614584E-2,{"$error":"#N/A"},{"$error":"#N/A"},{"$error":"#N/A"},-6.3765486414281258E-2,null,0.4,0.7,0.5,{"$error":"#N/A"},{"$error":"#N/A"},{"$error":"#N/A"}]
[null,null,null,{"$f":"AVERAGE(D4:D14)","v":30.054545454545458},{"$f":"AVERAGE(E4:E14)","v":30.318181818181809},30.018181818181816,30.40909090909091,{"$error":"#DIV/0!"},{"$error":"#DIV/0!"},{"$error":"#DIV/0!"},{"$f":"AVERAGE(E4:J14)","v":30.248484848484846},null,null,null,null,null,null,null,null,null,null,null,null,null,null,null,{"$f":"SUM(AA4:AF14)","v":11780.912727272729},null,null,null,null,null,{"$f":"SUM(AG4:AG14)*H2","v":11791.189090909091},null,null,"count",{"$f":"COUNT(E4:E14)","v":11},null,null,null,null,null,null,null,null,null,null,{"$f":"AVERAGEIF(AV4:AV14,\">-1\")","v":29.909222698266877},null,null,null,null,null,null,null,null,{"$f":"AVERAGE(BE4:BE14)","v":30.318181818181809},30.018181818181816,30.40909090909091,{"$error":"#N/A"},{"$error":"#N/A"},{"$error":"#N/A"},{"$f":"AVERAGEIF(BE4:BJ14,\">-9999\")","v":30.248484848484846}]
[]
[null,null,"反復回数の計算",null,null,null,"切片なしの重み付回帰",null,null,null,null,null,null,null,null,null,null,null,null,null,null,null,null,null,null,null,{"$f":"IF($B4<>0,IF(E4<>\"\",(E4-$BK$15)^2,\"\"),\"\")","v":885.15265381083577},{"$f":"IF($B4<>0,IF(F4<>\"\",(F4-$BK$15)^2,\"\"),\"\")","v":843.99053259871437},{"$f":"IF($B4<>0,IF(G4<>\"\",(G4-$BK$15)^2,\"\"),\"\")","v":849.81083562901745},{"$f":"IF($B4<>0,IF(H4<>\"\",(H4-$BK$15)^2,\"\"),\"\")","v":""},{"$f":"IF($B4<>0,IF(I4<>\"\",(I4-$BK$15)^2,\"\"),\"\")","v":""},{"$f":"IF($B4<>0,IF(J4<>\"\",(J4-$BK$15)^2,\"\"),\"\")","v":""},"行列",null,null,null,null,null,null,null,null,null,null,null,null,null,null,{"$f":"IF(B4<>\"\",M4,#N/A)","v":60.589002247366032},{"$f":"IF($B4<>\"\",IF(E4<>\"\",E4-$M4,NA()))","v":-0.58900224736603235},{"$f":"IF($B4<>\"\",IF(F4<>\"\",F4-$M4,NA()))","v":-1.2890022473660352},-1.1890022473660338,{"$error":"#N/A"},{"$error":"#N/A"},{"$error":"#N/A"},{"$f":"IF(K4<>\"\",K4-M4,\"\")","v":-1.0223355806993695}]
[null,null,"95%の信頼区間を想定した計算式を使用",null,null,null,null,"傾き",null,null,null,null,null,null,null,null,null,null,null,null,null,null,null,null,null,null,578.47538108356287,564.13447199265386,617.59780532598734,"","","","w","wx",null,null,null,null,null,null,null,null,null,null,null,{"$f":"IFERROR((AV4-$AV$15)^2,\"\")","v":888.07929331372293},null,{"$f":"IF(B5<>\"\",M5,#N/A)","v":54.530102022629428},{"$f":"IF($B5<>\"\",IF(E5<>\"\",E5-$M5,NA()))","v":-0.23010202262943125},{"$f":"IF($B5<>\"\",IF(F5<>\"\",F5-$M5,NA()))","v":-0.5301020226294284},{"$f":"IF($B5<>\"\",IF(G5<>\"\",G5-$M5,NA()))","v":0.56989797737057302},{"$f":"IF($B5<>\"\",IF(H5<>\"\",H5-$M5,NA()))","v":{"$error":"#N/A"}},{"$f":"IF($B5<>\"\",IF(I5<>\"\",I5-$M5,NA()))","v":{"$error":"#N/A"}},{"$f":"IF($B5<>\"\",IF(J5<>\"\",J5-$M5,NA()))","v":{"$error":"#N/A"}},{"$f":"IF(K5<>\"\",K5-M5,\"\")","v":-6.3435355962759843E-2}]
[null,null,null,null,null,null,"反復回数(R)＞２",{"$f":"AS2/AP2","v":0.99516469957935771},null,null,null,null,null,null,null,null,null,null,null,null,null,null,null,null,null,null,344.1587144168962,304.55538108356308,322.25689623507822,"","","","wx","wx2",null,null,null,null,null,null,null,null,null,null,null,567.85322373420797,null,48.471201797892832,0.32879820210716559,-0.77120179789282872,-0.27120179789282872,{"$error":"#N/A"},{"$error":"#N/A"},{"$error":"#N/A"},-0.23786846455950439]
[null,null,"検査法の％CV",null,"許容誤差％",null,"反復回数(R)＝２",{"$f":"AT2/AQ2","v":1.0098167041227673},null,null,null,null,null,null,null,null,null,null,null,null,null,null,null,null,null,null,150.09962350780538,138.09810835629023,160.06083562901748,"","","",null,null,null,null,null,null,null,null,null,null,null,null,null,318.93255426349162,null,42.412301573156228,8.7698426843772381E-2,-0.41230157315622762,0.48769842684377096,{"$error":"#N/A"},{"$error":"#N/A"},{"$error":"#N/A"},5.4365093510440943E-2]
[null,null,2,null,5,null,null,null,null,null,null,null,null,null,null,null,null,null,null,null,null,null,null,null,null,null,36.620835629017442,35.420532598714473,41.622047750229633,"","","",{"$f":"AM2","v":39906.512522918405},{"$f":"AO2","v":29014.256015249121},null,null,null,null,"実測多項式",null,null,null,null,null,null,141.31728490157445,null,36.353401348419624,-5.3401348419626515E-2,-0.15340134841962083,0.34659865158037917,{"$error":"#N/A"},{"$error":"#N/A"},{"$error":"#N/A"},4.6598651580374906E-2]
[null,null,"反復回数",null,null,null,"重み付回帰",null,null,null,null,null,null,null,null,null,null,null,null,null,null,null,null,null,null,null,2.2956841138659548E-2,0.20113865932047492,6.3259871441690721E-2,"","","",{"$f":"AO2","v":29014.256015249121},{"$f":"AP2","v":124403.56634136845},null,null,null,"a",{"$f":"INDEX(LINEST(直線性回帰測定値,直線性計算範囲),4)","v":-0.34739067268980506},{"$f":"AM22","v":-0.34739067268980506},null,null,null,null,null,35.00741564845616,null,30.294501123683016,0.1054988763169824,-0.49450112368301546,0.20549887631698383,{"$error":"#N/A"},{"$error":"#N/A"},{"$error":"#N/A"},-6.1167790349681894E-2]
[null,null,{"$f":"IF(ROUNDUP((1.96^2*C21^2)/5^2,0)>1,ROUNDUP((1.96^2*C21^2)/5^2,0),2)","v":2},null,null,null,"傾き","切片",null,null,null,null,null,null,null,null,null,null,null,null,null,null,null,null,null,null,34.204775022956831,40.303259871441682,33.045078053259843,"","","",null,null,null,null,null,"b",{"$f":"INDEX(LINEST(直線性回帰測定値,直線性計算範囲),3)","v":0.96719056472910425},{"$f":"AM23*#REF!","v":{"$error":"#REF!"}},null,null,null,null,null,2.9465041367269453E-3,null,24.235600898946416,0.1643991010535828,-0.3356008989464172,0.26439910105358422,{"$error":"#N/A"},{"$error":"#N/A"},{"$error":"#N/A"},3.1065767720249937E-2]
[null,null,null,null,null,null,{"$f":"SLOPE(K4:K14,D4:D14)","v":1.0006736533881895},{"$f":"INTERCEPT(K4:K14,D4:D14)","v":0.17369304756344306},null,null,null,null,null,null,null,null,null,null,null,null,null,null,null,null,null,null,140.38659320477501,135.687199265381,140.38659320477501,"","","","逆行列",null,null,null,null,"c",{"$f":"INDEX(LINEST(直線性回帰測定値,直線性計算範囲),2)","v":7.8265665924007492E-4},{"$f":"AM24*#REF!^2","v":{"$error":"#REF!"}},null,null,null,null,null,36.303877468616164,null,18.176700674209812,0.22329932579018674,0.42329932579018958,0.22329932579018674,{"$error":"#N/A"},{"$error":"#N/A"},{"$error":"#N/A"},0.28996599245685317]
[null,null,null,null,null,null,null,null,null,null,null,null,null,null,null,null,null,null,null,null,null,null,null,null,null,null,333.00719926538102,336.6668962350779,329.36750229568412,"","","",{"$f":"MINVERSE(AG21:AH22)","v":3.0175371993564954E-5},-7.0377079542416037E-6,null,null,null,"d",{"$f":"INDEX(LINEST(直線性回帰測定値,直線性計算範囲),1)","v":-1.3905215837657499E-6},{"$f":"AM25*#REF!^3","v":{"$error":"#REF!"}},null,null,null,null,null,143.91020854189446,null,12.117800449473208,-0.11780044947320789,-0.21780044947320754,-1.7800449473208246E-2,{"$error":"#N/A"},{"$error":"#N/A"},{"$error":"#N/A"},-0.11780044947320789]
[null,null,null,null,null,null,null,null,null,null,null,null,null,null,null,null,null,null,null,null,null,null,null,null,null,null,587.9890174471991,583.14932047750233,578.32962350780531,"","","",-7.0377079542416037E-6,9.6797374525466909E-6,null,null,null,null,null,null,null,null,null,null,null,322.82193972397164,null,6.0589002247366039,-5.8900224736603946E-2,4.1099775263395699E-2,0.14109977526339623,{"$error":"#N/A"},{"$error":"#N/A"},{"$error":"#N/A"},4.1099775263396587E-2]
[null,null,null,null,null,null,null,null,null,null,null,null,null,null,null,null,null,null,null,null,null,null,null,null,null,null,890.93204775022957,873.11295684113861,884.97235078053245,"","","",null,null,null,null,null,null,null,null,null,null,null,null,null,573.03907101484765,null,0.60589002247366031,-0.20589002247366028,9.410997752633965E-2,-0.10589002247366031,{"$error":"#N/A"},{"$error":"#N/A"},{"$error":"#N/A"},-7.255668914032698E-2]
[null,null,null,null,null,null,null,null,null,null,null,null,null,null,null,null,null,null,null,null,null,null,null,null,null,null,{"$f":"SUM(AA17:AF27)","v":11793.882424242422},null,null,null,null,null,"wy",{"$f":"AR2","v":26446.406415843161},null,null,null,null,null,null,null,null,null,null,null,859.20060626965915]
[null,null,null,null,null,null,null,null,null,null,null,null,null,null,null,null,null,null,null,null,null,null,null,null,null,null,null,null,null,null,null,null,"wxy",{"$f":"AS2","v":123802.03772470863},null,null,null,null,null,null,null,null,null,null,null,{"$f":"SUM(AT18:AT28)*H2","v":11659.405264153736},null,"%Deviation(R>2)"]
[null,null,null,null,null,null,null,null,null,null,null,null,null,null,null,null,null,null,null,null,null,null,null,null,null,null,null,null,null,null,null,null,null,null,null,null,null,null,null,null,null,null,null,null,null,null,null,{"$f":"IF(B4<>\"\",L4,#N/A)","v":59.709881974761466},{"$f":"IF($B4<>\"\",IF(E4<>\"\",(E4-$L4)/$L4*100,NA()))","v":0.48587941500397425},{"$f":"IF($B4<>\"\",IF(F4<>\"\",(F4-$L4)/$L4*100,NA()))","v":-0.68645584483774358},{"$f":"IF($B4<>\"\",IF(G4<>\"\",(G4-$L4)/$L4*100,NA()))","v":-0.51897937914606784},{"$f":"IF($B4<>\"\",IF(H4<>\"\",(H4-$L4)/$L4*100,NA()))","v":{"$error":"#N/A"}},{"$f":"IF($B4<>\"\",IF(I4<>\"\",(I4-$L4)/$L4*100,NA()))","v":{"$error":"#N/A"}},{"$f":"IF($B4<>\"\",IF(J4<>\"\",(J4-$L4)/$L4*100,NA()))","v":{"$error":"#N/A"}},{"$f":"IF(K4<>\"\",(K4-L4)/L4*100,\"\")","v":-0.23985193632661636},null,0,{"$f":"$E$21","v":5}]
[null,null,null,null,null,null,null,null,null,null,null,null,null,null,null,null,null,null,null,null,null,null,null,null,null,null,null,null,null,null,null,null,"切片",{"$f":"MMULT(AG25:AH26,AH28:AH29)","v":-7.3252434155430701E-2},null,null,null,null,null,null,null,null,null,null,null,null,null,53.73889377728532,1.0441343006428785,0.48587941500397291,2.5328139956799824,{"$error":"#N/A"},{"$error":"#N/A"},{"$error":"#N/A"},1.3542759037756158,null,{"$f":"$D$4","v":60},{"$f":"$E$21","v":5}]
[null,null,null,null,null,null,null,null,null,null,null,null,null,null,null,null,null,null,null,null,null,null,null,null,null,null,null,null,null,null,null,null,"傾き",1.0122491364715749,null,null,null,null,null,null,null,null,null,null,null,null,null,47.767905579809167,2.1606440719207134,-0.14215733133978276,0.9045705792331753,{"$error":"#N/A"},{"$error":"#N/A"},{"$error":"#N/A"},0.97435243993802045,null,0,{"$f":"-$E$21","v":-5}]
[null,null,null,null,null,null,null,null,null,null,null,null,null,null,null,null,null,null,null,null,null,null,null,null,null,null,null,null,null,null,null,null,null,null,null,null,null,null,null,null,null,null,null,null,null,null,null,41.796917382333021,1.682139884230224,0.48587941500398624,2.6391482596112112,{"$error":"#N/A"},{"$error":"#N/A"},{"$error":"#N/A"},1.6023891862818127,null,{"$f":"$D$4","v":60},{"$f":"-$E$21","v":-5}]
[null,null,null,null,null,null,null,null,null,null,null,null,null,null,null,null,null,null,null,null,null,null,null,null,null,null,null,null,null,null,null,null,null,null,null,null,null,null,null,null,null,null,null,null,null,null,null,35.825929184856875,1.3232617434623448,1.0441343006429051,2.4397715147401828,{"$error":"#N/A"},{"$error":"#N/A"},{"$error":"#N/A"},1.6023891862818045]
[null,null,null,null,null,null,null,null,null,null,null,null,null,null,null,null,null,null,null,null,null,null,null,null,null,null,null,null,null,null,null,null,null,null,null,null,null,null,null,null,null,null,null,null,null,null,null,29.854940987380733,1.8256911405373559,-0.18402644776271654,2.1606440719207072,{"$error":"#N/A"},{"$error":"#N/A"},{"$error":"#N/A"},1.2674362548984528]
[null,null,null,null,null,null,null,null,null,null,null,null,null,null,null,null,null,null,null,null,null,null,null,null,null,null,null,null,null,null,null,null,null,null,null,null,null,null,null,null,null,null,null,null,null,null,null,23.883952789904583,2.1606440719207134,6.7188250774796968E-2,2.5793352361499027,{"$error":"#N/A"},{"$error":"#N/A"},{"$error":"#N/A"},1.6023891862818045]
[null,null,null,null,null,null,null,null,null,null,null,null,null,null,null,null,null,null,null,null,null,null,null,null,null,null,null,null,null,null,null,null,null,null,null,null,null,null,null,null,null,null,null,null,null,null,null,17.912964592428438,2.7188989575596225,3.8354087288374603,2.7188989575596225,{"$error":"#N/A"},{"$error":"#N/A"},{"$error":"#N/A"},3.0910688813188951]
[null,null,null,null,null,null,null,null,null,null,null,null,null,null,null,null,null,null,null,null,null,null,null,null,null,null,null,null,null,null,null,null,null,null,null,null,null,null,null,null,null,null,null,null,null,null,null,11.941976394952292,0.48587941500398624,-0.3515029134543774,1.3232617434623497,{"$error":"#N/A"},{"$error":"#N/A"},{"$error":"#N/A"},0.48587941500398624]
[null,null,null,null,null,null,null,null,null,null,null,null,null,null,null,null,null,null,null,null,null,null,null,null,null,null,null,null,null,null,null,null,null,null,null,null,null,null,null,null,null,null,null,null,null,null,null,5.9709881974761458,0.48587941500398624,2.1606440719207134,3.8354087288374554,{"$error":"#N/A"},{"$error":"#N/A"},{"$error":"#N/A"},2.160644071920728]
[null,null,null,null,null,null,null,null,null,null,null,null,null,null,null,null,null,null,null,null,null,null,null,null,null,null,null,null,null,null,null,null,null,null,null,null,null,null,null,null,null,null,null,null,null,null,null,0.59709881974761458,-33.009413723330674,17.233525984171312,-16.261767154163344,{"$error":"#N/A"},{"$error":"#N/A"},{"$error":"#N/A"},-10.679218297774236]
[null,null,null,null,null,null,null,null,null,null,null,null,null,null,null,null,null,null,null,null,null,null,null,null,null,null,null,null,null,null,null,null,null,null,null,null,null,null,null,null,null,null,null,null,null,null,null,"%Deviation(R＝2)"]
[null,null,null,null,null,null,null,null,null,null,null,null,null,null,null,null,null,null,null,null,null,null,null,null,null,null,null,null,null,null,null,null,null,null,null,null,null,null,null,null,null,null,null,null,null,null,null,{"$f":"IF(B4<>\"\",M4,#N/A)","v":60.589002247366032},{"$f":"IF($B4<>\"\",IF(E4<>\"\",(E4-$M4)/$M4*100,NA()))","v":-0.97212732594822993},{"$f":"IF($B4<>\"\",IF(F4<>\"\",(F4-$M4)/$M4*100,NA()))","v":-2.127452507145505},{"$f":"IF($B4<>\"\",IF(G4<>\"\",(G4-$M4)/$M4*100,NA()))","v":-1.9624060526887501},{"$f":"IF($B4<>\"\",IF(H4<>\"\",(H4-$M4)/$M4*100,NA()))","v":{"$error":"#N/A"}},{"$f":"IF($B4<>\"\",IF(I4<>\"\",(I4-$M4)/$M4*100,NA()))","v":{"$error":"#N/A"}},{"$f":"IF($B4<>\"\",IF(J4<>\"\",(J4-$M4)/$M4*100,NA()))","v":{"$error":"#N/A"}},{"$f":"IF(K4<>\"\",(K4-M4)/M4*100,\"\")","v":-1.6873286285941658},null,0,{"$f":"$E$21","v":5}]
[null,null,null,null,null,null,null,null,null,null,null,null,null,null,null,null,null,null,null,null,null,null,null,null,null,null,null,null,null,null,null,null,null,null,null,null,null,null,null,null,null,null,null,null,null,null,null,54.530102022629428,-0.42197247775905738,-0.9721273259482287,1.0451071174120878,{"$error":"#N/A"},{"$error":"#N/A"},{"$error":"#N/A"},-0.11633089543172839,null,{"$f":"$D$4","v":60},{"$f":"$E$21","v":5}]
[null,null,null,null,null,null,null,null,null,null,null,null,null,null,null,null,null,null,null,null,null,null,null,null,null,null,null,null,null,null,null,null,null,null,null,null,null,null,null,null,null,null,null,null,null,null,null,48.471201797892832,0.67833721861928187,-1.591051530161059,-0.55951118980635339,{"$error":"#N/A"},{"$error":"#N/A"},{"$error":"#N/A"},-0.4907418337827249,null,0,{"$f":"-$E$21","v":-5}]
[null,null,null,null,null,null,null,null,null,null,null,null,null,null,null,null,null,null,null,null,null,null,null,null,null,null,null,null,null,null,null,null,null,null,null,null,null,null,null,null,null,null,null,null,null,null,null,42.412301573156228,0.20677592017142224,-0.97212732594824158,1.1498985170671499,{"$error":"#N/A"},{"$error":"#N/A"},{"$error":"#N/A"},0.12818237043011579,null,{"$f":"$D$4","v":60},{"$f":"-$E$21","v":-5}]
[null,null,null,null,null,null,null,null,null,null,null,null,null,null,null,null,null,null,null,null,null,null,null,null,null,null,null,null,null,null,null,null,null,null,null,null,null,null,null,null,null,null,null,null,null,null,null,36.353401348419624,-0.14689505366448471,-0.42197247775905727,0.95341464271388388,{"$error":"#N/A"},{"$error":"#N/A"},{"$error":"#N/A"},0.12818237043010741]
[null,null,null,null,null,null,null,null,null,null,null,null,null,null,null,null,null,null,null,null,null,null,null,null,null,null,null,null,null,null,null,null,null,null,null,null,null,null,null,null,null,null,null,null,null,null,null,30.294501123683016,0.34824430970578901,-1.6323131437752394,0.67833721861929952,{"$error":"#N/A"},{"$error":"#N/A"},{"$error":"#N/A"},-0.2019105384833797]
[null,null,null,null,null,null,null,null,null,null,null,null,null,null,null,null,null,null,null,null,null,null,null,null,null,null,null,null,null,null,null,null,null,null,null,null,null,null,null,null,null,null,null,null,null,null,null,24.235600898946416,0.67833721861928187,-1.3847434620901298,1.0909533547611701,{"$error":"#N/A"},{"$error":"#N/A"},{"$error":"#N/A"},0.12818237043010741]
[null,null,null,null,null,null,null,null,null,null,null,null,null,null,null,null,null,null,null,null,null,null,null,null,null,null,null,null,null,null,null,null,null,null,null,null,null,null,null,null,null,null,null,null,null,null,null,18.176700674209812,1.2284920668084565,2.3288017631868252,1.2284920668084565,{"$error":"#N/A"},{"$error":"#N/A"},{"$error":"#N/A"},1.5952619656012395]
[null,null,null,null,null,null,null,null,null,null,null,null,null,null,null,null,null,null,null,null,null,null,null,null,null,null,null,null,null,null,null,null,null,null,null,null,null,null,null,null,null,null,null,null,null,null,null,12.117800449473208,-0.97212732594824158,-1.7973595982320032,-0.1468950536644798,{"$error":"#N/A"},{"$error":"#N/A"},{"$error":"#N/A"},-0.97212732594824158]
[null,null,null,null,null,null,null,null,null,null,null,null,null,null,null,null,null,null,null,null,null,null,null,null,null,null,null,null,null,null,null,null,null,null,null,null,null,null,null,null,null,null,null,null,null,null,null,6.0589002247366039,-0.97212732594824158,0.67833721861928187,2.3288017631868203,{"$error":"#N/A"},{"$error":"#N/A"},{"$error":"#N/A"},0.67833721861929652]
[null,null,null,null,null,null,null,null,null,null,null,null,null,null,null,null,null,null,null,null,null,null,null,null,null,null,null,null,null,null,null,null,null,null,null,null,null,null,null,null,null,null,null,null,null,null,null,0.60589002247366031,-33.981418217298817,15.532518119727062,-17.476772771623523,{"$error":"#N/A"},{"$error":"#N/A"},{"$error":"#N/A"},-11.975224289731759]

{"sheet":"許容誤差限界","index":11,"n_rows":74,"n_cols":20,"rows_kept":74,"cut":false,"hidden":false,"merged":[[4,6,4,7],[4,8,4,9],[4,17,4,18],[4,13,4,14],[4,15,4,16]]}
[null,null,null," 医学検査 2008 Vol． 157 No．1. 「臨床検査精度管理調査の定量検査評価法と. 試料に関する日臨技指針」　より引用"]
[]
[]
[null,null,null,"表4 　精度管理調査の許容誤差に関する現状",null,null,null,null,null,null,null,null,"表5","施設間許容誤差限界と既報告の施設間・施設内許容誤差限界（％）"]
[null,null,null,null,"日本臨床衛生検査技師会",null,"CAP ",null,"日本医師会※",null,null,null,null,"日本臨床衛生検査技師会",null,"日本臨床化学会",null,"Ricos",null,"臨床医の望む"]
[null,null,null,null,"低値","高値","低値","高値","低値","高値",null,null,null,"基準域施設間","高値域施設間","施設間BA","施設内CVA","施設間BA","施設内CVA","許容誤差"]
[null,null,null,"Glu",0.05,"←","6mg/dL",0.1,0.04,0.04,null,null,"Glu",3.2,2.9,2.2999999999999998,2.9,2.2000000000000002,2.9,2.7]
[null,null,null,"Na","3.0mmol/L","←","4mmol/L","←",1.7999999999999999E-2,1.7000000000000001E-2,null,null,"Na",1.4,1.4,0.3,0.4,0.3,0.4,0.7]
[null,null,null,"K","0.2mmol/L","←","0.5mmol/L","←",5.0999999999999997E-2,3.7999999999999999E-2,null,null,"K",2.2999999999999998,1.9,1.9,2.6,1.8,2.4,2]
[null,null,null,"Cl","3.0mmol/L","←",0.05,"←",2.7E-2,2.3E-2,null,null,"Cl",2.4,2.1,0.5,0.7,0.5,0.6,0.9]
[null,null,null,"T-Bil","0.2mg/dL","←","0.4mg/dL",0.2,0.33500000000000002,7.4999999999999997E-2,null,null,"T-Bil",5.0999999999999996,4,12.1,11.7,10,12.8,10]
[null,null,null,"D-Bil","0.2mg/dL","←",null,null,null,null,null,null,"D-Bil",8.5,5.8,13.1,14.8]
[null,null,null,"Ca","0.4mg/dL","←","1mg/dL","←",0.05,0.05,null,null,"Ca",2.5,2.5,1,1.3,0.8,1,1]
[null,null,null,"IP",0.05,"←",null,null,7.5999999999999998E-2,0.05,null,null,"IP",5.0999999999999996,4.9000000000000004,3.5,4.5999999999999996,2.2000000000000002]
[null,null,null,"Fe",0.05,"←",null,null,0.05,0.05,null,null,"Fe",3.9,3.7,11.3,16.899999999999999]
[null,null,null,"TP",0.05,"←",0.1,"←",null,null,null,null,"TP",3.5,3.9,1.2,1.5,1.2,1.4,1.3]
[null,null,null,"Alb",0.05,"←",0.1,"←",null,null,null,null,"Alb",5.9,5.6,1.3,1.6,1.3,1.6,2]
[null,null,null,"UA",0.05,"←",0.17,"←",4.1000000000000002E-2,0.04,null,null,"UA",2.9,2.9,6.5,4.4000000000000004,4.8,4.3,2.9]
[null,null,null,"UN","1mg/dL",0.05,"2mg/dL",0.09,7.3999999999999996E-2,5.1999999999999998E-2,null,null,"UN",3.5,4,6,7.1,5.5,6.2,5]
[null,null,null,"CRE","0.1mg/dL",7.0000000000000007E-2,"0.3mg/dL",0.15,0.107,7.1999999999999995E-2,null,null,"CRE",7.3,3.2,4.8,2.7,3.4,2.2000000000000002,10]
[null,null,null,"T-Cho(TC)",0.05,"←",0.1,"←",0.05,0.05,null,null,"T-Cho",3.1,3.1,4.5,3.4,4,3,2.5]
[null,null,null,"TG",0.09,"←",0.25,"←",7.4999999999999997E-2,0.06,null,null,"TG",5,4.9000000000000004,15.4,14.8,10.7,10.5,3.3]
[null,null,null,"HDL-C",0.05,"←",0.3,"←",0.06,0.06,null,null,"HDL-C",5,3.8,6,4.2,5.2,3.6,7.5]
[null,null,null,"LDL-C",0.05,"←",null,null,null,null,null,null,"LDL-C",4.5,4.0999999999999996,6.9,4.5999999999999996]
[null,null,null,"AST",0.1,"←",0.2,"←",4.1000000000000002E-2,0.04,null,null,"AST",3.6,3.4,7.1,7.6,5.4,6,5]
[null,null,null,"ALT",0.1,"←",0.2,"←",4.1000000000000002E-2,0.04,null,null,"ALT",4.9000000000000004,3.5,12.4,11.1,12,12.2,5]
[null,null,null,"ALP",0.1,"←",0.3,"←",0.04,0.04,null,null,"ALP",5.5,5.2,6.5,3.9,6.4,3.2,4]
[null,null,null,"LD",0.1,"←",0.2,"←",0.04,0.04,null,null,"LD",3.1,3,4.4000000000000004,3.4,4.3,4.3,2.8]
[null,null,null,"AMY",0.1,"←",0.3,"←",4.5999999999999999E-2,0.04,null,null,"AMY",4.4000000000000004,4.5,6.8,4.2,7.8,4.8,4]
[null,null,null,"CK",0.1,"←",0.3,"←",0.06,0.06,null,null,"CK",4.7,4.7,11.3,11.1,11.5,11.4,5]
[null,null,null,"γGT",0.1,"←","3SD","←",8.8999999999999996E-2,0.04,null,null,"γGT",3.5,3.8,12.8,8.1999999999999993,10.8,6.9,6]
[null,null,null,"CHE",0.1,"←",null,null,7.6999999999999999E-2,6.4000000000000001E-2,null,null,"CHE",6.3,7.1,4.7,2.6,null,null,3]
[null,null,null,"HbA1C",0.05,"←",null,null,5.8999999999999997E-2,5.3999999999999999E-2,null,null,"HbA1C",3.7,2.8,null,null,null,null,1.7]
[null,null,null,"CRP",0.2,0.1,null,null,0.08,0.08,null,null,"CRP",11.1,6.4,27.7,28.6,24.9,26.3]
[null,null,null,"IgG・IgA・IgM",0.1,"←",null,null,0.08,0.08,null,null,"IgG",5.4,4.5,4.2,2.2999999999999998,4.3,2.2999999999999998]
[null,null,null,"CEA",null,null,null,null,0.12,0.12,null,null,"IgA",5.2,5.7,9.9,2,9.1,2.7]
[null,null,null,"AFP",0.1,"←",null,null,0.129,0.12,null,null,"IgM",7.2,6.4,11.1,2.8,11.9,3]
[null,null,null,"Ferritn",0.1,"←",null,null,null,null,null,null,"Hb",3.2,2.7,2.2999999999999998,1.8,null,null,3]
[null,null,null,"CA19-9",null,null,null,null,0.12,0.12,null,null,"RBC",null,null,2,1.7,null,null,4]
[null,null,null,"CA125",null,null,null,null,0.12,0.12,null,null,"WBC",3.6,3.7,5.9,7.7,null,null,5]
[null,null,null,"PSA",null,null,null,null,0.12,0.12,null,null,"Plt",null,null,5.2,4.5999999999999996,null,null,7]
[null,null,null,"TSH",null,null,null,null,0.1,0.1,null,null,"Ht",null,null,2.1,1.7]
[null,null,null,"FT3",null,null,null,null,0.19600000000000001,0.12]
[null,null,null,"Hb","3SD","3SD",null,null,0.04,0.04,null,null,null,"日本臨床化学会クオリティマネジメント専門委員会が定めた許容誤差限界の基本的な考え方は、"]
[null,null,null,"RBC",null,null,null,null,0.04,0.04,null,null,null,"生理学的変動を基に算出している。"]
[null,null,null,"WBC","3SD","3SD",null,null,0.1,0.1]
[null,null,null,"Plt","3SD","3SD",null,null,0.12,0.12]
[null,null,null,"Ht",null,null,null,null,0.06,0.06]
[null,null,null,"PTINR"]
[null,null,null,"APTT",null,null,null,null,0.06,0.06]
[null,null,null,"Fibrinogen",null,null,null,null,0.08,0.1]
[null,null,null,"※：評価用CVの2倍に相当する、“A”、“B”を含む評価範囲を示した"]
[]
[]
[]
[]
[]
[]
[]
[]
[]
[]
[]
[]
[]
[]
[]
[]
[]
[]
[]
[null,null,null,null,null,null,null,null,null,null,null,null,null,"日本臨床衛生検査技師会"]
[null,null,null,null,null,null,null,null,null,null,null,null,null,"現在の技術水準から算出した施設間許容誤差限界"]
[null,null,null,null,null,null,null,null,null,null,null,null,null,"（臨床検査精度管理調査の定量検査評価法と試料に関する日臨技指針より）"]

{"sheet":"報告書","index":12,"n_rows":118,"n_cols":10,"rows_kept":118,"cut":false,"hidden":false,"merged":[[53,1,55,1],[0,2,0,5],[48,1,49,1],[50,1,52,1]]}
[null,null,"バリデーション報告書"]
[]
["1. 精度"]
[null,"1-1 併行精度"]
[]
[null,{"$f":"併行精度!B1","v":"血糖値"},"試料１","試料２","試料３","試料４","試料５","試料６","試料７","試料８"]
[null,"データ数",{"$f":"IF(併行精度!B36<>\"\",併行精度!B36,\"\")","v":30},{"$f":"IF(併行精度!C36<>\"\",併行精度!C36,\"\")","v":30},{"$f":"IF(併行精度!D36<>\"\",併行精度!D36,\"\")","v":30},{"$f":"IF(併行精度!E36<>\"\",併行精度!E36,\"\")","v":30},{"$f":"IF(併行精度!F36<>\"\",併行精度!F36,\"\")","v":""},{"$f":"IF(併行精度!G36<>\"\",併行精度!G36,\"\")","v":""},{"$f":"IF(併行精度!H36<>\"\",併行精度!H36,\"\")","v":""},{"$f":"IF(併行精度!I36<>\"\",併行精度!I36,\"\")","v":""}]
[null,"平　均",{"$f":"IF(C7<>\"\",併行精度!B33,\"\")","v":71.599999999999994},{"$f":"IF(D7<>\"\",併行精度!C33,\"\")","v":107.83333333333333},{"$f":"IF(E7<>\"\",併行精度!D33,\"\")","v":202.26666666666668},{"$f":"IF(F7<>\"\",併行精度!E33,\"\")","v":400.83333333333331},{"$f":"IF(G7<>\"\",併行精度!F33,\"\")","v":""},{"$f":"IF(H7<>\"\",併行精度!G33,\"\")","v":""},{"$f":"IF(I7<>\"\",併行精度!H33,\"\")","v":""},{"$f":"IF(J7<>\"\",併行精度!I33,\"\")","v":""}]
[null,"最大値",{"$f":"IF(C7<>\"\",併行精度!B41,\"\")","v":74},{"$f":"IF(D7<>\"\",併行精度!C41,\"\")","v":111},{"$f":"IF(E7<>\"\",併行精度!D41,\"\")","v":204},{"$f":"IF(F7<>\"\",併行精度!E41,\"\")","v":404},{"$f":"IF(G7<>\"\",併行精度!F41,\"\")","v":""},{"$f":"IF(H7<>\"\",併行精度!G41,\"\")","v":""},{"$f":"IF(I7<>\"\",併行精度!H41,\"\")","v":""},{"$f":"IF(J7<>\"\",併行精度!I41,\"\")","v":""}]
[null,"最小値",{"$f":"IF(C7<>\"\",併行精度!B42,\"\")","v":66},{"$f":"IF(D7<>\"\",併行精度!C42,\"\")","v":106},{"$f":"IF(E7<>\"\",併行精度!D42,\"\")","v":200},{"$f":"IF(F7<>\"\",併行精度!E42,\"\")","v":398},{"$f":"IF(G7<>\"\",併行精度!F42,\"\")","v":""},{"$f":"IF(H7<>\"\",併行精度!G42,\"\")","v":""},{"$f":"IF(I7<>\"\",併行精度!H42,\"\")","v":""},{"$f":"IF(J7<>\"\",併行精度!I42,\"\")","v":""}]
[null,"Range",{"$f":"IF(C7<>\"\",C9-C10,\"\")","v":8},5,4,6,"","","",""]
[null,"Ｓ　Ｄ",{"$f":"IF(C7<>0,併行精度!B34,\"\")","v":1.4044264997156124},{"$f":"IF(D7<>0,併行精度!C34,\"\")","v":1.0531834608931387},{"$f":"IF(E7<>0,併行精度!D34,\"\")","v":1.0148325268098499},{"$f":"IF(F7<>0,併行精度!E34,\"\")","v":1.4874957741657355},{"$f":"IF(G7<>0,併行精度!F34,\"\")","v":""},{"$f":"IF(H7<>0,併行精度!G34,\"\")","v":""},{"$f":"IF(I7<>0,併行精度!H34,\"\")","v":""},{"$f":"IF(J7<>0,併行精度!I34,\"\")","v":""}]
[null,"ＣＶ（％）",{"$f":"IF(C7<>0,併行精度!B35,\"\")","v":1.9614895247424755},{"$f":"IF(D7<>0,併行精度!C35,\"\")","v":0.97667708892717664},{"$f":"IF(E7<>0,併行精度!D35,\"\")","v":0.50172999018285258},{"$f":"IF(F7<>0,併行精度!E35,\"\")","v":0.37110081683968454},{"$f":"IF(G7<>0,併行精度!F35,\"\")","v":""},{"$f":"IF(H7<>0,併行精度!G35,\"\")","v":""},{"$f":"IF(I7<>0,併行精度!H35,\"\")","v":""},{"$f":"IF(J7<>0,併行精度!I35,\"\")","v":""}]
[]
[]
[null,"1-2 室内精度"]
[]
[null,null,"試料１","試料２","試料３"]
[null,"データ数",{"$f":"室内精度1!K10+1","v":128},{"$f":"室内精度2!K10+1","v":180},{"$f":"室内精度3!K10+1","v":78}]
[null,"平　均",{"$f":"AVERAGE(室内精度1!$B3:$F92)","v":255.65625},{"$f":"AVERAGE(室内精度2!$B3:$F92)","v":3.6331111111111118},{"$f":"AVERAGE(室内精度3!$B3:$F92)","v":101.22075435771731}]
[null,"最大値",{"$f":"MAX(室内精度1!$B3:$F92)","v":261},{"$f":"MAX(室内精度2!$B3:$F92)","v":3.8},{"$f":"MAX(室内精度3!$B3:$F92)","v":109.81071934802458}]
[null,"最小値",{"$f":"MIN(室内精度1!$B3:$F92)","v":251},{"$f":"MIN(室内精度2!$B3:$F92)","v":3.49},{"$f":"MIN(室内精度3!$B3:$F92)","v":91.719960235059261}]
[null,"Range",{"$f":"C21-C22","v":10},{"$f":"D21-D22","v":0.30999999999999961},{"$f":"E21-E22","v":18.090759112965316}]
[null,"日内精密度",{"$f":"室内精度1!$M8","v":1.75},{"$f":"室内精度2!$M8","v":5.8566201857385328E-2},{"$f":"室内精度3!$M8","v":3.967227015838259}]
[null,"日間精密度",{"$f":"室内精度1!$M7","v":1.0155048005794951},{"$f":"室内精度2!$M7","v":1.8064767648996616E-2},{"$f":"室内精度3!$M7","v":2.030130993368056}]
[null,"総合精密度",{"$f":"室内精度1!$M10","v":2.0233017570298308},{"$f":"室内精度2!$M10","v":6.1274078736571161E-2},{"$f":"室内精度3!$M10","v":4.4504827779092055}]
[null,"日内ＣＶ（％）",{"$f":"室内精度1!$N8*100","v":0.68451289573401786},{"$f":"室内精度2!$N8*100","v":1.6120124066195725},{"$f":"室内精度3!$N8*100","v":3.9193810014673023}]
[null,"日間ＣＶ（％）",{"$f":"室内精度1!$N7*100","v":0.39721493238655231},{"$f":"室内精度2!$N7*100","v":0.49722585124768948},{"$f":"室内精度3!$N7*100","v":2.0056469705743445}]
[null,"総合ＣＶ（％）",{"$f":"室内精度1!$N10*100","v":0.79141493979898048},{"$f":"室内精度2!$N10*100","v":1.6865456866754551},{"$f":"室内精度3!$N10*100","v":4.3968085459836237}]
[null,"標準物質の拡張不確かさ（％）",{"$f":"室内精度1!$L35*100","v":3.1372549019607843},{"$f":"室内精度2!$L35*100","v":8.3333333333333321},{"$f":"室内精度3!$L35*100","v":4}]
[null,"日常検査の拡張不確かさ（％）",{"$f":"室内精度1!$L41*100","v":3.5139320920622623},{"$f":"室内精度2!$L41*100","v":8.9901162315855938},{"$f":"室内精度3!$L41*100","v":9.6606263544419573}]
[]
[]
[]
["2. 真度　正確さ"]
[null,"2-1 標準物質を用いた偏り"]
[]
[null,null,"試料１","試料２","試料３","試料４","試料５","試料６","試料７","試料８"]
[null,"データ数",{"$f":"IF(正確さの評価!B27<>0,正確さの評価!B27,\"\")","v":10},{"$f":"IF(正確さの評価!C27<>0,正確さの評価!C27,\"\")","v":10},{"$f":"IF(正確さの評価!D27<>0,正確さの評価!D27,\"\")","v":10},{"$f":"IF(正確さの評価!E27<>0,正確さの評価!E27,\"\")","v":""},{"$f":"IF(正確さの評価!F27<>0,正確さの評価!F27,\"\")","v":""},{"$f":"IF(正確さの評価!G27<>0,正確さの評価!G27,\"\")","v":""},{"$f":"IF(正確さの評価!H27<>0,正確さの評価!H27,\"\")","v":""},{"$f":"IF(正確さの評価!I27<>0,正確さの評価!I27,\"\")","v":""}]
[null,"標準値",{"$f":"IF(正確さの評価!B2<>\"\",正確さの評価!B2,\"\")","v":127.7},{"$f":"IF(正確さの評価!C2<>\"\",正確さの評価!C2,\"\")","v":141.30000000000001},{"$f":"IF(正確さの評価!D2<>\"\",正確さの評価!D2,\"\")","v":156.5},{"$f":"IF(正確さの評価!E2<>\"\",正確さの評価!E2,\"\")","v":""},{"$f":"IF(正確さの評価!F2<>\"\",正確さの評価!F2,\"\")","v":""},{"$f":"IF(正確さの評価!G2<>\"\",正確さの評価!G2,\"\")","v":""},{"$f":"IF(正確さの評価!H2<>\"\",正確さの評価!H2,\"\")","v":""},{"$f":"IF(正確さの評価!I2<>\"\",正確さの評価!I2,\"\")","v":""}]
[null,"標準物質の拡張不確かさ",{"$f":"IF(正確さの評価!B3<>\"\",正確さの評価!B3,\"\")","v":0.38},{"$f":"IF(正確さの評価!C3<>\"\",正確さの評価!C3,\"\")","v":0.42},{"$f":"IF(正確さの評価!D3<>\"\",正確さの評価!D3,\"\")","v":0.47},{"$f":"IF(正確さの評価!E3<>\"\",正確さの評価!E3,\"\")","v":""},{"$f":"IF(正確さの評価!F3<>\"\",正確さの評価!F3,\"\")","v":""},{"$f":"IF(正確さの評価!G3<>\"\",正確さの評価!G3,\"\")","v":""},{"$f":"IF(正確さの評価!H3<>\"\",正確さの評価!H3,\"\")","v":""},{"$f":"IF(正確さの評価!I3<>\"\",正確さの評価!I3,\"\")","v":""}]
[null,"標本平均",{"$f":"正確さの評価!B24","v":128.21},{"$f":"正確さの評価!C24","v":141.01},{"$f":"正確さの評価!D24","v":155.60999999999999},{"$f":"正確さの評価!E24","v":""},{"$f":"正確さの評価!F24","v":""},{"$f":"正確さの評価!G24","v":""},{"$f":"正確さの評価!H24","v":""},{"$f":"正確さの評価!I24","v":""}]
[null,"標本平均の信頼区間下限",{"$f":"正確さの評価!B29","v":128.12435611205782},{"$f":"正確さの評価!C29","v":140.8774496865328},{"$f":"正確さの評価!D29","v":155.43331987752404},{"$f":"正確さの評価!E29","v":""},{"$f":"正確さの評価!F29","v":""},{"$f":"正確さの評価!G29","v":""},{"$f":"正確さの評価!H29","v":""},{"$f":"正確さの評価!I29","v":""}]
[null,"標本平均の信頼区間上限",{"$f":"正確さの評価!B30","v":128.29564388794219},{"$f":"正確さの評価!C30","v":141.14255031346718},{"$f":"正確さの評価!D30","v":155.78668012247593},{"$f":"正確さの評価!E30","v":""},{"$f":"正確さの評価!F30","v":""},{"$f":"正確さの評価!G30","v":""},{"$f":"正確さの評価!H30","v":""},{"$f":"正確さの評価!I30","v":""}]
[null,"平均値の　         　下限",{"$f":"正確さの評価!B31","v":127.7608526596613},{"$f":"正確さの評価!C31","v":140.44988096503212},{"$f":"正確さの評価!D31","v":154.92816424265075},{"$f":"正確さの評価!E31","v":""},{"$f":"正確さの評価!F31","v":""},{"$f":"正確さの評価!G31","v":""},{"$f":"正確さの評価!H31","v":""},{"$f":"正確さの評価!I31","v":""}]
[null,"95%信頼区間　      上限",{"$f":"正確さの評価!B32","v":128.65914734033871},{"$f":"正確さの評価!C32","v":141.57011903496786},{"$f":"正確さの評価!D32","v":156.29183575734922},{"$f":"正確さの評価!E32","v":""},{"$f":"正確さの評価!F32","v":""},{"$f":"正確さの評価!G32","v":""},{"$f":"正確さの評価!H32","v":""},{"$f":"正確さの評価!I32","v":""}]
[null,"Δm",{"$f":"正確さの評価!B35","v":0.51000000000000512},{"$f":"正確さの評価!C35","v":0.29000000000002046},{"$f":"正確さの評価!D35","v":0.89000000000001478},{"$f":"正確さの評価!E35","v":""},{"$f":"正確さの評価!F35","v":""},{"$f":"正確さの評価!G35","v":""},{"$f":"正確さの評価!H35","v":""},{"$f":"正確さの評価!I35","v":""}]
[]
[null,{"$f":"正確さの評価!J45","v":"F 確率より有意水準 0.05 以上から直線性あり！"}]
[]
[null,{"$f":"正確さの評価!J46","v":"Ｔb 確率より有意水準 0.05 以下から比例系統誤差が認められる！"}]
[]
[]
[null,{"$f":"正確さの評価!J47","v":"Ｔa 確率より有意水準 0.05 以下から一定系統誤差が認められる！"}]
[]
[]
[]
[]
[null,"2-2 比較対照法との比較試験"]
[]
[null,null,"X1","Y1"]
[null,"データ数",{"$f":"相関分析!M5","v":51},{"$f":"相関分析!N5","v":51}]
[null,"最大値",{"$f":"_MAX1","v":20},{"$f":"_MAX2","v":15}]
[null,"最小値",{"$f":"_MIN1","v":0.22},{"$f":"_MIN2","v":0.51}]
[]
[" ","相関係数 r =",{"$f":"相関係数1","v":0.90881901619607541}]
[null,"回帰式　y = bx + a","b","a","λ"]
[null,"Ｄｅｍｉｎｇの線形回帰式",{"$f":"相関分析!M33","v":0.8202647837279895},{"$f":"相関分析!N33","v":1.0725497673233111},{"$f":"相関分析!M34","v":1}]
[null,"標準主軸回帰",{"$f":"相関分析!M41","v":0.835048853624344},{"$f":"相関分析!N41","v":1.0305514134687259}]
[null,"Syx",{"$f":"相関分析!M29","v":1.0419280823180048}]
[null,"s",{"$f":"相関分析!M46","v":0.81863482612680571}]
[]
[null,"Ｄｅｍｉｎｇ信頼区間下限　＝",{"$f":"相関分析!M35","v":0.73027665337640901},{"$f":"相関分析!N35","v":-3.7450845659939613E-2}]
[null,"Ｄｅｍｉｎｇ信頼区間上限　＝",{"$f":"相関分析!M36","v":1.3341168471750262},{"$f":"相関分析!N36","v":1.4605558084033441}]
[null,"標準主軸回帰信頼区間下限　＝",{"$f":"相関分析!M42","v":0.73883512940608853},{"$f":"相関分析!N42","v":0.13440876525395495}]
[null,"標準主軸回帰信頼区間上限　＝",{"$f":"相関分析!M43","v":1.2669840753722317},{"$f":"相関分析!N43","v":1.4088962312455782}]
[]
["検出限界と定量限界"]
[]
[null,null,null,null,"ﾊﾟﾗﾒﾄﾘｯｸ","ﾉﾝﾊﾟﾗﾒﾄﾘｯｸ"]
[null,"ブランク上限（LoB： Limit of Blank)",null,null,{"$f":"検出限界と定量限界!G18","v":3.6584624713929398E-3},{"$f":"検出限界と定量限界!G19","v":4.0000000000000001E-3}]
[null,"検出限界（LoD： Limit of Detection)",null,null,{"$f":"検出限界と定量限界!L32","v":7.4084943971829652E-3},{"$f":"検出限界と定量限界!L33","v":7.7500319257900255E-3}]
[]
[null,"定量限界（LoQ: Limit of Quantitation)",null,"CV 10%点",{"$f":"検出限界と定量限界!S46","v":1.7225684376600908E-2}]
[null,null,null,"CV 20%点",{"$f":"検出限界と定量限界!S47","v":1.0114013652648197E-2}]
[null,null,"任意点",{"$f":"検出限界と定量限界!R48","v":0.3},{"$f":"検出限界と定量限界!S48","v":7.4071174606272789E-3}]
["直線性"]
[]
[]
[]
[]
[]
[]
[]
[]
[]
[]
[]
[]
[]
[]
[]
[]
[]
[]
[]
[]
[]
[]
[]
[]
[]
[]
[]
[]
[]
[]
["特異性　選択性"]

{"sheet":"ＯＰ設定","index":13,"n_rows":5,"n_cols":2,"rows_kept":5,"cut":false,"hidden":true,"merged":[]}
[true,"直線回帰式を使用する"]
[false,"直線間系式を使用する"]
[]
[]
["オプションボタン設定"]

{"sheet":"tes","index":14,"n_rows":29,"n_cols":15,"rows_kept":29,"cut":false,"hidden":true,"merged":[]}
["日","ＮＯ．１","ＮＯ．２","ＮＯ．３"]
[1,156,156,155,{"$f":"AVERAGE(B2:D2)","v":155.66666666666666},{"$f":"E2-$E$14","v":0.42424242424240788},{"$f":"F2^2","v":0.17998163452707519},{"$f":"DEVSQ(B2:D2)","v":0.66666666666666674},{"$f":"(B2-$E2)^2","v":0.11111111111111743},{"$f":"(C2-$E2)^2","v":0.11111111111111743},{"$f":"(D2-$E2)^2","v":0.44444444444443182},null,{"$f":"(E2-$E$14)^2","v":0.17998163452707519}]
[{"$f":"A2+1","v":2},155,154,155,{"$f":"AVERAGE(B3:D3)","v":154.66666666666666},{"$f":"E3-$E$14","v":-0.57575757575759212},{"$f":"F3^2","v":0.33149678604225941},{"$f":"DEVSQ(B3:D3)","v":0.66666666666666674},{"$f":"(B3-$E3)^2","v":0.11111111111111743},{"$f":"(C3-$E3)^2","v":0.44444444444443182},{"$f":"(D3-$E3)^2","v":0.11111111111111743},null,{"$f":"(E3-$E$14)^2","v":0.33149678604225941}]
[3,154,155,155,154.66666666666666,-0.57575757575759212,0.33149678604225941,0.66666666666666674,0.44444444444443182,0.11111111111111743,0.11111111111111743,null,0.33149678604225941]
[4,154,154,155,154.33333333333334,-0.90909090909090651,0.82644628099173079,0.66666666666666674,0.11111111111111743,0.11111111111111743,0.44444444444443182,null,0.82644628099173079]
[5,156,157,156,156.33333333333334,1.0909090909090935,1.1900826446281048,0.66666666666666674,0.11111111111111743,0.44444444444443182,0.11111111111111743,null,1.1900826446281048]
[6,155,155,156,155.33333333333334,9.0909090909093493E-2,8.2644628099178257E-3,0.66666666666666674,0.11111111111111743,0.11111111111111743,0.44444444444443182,null,8.2644628099178257E-3]
[7,154,157,155,155.33333333333334,9.0909090909093493E-2,8.2644628099178257E-3,4.666666666666667,1.777777777777803,2.7777777777777461,0.11111111111111743,null,8.2644628099178257E-3]
[8,156,154,154,154.66666666666666,-0.57575757575759212,0.33149678604225941,2.6666666666666665,1.777777777777803,0.44444444444443182,0.44444444444443182,null,0.33149678604225941]
[9,156,156,154,155.33333333333334,9.0909090909093493E-2,8.2644628099178257E-3,2.6666666666666665,0.44444444444443182,0.44444444444443182,1.777777777777803,null,8.2644628099178257E-3]
[10,157,156,155,156,0.75757575757575069,0.57392102846647253,2,1,0,1,null,0.57392102846647253]
[11,155,157,154,155.33333333333334,9.0909090909093493E-2,8.2644628099178257E-3,4.6666666666666661,0.11111111111111743,2.7777777777777461,1.777777777777803,null,8.2644628099178257E-3]
[]
[null,{"$f":"AVERAGE(B2:B12)","v":155.27272727272728},{"$f":"AVERAGE(C2:C12)","v":155.54545454545453},{"$f":"AVERAGE(D2:D12)","v":154.90909090909091},{"$f":"AVERAGE(B2:D12)","v":155.24242424242425},null,{"$f":"SUM(G2:G13)","v":3.7979797979798335},{"$f":"SUM(H2:H13)","v":20.666666666666664},{"$f":"(H25+H26)^0.5/E14*100","v":0.92874111478168309},null,{"$f":"SUM(I2:K12)","v":20.666666666666668},null,{"$f":"SUM(M2:M13)","v":3.7979797979798335}]
[null,{"$f":"B14-$E$14","v":3.0303030303031164E-2},{"$f":"C14-$E$14","v":0.30303030303028322},{"$f":"D14-$E$14","v":-0.33333333333334281},null,{"$f":"DEVSQ(E2:E12)","v":3.7979797979798335}]
[null,{"$f":"B15^2","v":9.1827364554642507E-4},{"$f":"C15^2","v":9.1827364554625271E-2},{"$f":"D15^2","v":0.11111111111111743},{"$f":"SUM(B16:D16)","v":0.20385674931128911}]
[null,null,null,null,null,{"$f":"DEVSQ(B2:D12)","v":32.060606060606055}]
[null,{"$f":"DEVSQ(B2:B12)","v":10.181818181818182},{"$f":"DEVSQ(C2:C12)","v":14.727272727272725},{"$f":"DEVSQ(D2:D12)","v":4.9090909090909101},{"$f":"SUM(B18:D18)","v":29.818181818181817}]
[]
[]
[null,null,null,null,null,null,null,null,"ＳＤ","ＣＶ"]
[null,null,null,null,null,null,null,null,{"$f":"H25^0.5","v":1.0674239735888338},{"$f":"I22/155*100","v":0.68866062812182827},null,null,null,{"$f":"FDIST(I25,G25,G26)","v":0.33577815649288151},{"$f":"FINV(0.05,G25,G26)","v":2.2966959569377261}]
[null,null,null,null,"分散分析表",null,null,null,{"$f":"H26^0.5","v":0.96922336919420982},{"$f":"I23/155*100","v":0.62530539948013542}]
[null,null,null,null,"変動要因","変動","自由度","分散","観測された分散比","P-値","F 境界値"]
[null,null,null,null,"ｸﾞﾙｰﾌﾟ間",11.393939393921755,10,1.1393939393921755,1.2129032258068513,0.33577815654680215,2.2966943902247294,null,"日間精密度",{"$f":"J29","v":0.2581988897471611}]
[null,null,null,null,"ｸﾞﾙｰﾌﾟ内",20.666666666627862,22,0.93939393939217553,null,null,null,null,"日内精密度",{"$f":"(F26/G26)^0.5","v":0.96922336919420982}]
[null,null,null,null,null,null,null,null,null,null,null,null,"総合精密度",{"$f":"(H25+H26)^0.5","v":1.4418002215232009},{"$f":"(N25^2+N26^2)^0.5","v":1.0030257255219539}]
[null,null,null,null,"合計",32.060606060549617,32,{"$f":"F28/G28","v":1.0018939393921755},null,null,null,null,"ＣＶ",{"$f":"N27/E14*100","v":0.92874111478168309}]
[null,null,null,null,null,null,null,null,{"$f":"H28^0.5","v":1.0009465217443814},{"$f":"((H25-H26)/3)^0.5","v":0.2581988897471611}]